Workbook

Sheet 1. TH CAC CHI TIEU VON DAU TU
A1: BẢNG 1: TỔNG HỢP CÁC CHỈ TIÊU VỀ VỐN ĐẦU TƯ CỦA DỰ ÁN
A2: DỰ ÁN: ĐẦU TƯ NHÀ MÁY SẢN XUẤT MAY MẶC ĐỊA ĐIỂM: CỤM CN PHÚ GIA - PHÚ NHAM - HUYỆN PHÙ NINH- T.PHÚ THỌ
A3: STT | B3: CÁC CHỈ TIÊU | C3: TRỊ SỐ | D3: ĐVT | E3: GHI CHÚ/NHẬN XÉT
A4: I | B4: Các chỉ tiêu về vốn đầu tư
A5: 1 | B5: Tổng mức đầu tư của dự án (chưa có lãi vay) | C5: ='2. TMDT'!E12-'2. TMDT'!E10 -> 1.3772521e+08 | D5: 1000 đồng
A6: 2 | B6: Tổng mức đầu tư dự án (có lãi vay) | C6: ='2. TMDT'!E12 -> 1.4460098e+08 | D6: 1000 đồng
A7: 3 | B7: Chi phí thuê đất của dự án | C7: ='2.2. CP THUE DAT'!H5 -> 3854125 | D7: 1000 đồng | E7: Thuê đất trong 50 năm; trả ngay trong giai đoạn thực hiện đầu tư xây dựng dự án.
A8: II | B8: Cơ cấu nguồn vốn
A9: 1 | B9: Vốn tự có | C9: ='4. KH HUY DONG VON (VAT)'!C29 -> 40135327 | D9: =D5 -> 1000 đồng | E9: Chưa tính lãi vay
A10: 3 | B10: Vốn vay thương mại | C10: ='4. KH HUY DONG VON (VAT)'!C30 -> 93649097 | D10: =D9 -> 1000 đồng | E10: Chưa tính lãi vay
A11: 4 | B11: Lãi suất vay thương mại trong thời gian xây dựng | C11: ='4. KH HUY DONG VON (VAT)'!C36 -> 0.12 | D11: %/năm
C12: ='4. KH HUY DONG VON (VAT)'!C37 -> 0.028737345 | D12: %/quý
A13: 5 | B13: Lãi vay trong thời gian xây dựng | C13: ='2. TMDT'!E10 -> 6875776.5 | D13: 1000 đồng
A14: 6 | B14: Tỷ lệ: Vốn tự có/TMĐT | C14: ='4. KH HUY DONG VON (VAT)'!B29 -> 0.3 | E14: Chưa có lãi vay
A15: 7 | B15: Tỷ lệ: Vốn vay thương mại/TMĐT | C15: ='4. KH HUY DONG VON (VAT)'!B30 -> 0.7 | E15: Chưa có lãi vay

Sheet 2. TMDT
A1: BẢNG 2: TỔNG HỢP TỔNG MỨC ĐẦU TƯ CỦA DỰ ÁN
A2: DỰ ÁN: ĐẦU TƯ NHÀ MÁY SẢN XUẤT MAY MẶC ĐỊA ĐIỂM: CỤM CN PHÚ GIA - PHÚ NHAM - HUYỆN PHÙ NINH- T.PHÚ THỌ
A3: ĐVT: 1000Đ
A4: STT | B4: Nội dung | C4: Chi phí trước thuế | D4: Thuế VAT | E4: Chi phí sau thuế
A5: 1 | B5: Chi phí xây dựng | C5: ='2.1. CP XAY DUNG'!F24 -> 95313355 | D5: ='2.1. CP XAY DUNG'!G24 -> 9531335.5 | E5: ='2.1. CP XAY DUNG'!H24 -> 1.0484469e+08 | G5: =C5/$C$12 -> 0.7189434
A6: 2 | B6: Chi phí thuê đất | C6: ='2.2. CP THUE DAT'!F5 -> 3854125 | D6: ='2.2. CP THUE DAT'!G5 -> 0 | E6: ='2.2. CP THUE DAT'!H5 -> 3854125 | G6: =C6/$C$12 -> 0.029071453
A7: 3 | B7: Chi phí quản lý dự án | C7: ='2.3. CPQLDA, TV, K'!E5 -> 1576595.6 | D7: ='2.3. CPQLDA, TV, K'!F5 -> 0 | E7: ='2.3. CPQLDA, TV, K'!G5 -> 1576595.6 | G7: =C7/$C$12 -> 0.011892174 | H7: =SUM(G7:G10) -> 0.11636375
A8: 4 | B8: Chi phí tư vấn đầu tư xây dựng | C8: ='2.3. CPQLDA, TV, K'!E6 -> 5743008.3 | D8: ='2.3. CPQLDA, TV, K'!F6 -> 574300.83 | E8: ='2.3. CPQLDA, TV, K'!G6 -> 6317309.1 | G8: =C8/$C$12 -> 0.043319196
A9: 5 | B9: Chi phí khác | C9: ='2.3. CPQLDA, TV, K'!E19 -> 1231452.5 | D9: ='2.3. CPQLDA, TV, K'!F19 -> 123145.25 | E9: ='2.3. CPQLDA, TV, K'!G19 -> 1354597.7 | G9: =C9/$C$12 -> 0.0092887785
A10: 6 | B10: Chi phí lãi vay | C10: ='4. KH HUY DONG VON (VAT)'!I34 -> 6875776.5 | E10: =C10 -> 6875776.5 | G10: =C10/$C$12 -> 0.051863605
A11: 7 | B11: Chi phí dự phòng | C11: =E11/1.1 -> 17979899 | D11: =E11-C11 -> 1797989.9 | E11: =SUM('2.4.CPDP'!C21:H21) -> 19777889 | G11: =C11/(C12-C10) -> 0.14303996
A12: Tổng | C12: =SUM(C5:C11) -> 1.3257421e+08 | D12: =SUM(D5:D11) -> 12026771 | E12: =SUM(E5:E11) -> 1.4460098e+08 | G12: =C12/$C$12 -> 1

Sheet 2.1. CP XAY DUNG
A1: BẢNG 2.1. CHI PHÍ XÂY DỰNG CÁC HẠNG MỤC CÔNG TRÌNH
A2: ĐVT: 1000Đ
A3: STT | B3: Nội dung | C3: Đơn vị | D3: Khối lượng | E3: Đơn giá | F3: Chi phí trước thuế | G3: Thuế VAT | H3: Chi phí sau thuế
A4: (1) | B4: (2) | C4: (3) | D4: (4) | E4: (5) | F4: (6)=(4) x(5) | G4: (7)=10% x(6) | H4: (8)=(6)+(7)
A5: I | B5: Phần hạ tầng | F5: =SUM(F6:F12) -> 27272727 | G5: =SUM(G6:G12) -> 2727272.7 | H5: =SUM(H6:H12) -> 30000000
A6: 1 | B6: San nền | F6: =H6/1.1 -> 4090909.1 | G6: =H6-F6 -> 409090.91 | H6: 4500000
A7: 2 | B7: Thi công đường nội bộ (mặt đường rộng 5,5m) | C7: m2 | D7: 5358 | E7: =F7/D7 -> 1628.8303 | F7: =H7/1.1 -> 8727272.7 | G7: =H7-F7 -> 872727.27 | H7: 9600000
A8: 3 | B8: Cấp nước | F8: =H8/1.1 -> 4090909.1 | G8: =H8-F8 -> 409090.91 | H8: 4500000
A9: 4 | B9: Thoát nước thải | F9: =H9/1.1 -> 2727272.7 | G9: =H9-F9 -> 272727.27 | H9: 3000000
A10: 5 | B10: Thoát nước mưa | F10: =H10/1.1 -> 2181818.2 | G10: =H10-F10 -> 218181.82 | H10: 2400000
A11: 6 | B11: Điện hạ thế | F11: =H11/1.1 -> 4363636.4 | G11: =H11-F11 -> 436363.64 | H11: 4800000
A12: 7 | B12: Điện chiếu sáng | F12: =H12/1.1 -> 1090909.1 | G12: =H12-F12 -> 109090.91 | H12: 1200000
A13: II | B13: Khu điều hành | F13: =SUM(F14:F19) -> 21495173 | G13: =SUM(G14:G19) -> 2149517.3 | H13: =SUM(H14:H19) -> 23644690
A14: 1 | B14: Nhà làm việc | C14: m2 | D14: 500 | E14: =6010*85%/1.1 -> 4644.0909 | F14: =PRODUCT(D14:E14) -> 2322045.5 | G14: =10%*F14 -> 232204.55 | H14: =F14+G14 -> 2554250
A15: 2 | B15: Nhà ăn ca nhân viên | C15: m2 | D15: =800*2 -> 1600 | E15: =6010*85%/1.1 -> 4644.0909 | F15: =PRODUCT(D15:E15) -> 7430545.5 | G15: =10%*F15 -> 743054.55 | H15: =F15+G15 -> 8173600
A16: 3 | B16: Nhà ở chuyên gia | C16: m2 | D16: =600*3 -> 1800 | E16: =6660/1.1 -> 6054.5455 | F16: =PRODUCT(D16:E16) -> 10898182 | G16: =10%*F16 -> 1089818.2 | H16: =F16+G16 -> 11988000
A17: 4 | B17: Nhà bảo vệ | C17: m2 | D17: 20 | E17: =4340*80%/1.1 -> 3156.3636 | F17: =PRODUCT(D17:E17) -> 63127.273 | G17: =10%*F17 -> 6312.7273 | H17: =F17+G17 -> 69440
A18: 5 | B18: Nhà vệ sinh | C18: m2 | D18: =100*2 -> 200 | E18: =E17 -> 3156.3636 | F18: =PRODUCT(D18:E18) -> 631272.73 | G18: =10%*F18 -> 63127.273 | H18: =F18+G18 -> 694400
A19: 6 | B19: Nhà để xe | C19: m2 | D19: 100 | E19: =1650/1.1 -> 1500 | F19: =PRODUCT(D19:E19) -> 150000 | G19: =10%*F19 -> 15000 | H19: =F19+G19 -> 165000
A20: III | B20: Khu sản xuất | F20: =SUM(F21:F23) -> 46545455 | G20: =SUM(G21:G23) -> 4654545.5 | H20: =SUM(H21:H23) -> 51200000
A21: 1 | B21: Nhà sản xuất (2 tầng) | C21: m2 | D21: =5000*2 -> 10000 | E21: =3500/1.1 -> 3181.8182 | F21: =PRODUCT(D21:E21) -> 31818182 | G21: =10%*F21 -> 3181818.2 | H21: =F21+G21 -> 35000000
A22: 2 | B22: Kho thép tiền chế | C22: m2 | D22: 5000 | E22: =3000/1.1 -> 2727.2727 | F22: =PRODUCT(D22:E22) -> 13636364 | G22: =10%*F22 -> 1363636.4 | H22: =F22+G22 -> 15000000
A23: 3 | B23: Nhà nồi hơi - khí nén | C23: m2 | D23: 400 | E23: =3000/1.1 -> 2727.2727 | F23: =PRODUCT(D23:E23) -> 1090909.1 | G23: =10%*F23 -> 109090.91 | H23: =F23+G23 -> 1200000
A24: Tổng cộng | F24: =F5+F13+F20 -> 95313355 | G24: =10%*F24 -> 9531335.5 | H24: =F24+G24 -> 1.0484469e+08

Sheet 2.2. CP THUE DAT
A1: BẢNG 2.2: CHI PHÍ THUÊ ĐẤT CỦA DỰ ÁN
A2: ĐVT: 1000Đ
A3: TT | B3: Nội dung | C3: Đơn vị | D3: Khối lượng | E3: Đơn giá | F3: Chi phí trước thuế | G3: Thuế VAT | H3: Chi phí sau thuế | I3: Ghi chú
A4: 1 | B4: Chi phí thuê đất trong thời gian xây dựng | C4: m2 | D4: 30833 | E4: 2.5 | F4: =D4*E4*50 -> 3854125 | H4: =F4 -> 3854125 | I4: QĐ số 1753/2009/UBND tỉnh Phú Thọ về việc quy định đơn giá thuê đất đối với các dự án đầu tư trên địa bàn tỉnh Phú Thọ
A5: Tổng | F5: =SUM(F4:F4) -> 3854125 | H5: =SUM(H4:H4) -> 3854125
B6: Ghi chú: Thuê đất trong 50 năm với giả thiết trả hết trong giai đoạn thực hiện đầu tư dự án.

Sheet 2.3. CPQLDA, TV, K
A1: BẢNG 2.3. CHI PHÍ TƯ VẤN, CHI PHÍ KHÁC
A2: ĐVT: 1000Đ
A3: TT | B3: Loại chi phí | C3: Hệ số k (%) | D3: Công thức xác định | E3: Chi phí trước thuế | F3: Giá trị thuế VAT | G3: Chi phí sau thuế
A4: (1) | B4: (2) | C4: (3) | D4: (4) | E4: (5) | F4: (7) | G4: (8)
A5: I | B5: Chi phí QLDA | C5: ='NOI SUY 957'!F16 -> 0.016541182 | D5: k1x(GXD+GTB) | E5: =C5*'2.1. CP XAY DUNG'!$F$24 -> 1576595.6 | G5: =E5+F5 -> 1576595.6
A6: I | B6: Chi phí tư vấn | E6: =SUM(E7:E18) -> 5743008.3 | F6: =SUM(F7:F18) -> 574300.83 | G6: =SUM(G7:G18) -> 6317309.1
A7: 1 | B7: Chi phí khảo sát địa hình phục vụ TKCS | C7: Tạm tính | E7: 85000 | F7: =10%*E7 -> 8500 | G7: =E7+F7 -> 93500
A8: 2 | B8: Chi phí lập Quy hoạch tổng mặt bằng tỷ lệ 1/500 | C8: Tạm tính | E8: 40000 | F8: =10%*E8 -> 4000 | G8: =E8+F8 -> 44000
A9: 3 | B9: Chi phí lập dự án đầu tư (bao gồm thiết kế cơ sở & thuyết minh dự án). | C9: ='NOI SUY 957'!F54 -> 0.0048227846 | D9: k2x(GXD+GTB) | E9: =C9*'2.1. CP XAY DUNG'!$F$24 -> 459675.78 | F9: =10%*E9 -> 45967.578 | G9: =E9+F9 -> 505643.36
A10: 4 | B10: Chi phí thẩm tra tính hiệu quả của dự án | C10: ='NOI SUY 957'!F159 -> 0.00072343323 | D10: k3x(GXD+GTB) | E10: =C10*'2.1. CP XAY DUNG'!$F$24 -> 68952.848 | F10: =10%*E10 -> 6895.2848 | G10: =E10+F10 -> 75848.132
A11: 5 | B11: Chi phí khảo sát địa chất phục vụ thiết kế thi công. | C11: Tạm tính | E11: 85000 | F11: =10%*E11 -> 8500 | G11: =E11+F11 -> 93500
A12: 6 | B12: Chi phí thiết kế BVTC (TK 2 bước; công trình công nghiệp) | C12: ='NOI SUY 957'!F113 -> 0.023134332 | D12: k4x GXD | E12: =C12*'2.1. CP XAY DUNG'!$F$24 -> 2205010.8 | F12: =10%*E12 -> 220501.08 | G12: =E12+F12 -> 2425511.9
A13: 7 | B13: Chi phí thẩm tra thiết kế bản vẽ thi công | C13: ='NOI SUY 957'!F178 -> 0.0012446812 | D13: k5x GXD | E13: =C13*'2.1. CP XAY DUNG'!$F$24 -> 118634.74 | F13: =10%*E13 -> 11863.474 | G13: =E13+F13 -> 130498.21
A14: 8 | B14: Chi phí thẩm tra dự toán | C14: ='NOI SUY 957'!F216 -> 0.0012109319 | D14: k6x GXD | E14: =C14*'2.1. CP XAY DUNG'!$F$24 -> 115417.98 | F14: =10%*E14 -> 11541.798 | G14: =E14+F14 -> 126959.78
A15: 9 | B15: Chi phí lập hồ sơ mời thầu và đánh giá hồ sơ dự thầu thi công xây dựng | C15: ='NOI SUY 957'!F256 -> 0.0012006158 | D15: k7x GXD | E15: =C15*'2.1. CP XAY DUNG'!$F$24 -> 114434.72 | F15: =10%*E15 -> 11443.472 | G15: =E15+F15 -> 125878.19
A16: 10 | B16: Chi phí giám sát thi công xây dựng | C16: ='NOI SUY 957'!F314 -> 0.017325253 | D16: k8x GXD | E16: =C16*'2.1. CP XAY DUNG'!$F$24 -> 1651328 | F16: =10%*E16 -> 165132.8 | G16: =E16+F16 -> 1816460.8
A17: 11 | B17: Chi phí kiểm tra, chứng nhận sự phù hợp chất lượng công trình | C17: 0.35 | D17: k9x GGSTCXD | E17: =C17*E16 -> 577964.8 | F17: =10%*E17 -> 57796.48 | G17: =E17+F17 -> 635761.28
A18: 12 | B18: Chi phí tư vấn khác | C18: Tạm tính | E18: =30%*SUM(E7:E11) -> 221588.59 | F18: =10%*E18 -> 22158.859 | G18: =E18+F18 -> 243747.45
A19: II | B19: Chi phí khác | E19: =SUM(E20:E23) -> 1231452.5 | F19: =10%*E19 -> 123145.25 | G19: =SUM(G20:G23) -> 1354597.7
A20: 1 | B20: Chi phí bảo hiểm công trình | C20: 0.005 | D20: k10 x (GXD+GTB) | E20: =C20*'2.1. CP XAY DUNG'!$F$24 -> 476566.77 | F20: =10%*E20 -> 47656.677 | G20: =E20+F20 -> 524223.45
A21: 2 | B21: Chi phí kiểm toán | C21: ='NOI SUY 957'!N363/100 -> 0.0022166667 | D21: k11 xTMĐT | E21: =150000000*C21 -> 332500 | F21: =10%*E21 -> 33250 | G21: =E21+F21 -> 365750
A22: 3 | B22: Chi phí thẩm tra phê duyệt quyết toán | C22: ='NOI SUY 957'!N362/100 -> 0.00145 | D22: k12x(GXD+GTB) | E22: =C22*'2.1. CP XAY DUNG'!$F$24 -> 138204.36 | F22: =10%*E22 -> 13820.436 | G22: =E22+F22 -> 152024.8
A23: 4 | B23: Chi phí khác có liên quan (thoả thuận chuyên ngành,…) | C23: Tạm tính | E23: =SUM(E20:E22)*30% -> 284181.34 | F23: =10%*E23 -> 28418.134 | G23: =E23+F23 -> 312599.48
A24: Tổng cộng | E24: =E6+E19+E5 -> 8551056.3 | F24: =F6+F19+F5 -> 697446.07 | G24: =G6+G19+G5 -> 9248502.4

Sheet 2.4.CPDP
A1: BẢNG 2.4.1. CHI PHÍ DỰ PHÒNG TRƯỢT GIÁ SAU THUẾ
A2: ĐVT: 1000đ
C3: 1 | D3: 2 | E3: 3 | F3: 4 | G3: 5 | H3: 6
A4: TT | B4: Nội dung | C4: Tiến độ thực hiện
C5: Năm 2015 | G5: Năm 2016
C6: Quý I | D6: Quý II | E6: Quý III | F6: Quý IV | G6: Quý I | H6: Quý II
A7: 1 | B7: Chi phí thực hiện dự án theo tiến độ chưa có trượt giá | C7: =SUM('4. KH HUY DONG VON (VAT)'!D6:D24)+'4. KH HUY DONG VON (VAT)'!D26 -> 826385.99 | D7: =SUM('4. KH HUY DONG VON (VAT)'!E6:E24)+'4. KH HUY DONG VON (VAT)'!E26 -> 4501906.8 | E7: =SUM('4. KH HUY DONG VON (VAT)'!F6:F24)+'4. KH HUY DONG VON (VAT)'!F26 -> 3550404.9 | F7: =SUM('4. KH HUY DONG VON (VAT)'!G6:G24)+'4. KH HUY DONG VON (VAT)'!G26 -> 62752055 | G7: =SUM('4. KH HUY DONG VON (VAT)'!H6:H24)+'4. KH HUY DONG VON (VAT)'!H26 -> 38236662 | H7: =SUM('4. KH HUY DONG VON (VAT)'!I6:I24)+'4. KH HUY DONG VON (VAT)'!I26 -> 15539774
A8: 2 | B8: Mức độ trượt giá | C8: =(1+$G$12)^C3-1 -> 0.014673846 | D8: =(1+$G$12)^D3-1 -> 0.029563014 | E8: =(1+$G$12)^E3-1 -> 0.044670663 | F8: =(1+$G$12)^F3-1 -> 0.06 | G8: =(1+$G$12)^G3-1 -> 0.075554277 | H8: =(1+$G$12)^H3-1 -> 0.091336795
A9: 3 | B9: Trượt giá từng quý | C9: =C7*C8 -> 12126.261 | D9: =D7*D8 -> 133089.93 | E9: =E7*E8 -> 158598.94 | F9: =F7*F8 -> 3765123.3 | G9: =G7*G8 -> 2888943.4 | H9: =H7*H8 -> 1419353.1
A10: 4 | B10: Trượt giá tích luỹ (GDP2) | C10: =C9 -> 12126.261 | D10: =C10+D9 -> 145216.19 | E10: =D10+E9 -> 303815.14 | F10: =E10+F9 -> 4068938.5 | G10: =F10+G9 -> 6957881.8 | H10: =G10+H9 -> 8377235
A11: Ngoài cách tính toán GDP2 theo IXDCTbq theo hướng dẫn của Thông tư 04/2010, ta có thể dự tính GDP2 bởi yếu tố này hoàn toàn mang tính thị trường. Do vậy, qua việc xem xét chỉ số giá xây dựng, thậm chí là chỉ số giá tiêu dùng (CPI) được cập nhật liên tục trên các phương tiện thông tin có thể dự báo được DP2. Ví dụ, 2 năm vừa rồi, mức trượt giá tiêu dùng ở mức khoảng 6,5%/năm; do vậy dự báo trượt giá cho ngành xây dựng trong những năm tới có thể ở mức 6 - 6,5%/năm là khá an toàn bởi chính sách điều tiết kinh tế vĩ mô của Nhà nước ta trong thời gian tới vẫn là ổn định kinh tế, kiềm chế lạm phát. Ở đây, ta lựa chọn mức độ trượt giá bình quân là 6%/năm.
B12: Vậy mức độ trượt giá bình quân theo quý: | G12: =(1+6%)^(1/4)-1 -> 0.014673846
A13: (Ghi chú: Theo dõi, chỉ số giá tiêu dùng 10 năm qua có thể thấy: năm 2004 tăng 9,5%; năm 2005: 8,4%; năm 2006: 6,6%; năm 2007: 12,63%; năm 2008: 19,89%; năm 2009: 6,52%; năm 2010: 11,75%; năm 2011: 18,13%; năm 2012: 6,81%; năm 2013: 6,04%. Trung bình 10 năm qua: 10,67%).
A14: BẢNG 2.4. CHI PHÍ DỰ PHÒNG
A15: ĐVT: 1000đ
A16: TT | B16: Nội dung | C16: Tiến độ thực hiện
C17: Năm 2015 | G17: Năm 2016
C18: Quý I | D18: Quý II | E18: Quý III | F18: Quý IV | G18: Quý I | H18: Quý II
A19: 1 | B19: Chi phí dự phòng do phát sinh khối lượng (GDP1) | C19: ='4. KH HUY DONG VON (VAT)'!D26 -> 75125.999 | D19: ='4. KH HUY DONG VON (VAT)'!E26 -> 409264.25 | E19: ='4. KH HUY DONG VON (VAT)'!F26 -> 322764.09 | F19: ='4. KH HUY DONG VON (VAT)'!G26 -> 5704732.3 | G19: ='4. KH HUY DONG VON (VAT)'!H26 -> 3476060.2 | H19: ='4. KH HUY DONG VON (VAT)'!I26 -> 1412706.7
A20: 2 | B20: Chi phí dự phòng cho yếu tố trượt giá (GDP2) | C20: =C9 -> 12126.261 | D20: =D9 -> 133089.93 | E20: =E9 -> 158598.94 | F20: =F9 -> 3765123.3 | G20: =G9 -> 2888943.4 | H20: =H9 -> 1419353.1
A21: Tổng chi phí dự phòng | C21: =SUM(C19:C20) -> 87252.26 | D21: =SUM(D19:D20) -> 542354.19 | E21: =SUM(E19:E20) -> 481363.03 | F21: =SUM(F19:F20) -> 9469855.6 | G21: =SUM(G19:G20) -> 6365003.6 | H21: =SUM(H19:H20) -> 2832059.8

Sheet NOI SUY 957
A1: BẢNG TÍNH CHI PHÍ KHÁC
A2: I. ĐỊNH MỨC CHI PHÍ QUẢN LÝ DỰ ÁN:
A3: Loại công trình | B3: Chi phí xây dựng và thiết bị (chưa có VAT) (tỷ đồng)
B4: <=10 | C4: 20 | D4: 50 | E4: 100 | F4: 200 | G4: 500 | H4: 1000 | I4: 2000
A5: Công trình dân dụng | B5: 0.02524 | C5: 0.02141 | D5: 0.01912 | E5: 0.01537 | F5: 0.01436 | G5: 0.01254 | H5: 0.01026 | I5: 0.00793
A6: Công trình công nghiệp | B6: 0.02657 | C6: 0.02254 | D6: 0.02013 | E6: 0.01617 | F6: 0.01512 | G6: 0.0132 | H6: 0.0108 | I6: 0.00931
A7: Công trình giao thông | B7: 0.02259 | C7: 0.01916 | D7: 0.01711 | E7: 0.01375 | F7: 0.01285 | G7: 0.01122 | H7: 0.00918 | I7: 0.00791
A8: Công trình thuỷ lợi | B8: 0.02391 | C8: 0.02029 | D8: 0.01811 | E8: 0.01455 | F8: 0.01361 | G8: 0.01188 | H8: 0.00972 | I8: 0.00838
A9: Công trình hạ tầng | B9: 0.02125 | C9: 0.01803 | D9: 0.0161 | E9: 0.01294 | F9: 0.0121 | G9: 0.01056 | H9: 0.00864 | I9: 0.00744
A11: Nội suy định mức
A12: Loại công trình | B12: Cận dưới | C12: Cận trên | D12: Giá trị trước thuế | F12: 10 | G12: Giá trị phê duyệt
A13: Chi phí xây dựng + TB | B13: =D4 -> 50 | C13: =E4 -> 100 | D13: =G13/1000000000 -> 95.313355 | F13: =IF(D13<F12,F12,IF(AND(D13>F12,D13<=C4),F12,IF(AND(D13>C4,D13<=D4),C4,IF(AND(D13>D4,D13<=E4),D4,IF(AND(D13>E4,D13<=F4),E4,IF(AND(D13>F4,D13<=G4),F4,IF(AND(D13>G4,D13<=H4),G4))))))) -> 50 | G13: ='2.1. CP XAY DUNG'!F24*1000 -> 9.5313355e+10
D14: Tỷ lệ sau nội suy | F14: =IF(D13<F12,F12,IF(AND(D13>F12,D13<=C4),C4,IF(AND(D13>C4,D13<=D4),D4,IF(AND(D13>D4,D13<=E4),E4,IF(AND(D13>E4,D13<=F4),F4,IF(AND(D13>F4,D13<=G4),G4,IF(AND(D13>G4,D13<=H4),H4))))))) -> 100 | G14: Nhập giá trị cần tính vào ô trên
A15: Công trình dân dụng | B15: =D5 -> 0.01912 | C15: =E5 -> 0.01537 | D15: =B15-(((B15-C15)/(C13-B13))*(D13-B13)) -> 0.015721498 | G15: =IF(B13<=F12,B5,IF(B13=F12,B5,IF(B13=C4,C5,IF(B13=D4,D5,IF(B13=E4,E5,IF(B13=F4,F5,IF(B13=G4,G5,IF(B13=H4,H5)))))))) -> 0.01912 | H15: =IF(C13<=F12,B5,IF(C13=F12,B5,IF(C13=C4,C5,IF(C13=D4,D5,IF(C13=E4,E5,IF(C13=F4,F5,IF(C13=G4,G5,IF(C13=H4,H5)))))))) -> 0.01537
A16: Công trình công nghiệp | B16: =D6 -> 0.02013 | C16: =E6 -> 0.01617 | D16: =B16-(((B16-C16)/(C13-B13))*(D13-B13)) -> 0.016541182 | F16: =D16 -> 0.016541182 | G16: =IF(B13<=F12,B6,IF(B13=F12,B6,IF(B13=C4,C6,IF(B13=D4,D6,IF(B13=E4,E6,IF(B13=F4,F6,IF(B13=G4,G6,IF(B13=H4,H6)))))))) -> 0.02013 | H16: =IF(C13<=F12,B6,IF(C13=F12,B6,IF(C13=C4,C6,IF(C13=D4,D6,IF(C13=E4,E6,IF(C13=F4,F6,IF(C13=G4,G6,IF(C13=H4,H6)))))))) -> 0.01617
A17: Công trình giao thông | B17: =D7 -> 0.01711 | C17: =E7 -> 0.01375 | D17: =B17-(((B17-C17)/(C13-B13))*(D13-B13)) -> 0.014064943 | G17: =IF(B13<=F12,B7,IF(B13=F12,B7,IF(B13=C4,C7,IF(B13=D4,D7,IF(B13=E4,E7,IF(B13=F4,F7,IF(B13=G4,G7,IF(B13=H4,H7)))))))) -> 0.01711 | H17: =IF(C13<=F12,B7,IF(C13=F12,B7,IF(C13=C4,C7,IF(C13=D4,D7,IF(C13=E4,E7,IF(C13=F4,F7,IF(C13=G4,G7,IF(C13=H4,H7)))))))) -> 0.01375
A18: Công trình thuỷ lợi | B18: =D8 -> 0.01811 | C18: =E8 -> 0.01455 | D18: =B18-(((B18-C18)/(C13-B13))*(D13-B13)) -> 0.014883689 | G18: =IF(B13<=F12,B8,IF(B13=F12,B8,IF(B13=C4,C8,IF(B13=D4,D8,IF(B13=E4,E8,IF(B13=F4,F8,IF(B13=G4,G8,IF(B13=H4,H8)))))))) -> 0.01811 | H18: =IF(C13<=F12,B8,IF(C13=F12,B8,IF(C13=C4,C8,IF(C13=D4,D8,IF(C13=E4,E8,IF(C13=F4,F8,IF(C13=G4,G8,IF(C13=H4,H8)))))))) -> 0.01455
A19: Công trình hạ tầng | B19: =D9 -> 0.0161 | C19: =E9 -> 0.01294 | D19: =B19-(((B19-C19)/(C13-B13))*(D13-B13)) -> 0.013236196 | G19: =IF(B13<=F12,B9,IF(B13=F12,B9,IF(B13=C4,C9,IF(B13=D4,D9,IF(B13=E4,E9,IF(B13=F4,F9,IF(B13=G4,G9,IF(B13=H4,H9)))))))) -> 0.0161 | H19: =IF(C13<=F12,B9,IF(C13=F12,B9,IF(C13=C4,C9,IF(C13=D4,D9,IF(C13=E4,E9,IF(C13=F4,F9,IF(C13=G4,G9,IF(C13=H4,H9)))))))) -> 0.01294
A21: Nội suy định mức
A22: Loại công trình | B22: Cận dưới | C22: Cận trên | D22: Giá trị trước thuế | F22: 10 | G22: Giá trị phê duyệt
A23: Chi phí XD + TB | B23: =C4 -> 20 | C23: =D4 -> 50 | D23: =G23/1000000000 -> 24.51675 | F23: =IF(D23<F22,F22,IF(AND(D23>F22,D23<=C14),F22,IF(AND(D23>C14,D23<=D14),C14,IF(AND(D23>D14,D23<=E14),D14,IF(AND(D23>E14,D23<=F14),E14,IF(AND(D23>F14,D23<=G14),F14,IF(AND(D23>G14,D23<=H14),G14))))))) -> 0 | G23: ='[1]2.1. CP DAU TU NHA O THAP TANG'!D4*1000 -> 24516750000
D24: Tỷ lệ sau nội suy | F24: =IF(D23<F22,F22,IF(AND(D23>F22,D23<=C14),C14,IF(AND(D23>C14,D23<=D14),D14,IF(AND(D23>D14,D23<=E14),E14,IF(AND(D23>E14,D23<=F14),F14,IF(AND(D23>F14,D23<=G14),G14,IF(AND(D23>G14,D23<=H14),H14))))))) -> Tỷ lệ sau nội suy | G24: Nhập giá trị cần tính vào ô trên
A25: Công trình dân dụng | B25: =C5 -> 0.02141 | C25: =D5 -> 0.01912 | D25: =B25-(((B25-C25)/(C23-B23))*(D23-B23)) -> 0.021065221 | F25: =D25 -> 0.021065221 | G25: =IF(B23<=F22,B15,IF(B23=F22,B15,IF(B23=C14,C15,IF(B23=D14,D15,IF(B23=E14,E15,IF(B23=F14,F15,IF(B23=G14,G15,IF(B23=H14,H15)))))))) -> FALSE | H25: =IF(C23<=F22,B15,IF(C23=F22,B15,IF(C23=C14,C15,IF(C23=D14,D15,IF(C23=E14,E15,IF(C23=F14,F15,IF(C23=G14,G15,IF(C23=H14,H15)))))))) -> FALSE
A26: Công trình công nghiệp | B26: =C6 -> 0.02254 | C26: =D6 -> 0.02013 | D26: =B26-(((B26-C26)/(C23-B23))*(D23-B23)) -> 0.022177154 | G26: =IF(B23<=F22,B16,IF(B23=F22,B16,IF(B23=C14,C16,IF(B23=D14,D16,IF(B23=E14,E16,IF(B23=F14,F16,IF(B23=G14,G16,IF(B23=H14,H16)))))))) -> FALSE | H26: =IF(C23<=F22,B16,IF(C23=F22,B16,IF(C23=C14,C16,IF(C23=D14,D16,IF(C23=E14,E16,IF(C23=F14,F16,IF(C23=G14,G16,IF(C23=H14,H16)))))))) -> FALSE
A27: Công trình giao thông | B27: =C7 -> 0.01916 | C27: =D7 -> 0.01711 | D27: =B27-(((B27-C27)/(C23-B23))*(D23-B23)) -> 0.018851355 | G27: =IF(B23<=F22,B17,IF(B23=F22,B17,IF(B23=C14,C17,IF(B23=D14,D17,IF(B23=E14,E17,IF(B23=F14,F17,IF(B23=G14,G17,IF(B23=H14,H17)))))))) -> FALSE | H27: =IF(C23<=F22,B17,IF(C23=F22,B17,IF(C23=C14,C17,IF(C23=D14,D17,IF(C23=E14,E17,IF(C23=F14,F17,IF(C23=G14,G17,IF(C23=H14,H17)))))))) -> FALSE
A28: Công trình thuỷ lợi | B28: =C8 -> 0.02029 | C28: =D8 -> 0.01811 | D28: =B28-(((B28-C28)/(C23-B23))*(D23-B23)) -> 0.019961783 | G28: =IF(B23<=F22,B18,IF(B23=F22,B18,IF(B23=C14,C18,IF(B23=D14,D18,IF(B23=E14,E18,IF(B23=F14,F18,IF(B23=G14,G18,IF(B23=H14,H18)))))))) -> FALSE | H28: =IF(C23<=F22,B18,IF(C23=F22,B18,IF(C23=C14,C18,IF(C23=D14,D18,IF(C23=E14,E18,IF(C23=F14,F18,IF(C23=G14,G18,IF(C23=H14,H18)))))))) -> FALSE
A29: Công trình hạ tầng | B29: =C9 -> 0.01803 | C29: =D9 -> 0.0161 | D29: =B29-(((B29-C29)/(C23-B23))*(D23-B23)) -> 0.017739422 | G29: =IF(B23<=F22,B19,IF(B23=F22,B19,IF(B23=C14,C19,IF(B23=D14,D19,IF(B23=E14,E19,IF(B23=F14,F19,IF(B23=G14,G19,IF(B23=H14,H19)))))))) -> FALSE | H29: =IF(C23<=F22,B19,IF(C23=F22,B19,IF(C23=C14,C19,IF(C23=D14,D19,IF(C23=E14,E19,IF(C23=F14,F19,IF(C23=G14,G19,IF(C23=H14,H19)))))))) -> FALSE
A31: Nội suy định mức
A32: Loại công trình | B32: Cận dưới | C32: Cận trên | D32: Giá trị trước thuế | F32: 10 | G32: Giá trị phê duyệt
A33: Chi phí XD + TB | B33: =H24 -> 0 | C33: =I24 -> 0 | D33: =G33/1000000000 -> 8.16942 | F33: =IF(D33<F32,F32,IF(AND(D33>F32,D33<=C24),F32,IF(AND(D33>C24,D33<=D24),C24,IF(AND(D33>D24,D33<=E24),D24,IF(AND(D33>E24,D33<=F24),E24,IF(AND(D33>F24,D33<=G24),F24,IF(AND(D33>G24,D33<=H24),G24))))))) -> 10 | G33: ='[2]2.2. XD HTKT'!D6 -> 8169420000
D34: Tỷ lệ sau nội suy | F34: =IF(D33<F32,F32,IF(AND(D33>F32,D33<=C24),C24,IF(AND(D33>C24,D33<=D24),D24,IF(AND(D33>D24,D33<=E24),E24,IF(AND(D33>E24,D33<=F24),F24,IF(AND(D33>F24,D33<=G24),G24,IF(AND(D33>G24,D33<=H24),H24))))))) -> 10 | G34: Nhập giá trị cần tính vào ô trên
A35: Công trình dân dụng | B35: =H25 -> FALSE | C35: =I25 -> 0 | D35: =B35-(((B35-C35)/(C33-B33))*(D33-B33)) -> #DIV/0! | G35: =IF(B33<=F32,B25,IF(B33=F32,B25,IF(B33=C24,C25,IF(B33=D24,D25,IF(B33=E24,E25,IF(B33=F24,F25,IF(B33=G24,G25,IF(B33=H24,H25)))))))) -> 0.02141 | H35: =IF(C33<=F32,B25,IF(C33=F32,B25,IF(C33=C24,C25,IF(C33=D24,D25,IF(C33=E24,E25,IF(C33=F24,F25,IF(C33=G24,G25,IF(C33=H24,H25)))))))) -> 0.02141
A36: Công trình công nghiệp | B36: =G36 -> 0.02254 | C36: =I26 -> 0 | D36: =B36-(((B36-C36)/(C33-B33))*(D33-B33)) -> #DIV/0! | G36: =IF(B33<=F32,B26,IF(B33=F32,B26,IF(B33=C24,C26,IF(B33=D24,D26,IF(B33=E24,E26,IF(B33=F24,F26,IF(B33=G24,G26,IF(B33=H24,H26)))))))) -> 0.02254 | H36: =IF(C33<=F32,B26,IF(C33=F32,B26,IF(C33=C24,C26,IF(C33=D24,D26,IF(C33=E24,E26,IF(C33=F24,F26,IF(C33=G24,G26,IF(C33=H24,H26)))))))) -> 0.02254
A37: Công trình giao thông | B37: =G37 -> 0.01916 | C37: =I27 -> 0 | D37: =B37-(((B37-C37)/(C33-B33))*(D33-B33)) -> #DIV/0! | G37: =IF(B33<=F32,B27,IF(B33=F32,B27,IF(B33=C24,C27,IF(B33=D24,D27,IF(B33=E24,E27,IF(B33=F24,F27,IF(B33=G24,G27,IF(B33=H24,H27)))))))) -> 0.01916 | H37: =IF(C33<=F32,B27,IF(C33=F32,B27,IF(C33=C24,C27,IF(C33=D24,D27,IF(C33=E24,E27,IF(C33=F24,F27,IF(C33=G24,G27,IF(C33=H24,H27)))))))) -> 0.01916
A38: Công trình thuỷ lợi | B38: =G38 -> 0.02029 | C38: =I28 -> 0 | D38: =B38-(((B38-C38)/(C33-B33))*(D33-B33)) -> #DIV/0! | G38: =IF(B33<=F32,B28,IF(B33=F32,B28,IF(B33=C24,C28,IF(B33=D24,D28,IF(B33=E24,E28,IF(B33=F24,F28,IF(B33=G24,G28,IF(B33=H24,H28)))))))) -> 0.02029 | H38: =IF(C33<=F32,B28,IF(C33=F32,B28,IF(C33=C24,C28,IF(C33=D24,D28,IF(C33=E24,E28,IF(C33=F24,F28,IF(C33=G24,G28,IF(C33=H24,H28)))))))) -> 0.02029
A39: Công trình hạ tầng | B39: =G39 -> 0.01803 | C39: =I29 -> 0 | D39: =B39-(((B39-C39)/(C33-B33))*(D33-B33)) -> #DIV/0! | F39: =B9 -> 0.02125 | G39: =IF(B33<=F32,B29,IF(B33=F32,B29,IF(B33=C24,C29,IF(B33=D24,D29,IF(B33=E24,E29,IF(B33=F24,F29,IF(B33=G24,G29,IF(B33=H24,H29)))))))) -> 0.01803 | H39: =IF(C33<=F32,B29,IF(C33=F32,B29,IF(C33=C24,C29,IF(C33=D24,D29,IF(C33=E24,E29,IF(C33=F24,F29,IF(C33=G24,G29,IF(C33=H24,H29)))))))) -> 0.01803
A40: II. Định mức chi phí lập dự án:
A41: Loại công trình | B41: Chi phí XD và TB trong TMĐT được duyệt (chưa có thuế VAT) (tỷ đồng)
B42: <= 15 | C42: 20 | D42: 50 | E42: 100 | F42: 200 | G42: 500 | H42: 1000 | I42: 2000
A43: Công trình dân dụng | B43: 0.00655 | C43: 0.00538 | D43: 0.00442 | E43: 0.00314 | F43: 0.00237 | G43: 0.00191 | H43: 0.00164 | I43: 0.00139
...

Sheet 3. TIEN DO THUC HIEN DU AN
A1: BẢNG 3: TIẾN ĐỘ THỰC HIỆN DỰ ÁN
A2: STT | B2: Nội dung | C2: Năm 2015 | O2: Năm 2016
C3: Quý I | F3: Quý II | I3: Quý III | L3: Quý IV | O3: Quý I | R3: Quý II
C4: 1 | D4: 2 | E4: 3 | F4: 4 | G4: 5 | H4: 6 | I4: 7 | J4: 8 | K4: 9 | L4: 10 | M4: 11 | N4: 12 | O4: 1 | P4: 2 | Q4: 3 | R4: 4 | S4: 5 | T4: 6
A5: I | B5: Giai đoạn chuẩn bị đầu tư
A6: 1 | B6: Khảo sát và lập quy hoạch tổng mặt bằng
A7: 2 | B7: Lập dự án đầu tư và thiết kế cơ sở
A8: 3 | B8: Thẩm định, thẩm tra hiệu quả Dự án
A9: 4 | B9: Thực hiện các thủ tục pháp lý đối với cơ quan Nhà nước: Duyệt quy hoạch TMB; xin ý kiến TKCS của DA; Đăng ký đầu tư; đăng ký cam kết môi trường; Xin giấy phép xây dựng,…
A10: II | B10: Giai đoạn thực hiện đầu tư
A11: 1 | B11: Tổ chức tiếp nhận mặt bằng được bàn giao
A12: 3 | B12: Thiết kế và lập dự toán
A13: 4 | B13: Thẩm tra TK và dự toán
A14: 5 | B14: Tổ chức lựa chọn nhà thầu xây lắp
A15: 6 | B15: Thi công xây dựng các hạng mục:
A16: 6.1 | B16: Thi công hạ tầng
A17: 6.2 | B17: Thi công khối nhà điều hành
A18: 6.3 | B18: Thi công khu vực sản xuất
A19: 6 | B19: Giám sát thi công xây dựng
A20: 10 | B20: Kiểm toán độc lập, thẩm tra phê duyệt quyết toán
A21: 11 | B21: Quản lý dự án

Sheet 4. KH HUY DONG VON (VAT)
A1: BẢNG 4: KẾ HOẠCH HUY ĐỘNG VỐN VÀ TÍNH TOÁN LÃI VAY TRONG THỜI GIAN XÂY DỰNG
A2: ĐVT: 1000Đ
A3: STT | B3: Nội dung | C3: Giá trị (có VAT) | D3: Năm 2015 | H3: Năm 2016
D4: Quý 1 | E4: Quý 2 | F4: Quý 3 | G4: Quý 4 | H4: Quý 1 | I4: Quý 2
A5: I | B5: KẾ HOẠCH ĐẦU TƯ | C5: =SUM(C6:C25) -> 1.3378442e+08 | D5: =SUM(D6:D25) -> 838512.25 | E5: =SUM(E6:E25) -> 4634996.7 | F5: =SUM(F6:F25) -> 3709003.9 | G5: =SUM(G6:G25) -> 66517179 | H5: =SUM(H6:H25) -> 41125606 | I5: =SUM(I6:I25) -> 16959127
A6: I.1 | B6: Giai đoạn chuẩn bị đầu tư
A7: 1 | B7: Khảo sát và lập quy hoạch tổng mặt bằng | C7: =SUM(D7:I7) -> 231000 | D7: ='2.3. CPQLDA, TV, K'!G7+'2.3. CPQLDA, TV, K'!G8+'2.3. CPQLDA, TV, K'!G11 -> 231000
A8: 2 | B8: Lập dự án đầu tư và thiết kế cơ sở | C8: =SUM(D8:I8) -> 505643.36 | D8: ='2.3. CPQLDA, TV, K'!G9 -> 505643.36
A9: 3 | B9: Thẩm định, thẩm tra hiệu quả Dự án | C9: =SUM(D9:I9) -> 75848.132 | E9: ='2.3. CPQLDA, TV, K'!G10 -> 75848.132
A10: I.2 | B10: Giai đoạn thực hiện đầu tư
A11: 1 | B11: Thiết kế và lập dự toán | C11: =SUM(D11:I11) -> 2425511.9 | E11: ='2.3. CPQLDA, TV, K'!G12 -> 2425511.9
A12: 2 | B12: Thẩm tra TK và dự toán | C12: =SUM(D12:I12) -> 257457.99 | F12: ='2.3. CPQLDA, TV, K'!G13+'2.3. CPQLDA, TV, K'!G14 -> 257457.99
A13: 3 | B13: Tổ chức lựa chọn nhà thầu xây lắp | C13: =SUM(D13:I13) -> 125878.19 | F13: ='2.3. CPQLDA, TV, K'!G15 -> 125878.19
A14: 4 | B14: Thi công xây dựng các hạng mục:
A15: 4.1 | B15: Thi công hạ tầng | C15: =SUM(D15:I15) -> 30000000 | G15: ='2.1. CP XAY DUNG'!$H$5 -> 30000000
A16: 4.2 | B16: Xây dựng khu điều hành | C16: =SUM(D16:I16) -> 19703908 | G16: ='2.1. CP XAY DUNG'!$H$13*2/6 -> 7881563.3 | H16: ='2.1. CP XAY DUNG'!$H$13*2/6 -> 7881563.3 | I16: ='2.1. CP XAY DUNG'!$H$13*1/6 -> 3940781.7
A17: 4.3 | B17: Xây dựng khối sản xuất | C17: =SUM(D17:I17) -> 51200000 | G17: ='2.1. CP XAY DUNG'!$H$20*2/6 -> 17066667 | H17: ='2.1. CP XAY DUNG'!$H$20*3/6 -> 25600000 | I17: ='2.1. CP XAY DUNG'!$H$20*1/6 -> 8533333.3
A18: 5 | B18: Giám sát thi công xây dựng | C18: =SUM(D18:I18) -> 1816460.8 | G18: =SUM(G15:G17)*'2.3. CPQLDA, TV, K'!$G$16/SUM($C$15:$C$17) -> 989171.85 | H18: =SUM(H15:H17)*'2.3. CPQLDA, TV, K'!$G$16/SUM($C$15:$C$17) -> 602731.33 | I18: =SUM(I15:I17)*'2.3. CPQLDA, TV, K'!$G$16/SUM($C$15:$C$17) -> 224557.61
A19: 6 | B19: Kiểm tra chứng nhận sự phù hợp chất lượng công trình. | C19: =SUM(D19:I19) -> 635761.28 | I19: ='2.3. CPQLDA, TV, K'!G17 -> 635761.28
A20: 7 | B20: Kiểm toán độc lập, thẩm tra phê duyệt quyết toán | C20: =SUM(D20:I20) -> 517774.8 | I20: ='2.3. CPQLDA, TV, K'!G21+'2.3. CPQLDA, TV, K'!G22 -> 517774.8
A21: 8 | B21: Quản lý dự án | C21: =SUM(D21:I21) -> 1576595.6 | D21: =SUM(D7:D20)*'2.3. CPQLDA, TV, K'!$G$5/SUM($C$7:$C$20) -> 10804.093 | E21: =SUM(E7:E20)*'2.3. CPQLDA, TV, K'!$G$5/SUM($C$7:$C$20) -> 36686.582 | F21: =SUM(F7:F20)*'2.3. CPQLDA, TV, K'!$G$5/SUM($C$7:$C$20) -> 5622.2591 | G21: =SUM(G7:G20)*'2.3. CPQLDA, TV, K'!$G$5/SUM($C$7:$C$20) -> 820414.53 | H21: =SUM(H7:H20)*'2.3. CPQLDA, TV, K'!$G$5/SUM($C$7:$C$20) -> 499902.56 | I21: =SUM(I7:I20)*'2.3. CPQLDA, TV, K'!$G$5/SUM($C$7:$C$20) -> 203165.55
A22: 9 | B22: Thực hiện các thủ tục pháp lý đối với cơ quan Nhà nước: Duyệt quy hoạch TMB; xin ý kiến TKCS của DA; Đăng ký đầu tư; đăng ký cam kết môi trường; Xin giấy phép xây dựng; và các chi phí tư vấn cùng các chi phí liên quan khác. | C22: =SUM(D22:I22) -> 556346.92 | D22: =SUM(D6:D21)*('2.3. CPQLDA, TV, K'!$G$18+'2.3. CPQLDA, TV, K'!$G$23)/SUM($C$6:$C$21) -> 3812.5339 | E22: =SUM(E6:E21)*('2.3. CPQLDA, TV, K'!$G$18+'2.3. CPQLDA, TV, K'!$G$23)/SUM($C$6:$C$21) -> 12945.912 | F22: =SUM(F6:F21)*('2.3. CPQLDA, TV, K'!$G$18+'2.3. CPQLDA, TV, K'!$G$23)/SUM($C$6:$C$21) -> 1983.9752 | G22: =SUM(G6:G21)*('2.3. CPQLDA, TV, K'!$G$18+'2.3. CPQLDA, TV, K'!$G$23)/SUM($C$6:$C$21) -> 289506.77 | H22: =SUM(H6:H21)*('2.3. CPQLDA, TV, K'!$G$18+'2.3. CPQLDA, TV, K'!$G$23)/SUM($C$6:$C$21) -> 176404.94 | I22: =SUM(I6:I21)*('2.3. CPQLDA, TV, K'!$G$18+'2.3. CPQLDA, TV, K'!$G$23)/SUM($C$6:$C$21) -> 71692.787
A23: 10 | B23: Bảo hiểm công trình | C23: =SUM(D23:I23) -> 524223.45 | F23: ='2.3. CPQLDA, TV, K'!G20 -> 524223.45
A24: 11 | B24: Nộp tiền sử dụng đất | C24: =SUM(D24:I24) -> 3854125 | E24: ='2.2. CP THUE DAT'!$H$4*40% -> 1541650 | F24: ='2.2. CP THUE DAT'!$H$4*60% -> 2312475
B25: Chi phí dự phòng | C25: =SUM(C26:C27) -> 19777889 | D25: =SUM(D26:D27) -> 87252.26 | E25: =SUM(E26:E27) -> 542354.19 | F25: =SUM(F26:F27) -> 481363.03 | G25: =SUM(G26:G27) -> 9469855.6 | H25: =SUM(H26:H27) -> 6365003.6 | I25: =SUM(I26:I27) -> 2832059.8
B26: Dự phòng cho khối lượng công tác phát sinh | C26: =SUM(D26:I26) -> 11400654 | D26: =10%*SUM(D6:D24) -> 75125.999 | E26: =10%*SUM(E6:E24) -> 409264.25 | F26: =10%*SUM(F6:F24) -> 322764.09 | G26: =10%*SUM(G6:G24) -> 5704732.3 | H26: =10%*SUM(H6:H24) -> 3476060.2 | I26: =10%*SUM(I6:I24) -> 1412706.7
B27: Dự phòng cho yếu tố trượt giá | C27: =SUM(D27:I27) -> 8377235 | D27: ='2.4.CPDP'!C20 -> 12126.261 | E27: ='2.4.CPDP'!D20 -> 133089.93 | F27: ='2.4.CPDP'!E20 -> 158598.94 | G27: ='2.4.CPDP'!F20 -> 3765123.3 | H27: ='2.4.CPDP'!G20 -> 2888943.4 | I27: ='2.4.CPDP'!H20 -> 1419353.1
A28: II | B28: KẾ HOẠCH BỐ TRÍ VỐN | C28: =SUM(C29:C30) -> 1.3378442e+08 | D28: =SUM(D29:D30) -> 838512.25 | E28: =SUM(E29:E30) -> 4634996.7 | F28: =SUM(F29:F30) -> 3709003.9 | G28: =SUM(G29:G30) -> 66517179 | H28: =SUM(H29:H30) -> 41125606 | I28: =SUM(I29:I30) -> 16959127
B29: =C29/$C$5 -> 0.3 | C29: =SUM(D29:I29) -> 40135327 | D29: =30%*D5 -> 251553.67 | E29: =30%*E5 -> 1390499 | F29: =30%*F5 -> 1112701.2 | G29: =30%*G5 -> 19955154 | H29: =30%*H5 -> 12337682 | I29: =30%*I5 -> 5087738.1
B30: =C30/$C$5 -> 0.7 | C30: =SUM(D30:I30) -> 93649097 | D30: =IF((D5-D29)>0,D5-D29,0) -> 586958.57 | E30: =IF((E5-E29)>0,E5-E29,0) -> 3244497.7 | F30: =IF((F5-F29)>0,F5-F29,0) -> 2596302.7 | G30: =IF((G5-G29)>0,G5-G29,0) -> 46562025 | H30: =IF((H5-H29)>0,H5-H29,0) -> 28787924 | I30: =IF((I5-I29)>0,I5-I29,0) -> 11871389
A31: III | B31: LÃI VAY TRONG XD
B32: Vốn vay tích luỹ cuối kỳ | D32: =D30 -> 586958.57 | E32: =D32+E30 -> 3831456.3 | F32: =E32+F30 -> 6427759 | G32: =F32+G30 -> 52989784 | H32: =G32+H30 -> 81777708 | I32: =H32+I30 -> 93649097
B33: Lãi vay cuối quý | D33: =D32*$C$37 -> 16867.631 | E33: =E32*$C$37 -> 110105.88 | F33: =F32*$C$37 -> 184716.73 | G33: =G32*$C$37 -> 1522785.7 | H33: =H32*$C$37 -> 2350074.2 | I33: =I32*$C$37 -> 2691226.4
B34: Lãi vay tích luỹ | D34: =D33 -> 16867.631 | E34: =D34+E33 -> 126973.51 | F34: =E34+F33 -> 311690.24 | G34: =F34+G33 -> 1834475.9 | H34: =G34+H33 -> 4184550.1 | I34: =H34+I33 -> 6875776.5
B36: Lãi suất năm | C36: 0.12
B37: Lãi suất quý | C37: =(1+C36)^(1/4)-1 -> 0.028737345
