Workbook
Name \T: #REF!
Name \T: #REF!
Name _: NA()
Name _.._mik: #REF!
Name _.._mik: #REF!
Name _?: #REF!
Name _?: #REF!
Name _??????: #REF!
Name _??????: #REF!
Name __?: #REF!
Name __?: #REF!
Name __??????: #REF!
Name __??????: #REF!
Name ___?: #REF!
Name ___?: #REF!
Name ___??????: #REF!
Name ___??????: #REF!
Name _____CON1: #REF!
Name _____CON1: #REF!
Name _____CON2: #REF!
Name _____CON2: #REF!
Name ____Can2: #REF!
Name ____CAU10: #REF!
Name ____CAU10: #REF!
Name ____CON1: #REF!
Name ____CON1: #REF!
Name ____CON2: #REF!
Name ____CON2: #REF!
Name ____CVC1: #REF!
Name ____CVC1: #REF!
Name ____dam33: #REF!
Name ____dam33: #REF!
Name ____lap1: #REF!
Name ____lap1: #REF!
Name ____lap2: #REF!
Name ____lap2: #REF!
Name ____NC3: #REF!
Name ____NC3: #REF!
Name ____NC6: #REF!
Name ____NC6: #REF!
Name ____NC7: #REF!
Name ____NC7: #REF!
Name ____OTO12: #REF!
Name ____OTO12: #REF!
Name ____OTO5: #REF!
Name ____OTO5: #REF!
Name ____OTO7: #REF!
Name ____OTO7: #REF!
Name ____PT1: #REF!
Name ____PT1: #REF!
Name ____PT2: #REF!
Name ____PT2: #REF!
Name ____vl1: #REF!
Name ____vl1: #REF!
Name ____VL3: #REF!
Name ____VL3: #REF!
Name ____VL4: #REF!
Name ____VL4: #REF!
Name ____VL5: #REF!
Name ____VL5: #REF!

Sheet TONG MUC DAU TU
I1: Bảng 2.1 Phụ lục 2 Thoâng Tư 04/2010/TT-BXD
A2: BAÛNG TOÅNG HÔÏP DÖÏ TOAÙN
K3: 630241000 | L3: 52110000
K4: 1640014000 | L4: 10910000
A6: STT | B6: NỘI DUNG CHI PHÍ | C6: GIAÙ TRÒ TRÖÔÙC THUEÁ | D6: LAÙN TRAÏI TAÏM | E6: THUẾ GTGT | F6: GIAÙ TRÒ SAU THUEÁ | G6: KÍ HIEÄU | H6: CAÙCH TÍNH | I6: GHI CHUÙ | K6: 22474.629 | O6: 22474.629
A7: [1] | B7: [2] | C7: [3] | E7: [4] | F7: [5] | G7: [6] | H7: [7] | I7: [8] | K7: 979.469 | L7: 979469000 | O7: 979.469
A8: 1 | B8: Chi phí xaây dựng + Thieát bò | C8: =SUM(C9:C10) -> 2.4153216e+10 | D8: =SUM(D9:D10) -> 2.206176e+08 | E8: =SUM(E9:E10) -> 2.4153216e+09 | F8: =SUM(F9:F10) -> 26789155082 | G8: GXDTB | K8: =F9 -> 22282378082 | L8: =+K8-L7 -> 21302909082 | O8: =SUM(O6:O7) -> 23454.098
B9: Chi phí xaây dựng | C9: ='TONG HOP KINH PHI '!C20 -> 2.0056146e+10 | D9: ='TONG HOP KINH PHI '!D20 -> 2.206176e+08 | E9: ='TONG HOP KINH PHI '!E20 -> 2.0056146e+09 | F9: =ROUND('TONG HOP KINH PHI '!F20,0) -> 22282378082 | G9: GXD | H9: Baûng toång hôïp kinh phí | K9: =C8 -> 2.4153216e+10 | O9: =+O8*10^6 -> 23454098000 | W9: 22302434228
B10: Chi phí thieát bò | C10: ='TONG HOP KINH PHI '!C34 -> 4097070000 | E10: ='TONG HOP KINH PHI '!E34 -> 409707000 | F10: ='TONG HOP KINH PHI '!F34 -> 4506777000 | G10: GTB | H10: Theo quyeát ñònh pheâ duyeät döï aùn 14796/QÑ-UBND Ngaøy 06/11/2014 | J10: Chi phí naøy coù trong quyeát ñònh pheâ duyeät döï aùn | L10: =$K$9/1000000000 -> 24.153216 | M10: 20 | N10: 50 | W10: 4506777000
A11: 2 | B11: Chi phí QLDA | C11: =F11/1.1 -> 5.1247091e+08 | E11: =C11*0.1 -> 51247091 | F11: 563718000 | G11: GQLDA | H11: Theo quyeát ñònh pheâ duyeät döï aùn 14796/QÑ-UBND Ngaøy 06/11/2014 | J11: Chi phí naøy coù trong quyeát ñònh pheâ duyeät döï aùn | K11: =L11 -> 2.109 | L11: =ROUND(M11-(M11-N11)*(L10-M10)/(N10-M10),3) -> 2.109 | M11: 2.141 | N11: 1.912
A12: 3 | B12: Chi phí tư vấn ĐTXD | C12: =SUM(C13:C21) -> 1.4068597e+09 | E12: =SUM(E13:E21) -> 1.4068597e+08 | F12: =SUM(F13:F22) -> 1587545636 | G12: GTV | H12: GTV1 + … + GTV10 | L12: =$K$9/1000000000 -> 24.153216 | M12: 20 | N12: 50 | W12: 1587545636
B13: + Chi phí khảo saùt ñòa chaát | C13: =+F13/1.1 -> 2.2435091e+08 | E13: =C13*0.1 -> 22435091 | F13: 246786000 | G13: GTV1 | H13: Theo quyeát ñònh pheâ duyeät döï aùn 14796/QÑ-UBND Ngaøy 06/11/2014 | K13: =L13 -> 0.525 | L13: =ROUND(M13-(M13-N13)*(L11-M11)/(N11-M11),3) -> 0.525 | M13: 0.538 | N13: 0.442 | O13: =$C$9/1000000000 -> 20.056146 | P13: 20 | Q13: 50 | U13: 298896000
B14: + Chi phí laäp dự aùn ñaàu tö | C14: =F14/1.1 -> 1.2680438e+08 | E14: =C14*0.1 -> 12680438 | F14: =ROUNDDOWN((C9+C10)*1.1*K14%,0) -> 139484821 | G14: GTV2 | H14: Theo quyeát ñònh pheâ duyeät döï aùn 14796/QÑ-UBND Ngaøy 06/11/2014 | J14: Chi phí naøy coù trong quyeát ñònh pheâ duyeät döï aùn | K14: =L14 -> 0.525 | L14: =ROUND(M14-(M14-N14)*(L12-M12)/(N12-M12),3) -> 0.525 | M14: 0.538 | N14: 0.442 | O14: =$C$9/1000000000 -> 20.056146 | P14: 20 | Q14: 50
B15: + Chi phí thieát keá baûn veõ thi coâng | C15: =F15/1.1 -> 4.5126328e+08 | E15: =C15*0.1 -> 45126328 | F15: =ROUNDDOWN((C9)*1.1*2.25%,0) -> 496389610 | G15: GTV3 | H15: 2,25% xGxdtt x 1,1 | I15: QĐ 957/QĐ-BXD | K15: 2.22 | L15: =$C$9/1000000000 -> 20.056146 | M15: 20 | N15: 50 | O15: =ROUND(P15-(P15-Q15)*(O14-P14)/(Q14-P14),3) -> 2.729 | P15: 2.73 | Q15: 2.29
B16: + Chi phí giaùm saùt thi coâng xaây laép | C16: =F16/1.1 -> 4.5748069e+08 | E16: =C16*0.1 -> 45748069 | F16: =ROUNDDOWN(K16%*($C$9)*1.1,0) -> 503228756 | G16: GTV4 | H16: =K16&"%"&" x "&"Gxdtt x 1,1" -> 2,281% x Gxdtt x 1,1 | I16: QĐ 957/QĐ-BXD | K16: =L16 -> 2.281 | L16: =ROUND(M16-(M16-N16)*(L15-M15)/(N15-M15),3) -> 2.281 | M16: 2.282 | N16: 1.948
B17: + Chi phí giaùm saùt thi coâng thieát bò | C17: =F17/1.1 -> 27655222 | E17: =C17*0.1 -> 2765522.2 | F17: =ROUNDDOWN(K17%*($C$10)*1.1,0) -> 30420744 | G17: GTV5 | H17: =K17&"%"&" x "&"Gtbtt x 1,1" -> 0,675% x Gtbtt x 1,1 | I17: QĐ 957/QĐ-BXD | K17: 0.675 | L17: =L15 -> 20.056146 | M17: 20 | N17: 50
B18: + Chi phí thẩm tra thiết kế BVTC | C18: =F18/1.1 -> 35900501 | E18: =C18*0.1 -> 3590050.1 | F18: =ROUNDDOWN($C$9*1.1*K18%,0) -> 39490551 | G18: GTV6 | H18: =K18&"%"&" x "&"Gxdtt x 1,1" -> 0,179% x Gxdtt x 1,1 | I18: QĐ 957/QĐ-BXD | K18: =L18 -> 0.179 | L18: =ROUND(M18-(M18-N18)*(L17-M17)/(N17-M17),3) -> 0.179 | M18: 0.179 | N18: 0.138 | O18: =L17 -> 20.056146 | P18: 20 | Q18: 50
B19: + Chi phí thaåm tra döï toaùn | C19: =F19/1.1 -> 35098255 | E19: =C19*0.1 -> 3509825.5 | F19: =ROUNDDOWN($C$9*1.1*K19%,0) -> 38608080 | G19: GTV7 | H19: =K19&"%"&" x "&"Gxdtt x 1,1" -> 0,175% x Gxdtt x 1,1 | I19: QĐ 957/QĐ-BXD | K19: =O19 -> 0.175 | L19: =L17 -> 20.056146 | M19: 20 | N19: 50 | O19: =ROUND(P19-(P19-Q19)*(O18-P18)/(Q18-P18),3) -> 0.175 | P19: 0.175 | Q19: 0.133
B20: + Chi phí lập HSMT, ñaùnh giaù HSDT xaây laép | C20: =F20/1.1 -> 40112291 | E20: =C20*0.1 -> 4011229.1 | F20: =ROUNDDOWN($C$9*K20%*1.1,0) -> 44123520 | G20: GTV9 | H20: =K20&"%"&" x "&"Gxdtt x 1,1" -> 0,2% x Gxdtt x 1,1 | I20: NÑ63/2014/NÑ-CP | K20: 0.2 | L20: =ROUND(M20-(M20-N20)*(L19-M19)/(N19-M19),3) -> 0.27 | M20: 0.27 | N20: 0.152 | O20: =$K$9/1000000000 -> 24.153216 | P20: 10 | Q20: 20 | V20: =4960-41.2 -> 4918.8
B21: + Chi phí lập HSMT, ñaùnh giaù HSDT thieát bò | C21: =F21/1.1 -> 8194140 | E21: =C21*0.1 -> 819414 | F21: =ROUNDDOWN($C$10*1.1*K21%,0) -> 9013554 | G21: GTV10 | H21: =K21&"%"&" x "&"Gtbtt x 1,1" -> 0,2% x Gtbtt x 1,1 | I21: NÑ63/2014/NÑ-CP | K21: 0.2 | O21: =ROUND(P21-(P21-Q21)*(O20-P20)/(Q20-P20),3) -> 1.702 | P21: 2.053 | Q21: 1.805
B22: + Chi phí thaåm ñònh giaù | C22: =F22/1.1 -> 36363636 | E22: =C22*0.1 -> 3636363.6 | F22: 40000000 | G22: GTV11 | H22: Theo quyeát ñònh pheâ duyeät döï aùn 14796/QÑ-UBND Ngaøy 06/11/2014
A23: 4 | B23: Chi phí khaùc | C23: =SUM(C24:C32) -> 3.0178904e+08 | E23: =SUM(E24:E32) -> 11061605 | F23: =SUM(F24:F34) -> 331101735 | G23: GK | H23: GK1 + … + GK9 | L23: =W38/1000000000 -> 34.12006 | M23: 10 | N23: 50 | W23: 331131819
B24: + Chi phí kieåm toaùn | C24: =F24/1.1 -> 64486913 | E24: =C24*0.1 -> 6448691.3 | F24: =ROUNDDOWN($W$38*K24*1.1%,0) -> 70935604 | G24: GK1 | H24: =K24&"%"&" x "&"TMDT x 1,1" -> 0,189% x TMDT x 1,1 | I24: TT 19/2011/TT-BTC | K24: =L24 -> 0.189 | L24: =ROUND(M24-(M24-N24)*(L23-M23)/(N23-M23),3) -> 0.189 | M24: 0.43 | N24: 0.03
B25: + Chi phí baûo hieåm xaây döïng coâng trình | C25: =F25/1.1 -> 46129135 | E25: =C25*0.1 -> 4612913.5 | F25: =ROUNDDOWN(0.23/100*(C9)*1.1,0) -> 50742049 | G25: GK2 | H25: 0,23%xGxdx1,1 | I25: Tham khaûo QÑ 33/2004/QÑ-BTC | J25: QÑ naøy chæ duøng ñeå tham khaûo | K25: 0.2 | L25: =W38/1000000000 -> 34.12006 | M25: 10 | N25: 50
B26: + Chi phí thaåm tra pheâ duyeät quyeát toaùn | C26: =F26 -> 37190865 | F26: =ROUNDDOWN($W$38*K26%*50%,0) -> 37190865 | G26: GK3 | H26: =K26&"%"&" x "&"TMDT x 50%" -> 0,218% x TMDT x 50% | I26: TT 19/2011/TT-BTC | K26: =L26 -> 0.218 | L26: =ROUND(M26-(M26-N26)*(L25-M25)/(N25-M25),3) -> 0.218 | M26: 0.26 | N26: 0.19 | O26: =W38/1000000000 -> 34.12006 | P26: 25 | Q26: 50
B27: + Phí thaåm ñònh döï aùn ñaàu tö xaây döïng | C27: =F27 -> 5561569 | F27: =ROUNDDOWN(K27/100*W38,0) -> 5561569 | G27: GK4 | H27: Theo quyeát ñònh pheâ duyeät döï aùn 14796/QÑ-UBND Ngaøy 06/11/2014 | J27: Chi phí naøy coù trong quyeát ñònh pheâ duyeät döï aùn | K27: =O27 -> 0.0163 | L27: =$C$9/1000000000 -> 20.056146 | M27: 15 | N27: 25 | O27: =ROUND(P27-(P27-Q27)*(O26-P26)/(Q26-P26),4) -> 0.0163 | P27: 0.017 | Q27: 0.015
B28: + Phí thaåm ñònh thieát keá kyõ thuaät | G28: GK4 | H28: =K28&"%"&" x "&"Gxdtt" -> 0,0363% x Gxdtt | I28: TT 109/2000/TT-BTC | J28: Chi phí naøy ñaõ coù trong chi phí quaûn lyù döï aùn. (Caét boû) | K28: =L28 -> 0.0363 | L28: =ROUND(M28-(M28-N28)*(L27-M27)/(N27-M27),4) -> 0.0363 | M28: 0.0427 | N28: 0.0301 | O28: =$C$9/1000000000 -> 20.056146 | P28: 15 | Q28: 25
B29: + Phí thaåm ñònh toång döï toaùn | G29: GK4 | H29: =K29&"%"&" x "&"Gxdtt" -> 0,0419% x Gxdtt | I29: TT 109/2000/TT-BTC | K29: =O29 -> 0.0419 | O29: =ROUND(P29-(P29-Q29)*(O28-P28)/(Q28-P28),4) -> 0.0419 | P29: 0.05 | Q29: 0.034
B30: + Chi phí giaùm saùt ñaàu tö | C30: =F30 -> 112743600 | F30: =ROUNDDOWN(F11*0.2,0) -> 112743600 | G30: GK5 | H30: 20% GQLDA | I30: TT 22/2010/TT-BKH | K30: 20
B31: + Leä phí thaåm ñònh keát quaû goùi thaàu thi coâng xaây döïng | C31: =F31 -> 13394578 | F31: =IF(ROUND(F8*K31%,0)>1000000,ROUND(F8*K31%,0),1000000) -> 13394578 | G31: GK6 | H31: 0,05% x GXDST (Min =1.000.000) | I31: NÑ63/2014/NÑ-CP | K31: 0.05
B32: + Leä phí thaåm ñònh keát quaû goùi thaàu cung caáp vaø laép ñaët thiết bị | C32: =F32 -> 22282378 | F32: =IF(ROUND(F10*K32%,0)>1000000,ROUND(F9*K32%,0),1000000)*2 -> 22282378 | G32: GK7 | H32: 0,05% x GTBST (Min =1.000.000) | I32: NÑ63/2014/NÑ-CP | K32: 0.05
B33: + Leä phí thaåm tra thieát keá baûn veõ thi coâng | C33: =F33 -> 9225827 | F33: =ROUNDDOWN(C9*0.046%,0) -> 9225827 | G33: GK8 | H33: 0,046%xGxdst | I33: TT75/2014/TT-BTC | J33: Yeâu caàu boå sung chi phí
B34: + Leä phí thaåm tra döï toaùn | C34: =F34 -> 9025265 | F34: =ROUNDDOWN(C9*0.045%,0) -> 9025265 | G34: GK9 | H34: 0,045%xGxdst | I34: TT75/2014/TT-BTC | J34: Yeâu caàu boå sung chi phí
A35: 5 | B35: Chi phí döï phoøng | F35: =ROUND(F36+F37,0) -> 4827449022 | G35: GDP | H35: GDP1 + GDP2 | W35: 4828453334
B36: + Chi phí döï phoøng do yeáu toá khoái löôïng phaùt sinh | F36: =ROUNDDOWN((F9+F10+F11+F12+F23)*5%,0) -> 1463576022 | G36: GDP1 | H36: GDP1=(GXD+GTB+GQLDA+ GTV+GK)x5% | I36: TT04/2010/TT-BXD | J36: Yeâu caàu laäp coâng thöùc tính phuø hôïp
B37: + Chi phí döï phoøng do yeáu toá tröôït giaù | F37: ='[7]DP2-TG'!$E$20 -> 3363873000 | G37: GDP2 | H37: GDP1=(GXD+GTB+GQLDA+ GTV+GK)x11,5% | I37: Baûng tính rieâng | J37: Yeâu caàu laäp baûng tröôït giaù trong 3 naêm gaàn nhaát (tham khaûo caùc quyeát ñònh keøm theo beân döôùi) | L37: 30000000000 | W37: =F8+F11+F12+F23 -> 29271520453
B38: TỔNG MỨC ĐẦU TƯ | F38: =$F$23+$F$12+$F$11+$F$8+F35 -> 34098969475 | G38: TMDT | H38: GXD+GQLDA+GTV+GK+GDP | L38: =L37*1.15 -> 34500000000 | M38: =W38-L38 -> -379939983 | W38: 34120060017
K39: Suaát ñaàu tö nhaø giöõ treû | L39: 54730000 | M39: Töø 3-5 nhoùm treû
K40: Suaát ñaàu tö tröôøng maãu giaùo | L40: 43720000 | M40: Töø 11-13 lôùp hoïc
K41: Soá löôïng treû (12p * 35 treû) | L41: =12*35 -> 420
...

Sheet TLg Laitau
B1: tiÒn l­¬ng ngµy c«ng thî ®iÒu khiÓn tµu biÓn vµ tµu s«ng
B2: ='TLg CN&Laixe'!B3 -> (Theo N§110/2008/N§-CP ngµy 10/10/2008 cña ChÝnh phñ)
B4: L­¬ng tèi thiÓu : | E4: ='TLg CN&Laixe'!E5 -> #REF! | F4: ®ång
B6: BËc | C6: HS l­¬ng | D6: L­¬ng CB (=HS l­¬ng xLTT) | E6: Phô cÊp l­u ®éng 20% xLTT | F6: PC# 26%LCB (10% kh«ng æn ®Þnh sx, 12% l­¬ng phô, 4%kho¸n) | G6: Céng | H6: TiÒn l­¬ng ngµy c«ng (chia 26 ngµy)
E7: =SUMIF(#REF!,"LTT",#REF!) -> #REF! | F7: =SUMIF(#REF!,"LCB",#REF!) -> #REF! | H7: ='TLg CN&Laixe'!H8 -> 26
A9: LT1 | B9: tµu vËn t¶i s«ng theo nhãm tµu - b.2 (trang 99)
B10: Nhãm I : Ph­¬ng tiÖn kh«ng cã ®éng c¬ cã träng t¶i toµn phÇn tõ 5 tÊn ®Õn 15 tÊn; ph­¬ng tiÖn cã träng t¶i
B11: ®éng c¬ cã c«ng suÊt m¸y chÝnh tõ 5 m· lùc ®Õn 15 m· lùc hoÆc søc chë tõ 5 ng­êi ®Õn 12 ng­êi.
B12: Nhãm 2 : Tµu kh¸ch cã søc chë tõ trªn 12 ng­êi ®Õn 50 ng­êi; phµ cã träng t¶i toµn phÇn ®Õn 50 tÊn; ®oµn lai
B13: cã träng t¶i toµn phÇn ®Õn 400 tÊn; ph­¬ng tiÖn cã tæng c«ng suÊt m¸y chÝnh tõ trªn 15 m· lùc ®Õn 150 m· lùc.
B14: Nhãm 3 : Tµu kh¸ch cã søc chë tõ trªn 50 ng­êi ®Õn 100 ng­êi; phµ cã träng t¶i toµn phÇn trªn 50 tÊn ®Õn
B15: 150 tÊn; ph­¬ng tiÖn chë hµng cã träng t¶i toµn phÇn trªn 150 tÊn ®Õn 500 tÊn; ®oµn lai cã träng t¶i toµn phÇn
B16: trªn 400 tÊn ®Õn 1000 tÊn, ph­¬ng tiÖn cã tæng c«ng suÊt m¸y chÝnh tõ trªn 150 m· lùc ®Õn 400 m· lùc.
B17: Nhãm 4 : Tµu kh¸ch cã søc chë trªn 100 ng­êi; phµ cã träng t¶i toµn phÇn trªn 150 tÊn, ph­¬ng tiÖn chë hµng
B18: cã träng t¶i toµn phÇn trªn 500 tÊn; ®oµn lai cã träng t¶i toµn phÇn trªn 1000 tÊn, ph­¬ng tiÖn cã tæng c«ng
B19: suÊt m¸y chÝnh trªn 400 m· lùc.
A21: LT1100 | B21: 1. ThuyÒn tr­ëng
A22: LT1110 | B22: - Nhãm I
A23: LT1111 | B23: 1 | C23: 2.81 | D23: =$E$4*C23 -> #REF! | E23: =$E$7*$E$4 -> #REF! | F23: =ROUND($F$7*D23,0) -> #REF! | G23: =D23+E23+F23 -> #REF! | H23: =ROUND(G23/$H$7,0) -> #REF!
A24: LT1112 | B24: 2 | C24: 2.99 | D24: =$E$4*C24 -> #REF! | E24: =$E$7*$E$4 -> #REF! | F24: =ROUND($F$7*D24,0) -> #REF! | G24: =D24+E24+F24 -> #REF! | H24: =ROUND(G24/$H$7,0) -> #REF!
A25: LT1120 | B25: - Nhãm II
A26: LT1121 | B26: 1 | C26: 3.73 | D26: =$E$4*C26 -> #REF! | E26: =$E$7*$E$4 -> #REF! | F26: =ROUND($F$7*D26,0) -> #REF! | G26: =D26+E26+F26 -> #REF! | H26: =ROUND(G26/$H$7,0) -> #REF!
A27: LT1122 | B27: 2 | C27: 3.91 | D27: =$E$4*C27 -> #REF! | E27: =$E$7*$E$4 -> #REF! | F27: =ROUND($F$7*D27,0) -> #REF! | G27: =D27+E27+F27 -> #REF! | H27: =ROUND(G27/$H$7,0) -> #REF!
A28: LT1130 | B28: - Nhãm III
A29: LT1131 | B29: 1 | C29: 4.14 | D29: =$E$4*C29 -> #REF! | E29: =$E$7*$E$4 -> #REF! | F29: =ROUND($F$7*D29,0) -> #REF! | G29: =D29+E29+F29 -> #REF! | H29: =ROUND(G29/$H$7,0) -> #REF!
A30: LT1132 | B30: 2 | C30: 4.36 | D30: =$E$4*C30 -> #REF! | E30: =$E$7*$E$4 -> #REF! | F30: =ROUND($F$7*D30,0) -> #REF! | G30: =D30+E30+F30 -> #REF! | H30: =ROUND(G30/$H$7,0) -> #REF!
A31: LT1140 | B31: - Nhãm IV
A32: LT1141 | B32: 1 | C32: 4.68 | D32: =$E$4*C32 -> #REF! | E32: =$E$7*$E$4 -> #REF! | F32: =ROUND($F$7*D32,0) -> #REF! | G32: =D32+E32+F32 -> #REF! | H32: =ROUND(G32/$H$7,0) -> #REF!
A33: LT1142 | B33: 2 | C33: 4.92 | D33: =$E$4*C33 -> #REF! | E33: =$E$7*$E$4 -> #REF! | F33: =ROUND($F$7*D33,0) -> #REF! | G33: =D33+E33+F33 -> #REF! | H33: =ROUND(G33/$H$7,0) -> #REF!
A35: LT1200 | B35: 2. §¹i phã, m¸y tr­ëng
A36: LT1210 | B36: - Nhãm I
A37: LT1211 | B37: 1 | C37: 2.51 | D37: =$E$4*C37 -> #REF! | E37: =$E$7*$E$4 -> #REF! | F37: =ROUND($F$7*D37,0) -> #REF! | G37: =D37+E37+F37 -> #REF! | H37: =ROUND(G37/$H$7,0) -> #REF!
A38: LT1212 | B38: 2 | C38: 2.66 | D38: =$E$4*C38 -> #REF! | E38: =$E$7*$E$4 -> #REF! | F38: =ROUND($F$7*D38,0) -> #REF! | G38: =D38+E38+F38 -> #REF! | H38: =ROUND(G38/$H$7,0) -> #REF!
A39: LT1220 | B39: - Nhãm II
A40: LT1221 | B40: 1 | C40: 3.17 | D40: =$E$4*C40 -> #REF! | E40: =$E$7*$E$4 -> #REF! | F40: =ROUND($F$7*D40,0) -> #REF! | G40: =D40+E40+F40 -> #REF! | H40: =ROUND(G40/$H$7,0) -> #REF!
A41: LT1222 | B41: 2 | C41: 3.3 | D41: =$E$4*C41 -> #REF! | E41: =$E$7*$E$4 -> #REF! | F41: =ROUND($F$7*D41,0) -> #REF! | G41: =D41+E41+F41 -> #REF! | H41: =ROUND(G41/$H$7,0) -> #REF!
A42: LT1230 | B42: - Nhãm III
A43: LT1231 | B43: 1 | C43: 3.55 | D43: =$E$4*C43 -> #REF! | E43: =$E$7*$E$4 -> #REF! | F43: =ROUND($F$7*D43,0) -> #REF! | G43: =D43+E43+F43 -> #REF! | H43: =ROUND(G43/$H$7,0) -> #REF!
A44: LT1232 | B44: 2 | C44: 3.76 | D44: =$E$4*C44 -> #REF! | E44: =$E$7*$E$4 -> #REF! | F44: =ROUND($F$7*D44,0) -> #REF! | G44: =D44+E44+F44 -> #REF! | H44: =ROUND(G44/$H$7,0) -> #REF!
A45: LT1240 | B45: - Nhãm IV
...

Sheet TLg CN&Laixe
B2: tiÒn l­¬ng ngµy c«ng thî ®iÒu khiÓn m¸y XD vµ c«ng nh©n l¸i xe
B3: (Theo N§110/2008/N§-CP ngµy 10/10/2008 cña ChÝnh phñ)
B5: L­¬ng tèi thiÓu : | E5: =#REF! -> #REF! | F5: ®ång
B7: BËc | C7: HS l­¬ng | D7: L­¬ng CB (=HS l­¬ng xLTT) | E7: C¸c kho¶n phô cÊp tÝnh theo LTT | F7: C¸c kho¶n phô cÊp tÝnh theo l­¬ng c¬ b¶n | G7: Céng | H7: TiÒn l­¬ng ngµy c«ng (chia 26 ngµy)
E8: =SUMIF(#REF!,"LTT",#REF!) -> #REF! | F8: =SUMIF(#REF!,"LCB",#REF!) -> #REF! | H8: 26
A10: LM1000 | B10: X©y dùng c¬ b¶n - Nhãm II - A.1 (trang 64)
A12: LM1100 | B12: - VËn hµnh c¸c lo¹i m¸y x©y dùng
A13: LM1101 | B13: 1 | C13: 1.67 | D13: =$E$5*C13 -> #REF! | E13: =$E$8*$E$5 -> #REF! | F13: =ROUND($F$8*D13,0) -> #REF! | G13: =D13+E13+F13 -> #REF! | H13: =ROUND(G13/$H$8,0) -> #REF!
A14: LM1102 | B14: 2 | C14: 1.96 | D14: =$E$5*C14 -> #REF! | E14: =$E$8*$E$5 -> #REF! | F14: =ROUND($F$8*D14,0) -> #REF! | G14: =D14+E14+F14 -> #REF! | H14: =ROUND(G14/$H$8,0) -> #REF!
A15: LM1103 | B15: 3 | C15: 2.31 | D15: =$E$5*C15 -> #REF! | E15: =$E$8*$E$5 -> #REF! | F15: =ROUND($F$8*D15,0) -> #REF! | G15: =D15+E15+F15 -> #REF! | H15: =ROUND(G15/$H$8,0) -> #REF!
A16: LM1104 | B16: 4 | C16: 2.71 | D16: =$E$5*C16 -> #REF! | E16: =$E$8*$E$5 -> #REF! | F16: =ROUND($F$8*D16,0) -> #REF! | G16: =D16+E16+F16 -> #REF! | H16: =ROUND(G16/$H$8,0) -> #REF!
A17: LM1105 | B17: 5 | C17: 3.19 | D17: =$E$5*C17 -> #REF! | E17: =$E$8*$E$5 -> #REF! | F17: =ROUND($F$8*D17,0) -> #REF! | G17: =D17+E17+F17 -> #REF! | H17: =ROUND(G17/$H$8,0) -> #REF!
A18: LM1106 | B18: 6 | C18: 3.74 | D18: =$E$5*C18 -> #REF! | E18: =$E$8*$E$5 -> #REF! | F18: =ROUND($F$8*D18,0) -> #REF! | G18: =D18+E18+F18 -> #REF! | H18: =ROUND(G18/$H$8,0) -> #REF!
A19: LM1107 | B19: 7 | C19: 4.4 | D19: =$E$5*C19 -> #REF! | E19: =$E$8*$E$5 -> #REF! | F19: =ROUND($F$8*D19,0) -> #REF! | G19: =D19+E19+F19 -> #REF! | H19: =ROUND(G19/$H$8,0) -> #REF!
A21: LX1000 | B21: C«ng nh©n l¸i xe - B.12 (trang115)
A23: LX1100 | B23: 1. Xe con, taxi, xe t¶i, xe cÈu d­íi 3,5 TÊn, xe kh¸ch d­íi 20 ghÕ
A24: LX1101 | B24: 1 | C24: 2.18 | D24: =$E$5*C24 -> #REF! | E24: =$E$8*$E$5 -> #REF! | F24: =ROUND($F$8*D24,0) -> #REF! | G24: =D24+E24+F24 -> #REF! | H24: =ROUND(G24/$H$8,0) -> #REF!
A25: LX1102 | B25: 2 | C25: 2.57 | D25: =$E$5*C25 -> #REF! | E25: =$E$8*$E$5 -> #REF! | F25: =ROUND($F$8*D25,0) -> #REF! | G25: =D25+E25+F25 -> #REF! | H25: =ROUND(G25/$H$8,0) -> #REF!
A26: LX1103 | B26: 3 | C26: 3.05 | D26: =$E$5*C26 -> #REF! | E26: =$E$8*$E$5 -> #REF! | F26: =ROUND($F$8*D26,0) -> #REF! | G26: =D26+E26+F26 -> #REF! | H26: =ROUND(G26/$H$8,0) -> #REF!
A27: LX1104 | B27: 4 | C27: 3.6 | D27: =$E$5*C27 -> #REF! | E27: =$E$8*$E$5 -> #REF! | F27: =ROUND($F$8*D27,0) -> #REF! | G27: =D27+E27+F27 -> #REF! | H27: =ROUND(G27/$H$8,0) -> #REF!
A29: LX1200 | B29: 2. Xe t¶i, xe cÈu tõ 3,5 TÊn ®Õn d­íi 7,5 TÊn, xe kh¸ch tõ 20 ghÕ ®Õn d­íi 40 ghÕ
A30: LX1201 | B30: 1 | C30: 2.35 | D30: =$E$5*C30 -> #REF! | E30: =$E$8*$E$5 -> #REF! | F30: =ROUND($F$8*D30,0) -> #REF! | G30: =D30+E30+F30 -> #REF! | H30: =ROUND(G30/$H$8,0) -> #REF!
A31: LX1202 | B31: 2 | C31: 2.76 | D31: =$E$5*C31 -> #REF! | E31: =$E$8*$E$5 -> #REF! | F31: =ROUND($F$8*D31,0) -> #REF! | G31: =D31+E31+F31 -> #REF! | H31: =ROUND(G31/$H$8,0) -> #REF!
A32: LX1203 | B32: 3 | C32: 3.25 | D32: =$E$5*C32 -> #REF! | E32: =$E$8*$E$5 -> #REF! | F32: =ROUND($F$8*D32,0) -> #REF! | G32: =D32+E32+F32 -> #REF! | H32: =ROUND(G32/$H$8,0) -> #REF!
A33: LX1204 | B33: 4 | C33: 3.82 | D33: =$E$5*C33 -> #REF! | E33: =$E$8*$E$5 -> #REF! | F33: =ROUND($F$8*D33,0) -> #REF! | G33: =D33+E33+F33 -> #REF! | H33: =ROUND(G33/$H$8,0) -> #REF!
A35: LX1300 | B35: 3. Xe t¶i, xe cÈu tõ 7,5 TÊn ®Õn d­íi 16,5 TÊn, xe kh¸ch tõ 40 ghÕ ®Õn d­íi 60 ghÕ
A36: LX1301 | B36: 1 | C36: 2.51 | D36: =$E$5*C36 -> #REF! | E36: =$E$8*$E$5 -> #REF! | F36: =ROUND($F$8*D36,0) -> #REF! | G36: =D36+E36+F36 -> #REF! | H36: =ROUND(G36/$H$8,0) -> #REF!
A37: LX1302 | B37: 2 | C37: 2.94 | D37: =$E$5*C37 -> #REF! | E37: =$E$8*$E$5 -> #REF! | F37: =ROUND($F$8*D37,0) -> #REF! | G37: =D37+E37+F37 -> #REF! | H37: =ROUND(G37/$H$8,0) -> #REF!
A38: LX1303 | B38: 3 | C38: 3.44 | D38: =$E$5*C38 -> #REF! | E38: =$E$8*$E$5 -> #REF! | F38: =ROUND($F$8*D38,0) -> #REF! | G38: =D38+E38+F38 -> #REF! | H38: =ROUND(G38/$H$8,0) -> #REF!
A39: LX1304 | B39: 4 | C39: 4.05 | D39: =$E$5*C39 -> #REF! | E39: =$E$8*$E$5 -> #REF! | F39: =ROUND($F$8*D39,0) -> #REF! | G39: =D39+E39+F39 -> #REF! | H39: =ROUND(G39/$H$8,0) -> #REF!
A41: LX1400 | B41: 4. Xe t¶i, xe cÈu tõ 16,5 TÊn ®Õn d­íi 25 TÊn, xe kh¸ch tõ 60 ghÕ ®Õn d­íi 80 ghÕ
A42: LX1401 | B42: 1 | C42: 2.66 | D42: =$E$5*C42 -> #REF! | E42: =$E$8*$E$5 -> #REF! | F42: =ROUND($F$8*D42,0) -> #REF! | G42: =D42+E42+F42 -> #REF! | H42: =ROUND(G42/$H$8,0) -> #REF!
A43: LX1402 | B43: 2 | C43: 3.11 | D43: =$E$5*C43 -> #REF! | E43: =$E$8*$E$5 -> #REF! | F43: =ROUND($F$8*D43,0) -> #REF! | G43: =D43+E43+F43 -> #REF! | H43: =ROUND(G43/$H$8,0) -> #REF!
A44: LX1403 | B44: 3 | C44: 3.64 | D44: =$E$5*C44 -> #REF! | E44: =$E$8*$E$5 -> #REF! | F44: =ROUND($F$8*D44,0) -> #REF! | G44: =D44+E44+F44 -> #REF! | H44: =ROUND(G44/$H$8,0) -> #REF!
A45: LX1404 | B45: 4 | C45: 4.2 | D45: =$E$5*C45 -> #REF! | E45: =$E$8*$E$5 -> #REF! | F45: =ROUND($F$8*D45,0) -> #REF! | G45: =D45+E45+F45 -> #REF! | H45: =ROUND(G45/$H$8,0) -> #REF!
A47: LX1500 | B47: 5. Xe t¶i, xe cÈu tõ 25 TÊn ®Õn d­íi 40 TÊn, xe kh¸ch tõ 80 ghÕ trë lªn
A48: LX1501 | B48: 1 | C48: 2.99 | D48: =$E$5*C48 -> #REF! | E48: =$E$8*$E$5 -> #REF! | F48: =ROUND($F$8*D48,0) -> #REF! | G48: =D48+E48+F48 -> #REF! | H48: =ROUND(G48/$H$8,0) -> #REF!
A49: LX1502 | B49: 2 | C49: 3.5 | D49: =$E$5*C49 -> #REF! | E49: =$E$8*$E$5 -> #REF! | F49: =ROUND($F$8*D49,0) -> #REF! | G49: =D49+E49+F49 -> #REF! | H49: =ROUND(G49/$H$8,0) -> #REF!
A50: LX1503 | B50: 3 | C50: 4.11 | D50: =$E$5*C50 -> #REF! | E50: =$E$8*$E$5 -> #REF! | F50: =ROUND($F$8*D50,0) -> #REF! | G50: =D50+E50+F50 -> #REF! | H50: =ROUND(G50/$H$8,0) -> #REF!
A51: LX1504 | B51: 4 | C51: 4.82 | D51: =$E$5*C51 -> #REF! | E51: =$E$8*$E$5 -> #REF! | F51: =ROUND($F$8*D51,0) -> #REF! | G51: =D51+E51+F51 -> #REF! | H51: =ROUND(G51/$H$8,0) -> #REF!
...

Sheet TLg Laitau (2)
B1: tiÒn l­¬ng ngµy c«ng thî ®iÒu khiÓn tµu biÓn vµ tµu s«ng
B2: ='TLg CN&Laixe (2)'!B3 -> (Theo N§110/2008/N§-CP ngµy 10/10/2008 cña ChÝnh phñ)
B4: L­¬ng tèi thiÓu : | E4: =#REF! -> #REF! | F4: ®ång
B6: BËc | C6: HS l­¬ng | D6: L­¬ng CB (=HS l­¬ng xLTT) | E6: Phô cÊp l­u ®éng 20% xLTT | F6: PC# 26%LCB (10% kh«ng æn ®Þnh sx, 12% l­¬ng phô, 4%kho¸n) | G6: Céng | H6: TiÒn l­¬ng ngµy c«ng (chia 26 ngµy)
E7: =SUMIF(#REF!,"LTT",#REF!) -> #REF! | F7: =SUMIF(#REF!,"LCB",#REF!) -> #REF! | H7: ='TLg CN&Laixe (2)'!H8 -> 26
A9: LT1 | B9: tµu vËn t¶i s«ng theo nhãm tµu - b.2 (trang 99)
B10: Nhãm I : Ph­¬ng tiÖn kh«ng cã ®éng c¬ cã träng t¶i toµn phÇn tõ 5 tÊn ®Õn 15 tÊn; ph­¬ng tiÖn cã träng t¶i
B11: ®éng c¬ cã c«ng suÊt m¸y chÝnh tõ 5 m· lùc ®Õn 15 m· lùc hoÆc søc chë tõ 5 ng­êi ®Õn 12 ng­êi.
B12: Nhãm 2 : Tµu kh¸ch cã søc chë tõ trªn 12 ng­êi ®Õn 50 ng­êi; phµ cã träng t¶i toµn phÇn ®Õn 50 tÊn; ®oµn lai
B13: cã träng t¶i toµn phÇn ®Õn 400 tÊn; ph­¬ng tiÖn cã tæng c«ng suÊt m¸y chÝnh tõ trªn 15 m· lùc ®Õn 150 m· lùc.
B14: Nhãm 3 : Tµu kh¸ch cã søc chë tõ trªn 50 ng­êi ®Õn 100 ng­êi; phµ cã träng t¶i toµn phÇn trªn 50 tÊn ®Õn
B15: 150 tÊn; ph­¬ng tiÖn chë hµng cã träng t¶i toµn phÇn trªn 150 tÊn ®Õn 500 tÊn; ®oµn lai cã träng t¶i toµn phÇn
B16: trªn 400 tÊn ®Õn 1000 tÊn, ph­¬ng tiÖn cã tæng c«ng suÊt m¸y chÝnh tõ trªn 150 m· lùc ®Õn 400 m· lùc.
B17: Nhãm 4 : Tµu kh¸ch cã søc chë trªn 100 ng­êi; phµ cã träng t¶i toµn phÇn trªn 150 tÊn, ph­¬ng tiÖn chë hµng
B18: cã träng t¶i toµn phÇn trªn 500 tÊn; ®oµn lai cã träng t¶i toµn phÇn trªn 1000 tÊn, ph­¬ng tiÖn cã tæng c«ng
B19: suÊt m¸y chÝnh trªn 400 m· lùc.
A21: LT1100 | B21: 1. ThuyÒn tr­ëng
A22: LT1110 | B22: - Nhãm I
A23: LT1111 | B23: 1 | C23: 2.81 | D23: =$E$4*C23 -> #REF! | E23: =$E$7*$E$4 -> #REF! | F23: =ROUND($F$7*D23,0) -> #REF! | G23: =D23+E23+F23 -> #REF! | H23: =ROUND(G23/$H$7,0) -> #REF!
A24: LT1112 | B24: 2 | C24: 2.99 | D24: =$E$4*C24 -> #REF! | E24: =$E$7*$E$4 -> #REF! | F24: =ROUND($F$7*D24,0) -> #REF! | G24: =D24+E24+F24 -> #REF! | H24: =ROUND(G24/$H$7,0) -> #REF!
A25: LT1120 | B25: - Nhãm II
A26: LT1121 | B26: 1 | C26: 3.73 | D26: =$E$4*C26 -> #REF! | E26: =$E$7*$E$4 -> #REF! | F26: =ROUND($F$7*D26,0) -> #REF! | G26: =D26+E26+F26 -> #REF! | H26: =ROUND(G26/$H$7,0) -> #REF!
A27: LT1122 | B27: 2 | C27: 3.91 | D27: =$E$4*C27 -> #REF! | E27: =$E$7*$E$4 -> #REF! | F27: =ROUND($F$7*D27,0) -> #REF! | G27: =D27+E27+F27 -> #REF! | H27: =ROUND(G27/$H$7,0) -> #REF!
A28: LT1130 | B28: - Nhãm III
A29: LT1131 | B29: 1 | C29: 4.14 | D29: =$E$4*C29 -> #REF! | E29: =$E$7*$E$4 -> #REF! | F29: =ROUND($F$7*D29,0) -> #REF! | G29: =D29+E29+F29 -> #REF! | H29: =ROUND(G29/$H$7,0) -> #REF!
A30: LT1132 | B30: 2 | C30: 4.36 | D30: =$E$4*C30 -> #REF! | E30: =$E$7*$E$4 -> #REF! | F30: =ROUND($F$7*D30,0) -> #REF! | G30: =D30+E30+F30 -> #REF! | H30: =ROUND(G30/$H$7,0) -> #REF!
A31: LT1140 | B31: - Nhãm IV
A32: LT1141 | B32: 1 | C32: 4.68 | D32: =$E$4*C32 -> #REF! | E32: =$E$7*$E$4 -> #REF! | F32: =ROUND($F$7*D32,0) -> #REF! | G32: =D32+E32+F32 -> #REF! | H32: =ROUND(G32/$H$7,0) -> #REF!
A33: LT1142 | B33: 2 | C33: 4.92 | D33: =$E$4*C33 -> #REF! | E33: =$E$7*$E$4 -> #REF! | F33: =ROUND($F$7*D33,0) -> #REF! | G33: =D33+E33+F33 -> #REF! | H33: =ROUND(G33/$H$7,0) -> #REF!
A35: LT1200 | B35: 2. §¹i phã, m¸y tr­ëng
A36: LT1210 | B36: - Nhãm I
A37: LT1211 | B37: 1 | C37: 2.51 | D37: =$E$4*C37 -> #REF! | E37: =$E$7*$E$4 -> #REF! | F37: =ROUND($F$7*D37,0) -> #REF! | G37: =D37+E37+F37 -> #REF! | H37: =ROUND(G37/$H$7,0) -> #REF!
A38: LT1212 | B38: 2 | C38: 2.66 | D38: =$E$4*C38 -> #REF! | E38: =$E$7*$E$4 -> #REF! | F38: =ROUND($F$7*D38,0) -> #REF! | G38: =D38+E38+F38 -> #REF! | H38: =ROUND(G38/$H$7,0) -> #REF!
A39: LT1220 | B39: - Nhãm II
A40: LT1221 | B40: 1 | C40: 3.17 | D40: =$E$4*C40 -> #REF! | E40: =$E$7*$E$4 -> #REF! | F40: =ROUND($F$7*D40,0) -> #REF! | G40: =D40+E40+F40 -> #REF! | H40: =ROUND(G40/$H$7,0) -> #REF!
A41: LT1222 | B41: 2 | C41: 3.3 | D41: =$E$4*C41 -> #REF! | E41: =$E$7*$E$4 -> #REF! | F41: =ROUND($F$7*D41,0) -> #REF! | G41: =D41+E41+F41 -> #REF! | H41: =ROUND(G41/$H$7,0) -> #REF!
A42: LT1230 | B42: - Nhãm III
A43: LT1231 | B43: 1 | C43: 3.55 | D43: =$E$4*C43 -> #REF! | E43: =$E$7*$E$4 -> #REF! | F43: =ROUND($F$7*D43,0) -> #REF! | G43: =D43+E43+F43 -> #REF! | H43: =ROUND(G43/$H$7,0) -> #REF!
A44: LT1232 | B44: 2 | C44: 3.76 | D44: =$E$4*C44 -> #REF! | E44: =$E$7*$E$4 -> #REF! | F44: =ROUND($F$7*D44,0) -> #REF! | G44: =D44+E44+F44 -> #REF! | H44: =ROUND(G44/$H$7,0) -> #REF!
A45: LT1240 | B45: - Nhãm IV
...

Sheet TLg CN&Laixe (2)
B2: tiÒn l­¬ng ngµy c«ng thî ®iÒu khiÓn m¸y XD vµ c«ng nh©n l¸i xe
B3: (Theo N§110/2008/N§-CP ngµy 10/10/2008 cña ChÝnh phñ)
B5: L­¬ng tèi thiÓu : | E5: =#REF! -> #REF! | F5: ®ång
B7: BËc | C7: HS l­¬ng | D7: L­¬ng CB (=HS l­¬ng xLTT) | E7: C¸c kho¶n phô cÊp tÝnh theo LTT | F7: C¸c kho¶n phô cÊp tÝnh theo l­¬ng c¬ b¶n | G7: Céng | H7: TiÒn l­¬ng ngµy c«ng (chia 26 ngµy)
E8: =SUMIF(#REF!,"LTT",#REF!) -> #REF! | F8: =SUMIF(#REF!,"LCB",#REF!) -> #REF! | H8: 26
A10: LM1000 | B10: X©y dùng c¬ b¶n - Nhãm II - A.1 (trang 64)
A12: LM1100 | B12: - VËn hµnh c¸c lo¹i m¸y x©y dùng
A13: LM1101 | B13: 1 | C13: 1.67 | D13: =$E$5*C13 -> #REF! | E13: =$E$8*$E$5 -> #REF! | F13: =ROUND($F$8*D13,0) -> #REF! | G13: =D13+E13+F13 -> #REF! | H13: =ROUND(G13/$H$8,0) -> #REF!
A14: LM1102 | B14: 2 | C14: 1.96 | D14: =$E$5*C14 -> #REF! | E14: =$E$8*$E$5 -> #REF! | F14: =ROUND($F$8*D14,0) -> #REF! | G14: =D14+E14+F14 -> #REF! | H14: =ROUND(G14/$H$8,0) -> #REF!
A15: LM1103 | B15: 3 | C15: 2.31 | D15: =$E$5*C15 -> #REF! | E15: =$E$8*$E$5 -> #REF! | F15: =ROUND($F$8*D15,0) -> #REF! | G15: =D15+E15+F15 -> #REF! | H15: =ROUND(G15/$H$8,0) -> #REF!
A16: LM1104 | B16: 4 | C16: 2.71 | D16: =$E$5*C16 -> #REF! | E16: =$E$8*$E$5 -> #REF! | F16: =ROUND($F$8*D16,0) -> #REF! | G16: =D16+E16+F16 -> #REF! | H16: =ROUND(G16/$H$8,0) -> #REF!
A17: LM1105 | B17: 5 | C17: 3.19 | D17: =$E$5*C17 -> #REF! | E17: =$E$8*$E$5 -> #REF! | F17: =ROUND($F$8*D17,0) -> #REF! | G17: =D17+E17+F17 -> #REF! | H17: =ROUND(G17/$H$8,0) -> #REF!
A18: LM1106 | B18: 6 | C18: 3.74 | D18: =$E$5*C18 -> #REF! | E18: =$E$8*$E$5 -> #REF! | F18: =ROUND($F$8*D18,0) -> #REF! | G18: =D18+E18+F18 -> #REF! | H18: =ROUND(G18/$H$8,0) -> #REF!
A19: LM1107 | B19: 7 | C19: 4.4 | D19: =$E$5*C19 -> #REF! | E19: =$E$8*$E$5 -> #REF! | F19: =ROUND($F$8*D19,0) -> #REF! | G19: =D19+E19+F19 -> #REF! | H19: =ROUND(G19/$H$8,0) -> #REF!
A21: LX1000 | B21: C«ng nh©n l¸i xe - B.12 (trang115)
A23: LX1100 | B23: 1. Xe con, taxi, xe t¶i, xe cÈu d­íi 3,5 TÊn, xe kh¸ch d­íi 20 ghÕ
A24: LX1101 | B24: 1 | C24: 2.18 | D24: =$E$5*C24 -> #REF! | E24: =$E$8*$E$5 -> #REF! | F24: =ROUND($F$8*D24,0) -> #REF! | G24: =D24+E24+F24 -> #REF! | H24: =ROUND(G24/$H$8,0) -> #REF!
A25: LX1102 | B25: 2 | C25: 2.57 | D25: =$E$5*C25 -> #REF! | E25: =$E$8*$E$5 -> #REF! | F25: =ROUND($F$8*D25,0) -> #REF! | G25: =D25+E25+F25 -> #REF! | H25: =ROUND(G25/$H$8,0) -> #REF!
A26: LX1103 | B26: 3 | C26: 3.05 | D26: =$E$5*C26 -> #REF! | E26: =$E$8*$E$5 -> #REF! | F26: =ROUND($F$8*D26,0) -> #REF! | G26: =D26+E26+F26 -> #REF! | H26: =ROUND(G26/$H$8,0) -> #REF!
A27: LX1104 | B27: 4 | C27: 3.6 | D27: =$E$5*C27 -> #REF! | E27: =$E$8*$E$5 -> #REF! | F27: =ROUND($F$8*D27,0) -> #REF! | G27: =D27+E27+F27 -> #REF! | H27: =ROUND(G27/$H$8,0) -> #REF!
A29: LX1200 | B29: 2. Xe t¶i, xe cÈu tõ 3,5 TÊn ®Õn d­íi 7,5 TÊn, xe kh¸ch tõ 20 ghÕ ®Õn d­íi 40 ghÕ
A30: LX1201 | B30: 1 | C30: 2.35 | D30: =$E$5*C30 -> #REF! | E30: =$E$8*$E$5 -> #REF! | F30: =ROUND($F$8*D30,0) -> #REF! | G30: =D30+E30+F30 -> #REF! | H30: =ROUND(G30/$H$8,0) -> #REF!
A31: LX1202 | B31: 2 | C31: 2.76 | D31: =$E$5*C31 -> #REF! | E31: =$E$8*$E$5 -> #REF! | F31: =ROUND($F$8*D31,0) -> #REF! | G31: =D31+E31+F31 -> #REF! | H31: =ROUND(G31/$H$8,0) -> #REF!
A32: LX1203 | B32: 3 | C32: 3.25 | D32: =$E$5*C32 -> #REF! | E32: =$E$8*$E$5 -> #REF! | F32: =ROUND($F$8*D32,0) -> #REF! | G32: =D32+E32+F32 -> #REF! | H32: =ROUND(G32/$H$8,0) -> #REF!
A33: LX1204 | B33: 4 | C33: 3.82 | D33: =$E$5*C33 -> #REF! | E33: =$E$8*$E$5 -> #REF! | F33: =ROUND($F$8*D33,0) -> #REF! | G33: =D33+E33+F33 -> #REF! | H33: =ROUND(G33/$H$8,0) -> #REF!
A35: LX1300 | B35: 3. Xe t¶i, xe cÈu tõ 7,5 TÊn ®Õn d­íi 16,5 TÊn, xe kh¸ch tõ 40 ghÕ ®Õn d­íi 60 ghÕ
A36: LX1301 | B36: 1 | C36: 2.51 | D36: =$E$5*C36 -> #REF! | E36: =$E$8*$E$5 -> #REF! | F36: =ROUND($F$8*D36,0) -> #REF! | G36: =D36+E36+F36 -> #REF! | H36: =ROUND(G36/$H$8,0) -> #REF!
A37: LX1302 | B37: 2 | C37: 2.94 | D37: =$E$5*C37 -> #REF! | E37: =$E$8*$E$5 -> #REF! | F37: =ROUND($F$8*D37,0) -> #REF! | G37: =D37+E37+F37 -> #REF! | H37: =ROUND(G37/$H$8,0) -> #REF!
A38: LX1303 | B38: 3 | C38: 3.44 | D38: =$E$5*C38 -> #REF! | E38: =$E$8*$E$5 -> #REF! | F38: =ROUND($F$8*D38,0) -> #REF! | G38: =D38+E38+F38 -> #REF! | H38: =ROUND(G38/$H$8,0) -> #REF!
A39: LX1304 | B39: 4 | C39: 4.05 | D39: =$E$5*C39 -> #REF! | E39: =$E$8*$E$5 -> #REF! | F39: =ROUND($F$8*D39,0) -> #REF! | G39: =D39+E39+F39 -> #REF! | H39: =ROUND(G39/$H$8,0) -> #REF!
A41: LX1400 | B41: 4. Xe t¶i, xe cÈu tõ 16,5 TÊn ®Õn d­íi 25 TÊn, xe kh¸ch tõ 60 ghÕ ®Õn d­íi 80 ghÕ
A42: LX1401 | B42: 1 | C42: 2.66 | D42: =$E$5*C42 -> #REF! | E42: =$E$8*$E$5 -> #REF! | F42: =ROUND($F$8*D42,0) -> #REF! | G42: =D42+E42+F42 -> #REF! | H42: =ROUND(G42/$H$8,0) -> #REF!
A43: LX1402 | B43: 2 | C43: 3.11 | D43: =$E$5*C43 -> #REF! | E43: =$E$8*$E$5 -> #REF! | F43: =ROUND($F$8*D43,0) -> #REF! | G43: =D43+E43+F43 -> #REF! | H43: =ROUND(G43/$H$8,0) -> #REF!
A44: LX1403 | B44: 3 | C44: 3.64 | D44: =$E$5*C44 -> #REF! | E44: =$E$8*$E$5 -> #REF! | F44: =ROUND($F$8*D44,0) -> #REF! | G44: =D44+E44+F44 -> #REF! | H44: =ROUND(G44/$H$8,0) -> #REF!
A45: LX1404 | B45: 4 | C45: 4.2 | D45: =$E$5*C45 -> #REF! | E45: =$E$8*$E$5 -> #REF! | F45: =ROUND($F$8*D45,0) -> #REF! | G45: =D45+E45+F45 -> #REF! | H45: =ROUND(G45/$H$8,0) -> #REF!
A47: LX1500 | B47: 5. Xe t¶i, xe cÈu tõ 25 TÊn ®Õn d­íi 40 TÊn, xe kh¸ch tõ 80 ghÕ trë lªn
A48: LX1501 | B48: 1 | C48: 2.99 | D48: =$E$5*C48 -> #REF! | E48: =$E$8*$E$5 -> #REF! | F48: =ROUND($F$8*D48,0) -> #REF! | G48: =D48+E48+F48 -> #REF! | H48: =ROUND(G48/$H$8,0) -> #REF!
A49: LX1502 | B49: 2 | C49: 3.5 | D49: =$E$5*C49 -> #REF! | E49: =$E$8*$E$5 -> #REF! | F49: =ROUND($F$8*D49,0) -> #REF! | G49: =D49+E49+F49 -> #REF! | H49: =ROUND(G49/$H$8,0) -> #REF!
A50: LX1503 | B50: 3 | C50: 4.11 | D50: =$E$5*C50 -> #REF! | E50: =$E$8*$E$5 -> #REF! | F50: =ROUND($F$8*D50,0) -> #REF! | G50: =D50+E50+F50 -> #REF! | H50: =ROUND(G50/$H$8,0) -> #REF!
A51: LX1504 | B51: 4 | C51: 4.82 | D51: =$E$5*C51 -> #REF! | E51: =$E$8*$E$5 -> #REF! | F51: =ROUND($F$8*D51,0) -> #REF! | G51: =D51+E51+F51 -> #REF! | H51: =ROUND(G51/$H$8,0) -> #REF!
...

Sheet TONG HOP KINH PHI 
A2: BẢNG TỔNG HỢP CHI PHÍ XÂY DỰNG
A3: CÔNG TRÌNH : XÂY DỰNG KHU VUI CHƠI GIẢI TRÍ CHO TRẺ EM TẠI CÔNG VIÊN TAO ĐÀN
A4: ĐỊA ĐIỂM: QUẬN 1, TP. HCM
A6: STT | B6: Hạng mục | C6: Giá trị trước thuế | D6: Chi phí lán trại | E6: Thuế VAT | F6: Giá trị sau thuế
A7: 1 | B7: Hạng mục: Phần bó vỉa, sân nền | C7: =#REF! -> #REF! | D7: =C7*1% -> #REF! | E7: =(C7+D7)*10% -> #REF! | F7: =C7+D7+E7 -> #REF!
A8: =A7+1 -> 2 | B8: Hạng mục: Phân cây xanh | C8: =#REF! -> #REF! | D8: =C8*1% -> #REF! | E8: =(C8+D8)*10% -> #REF! | F8: =C8+D8+E8 -> #REF!
A9: =A8+1 -> 3 | B9: Hạng mục: Phần điện tổng thể - trong nhà | C9: =#REF! -> #REF! | D9: =C9*1% -> #REF! | E9: =(C9+D9)*10% -> #REF! | F9: =C9+D9+E9 -> #REF!
A10: =A9+1 -> 4 | B10: Hạng mục: Phần xây dựng khu trò chơi trong nhà | C10: =#REF! -> #REF! | D10: =C10*1% -> #REF! | E10: =(C10+D10)*10% -> #REF! | F10: =C10+D10+E10 -> #REF!
B11: CỘNG | C11: =SUM(C7:C10) -> #REF! | D11: =C11*1% -> #REF! | E11: =(C11+D11)*10% -> #REF! | F11: =C11+D11+E11 -> #REF!
A15: BẢNG TỔNG HỢP CHI PHÍ XÂY DỰNG
A19: STT | B19: Hạng mục | C19: Giá trị trước thuế | D19: Chi phí lán trại | E19: Thuế VAT | F19: Giá trị sau thuế
B20: A. XÂY LẮP | C20: =SUM(C21:C33) -> 2.0056146e+10 | D20: =SUM(D21:D33) -> 2.206176e+08 | E20: =SUM(E21:E33) -> 2.0056146e+09 | F20: =E20+D20+C20 -> 2.2282378e+10
A21: 1 | B21: PHÁ DỠ TẠO MẶT BẰNG + HÀNG RÀO + CỔNG CHÍNH. PHỤ | C21: ='[8]Tong hop kinh phi'!$D$19 -> 6.8086278e+08 | D21: =C21*1%*1.1 -> 7489490.6 | E21: =C21*0.1 -> 68086278 | F21: =ROUNDDOWN(E21+D21+C21,0) -> 756438548
A22: 2 | B22: NHÀ BẢO VỆ | C22: ='[9]Tong hop kinh phi'!$D$19 -> 62444875 | D22: =C22*1%*1.1 -> 686893.63 | E22: =C22*0.1 -> 6244487.5 | F22: =ROUNDDOWN(E22+D22+C22,0) -> 69376256
A23: 3 | B23: NHÀ ĐỂ MÁY BƠM | C23: ='[10]Tong hop kinh phi'!$D$19 -> 62444875 | D23: =C23*1%*1.1 -> 686893.63 | E23: =C23*0.1 -> 6244487.5 | F23: =ROUNDDOWN(E23+D23+C23,0) -> 69376256
A24: 4 | B24: NHÀ CHỜ HÌNH NẤM | C24: ='[11]Tong hop kinh phi'!$D$19 -> 29588960 | D24: =C24*1%*1.1 -> 325478.56 | E24: =C24*0.1 -> 2958896 | F24: =ROUNDDOWN(E24+D24+C24,0) -> 32873334
A25: 5 | B25: NHÀ ĐỂ BÌNH GAS | C25: ='[12]Tong hop kinh phi'!$D$19 -> 28265161 | D25: =C25*1%*1.1 -> 310916.77 | E25: =C25*0.1 -> 2826516.1 | F25: =ROUNDDOWN(E25+D25+C25,0) -> 31402593
A26: 6 | B26: NHÀ ĐỂ XE | C26: ='[13]Tong hop kinh phi'!$D$19 -> 30991330 | D26: =C26*1%*1.1 -> 340904.63 | E26: =C26*0.1 -> 3099133 | F26: =ROUNDDOWN(E26+D26+C26,0) -> 34431367
A27: 7 | B27: KHỐI NHÀ CHÍNH | C27: ='[14]Tong hop kinh phi'!$D$19 -> 1.4841532e+10 | D27: =C27*1%*1.1 -> 1.6325685e+08 | E27: =C27*0.1 -> 1.4841532e+09 | F27: =ROUNDDOWN(E27+D27+C27,0) -> 16488941795
A28: 8 | B28: CẦU THANG THOÁT HIỂM | C28: ='[15]Tong hop kinh phi'!$D$19 -> 1.6955218e+08 | D28: =C28*1%*1.1 -> 1865074 | E28: =C28*0.1 -> 16955218 | F28: =ROUNDDOWN(E28+D28+C28,0) -> 188372477
A29: 9 | B29: BỂ NƯỚC PHÒNG CHÁY CHỮA CHÁY + HỒ BƠI + HẦM TỰ HOẠI | C29: ='[16]Tong hop kinh phi'!$D$20 -> 7.321049e+08 | D29: =C29*1%*1.1 -> 8053153.9 | E29: =C29*0.1 -> 73210490 | F29: =ROUNDDOWN(E29+D29+C29,0) -> 813368543
A30: 10 | B30: HỆ THỐNG ĐIỆN | C30: ='[17]Tong hop kinh phi'!$D$20 -> 9.0139349e+08 | D30: =C30*1%*1.1 -> 9915328.4 | E30: =C30*0.1 -> 90139349 | F30: =ROUNDDOWN(E30+D30+C30,0) -> 1001448168
A31: 11 | B31: HỆ THỐNG CẤP THOÁT NƯỚC | C31: ='[18]Tong hop kinh phi'!$D$19 -> 1.0392591e+09 | D31: =C31*1%*1.1 -> 11431851 | E31: =C31*0.1 -> 1.0392591e+08 | F31: =ROUNDDOWN(E31+D31+C31,0) -> 1154616911
A32: 12 | B32: PHÒNG CHÁY CHỮA CHÁY VÀ BÁO CHÁY TỰ ĐỘNG | C32: ='[19]Tong hop kinh phi'!$D$19 -> 1.1611683e+09 | D32: =C32*1%*1.1 -> 12772851 | E32: =C32*0.1 -> 1.1611683e+08 | F32: =ROUNDDOWN(E32+D32+C32,0) -> 1290057939
A33: 13 | B33: NÂNG NỀN, LÁT SÂN, VỈA HÈ VÀ CHỒNG CÂY | C33: ='[20]Tong hop kinh phi'!$D$20 -> 3.1653815e+08 | D33: =C33*1%*1.1 -> 3481919.7 | E33: =C33*0.1 -> 31653815 | F33: =ROUNDDOWN(E33+D33+C33,0) -> 351673890
B34: B. THIẾT BỊ | C34: =C35 -> 4097070000 | E34: =E35 -> 409707000 | F34: =E34+C34 -> 4506777000
A35: 1 | B35: CUNG CẤP VÀ THI CÔNG LẮP ĐẶT THIẾT BỊ | C35: ='[21]PL1_Ket qua khao sat gia'!$I$1106 -> 4097070000 | E35: =C35*0.1 -> 409707000 | F35: =E35+C35 -> 4506777000
B37: TỔNG CỘNG A + B | C37: =C34+C20 -> 2.4153216e+10 | D37: =D20+D34 -> 2.206176e+08 | E37: =E34+E20 -> 2.4153216e+09 | F37: =+F20+F34 -> 2.6789155e+10

Sheet noi suy 975
A1: BẢNG TÍNH CHI PHÍ KHÁC
A2: I | B2: Định mức chi phí quản lý dự án và tư vấn đầu tư xây dựng công trình (Kèm theo Quyết định 957/QĐ-BXD - ngày 29/09/2009 của Bộ xây dựng) | M2: Tải văn bản này
A4: 1 | B4: Định mức chi phí quản lý dự án
B5: Loại công trình | C5: Chi phí xây dựng và thiết bị | O5: Nội suy | P5: Cận dưới | Q5: Cận trên
C6: 10 | D6: 20 | E6: 50 | F6: 100 | G6: 200 | H6: 500 | I6: 1000 | J6: 2000 | K6: 5000 | L6: 10000 | M6: 20000 | N6: 30000 | O6: ='TONG HOP KINH PHI '!C37/10^9 -> 24.153216 | P6: =IF(O6<C6,C6,IF(O6>N6,N6,HLOOKUP($O$6,C6:N6,1))) -> 20 | Q6: =IF(O6<C6,C6,IF(O6>N6,N6,INDEX(C6:N6,MATCH(O6,C6:N6,1)+1))) -> 50
B7: Công trình dân dụng | C7: 0.02524 | D7: 0.02141 | E7: 0.01912 | F7: 0.01537 | G7: 0.01436 | H7: 0.01254 | I7: 0.01026 | J7: 0.00793 | K7: 0.00589 | L7: 0.00442 | M7: 0.0033 | N7: 0.00264 | O7: =ROUND(TREND(P7:Q7,$P$6:$Q$6,$O$6),5) -> 0.02109 | P7: =HLOOKUP($P$6,$C$6:$N$11,2,TRUE) -> 0.02141 | Q7: =HLOOKUP($Q$6,$C$6:$N$11,2,FALSE) -> 0.01912
B8: Công trình công nghiệp | C8: 0.02657 | D8: 0.02254 | E8: 0.02013 | F8: 0.01617 | G8: 0.01512 | H8: 0.0132 | I8: 0.0108 | J8: 0.00931 | K8: 0.0062 | L8: 0.00465 | M8: 0.00347 | N8: 0.00278 | O8: =ROUND(TREND(P8:Q8,$P$6:$Q$6,$O$6),5) -> 0.02221 | P8: =HLOOKUP($P$6,$C$6:$N$11,3,TRUE) -> 0.02254 | Q8: =HLOOKUP($Q$6,$C$6:$N$11,3,FALSE) -> 0.02013
B9: Công trình giao thông | C9: 0.02259 | D9: 0.01916 | E9: 0.01711 | F9: 0.01375 | G9: 0.01285 | H9: 0.01122 | I9: 0.00918 | J9: 0.00791 | K9: 0.00827 | L9: 0.00395 | M9: 0.00295 | N9: 0.00236 | O9: =ROUND(TREND(P9:Q9,$P$6:$Q$6,$O$6),5) -> 0.01888 | P9: =HLOOKUP($P$6,$C$6:$N$11,4,TRUE) -> 0.01916 | Q9: =HLOOKUP($Q$6,$C$6:$N$11,4,FALSE) -> 0.01711
B10: Công trình thủy lợi | C10: 0.02391 | D10: 0.02029 | E10: 0.01811 | F10: 0.01455 | G10: 0.01361 | H10: 0.01188 | I10: 0.00972 | J10: 0.00838 | K10: 0.00558 | L10: 0.00419 | M10: 0.00313 | N10: 0.0025 | O10: =ROUND(TREND(P10:Q10,$P$6:$Q$6,$O$6),5) -> 0.01999 | P10: =HLOOKUP($P$6,$C$6:$N$11,5,TRUE) -> 0.02029 | Q10: =HLOOKUP($Q$6,$C$6:$N$11,5,FALSE) -> 0.01811
B11: Công trình hạ tầng kỹ thuật | C11: 0.02125 | D11: 0.01803 | E11: 0.0161 | F11: 0.01294 | G11: 0.0121 | H11: 0.01056 | I11: 0.00864 | J11: 0.00744 | K11: 0.00496 | L11: 0.00372 | M11: 0.00278 | N11: 0.00222 | O11: =ROUND(TREND(P11:Q11,$P$6:$Q$6,$O$6),5) -> 0.01776 | P11: =HLOOKUP($P$6,$C$6:$N$11,6,TRUE) -> 0.01803 | Q11: =HLOOKUP($Q$6,$C$6:$N$11,6,FALSE) -> 0.0161
A14: 2 | B14: Định mức chi phí lập dự án
B15: Loại công trình | C15: Chi phí xây dựng và thiết bị | O15: Nội suy | P15: Cận dưới | Q15: Cận trên
C16: 15 | D16: 20 | E16: 50 | F16: 100 | G16: 200 | H16: 500 | I16: 1000 | J16: 2000 | K16: 5000 | L16: 10000 | M16: 20000 | N16: 30000 | O16: =O6 -> 24.153216 | P16: =IF(O16<C16,C16,IF(O16>N16,N16,HLOOKUP($O$16,C16:N16,1))) -> 20 | Q16: =IF(O16<C16,C16,IF(O16>N16,N16,INDEX(C16:N16,MATCH(O16,C16:N16,1)+1))) -> 50
B17: Công trình dân dụng | C17: 0.00655 | D17: 0.00538 | E17: 0.00442 | F17: 0.00314 | G17: 0.00237 | H17: 0.00191 | I17: 0.00164 | J17: 0.00139 | K17: 0.00111 | L17: 0.00089 | M17: 0.0007 | N17: 0.00057 | O17: =ROUND(TREND(P17:Q17,$P$16:$Q$16,$O$16),5) -> 0.00525 | P17: =HLOOKUP($P$16,$C$16:$N$21,2,TRUE) -> 0.00538 | Q17: =HLOOKUP($Q$16,$C$16:$N$21,2,FALSE) -> 0.00442
B18: Công trình công nghiệp | C18: 0.00934 | D18: 0.00794 | E18: 0.0063 | F18: 0.00467 | G18: 0.00368 | H18: 0.00345 | I18: 0.00299 | J18: 0.00242 | K18: 0.00207 | L18: 0.00145 | M18: 0.00104 | N18: 0.00074 | O18: =ROUND(TREND(P18:Q18,$P$16:$Q$16,$O$16),5) -> 0.00771 | P18: =HLOOKUP($P$16,$C$16:$N$21,3,TRUE) -> 0.00794 | Q18: =HLOOKUP($Q$16,$C$16:$N$21,3,FALSE) -> 0.0063
B19: Công trình giao thông | C19: 0.00492 | D19: 0.00449 | E19: 0.00358 | F19: 0.00281 | G19: 0.00194 | H19: 0.0015 | I19: 0.00131 | J19: 0.00112 | K19: 0.00089 | L19: 0.00072 | M19: 0.00058 | N19: 0.00047 | O19: =ROUND(TREND(P19:Q19,$P$16:$Q$16,$O$16),5) -> 0.00436 | P19: =HLOOKUP($P$16,$C$16:$N$21,4,TRUE) -> 0.00449 | Q19: =HLOOKUP($Q$16,$C$16:$N$21,4,FALSE) -> 0.00358
B20: Công trình thủy lợi | C20: 0.00589 | D20: 0.00536 | E20: 0.00428 | F20: 0.003 | G20: 0.00226 | H20: 0.00182 | I20: 0.00156 | J20: 0.00134 | K20: 0.00107 | L20: 0.00086 | M20: 0.00069 | N20: 0.00056 | O20: =ROUND(TREND(P20:Q20,$P$16:$Q$16,$O$16),5) -> 0.00521 | P20: =HLOOKUP($P$16,$C$16:$N$21,5,TRUE) -> 0.00536 | Q20: =HLOOKUP($Q$16,$C$16:$N$21,5,FALSE) -> 0.00428
B21: Công trình hạ tầng kỹ thuật | C21: 0.00514 | D21: 0.00467 | E21: 0.00374 | F21: 0.00291 | G21: 0.002 | H21: 0.00156 | I21: 0.00137 | J21: 0.00117 | K21: 0.00094 | L21: 0.00075 | M21: 0.0006 | N21: 0.00048 | O21: =ROUND(TREND(P21:Q21,$P$16:$Q$16,$O$16),5) -> 0.00454 | P21: =HLOOKUP($P$16,$C$16:$N$21,6,TRUE) -> 0.00467 | Q21: =HLOOKUP($Q$16,$C$16:$N$21,6,FALSE) -> 0.00374
A24: 3 | B24: Định mức lập báo cáo KTKT
B25: Loại công trình | C25: Chi phí xây dựng và thiết bị | F25: Nội suy | G25: Cận dưới | H25: Cận trên
C26: 3 | D26: 7 | E26: 15 | F26: ='TONG MUC DAU TU'!C9/10^9 -> 20.056146 | G26: =IF($F$26<$C$26,$C$26,IF($F$26>$E$26,$E$26,HLOOKUP($F$26,$C$26:$E$26,1))) -> 15 | H26: =IF($F$26<$C$26,$C$26,IF($F$26>$E$26,$E$26,INDEX(C26:E26,MATCH(F26,C26:E26,1)+1))) -> 15
B27: Công trình dân dụng | C27: 0.036 | D27: 0.032 | E27: 0.028 | F27: =ROUND(TREND(G27:H27,$G$26:$H$26,$F$26),5) -> 0.028 | G27: =HLOOKUP($G$26,$C$26:$E$31,2,TRUE) -> 0.028 | H27: =HLOOKUP($H$26,$C$26:$E$31,2,TRUE) -> 0.028
B28: Công trình công nghiệp | C28: 0.037 | D28: 0.033 | E28: 0.029 | F28: =ROUND(TREND(G28:H28,$G$26:$H$26,$F$26),5) -> 0.029 | G28: =HLOOKUP($G$26,$C$26:$E$31,3,TRUE) -> 0.029 | H28: =HLOOKUP($H$26,$C$26:$E$31,3,TRUE) -> 0.029
B29: Công trình giao thông | C29: 0.028 | D29: 0.021 | E29: 0.019 | F29: =ROUND(TREND(G29:H29,$G$26:$H$26,$F$26),5) -> 0.019 | G29: =HLOOKUP($G$26,$C$26:$E$31,4,TRUE) -> 0.019 | H29: =HLOOKUP($H$26,$C$26:$E$31,4,TRUE) -> 0.019
B30: Công trình thủy lợi | C30: 0.034 | D30: 0.03 | E30: 0.028 | F30: =ROUND(TREND(G30:H30,$G$26:$H$26,$F$26),5) -> 0.028 | G30: =HLOOKUP($G$26,$C$26:$E$31,5,TRUE) -> 0.028 | H30: =HLOOKUP($H$26,$C$26:$E$31,5,TRUE) -> 0.028
B31: Công trình hạ tầng kỹ thuật | C31: 0.032 | D31: 0.026 | E31: 0.023 | F31: =ROUND(TREND(G31:H31,$G$26:$H$26,$F$26),5) -> 0.023 | G31: =HLOOKUP($G$26,$C$26:$E$31,6,TRUE) -> 0.023 | H31: =HLOOKUP($H$26,$C$26:$E$31,6,TRUE) -> 0.023
A34: 4 | B34: Định mức chi phí thiết kế
B36: Cấp công trình | C36: Chi phí xây dựng (chưa có thuế ) | N36: Nội suy | O36: STT | P36: Hệ số TKBVTC | Q36: Cận dưới | R36: Cận trên
C37: 7 | D37: 10 | E37: 20 | F37: 50 | G37: 100 | H37: 200 | I37: 500 | J37: 1000 | K37: 2000 | L37: 5000 | M37: 8000 | N37: ='TONG HOP KINH PHI '!C20/10^9 -> 20.056146 | Q37: =IF($N$37<$C$37,$C$37,IF($N$37>$M$37,$M$37,HLOOKUP($N$37,$C$37:$M$37,1))) -> 20 | R37: =IF($N$37<$C$37,$C$37,IF($N$37>$M$37,$M$37,INDEX(C37:M37,MATCH(N37,C37:M37,1)+1))) -> 50
B38: Công trình dân dụng - Thiết kế kỹ thuật - 3 bước (bảng 6 trang 16 QD957) | O38: 1
B39: Công trình dân dụng - 3 bước - Cấp đặc biệt | C39: 0 | D39: 0.0274 | E39: 0.0238 | F39: 0.02 | G39: 0.0182 | H39: 0.0166 | I39: 0.014 | J39: 0.0113 | K39: 0.0097 | L39: 0.0075 | M39: 0.0058 | N39: =ROUND(TREND(Q39:R39,$Q$37:$R$37,$N$37),5) -> 0.02379 | O39: 2 | P39: 0.55 | Q39: =HLOOKUP($Q$37,$C$37:$M$97,3,TRUE) -> 0.0238 | R39: =HLOOKUP($R$37,$C$37:$M$97,3,TRUE) -> 0.02
B40: Công trình dân dụng - 3 bước - Cấp I | C40: 0 | D40: 0.0248 | E40: 0.0217 | F40: 0.0182 | G40: 0.0164 | H40: 0.0151 | I40: 0.0127 | J40: 0.0103 | K40: 0.0089 | L40: 0.0068 | M40: 0.0053 | N40: =ROUND(TREND(Q40:R40,$Q$37:$R$37,$N$37),5) -> 0.02169 | O40: 3 | P40: 0.55 | Q40: =HLOOKUP($Q$37,$C$37:$M$97,4,TRUE) -> 0.0217 | R40: =HLOOKUP($R$37,$C$37:$M$97,4,TRUE) -> 0.0182
B41: Công trình dân dụng - 3 bước - Cấp II | C41: 0.0236 | D41: 0.0225 | E41: 0.0196 | F41: 0.0166 | G41: 0.0151 | H41: 0.0137 | I41: 0.0116 | J41: 0.0095 | K41: 0.008 | L41: 0.0062 | M41: 0.0047 | N41: =ROUND(TREND(Q41:R41,$Q$37:$R$37,$N$37),5) -> 0.01959 | O41: 4 | P41: 0.55 | Q41: =HLOOKUP($Q$37,$C$37:$M$97,5,TRUE) -> 0.0196 | R41: =HLOOKUP($R$37,$C$37:$M$97,5,TRUE) -> 0.0166
B42: Công trình dân dụng - 3 bước - Cấp III | C42: 0.0212 | D42: 0.0203 | E42: 0.0176 | F42: 0.0148 | G42: 0.0134 | H42: 0.0123 | I42: 0.0104 | J42: 0.0085 | K42: 0.0072 | L42: 0.0055 | M42: 0.0042 | N42: =ROUND(TREND(Q42:R42,$Q$37:$R$37,$N$37),5) -> 0.01759 | O42: 5 | P42: 0.55 | Q42: =HLOOKUP($Q$37,$C$37:$M$97,6,TRUE) -> 0.0176 | R42: =HLOOKUP($R$37,$C$37:$M$97,6,TRUE) -> 0.0148
B43: Công trình dân dụng - 3 bước - Cấp IV | C43: 0.0188 | D43: 0.018 | E43: 0.0157 | F43: 0.0123 | G43: 0.0104 | H43: 0.0088 | I43: 0.0075 | J43: 0.0061 | N43: =ROUND(TREND(Q43:R43,$Q$37:$R$37,$N$37),5) -> 0.01569 | O43: 6 | P43: 0.55 | Q43: =HLOOKUP($Q$37,$C$37:$M$97,7,TRUE) -> 0.0157 | R43: =HLOOKUP($R$37,$C$37:$M$97,7,TRUE) -> 0.0123
B44: Công trình dân dụng (thiết kế 2 bước) | O44: 7
B45: Công trình dân dụng - 2 bước - Cấp đặc biệt | D45: 0.0424 | E45: 0.0368 | F45: 0.031 | G45: 0.0282 | H45: 0.0257 | I45: 0.0217 | J45: 0.0175 | K45: 0.015 | L45: 0.0116 | M45: 0.009 | N45: =ROUND(TREND(Q45:R45,$Q$37:$R$37,$N$37),5) -> 0.03679 | O45: 8 | Q45: =HLOOKUP($Q$37,$C$37:$M$97,9,TRUE) -> 0.0368 | R45: =HLOOKUP($R$37,$C$37:$M$97,9,TRUE) -> 0.031
B46: Công trình dân dụng - 2 bước - Cấp I | D46: 0.0384 | E46: 0.0336 | F46: 0.0282 | G46: 0.0254 | H46: 0.0234 | I46: 0.0196 | J46: 0.0159 | K46: 0.0138 | L46: 0.0105 | M46: 0.0082 | N46: =ROUND(TREND(Q46:R46,$Q$37:$R$37,$N$37),5) -> 0.03359 | O46: 9 | Q46: =HLOOKUP($Q$37,$C$37:$M$97,10,TRUE) -> 0.0336 | R46: =HLOOKUP($R$37,$C$37:$M$97,10,TRUE) -> 0.0282
B47: Công trình dân dụng - 2 bước - Cấp II | C47: 0.0363 | D47: 0.0348 | E47: 0.0301 | F47: 0.0254 | G47: 0.0229 | H47: 0.021 | I47: 0.0179 | J47: 0.0145 | K47: 0.0124 | L47: 0.0096 | M47: 0.0073 | N47: =ROUND(TREND(Q47:R47,$Q$37:$R$37,$N$37),5) -> 0.03009 | O47: 10 | Q47: =HLOOKUP($Q$37,$C$37:$M$97,11,TRUE) -> 0.0301 | R47: =HLOOKUP($R$37,$C$37:$M$97,11,TRUE) -> 0.0254
B48: Công trình dân dụng - 2 bước - Cấp III | C48: 0.0327 | D48: 0.0315 | E48: 0.0273 | F48: 0.0229 | G48: 0.0208 | H48: 0.019 | I48: 0.0162 | J48: 0.0131 | K48: 0.0111 | L48: 0.0086 | M48: 0.0065 | N48: =ROUND(TREND(Q48:R48,$Q$37:$R$37,$N$37),5) -> 0.02729 | O48: 11 | Q48: =HLOOKUP($Q$37,$C$37:$M$97,12,TRUE) -> 0.0273 | R48: =HLOOKUP($R$37,$C$37:$M$97,12,TRUE) -> 0.0229
...
