Workbook
Name \T: #REF!
Name \T: #REF!
Name _: NA()
Name _.._mik: #REF!
Name _.._mik: #REF!
Name _?: #REF!
Name _?: #REF!
Name _??????: #REF!
Name _??????: #REF!
Name __?: #REF!
Name __?: #REF!
Name __??????: #REF!
Name __??????: #REF!
Name ___?: #REF!
Name ___?: #REF!
Name ___??????: #REF!
Name ___??????: #REF!
Name _____CON1: #REF!
Name _____CON1: #REF!
Name _____CON2: #REF!
Name _____CON2: #REF!
Name ____Can2: #REF!
Name ____CAU10: #REF!
Name ____CAU10: #REF!
Name ____CON1: #REF!
Name ____CON1: #REF!
Name ____CON2: #REF!
Name ____CON2: #REF!
Name ____CVC1: #REF!
Name ____CVC1: #REF!
Name ____dam33: #REF!
Name ____dam33: #REF!
Name ____lap1: #REF!
Name ____lap1: #REF!
Name ____lap2: #REF!
Name ____lap2: #REF!
Name ____NC3: #REF!
Name ____NC3: #REF!
Name ____NC6: #REF!
Name ____NC6: #REF!
Name ____NC7: #REF!
Name ____NC7: #REF!
Name ____OTO12: #REF!
Name ____OTO12: #REF!
Name ____OTO5: #REF!
Name ____OTO5: #REF!
Name ____OTO7: #REF!
Name ____OTO7: #REF!
Name ____PT1: #REF!
Name ____PT1: #REF!
Name ____PT2: #REF!
Name ____PT2: #REF!
Name ____vl1: #REF!
Name ____vl1: #REF!
Name ____VL3: #REF!
Name ____VL3: #REF!
Name ____VL4: #REF!
Name ____VL4: #REF!
Name ____VL5: #REF!
Name ____VL5: #REF!

Sheet TONG MUC DAU TU
I1: Bảng 2.1 Phụ lục 2 Thoâng Tư 04/2010/TT-BXD
A2: BAÛNG TOÅNG HÔÏP DÖÏ TOAÙN
K3: 630241000 | L3: 52110000
K4: 1640014000 | L4: 10910000
A6: STT | B6: NỘI DUNG CHI PHÍ | C6: GIAÙ TRÒ TRÖÔÙC THUEÁ | D6: LAÙN TRAÏI TAÏM | E6: THUẾ GTGT | F6: GIAÙ TRÒ SAU THUEÁ | G6: KÍ HIEÄU | H6: CAÙCH TÍNH | I6: GHI CHUÙ | K6: 22474.629 | O6: 22474.629
A7: [1] | B7: [2] | C7: [3] | E7: [4] | F7: [5] | G7: [6] | H7: [7] | I7: [8] | K7: 979.469 | L7: 979469000 | O7: 979.469
A8: 1 | B8: Chi phí xaây dựng + Thieát bò | C8: =SUM(C9:C10) -> 2.4153216e+10 | D8: =SUM(D9:D10) -> 2.206176e+08 | E8: =SUM(E9:E10) -> 2.4153216e+09 | F8: =SUM(F9:F10) -> 26789155082 | G8: GXDTB | K8: =F9 -> 22282378082 | L8: =+K8-L7 -> 21302909082 | O8: =SUM(O6:O7) -> 23454.098
B9: Chi phí xaây dựng | C9: ='TONG HOP KINH PHI '!C20 -> 2.0056146e+10 | D9: ='TONG HOP KINH PHI '!D20 -> 2.206176e+08 | E9: ='TONG HOP KINH PHI '!E20 -> 2.0056146e+09 | F9: =ROUND('TONG HOP KINH PHI '!F20,0) -> 22282378082 | G9: GXD | H9: Baûng toång hôïp kinh phí | K9: =C8 -> 2.4153216e+10 | O9: =+O8*10^6 -> 23454098000 | W9: 22302434228
B10: Chi phí thieát bò | C10: ='TONG HOP KINH PHI '!C34 -> 4097070000 | E10: ='TONG HOP KINH PHI '!E34 -> 409707000 | F10: ='TONG HOP KINH PHI '!F34 -> 4506777000 | G10: GTB | H10: Theo quyeát ñònh pheâ duyeät döï aùn 14796/QÑ-UBND Ngaøy 06/11/2014 | J10: Chi phí naøy coù trong quyeát ñònh pheâ duyeät döï aùn | L10: =$K$9/1000000000 -> 24.153216 | M10: 20 | N10: 50 | W10: 4506777000
A11: 2 | B11: Chi phí QLDA | C11: =F11/1.1 -> 5.1247091e+08 | E11: =C11*0.1 -> 51247091 | F11: 563718000 | G11: GQLDA | H11: Theo quyeát ñònh pheâ duyeät döï aùn 14796/QÑ-UBND Ngaøy 06/11/2014 | J11: Chi phí naøy coù trong quyeát ñònh pheâ duyeät döï aùn | K11: =L11 -> 2.109 | L11: =ROUND(M11-(M11-N11)*(L10-M10)/(N10-M10),3) -> 2.109 | M11: 2.141 | N11: 1.912
A12: 3 | B12: Chi phí tư vấn ĐTXD | C12: =SUM(C13:C21) -> 1.4068597e+09 | E12: =SUM(E13:E21) -> 1.4068597e+08 | F12: =SUM(F13:F22) -> 1587545636 | G12: GTV | H12: GTV1 + … + GTV10 | L12: =$K$9/1000000000 -> 24.153216 | M12: 20 | N12: 50 | W12: 1587545636
B13: + Chi phí khảo saùt ñòa chaát | C13: =+F13/1.1 -> 2.2435091e+08 | E13: =C13*0.1 -> 22435091 | F13: 246786000 | G13: GTV1 | H13: Theo quyeát ñònh pheâ duyeät döï aùn 14796/QÑ-UBND Ngaøy 06/11/2014 | K13: =L13 -> 0.525 | L13: =ROUND(M13-(M13-N13)*(L11-M11)/(N11-M11),3) -> 0.525 | M13: 0.538 | N13: 0.442 | O13: =$C$9/1000000000 -> 20.056146 | P13: 20 | Q13: 50 | U13: 298896000
B14: + Chi phí laäp dự aùn ñaàu tö | C14: =F14/1.1 -> 1.2680438e+08 | E14: =C14*0.1 -> 12680438 | F14: =ROUNDDOWN((C9+C10)*1.1*K14%,0) -> 139484821 | G14: GTV2 | H14: Theo quyeát ñònh pheâ duyeät döï aùn 14796/QÑ-UBND Ngaøy 06/11/2014 | J14: Chi phí naøy coù trong quyeát ñònh pheâ duyeät döï aùn | K14: =L14 -> 0.525 | L14: =ROUND(M14-(M14-N14)*(L12-M12)/(N12-M12),3) -> 0.525 | M14: 0.538 | N14: 0.442 | O14: =$C$9/1000000000 -> 20.056146 | P14: 20 | Q14: 50
B15: + Chi phí thieát keá baûn veõ thi coâng | C15: =F15/1.1 -> 4.5126328e+08 | E15: =C15*0.1 -> 45126328 | F15: =ROUNDDOWN((C9)*1.1*2.25%,0) -> 496389610 | G15: GTV3 | H15: 2,25% xGxdtt x 1,1 | I15: QĐ 957/QĐ-BXD | K15: 2.22 | L15: =$C$9/1000000000 -> 20.056146 | M15: 20 | N15: 50 | O15: =ROUND(P15-(P15-Q15)*(O14-P14)/(Q14-P14),3) -> 2.729 | P15: 2.73 | Q15: 2.29
B16: + Chi phí giaùm saùt thi coâng xaây laép | C16: =F16/1.1 -> 4.5748069e+08 | E16: =C16*0.1 -> 45748069 | F16: =ROUNDDOWN(K16%*($C$9)*1.1,0) -> 503228756 | G16: GTV4 | H16: =K16&"%"&" x "&"Gxdtt x 1,1" -> 2,281% x Gxdtt x 1,1 | I16: QĐ 957/QĐ-BXD | K16: =L16 -> 2.281 | L16: =ROUND(M16-(M16-N16)*(L15-M15)/(N15-M15),3) -> 2.281 | M16: 2.282 | N16: 1.948
B17: + Chi phí giaùm saùt thi coâng thieát bò | C17: =F17/1.1 -> 27655222 | E17: =C17*0.1 -> 2765522.2 | F17: =ROUNDDOWN(K17%*($C$10)*1.1,0) -> 30420744 | G17: GTV5 | H17: =K17&"%"&" x "&"Gtbtt x 1,1" -> 0,675% x Gtbtt x 1,1 | I17: QĐ 957/QĐ-BXD | K17: 0.675 | L17: =L15 -> 20.056146 | M17: 20 | N17: 50
B18: + Chi phí thẩm tra thiết kế BVTC | C18: =F18/1.1 -> 35900501 | E18: =C18*0.1 -> 3590050.1 | F18: =ROUNDDOWN($C$9*1.1*K18%,0) -> 39490551 | G18: GTV6 | H18: =K18&"%"&" x "&"Gxdtt x 1,1" -> 0,179% x Gxdtt x 1,1 | I18: QĐ 957/QĐ-BXD | K18: =L18 -> 0.179 | L18: =ROUND(M18-(M18-N18)*(L17-M17)/(N17-M17),3) -> 0.179 | M18: 0.179 | N18: 0.138 | O18: =L17 -> 20.056146 | P18: 20 | Q18: 50
B19: + Chi phí thaåm tra döï toaùn | C19: =F19/1.1 -> 35098255 | E19: =C19*0.1 -> 3509825.5 | F19: =ROUNDDOWN($C$9*1.1*K19%,0) -> 38608080 | G19: GTV7 | H19: =K19&"%"&" x "&"Gxdtt x 1,1" -> 0,175% x Gxdtt x 1,1 | I19: QĐ 957/QĐ-BXD | K19: =O19 -> 0.175 | L19: =L17 -> 20.056146 | M19: 20 | N19: 50 | O19: =ROUND(P19-(P19-Q19)*(O18-P18)/(Q18-P18),3) -> 0.175 | P19: 0.175 | Q19: 0.133
B20: + Chi phí lập HSMT, ñaùnh giaù HSDT xaây laép | C20: =F20/1.1 -> 40112291 | E20: =C20*0.1 -> 4011229.1 | F20: =ROUNDDOWN($C$9*K20%*1.1,0) -> 44123520 | G20: GTV9 | H20: =K20&"%"&" x "&"Gxdtt x 1,1" -> 0,2% x Gxdtt x 1,1 | I20: NÑ63/2014/NÑ-CP | K20: 0.2 | L20: =ROUND(M20-(M20-N20)*(L19-M19)/(N19-M19),3) -> 0.27 | M20: 0.27 | N20: 0.152 | O20: =$K$9/1000000000 -> 24.153216 | P20: 10 | Q20: 20 | V20: =4960-41.2 -> 4918.8
B21: + Chi phí lập HSMT, ñaùnh giaù HSDT thieát bò | C21: =F21/1.1 -> 8194140 | E21: =C21*0.1 -> 819414 | F21: =ROUNDDOWN($C$10*1.1*K21%,0) -> 9013554 | G21: GTV10 | H21: =K21&"%"&" x "&"Gtbtt x 1,1" -> 0,2% x Gtbtt x 1,1 | I21: NÑ63/2014/NÑ-CP | K21: 0.2 | O21: =ROUND(P21-(P21-Q21)*(O20-P20)/(Q20-P20),3) -> 1.702 | P21: 2.053 | Q21: 1.805
B22: + Chi phí thaåm ñònh giaù | C22: =F22/1.1 -> 36363636 | E22: =C22*0.1 -> 3636363.6 | F22: 40000000 | G22: GTV11 | H22: Theo quyeát ñònh pheâ duyeät döï aùn 14796/QÑ-UBND Ngaøy 06/11/2014
A23: 4 | B23: Chi phí khaùc | C23: =SUM(C24:C32) -> 3.0178904e+08 | E23: =SUM(E24:E32) -> 11061605 | F23: =SUM(F24:F34) -> 331101735 | G23: GK | H23: GK1 + … + GK9 | L23: =W38/1000000000 -> 34.12006 | M23: 10 | N23: 50 | W23: 331131819
B24: + Chi phí kieåm toaùn | C24: =F24/1.1 -> 64486913 | E24: =C24*0.1 -> 6448691.3 | F24: =ROUNDDOWN($W$38*K24*1.1%,0) -> 70935604 | G24: GK1 | H24: =K24&"%"&" x "&"TMDT x 1,1" -> 0,189% x TMDT x 1,1 | I24: TT 19/2011/TT-BTC | K24: =L24 -> 0.189 | L24: =ROUND(M24-(M24-N24)*(L23-M23)/(N23-M23),3) -> 0.189 | M24: 0.43 | N24: 0.03
B25: + Chi phí baûo hieåm xaây döïng coâng trình | C25: =F25/1.1 -> 46129135 | E25: =C25*0.1 -> 4612913.5 | F25: =ROUNDDOWN(0.23/100*(C9)*1.1,0) -> 50742049 | G25: GK2 | H25: 0,23%xGxdx1,1 | I25: Tham khaûo QÑ 33/2004/QÑ-BTC | J25: QÑ naøy chæ duøng ñeå tham khaûo | K25: 0.2 | L25: =W38/1000000000 -> 34.12006 | M25: 10 | N25: 50
B26: + Chi phí thaåm tra pheâ duyeät quyeát toaùn | C26: =F26 -> 37190865 | F26: =ROUNDDOWN($W$38*K26%*50%,0) -> 37190865 | G26: GK3 | H26: =K26&"%"&" x "&"TMDT x 50%" -> 0,218% x TMDT x 50% | I26: TT 19/2011/TT-BTC | K26: =L26 -> 0.218 | L26: =ROUND(M26-(M26-N26)*(L25-M25)/(N25-M25),3) -> 0.218 | M26: 0.26 | N26: 0.19 | O26: =W38/1000000000 -> 34.12006 | P26: 25 | Q26: 50
B27: + Phí thaåm ñònh döï aùn ñaàu tö xaây döïng | C27: =F27 -> 5561569 | F27: =ROUNDDOWN(K27/100*W38,0) -> 5561569 | G27: GK4 | H27: Theo quyeát ñònh pheâ duyeät döï aùn 14796/QÑ-UBND Ngaøy 06/11/2014 | J27: Chi phí naøy coù trong quyeát ñònh pheâ duyeät döï aùn | K27: =O27 -> 0.0163 | L27: =$C$9/1000000000 -> 20.056146 | M27: 15 | N27: 25 | O27: =ROUND(P27-(P27-Q27)*(O26-P26)/(Q26-P26),4) -> 0.0163 | P27: 0.017 | Q27: 0.015
B28: + Phí thaåm ñònh thieát keá kyõ thuaät | G28: GK4 | H28: =K28&"%"&" x "&"Gxdtt" -> 0,0363% x Gxdtt | I28: TT 109/2000/TT-BTC | J28: Chi phí naøy ñaõ coù trong chi phí quaûn lyù döï aùn. (Caét boû) | K28: =L28 -> 0.0363 | L28: =ROUND(M28-(M28-N28)*(L27-M27)/(N27-M27),4) -> 0.0363 | M28: 0.0427 | N28: 0.0301 | O28: =$C$9/1000000000 -> 20.056146 | P28: 15 | Q28: 25
B29: + Phí thaåm ñònh toång döï toaùn | G29: GK4 | H29: =K29&"%"&" x "&"Gxdtt" -> 0,0419% x Gxdtt | I29: TT 109/2000/TT-BTC | K29: =O29 -> 0.0419 | O29: =ROUND(P29-(P29-Q29)*(O28-P28)/(Q28-P28),4) -> 0.0419 | P29: 0.05 | Q29: 0.034
B30: + Chi phí giaùm saùt ñaàu tö | C30: =F30 -> 112743600 | F30: =ROUNDDOWN(F11*0.2,0) -> 112743600 | G30: GK5 | H30: 20% GQLDA | I30: TT 22/2010/TT-BKH | K30: 20
B31: + Leä phí thaåm ñònh keát quaû goùi thaàu thi coâng xaây döïng | C31: =F31 -> 13394578 | F31: =IF(ROUND(F8*K31%,0)>1000000,ROUND(F8*K31%,0),1000000) -> 13394578 | G31: GK6 | H31: 0,05% x GXDST (Min =1.000.000) | I31: NÑ63/2014/NÑ-CP | K31: 0.05
B32: + Leä phí thaåm ñònh keát quaû goùi thaàu cung caáp vaø laép ñaët thiết bị | C32: =F32 -> 22282378 | F32: =IF(ROUND(F10*K32%,0)>1000000,ROUND(F9*K32%,0),1000000)*2 -> 22282378 | G32: GK7 | H32: 0,05% x GTBST (Min =1.000.000) | I32: NÑ63/2014/NÑ-CP | K32: 0.05
B33: + Leä phí thaåm tra thieát keá baûn veõ thi coâng | C33: =F33 -> 9225827 | F33: =ROUNDDOWN(C9*0.046%,0) -> 9225827 | G33: GK8 | H33: 0,046%xGxdst | I33: TT75/2014/TT-BTC | J33: Yeâu caàu boå sung chi phí
B34: + Leä phí thaåm tra döï toaùn | C34: =F34 -> 9025265 | F34: =ROUNDDOWN(C9*0.045%,0) -> 9025265 | G34: GK9 | H34: 0,045%xGxdst | I34: TT75/2014/TT-BTC | J34: Yeâu caàu boå sung chi phí
A35: 5 | B35: Chi phí döï phoøng | F35: =ROUND(F36+F37,0) -> 4827449022 | G35: GDP | H35: GDP1 + GDP2 | W35: 4828453334
B36: + Chi phí döï phoøng do yeáu toá khoái löôïng phaùt sinh | F36: =ROUNDDOWN((F9+F10+F11+F12+F23)*5%,0) -> 1463576022 | G36: GDP1 | H36: GDP1=(GXD+GTB+GQLDA+ GTV+GK)x5% | I36: TT04/2010/TT-BXD | J36: Yeâu caàu laäp coâng thöùc tính phuø hôïp
B37: + Chi phí döï phoøng do yeáu toá tröôït giaù | F37: ='[7]DP2-TG'!$E$20 -> 3363873000 | G37: GDP2 | H37: GDP1=(GXD+GTB+GQLDA+ GTV+GK)x11,5% | I37: Baûng tính rieâng | J37: Yeâu caàu laäp baûng tröôït giaù trong 3 naêm gaàn nhaát (tham khaûo caùc quyeát ñònh keøm theo beân döôùi) | L37: 30000000000 | W37: =F8+F11+F12+F23 -> 29271520453
B38: TỔNG MỨC ĐẦU TƯ | F38: =$F$23+$F$12+$F$11+$F$8+F35 -> 34098969475 | G38: TMDT | H38: GXD+GQLDA+GTV+GK+GDP | L38: =L37*1.15 -> 34500000000 | M38: =W38-L38 -> -379939983 | W38: 34120060017
K39: Suaát ñaàu tö nhaø giöõ treû | L39: 54730000 | M39: Töø 3-5 nhoùm treû
K40: Suaát ñaàu tö tröôøng maãu giaùo | L40: 43720000 | M40: Töø 11-13 lôùp hoïc
K41: Soá löôïng treû (12p * 35 treû) | L41: =12*35 -> 420
K42: Suaát voán ñaàu tö trung bình cho 1 treû | L42: =AVERAGE(L39:L40) -> 49225000
K43: Chi phí xaây döïng tröôøng | L43: =PRODUCT(L41:L42) -> 20674500000
K44: Phaàn phaù dôõ | L44: =L47*500000 -> 436300000
L45: =SUM(L43:L44) -> 21110800000
K46: Dieän tích xaây döïng | L46: =SUM(L47:L50) -> 3490.4 | N46: =SUM(N47:N50) -> 20837688000
K47: Taàng treät (2*31,6*12,5+11,8*7) | L47: =2*K52*L52+K53*L53 -> 872.6 | M47: 3980000 | N47: =M47*L47 -> 3472948000
K48: Laàu 1 (2*31,6*12,5+11,8*7) | L48: =L47 -> 872.6 | M48: 7960000 | N48: =M48*L48 -> 6945896000
K49: Laàu 2 (2*31,6*12,5+11,8*7) | L49: =L48 -> 872.6 | M49: 7960000 | N49: =M49*L49 -> 6945896000
H50: 496.948 | K50: Maùi (2*31,6*12,5+11,8*7) | L50: =L49 -> 872.6 | M50: 3980000 | N50: =M50*L50 -> 3472948000
H51: 81.275 | M51: 3
H52: 61.77 | K52: 31.6 | L52: 12.5 | M52: =L52*K52 -> 395 | V52: 496.948
H53: 10.102 | K53: 11.8 | L53: 7 | M53: =M52*M51 -> 1185 | V53: 81.275
H54: 41.2 | V54: 61.77
H55: 527.136 | K55: 34469715000 | V55: 10.102
H56: 23.76 | M56: Suaát ñaàu tö theo dieän tích | V56: 41.2
H57: 70.145 | K57: 496948000 | V57: 527.136
H58: 46.443 | V58: 23.76
H59: 20 | K59: 257696000 | V59: 70.145
H60: 20 | V60: 46.443
H61: 22474.629 | V61: 20
H62: 979.469 | V62: 20
H63: 3520 | V63: 22474.629
H64: =SUM(H44:H63) -> 28372.877 | V64: 979.469
V65: 3520
V66: =SUM(V52:V65) -> 28372.877 | W66: 28372.877
F71: 41.2
F72: 630.241 | I72: =5000-40-41.2 -> 4918.8
F73: 81.275
F74: 61.77
F75: 10.102
F76: 41.2
F77: 527.136
F78: 23.76
F79: 70.145
F80: 46.443
F81: 22474.629
F82: 979.469
F83: 3520
F84: =SUM(F71:F83) -> 28507.37 | H84: =+F84+F65+F58 -> 28507.37
H85: 34469.715
H86: =+H84-H85 -> -5962.345
H87: =+H86*10^6 -> -5.962345e+09
F88: 28507.37
F91: 496.948 | H91: 5000
F92: 81.275 | H92: 169.713
F93: 61.77 | H93: =SUM(H91:H92) -> 5169.713
F94: 10.102
F95: 41.2
F96: 527.136 | H96: 140.127
F97: 23.76 | H97: 257.696
F98: 70.145 | H98: 563.718
F99: 46.443 | H99: 5.584 | K99: 967.125
F100: 22474.629 | H100: =SUM(H96:H99) -> 967.125
F101: 979.469 | H101: =+F103+H93+H100 -> 34469.715 | K101: 28332.877
F102: 3520
F103: =SUM(F91:F102) -> 28332.877
A109: Quyeát ñònh coâng boá chæ soá giaù xaây döïng aùp duïng tính tröôït giaù:
A110: + Quyết định số 196/QĐ-BXD ngày 23/02/2011 của Bộ Xây dựng công bố chỉ số giá xây dựng quý 4 và năm 2010;
A111: + Quyết định số 91/QĐ-SXD-QLKTXD ngày 25/02/2013 của Sở Xây dựng Tp.HCM công bố chỉ số giá xây dựng tháng 10, 11, 12, quý 4/2011 và năm 2011.
A112: + Quyết định số 1278/QĐ-SXD-QLKTXD ngày 06/08/2013 của Sở Xây dựng Tp.HCM công bố chỉ số giá xây dựng tháng 1 đến tháng 12, quý 1 đến quý 4 và năm 2012.
...

Sheet TLg Laitau
B1: tiÒn l­¬ng ngµy c«ng thî ®iÒu khiÓn tµu biÓn vµ tµu s«ng
B2: ='TLg CN&Laixe'!B3 -> (Theo N§110/2008/N§-CP ngµy 10/10/2008 cña ChÝnh phñ)
B4: L­¬ng tèi thiÓu : | E4: ='TLg CN&Laixe'!E5 -> #REF! | F4: ®ång
B6: BËc | C6: HS l­¬ng | D6: L­¬ng CB (=HS l­¬ng xLTT) | E6: Phô cÊp l­u ®éng 20% xLTT | F6: PC# 26%LCB (10% kh«ng æn ®Þnh sx, 12% l­¬ng phô, 4%kho¸n) | G6: Céng | H6: TiÒn l­¬ng ngµy c«ng (chia 26 ngµy)
E7: =SUMIF(#REF!,"LTT",#REF!) -> #REF! | F7: =SUMIF(#REF!,"LCB",#REF!) -> #REF! | H7: ='TLg CN&Laixe'!H8 -> 26
A9: LT1 | B9: tµu vËn t¶i s«ng theo nhãm tµu - b.2 (trang 99)
B10: Nhãm I : Ph­¬ng tiÖn kh«ng cã ®éng c¬ cã träng t¶i toµn phÇn tõ 5 tÊn ®Õn 15 tÊn; ph­¬ng tiÖn cã träng t¶i
B11: ®éng c¬ cã c«ng suÊt m¸y chÝnh tõ 5 m· lùc ®Õn 15 m· lùc hoÆc søc chë tõ 5 ng­êi ®Õn 12 ng­êi.
B12: Nhãm 2 : Tµu kh¸ch cã søc chë tõ trªn 12 ng­êi ®Õn 50 ng­êi; phµ cã träng t¶i toµn phÇn ®Õn 50 tÊn; ®oµn lai
B13: cã träng t¶i toµn phÇn ®Õn 400 tÊn; ph­¬ng tiÖn cã tæng c«ng suÊt m¸y chÝnh tõ trªn 15 m· lùc ®Õn 150 m· lùc.
B14: Nhãm 3 : Tµu kh¸ch cã søc chë tõ trªn 50 ng­êi ®Õn 100 ng­êi; phµ cã träng t¶i toµn phÇn trªn 50 tÊn ®Õn
B15: 150 tÊn; ph­¬ng tiÖn chë hµng cã träng t¶i toµn phÇn trªn 150 tÊn ®Õn 500 tÊn; ®oµn lai cã träng t¶i toµn phÇn
B16: trªn 400 tÊn ®Õn 1000 tÊn, ph­¬ng tiÖn cã tæng c«ng suÊt m¸y chÝnh tõ trªn 150 m· lùc ®Õn 400 m· lùc.
B17: Nhãm 4 : Tµu kh¸ch cã søc chë trªn 100 ng­êi; phµ cã träng t¶i toµn phÇn trªn 150 tÊn, ph­¬ng tiÖn chë hµng
B18: cã träng t¶i toµn phÇn trªn 500 tÊn; ®oµn lai cã träng t¶i toµn phÇn trªn 1000 tÊn, ph­¬ng tiÖn cã tæng c«ng
B19: suÊt m¸y chÝnh trªn 400 m· lùc.
A21: LT1100 | B21: 1. ThuyÒn tr­ëng
A22: LT1110 | B22: - Nhãm I
A23: LT1111 | B23: 1 | C23: 2.81 | D23: =$E$4*C23 -> #REF! | E23: =$E$7*$E$4 -> #REF! | F23: =ROUND($F$7*D23,0) -> #REF! | G23: =D23+E23+F23 -> #REF! | H23: =ROUND(G23/$H$7,0) -> #REF!
A24: LT1112 | B24: 2 | C24: 2.99 | D24: =$E$4*C24 -> #REF! | E24: =$E$7*$E$4 -> #REF! | F24: =ROUND($F$7*D24,0) -> #REF! | G24: =D24+E24+F24 -> #REF! | H24: =ROUND(G24/$H$7,0) -> #REF!
A25: LT1120 | B25: - Nhãm II
A26: LT1121 | B26: 1 | C26: 3.73 | D26: =$E$4*C26 -> #REF! | E26: =$E$7*$E$4 -> #REF! | F26: =ROUND($F$7*D26,0) -> #REF! | G26: =D26+E26+F26 -> #REF! | H26: =ROUND(G26/$H$7,0) -> #REF!
A27: LT1122 | B27: 2 | C27: 3.91 | D27: =$E$4*C27 -> #REF! | E27: =$E$7*$E$4 -> #REF! | F27: =ROUND($F$7*D27,0) -> #REF! | G27: =D27+E27+F27 -> #REF! | H27: =ROUND(G27/$H$7,0) -> #REF!
A28: LT1130 | B28: - Nhãm III
A29: LT1131 | B29: 1 | C29: 4.14 | D29: =$E$4*C29 -> #REF! | E29: =$E$7*$E$4 -> #REF! | F29: =ROUND($F$7*D29,0) -> #REF! | G29: =D29+E29+F29 -> #REF! | H29: =ROUND(G29/$H$7,0) -> #REF!
A30: LT1132 | B30: 2 | C30: 4.36 | D30: =$E$4*C30 -> #REF! | E30: =$E$7*$E$4 -> #REF! | F30: =ROUND($F$7*D30,0) -> #REF! | G30: =D30+E30+F30 -> #REF! | H30: =ROUND(G30/$H$7,0) -> #REF!
A31: LT1140 | B31: - Nhãm IV
A32: LT1141 | B32: 1 | C32: 4.68 | D32: =$E$4*C32 -> #REF! | E32: =$E$7*$E$4 -> #REF! | F32: =ROUND($F$7*D32,0) -> #REF! | G32: =D32+E32+F32 -> #REF! | H32: =ROUND(G32/$H$7,0) -> #REF!
A33: LT1142 | B33: 2 | C33: 4.92 | D33: =$E$4*C33 -> #REF! | E33: =$E$7*$E$4 -> #REF! | F33: =ROUND($F$7*D33,0) -> #REF! | G33: =D33+E33+F33 -> #REF! | H33: =ROUND(G33/$H$7,0) -> #REF!
A35: LT1200 | B35: 2. §¹i phã, m¸y tr­ëng
A36: LT1210 | B36: - Nhãm I
A37: LT1211 | B37: 1 | C37: 2.51 | D37: =$E$4*C37 -> #REF! | E37: =$E$7*$E$4 -> #REF! | F37: =ROUND($F$7*D37,0) -> #REF! | G37: =D37+E37+F37 -> #REF! | H37: =ROUND(G37/$H$7,0) -> #REF!
A38: LT1212 | B38: 2 | C38: 2.66 | D38: =$E$4*C38 -> #REF! | E38: =$E$7*$E$4 -> #REF! | F38: =ROUND($F$7*D38,0) -> #REF! | G38: =D38+E38+F38 -> #REF! | H38: =ROUND(G38/$H$7,0) -> #REF!
A39: LT1220 | B39: - Nhãm II
A40: LT1221 | B40: 1 | C40: 3.17 | D40: =$E$4*C40 -> #REF! | E40: =$E$7*$E$4 -> #REF! | F40: =ROUND($F$7*D40,0) -> #REF! | G40: =D40+E40+F40 -> #REF! | H40: =ROUND(G40/$H$7,0) -> #REF!
A41: LT1222 | B41: 2 | C41: 3.3 | D41: =$E$4*C41 -> #REF! | E41: =$E$7*$E$4 -> #REF! | F41: =ROUND($F$7*D41,0) -> #REF! | G41: =D41+E41+F41 -> #REF! | H41: =ROUND(G41/$H$7,0) -> #REF!
A42: LT1230 | B42: - Nhãm III
A43: LT1231 | B43: 1 | C43: 3.55 | D43: =$E$4*C43 -> #REF! | E43: =$E$7*$E$4 -> #REF! | F43: =ROUND($F$7*D43,0) -> #REF! | G43: =D43+E43+F43 -> #REF! | H43: =ROUND(G43/$H$7,0) -> #REF!
A44: LT1232 | B44: 2 | C44: 3.76 | D44: =$E$4*C44 -> #REF! | E44: =$E$7*$E$4 -> #REF! | F44: =ROUND($F$7*D44,0) -> #REF! | G44: =D44+E44+F44 -> #REF! | H44: =ROUND(G44/$H$7,0) -> #REF!
A45: LT1240 | B45: - Nhãm IV
A46: LT1241 | B46: 1 | C46: 4.16 | D46: =$E$4*C46 -> #REF! | E46: =$E$7*$E$4 -> #REF! | F46: =ROUND($F$7*D46,0) -> #REF! | G46: =D46+E46+F46 -> #REF! | H46: =ROUND(G46/$H$7,0) -> #REF!
A47: LT1242 | B47: 2 | C47: 4.37 | D47: =$E$4*C47 -> #REF! | E47: =$E$7*$E$4 -> #REF! | F47: =ROUND($F$7*D47,0) -> #REF! | G47: =D47+E47+F47 -> #REF! | H47: =ROUND(G47/$H$7,0) -> #REF!
A49: LT1300 | B49: 3. ThuyÒn phã 2, m¸y 2
A50: LT1320 | B50: - Nhãm II
A51: LT1321 | B51: 1 | C51: 2.66 | D51: =$E$4*C51 -> #REF! | E51: =$E$7*$E$4 -> #REF! | F51: =ROUND($F$7*D51,0) -> #REF! | G51: =D51+E51+F51 -> #REF! | H51: =ROUND(G51/$H$7,0) -> #REF!
A52: LT1322 | B52: 2 | C52: 2.81 | D52: =$E$4*C52 -> #REF! | E52: =$E$7*$E$4 -> #REF! | F52: =ROUND($F$7*D52,0) -> #REF! | G52: =D52+E52+F52 -> #REF! | H52: =ROUND(G52/$H$7,0) -> #REF!
A53: LT1330 | B53: - Nhãm III
A54: LT1331 | B54: 1 | C54: 2.93 | D54: =$E$4*C54 -> #REF! | E54: =$E$7*$E$4 -> #REF! | F54: =ROUND($F$7*D54,0) -> #REF! | G54: =D54+E54+F54 -> #REF! | H54: =ROUND(G54/$H$7,0) -> #REF!
A55: LT1332 | B55: 2 | C55: 3.1 | D55: =$E$4*C55 -> #REF! | E55: =$E$7*$E$4 -> #REF! | F55: =ROUND($F$7*D55,0) -> #REF! | G55: =D55+E55+F55 -> #REF! | H55: =ROUND(G55/$H$7,0) -> #REF!
A56: LT1340 | B56: - Nhãm IV
A57: LT1341 | B57: 1 | C57: 3.55 | D57: =$E$4*C57 -> #REF! | E57: =$E$7*$E$4 -> #REF! | F57: =ROUND($F$7*D57,0) -> #REF! | G57: =D57+E57+F57 -> #REF! | H57: =ROUND(G57/$H$7,0) -> #REF!
A58: LT1342 | B58: 2 | C58: 3.76 | D58: =$E$4*C58 -> #REF! | E58: =$E$7*$E$4 -> #REF! | F58: =ROUND($F$7*D58,0) -> #REF! | G58: =D58+E58+F58 -> #REF! | H58: =ROUND(G58/$H$7,0) -> #REF!
A60: LT2000 | B60: tµu vËn t¶i s«ng kh«ng theo nhãm tµu - b.2 (trang 97)
A62: LT2100 | B62: 1. Thñy thñ
A63: LT2110 | B63: - Nhãm I (vËn t¶i däc s«ng)
A64: LT2111 | B64: 1 | C64: 1.93 | D64: =$E$4*C64 -> #REF! | E64: =$E$7*$E$4 -> #REF! | F64: =ROUND($F$7*D64,0) -> #REF! | G64: =D64+E64+F64 -> #REF! | H64: =ROUND(G64/$H$7,0) -> #REF!
A65: LT2112 | B65: 2 | C65: 2.18 | D65: =$E$4*C65 -> #REF! | E65: =$E$7*$E$4 -> #REF! | F65: =ROUND($F$7*D65,0) -> #REF! | G65: =D65+E65+F65 -> #REF! | H65: =ROUND(G65/$H$7,0) -> #REF!
A66: LT2113 | B66: 3 | C66: 2.51 | D66: =$E$4*C66 -> #REF! | E66: =$E$7*$E$4 -> #REF! | F66: =ROUND($F$7*D66,0) -> #REF! | G66: =D66+E66+F66 -> #REF! | H66: =ROUND(G66/$H$7,0) -> #REF!
A67: LT2114 | B67: 4 | C67: 2.83 | D67: =$E$4*C67 -> #REF! | E67: =$E$7*$E$4 -> #REF! | F67: =ROUND($F$7*D67,0) -> #REF! | G67: =D67+E67+F67 -> #REF! | H67: =ROUND(G67/$H$7,0) -> #REF!
A68: LT2120 | B68: - Nhãm II (vËn t¶i sang ngang)
A69: LT2121 | B69: 1 | C69: 2.12 | D69: =$E$4*C69 -> #REF! | E69: =$E$7*$E$4 -> #REF! | F69: =ROUND($F$7*D69,0) -> #REF! | G69: =D69+E69+F69 -> #REF! | H69: =ROUND(G69/$H$7,0) -> #REF!
A70: LT2122 | B70: 2 | C70: 2.39 | D70: =$E$4*C70 -> #REF! | E70: =$E$7*$E$4 -> #REF! | F70: =ROUND($F$7*D70,0) -> #REF! | G70: =D70+E70+F70 -> #REF! | H70: =ROUND(G70/$H$7,0) -> #REF!
A71: LT2123 | B71: 3 | C71: 2.76 | D71: =$E$4*C71 -> #REF! | E71: =$E$7*$E$4 -> #REF! | F71: =ROUND($F$7*D71,0) -> #REF! | G71: =D71+E71+F71 -> #REF! | H71: =ROUND(G71/$H$7,0) -> #REF!
A72: LT2124 | B72: 4 | C72: 3.11 | D72: =$E$4*C72 -> #REF! | E72: =$E$7*$E$4 -> #REF! | F72: =ROUND($F$7*D72,0) -> #REF! | G72: =D72+E72+F72 -> #REF! | H72: =ROUND(G72/$H$7,0) -> #REF!
A74: LT2200 | B74: 2. Thî m¸y, thî ®iÖn
A75: LT2210 | B75: - Nhãm I (vËn t¶i däc s«ng)
A76: LT2211 | B76: 1 | C76: 2.05 | D76: =$E$4*C76 -> #REF! | E76: =$E$7*$E$4 -> #REF! | F76: =ROUND($F$7*D76,0) -> #REF! | G76: =D76+E76+F76 -> #REF! | H76: =ROUND(G76/$H$7,0) -> #REF!
A77: LT2212 | B77: 2 | C77: 2.35 | D77: =$E$4*C77 -> #REF! | E77: =$E$7*$E$4 -> #REF! | F77: =ROUND($F$7*D77,0) -> #REF! | G77: =D77+E77+F77 -> #REF! | H77: =ROUND(G77/$H$7,0) -> #REF!
A78: LT2213 | B78: 3 | C78: 2.66 | D78: =$E$4*C78 -> #REF! | E78: =$E$7*$E$4 -> #REF! | F78: =ROUND($F$7*D78,0) -> #REF! | G78: =D78+E78+F78 -> #REF! | H78: =ROUND(G78/$H$7,0) -> #REF!
A79: LT2214 | B79: 4 | C79: 2.99 | D79: =$E$4*C79 -> #REF! | E79: =$E$7*$E$4 -> #REF! | F79: =ROUND($F$7*D79,0) -> #REF! | G79: =D79+E79+F79 -> #REF! | H79: =ROUND(G79/$H$7,0) -> #REF!
A80: LT2220 | B80: - Nhãm II (vËn t¶i sang ngang)
A81: LT2221 | B81: 1 | C81: 2.25 | D81: =$E$4*C81 -> #REF! | E81: =$E$7*$E$4 -> #REF! | F81: =ROUND($F$7*D81,0) -> #REF! | G81: =D81+E81+F81 -> #REF! | H81: =ROUND(G81/$H$7,0) -> #REF!
A82: LT2222 | B82: 2 | C82: 2.58 | D82: =$E$4*C82 -> #REF! | E82: =$E$7*$E$4 -> #REF! | F82: =ROUND($F$7*D82,0) -> #REF! | G82: =D82+E82+F82 -> #REF! | H82: =ROUND(G82/$H$7,0) -> #REF!
A83: LT2223 | B83: 3 | C83: 2.92 | D83: =$E$4*C83 -> #REF! | E83: =$E$7*$E$4 -> #REF! | F83: =ROUND($F$7*D83,0) -> #REF! | G83: =D83+E83+F83 -> #REF! | H83: =ROUND(G83/$H$7,0) -> #REF!
A84: LT2224 | B84: 4 | C84: 3.8 | D84: =$E$4*C84 -> #REF! | E84: =$E$7*$E$4 -> #REF! | F84: =ROUND($F$7*D84,0) -> #REF! | G84: =D84+E84+F84 -> #REF! | H84: =ROUND(G84/$H$7,0) -> #REF!
A87: LT3000 | B87: tµu vËn t¶i biÓn theo nhãm tµu - b.2 (trang 98)
A89: LT3100 | B89: 1. ThuyÒn tr­ëng
A90: LT3110 | B90: - D­íi 200 GRT
A91: LT3111 | B91: 1 | C91: 4.56 | D91: =$E$4*C91 -> #REF! | E91: =$E$7*$E$4 -> #REF! | F91: =ROUND($F$7*D91,0) -> #REF! | G91: =D91+E91+F91 -> #REF! | H91: =ROUND(G91/$H$7,0) -> #REF!
A92: LT3112 | B92: 2 | C92: 4.88 | D92: =$E$4*C92 -> #REF! | E92: =$E$7*$E$4 -> #REF! | F92: =ROUND($F$7*D92,0) -> #REF! | G92: =D92+E92+F92 -> #REF! | H92: =ROUND(G92/$H$7,0) -> #REF!
A93: LT3120 | B93: - Tõ 200 GRT ®Õn 499 GRT
A94: LT3121 | B94: 1 | C94: 4.88 | D94: =$E$4*C94 -> #REF! | E94: =$E$7*$E$4 -> #REF! | F94: =ROUND($F$7*D94,0) -> #REF! | G94: =D94+E94+F94 -> #REF! | H94: =ROUND(G94/$H$7,0) -> #REF!
A95: LT3122 | B95: 2 | C95: 5.19 | D95: =$E$4*C95 -> #REF! | E95: =$E$7*$E$4 -> #REF! | F95: =ROUND($F$7*D95,0) -> #REF! | G95: =D95+E95+F95 -> #REF! | H95: =ROUND(G95/$H$7,0) -> #REF!
A96: LT3130 | B96: - Tõ 500 GRT ®Õn 1599 GRT
A97: LT3131 | B97: 1 | C97: 5.19 | D97: =$E$4*C97 -> #REF! | E97: =$E$7*$E$4 -> #REF! | F97: =ROUND($F$7*D97,0) -> #REF! | G97: =D97+E97+F97 -> #REF! | H97: =ROUND(G97/$H$7,0) -> #REF!
A98: LT3132 | B98: 2 | C98: 5.41 | D98: =$E$4*C98 -> #REF! | E98: =$E$7*$E$4 -> #REF! | F98: =ROUND($F$7*D98,0) -> #REF! | G98: =D98+E98+F98 -> #REF! | H98: =ROUND(G98/$H$7,0) -> #REF!
A99: LT3140 | B99: - Tõ 1600 GRT ®Õn 5999 GRT
A100: LT3141 | B100: 1 | C100: 5.41 | D100: =$E$4*C100 -> #REF! | E100: =$E$7*$E$4 -> #REF! | F100: =ROUND($F$7*D100,0) -> #REF! | G100: =D100+E100+F100 -> #REF! | H100: =ROUND(G100/$H$7,0) -> #REF!
A101: LT3142 | B101: 2 | C101: 5.75 | D101: =$E$4*C101 -> #REF! | E101: =$E$7*$E$4 -> #REF! | F101: =ROUND($F$7*D101,0) -> #REF! | G101: =D101+E101+F101 -> #REF! | H101: =ROUND(G101/$H$7,0) -> #REF!
A102: LT3150 | B102: - Tõ 6000 GRT ®Õn 10000 GRT
A103: LT3151 | B103: 1 | C103: 6.16 | D103: =$E$4*C103 -> #REF! | E103: =$E$7*$E$4 -> #REF! | F103: =ROUND($F$7*D103,0) -> #REF! | G103: =D103+E103+F103 -> #REF! | H103: =ROUND(G103/$H$7,0) -> #REF!
A104: LT3152 | B104: 2 | C104: 6.5 | D104: =$E$4*C104 -> #REF! | E104: =$E$7*$E$4 -> #REF! | F104: =ROUND($F$7*D104,0) -> #REF! | G104: =D104+E104+F104 -> #REF! | H104: =ROUND(G104/$H$7,0) -> #REF!
A105: LT3160 | B105: - Tõ 10000 GRT trë lªn
A106: LT3161 | B106: 1 | C106: 6.65 | D106: =$E$4*C106 -> #REF! | E106: =$E$7*$E$4 -> #REF! | F106: =ROUND($F$7*D106,0) -> #REF! | G106: =D106+E106+F106 -> #REF! | H106: =ROUND(G106/$H$7,0) -> #REF!
A107: LT3162 | B107: 2 | C107: 7.15 | D107: =$E$4*C107 -> #REF! | E107: =$E$7*$E$4 -> #REF! | F107: =ROUND($F$7*D107,0) -> #REF! | G107: =D107+E107+F107 -> #REF! | H107: =ROUND(G107/$H$7,0) -> #REF!
A109: LT3200 | B109: 2. M¸y tr­ëng
A110: LT3210 | B110: - D­íi 200 GRT
A111: LT3211 | B111: 1 | C111: 4.36 | D111: =$E$4*C111 -> #REF! | E111: =$E$7*$E$4 -> #REF! | F111: =ROUND($F$7*D111,0) -> #REF! | G111: =D111+E111+F111 -> #REF! | H111: =ROUND(G111/$H$7,0) -> #REF!
A112: LT3212 | B112: 2 | C112: 4.56 | D112: =$E$4*C112 -> #REF! | E112: =$E$7*$E$4 -> #REF! | F112: =ROUND($F$7*D112,0) -> #REF! | G112: =D112+E112+F112 -> #REF! | H112: =ROUND(G112/$H$7,0) -> #REF!
A113: LT3220 | B113: - Tõ 200 GRT ®Õn 499 GRT
...

Sheet TLg CN&Laixe
B2: tiÒn l­¬ng ngµy c«ng thî ®iÒu khiÓn m¸y XD vµ c«ng nh©n l¸i xe
B3: (Theo N§110/2008/N§-CP ngµy 10/10/2008 cña ChÝnh phñ)
B5: L­¬ng tèi thiÓu : | E5: =#REF! -> #REF! | F5: ®ång
B7: BËc | C7: HS l­¬ng | D7: L­¬ng CB (=HS l­¬ng xLTT) | E7: C¸c kho¶n phô cÊp tÝnh theo LTT | F7: C¸c kho¶n phô cÊp tÝnh theo l­¬ng c¬ b¶n | G7: Céng | H7: TiÒn l­¬ng ngµy c«ng (chia 26 ngµy)
E8: =SUMIF(#REF!,"LTT",#REF!) -> #REF! | F8: =SUMIF(#REF!,"LCB",#REF!) -> #REF! | H8: 26
A10: LM1000 | B10: X©y dùng c¬ b¶n - Nhãm II - A.1 (trang 64)
A12: LM1100 | B12: - VËn hµnh c¸c lo¹i m¸y x©y dùng
A13: LM1101 | B13: 1 | C13: 1.67 | D13: =$E$5*C13 -> #REF! | E13: =$E$8*$E$5 -> #REF! | F13: =ROUND($F$8*D13,0) -> #REF! | G13: =D13+E13+F13 -> #REF! | H13: =ROUND(G13/$H$8,0) -> #REF!
A14: LM1102 | B14: 2 | C14: 1.96 | D14: =$E$5*C14 -> #REF! | E14: =$E$8*$E$5 -> #REF! | F14: =ROUND($F$8*D14,0) -> #REF! | G14: =D14+E14+F14 -> #REF! | H14: =ROUND(G14/$H$8,0) -> #REF!
A15: LM1103 | B15: 3 | C15: 2.31 | D15: =$E$5*C15 -> #REF! | E15: =$E$8*$E$5 -> #REF! | F15: =ROUND($F$8*D15,0) -> #REF! | G15: =D15+E15+F15 -> #REF! | H15: =ROUND(G15/$H$8,0) -> #REF!
A16: LM1104 | B16: 4 | C16: 2.71 | D16: =$E$5*C16 -> #REF! | E16: =$E$8*$E$5 -> #REF! | F16: =ROUND($F$8*D16,0) -> #REF! | G16: =D16+E16+F16 -> #REF! | H16: =ROUND(G16/$H$8,0) -> #REF!
A17: LM1105 | B17: 5 | C17: 3.19 | D17: =$E$5*C17 -> #REF! | E17: =$E$8*$E$5 -> #REF! | F17: =ROUND($F$8*D17,0) -> #REF! | G17: =D17+E17+F17 -> #REF! | H17: =ROUND(G17/$H$8,0) -> #REF!
A18: LM1106 | B18: 6 | C18: 3.74 | D18: =$E$5*C18 -> #REF! | E18: =$E$8*$E$5 -> #REF! | F18: =ROUND($F$8*D18,0) -> #REF! | G18: =D18+E18+F18 -> #REF! | H18: =ROUND(G18/$H$8,0) -> #REF!
A19: LM1107 | B19: 7 | C19: 4.4 | D19: =$E$5*C19 -> #REF! | E19: =$E$8*$E$5 -> #REF! | F19: =ROUND($F$8*D19,0) -> #REF! | G19: =D19+E19+F19 -> #REF! | H19: =ROUND(G19/$H$8,0) -> #REF!
A21: LX1000 | B21: C«ng nh©n l¸i xe - B.12 (trang115)
A23: LX1100 | B23: 1. Xe con, taxi, xe t¶i, xe cÈu d­íi 3,5 TÊn, xe kh¸ch d­íi 20 ghÕ
A24: LX1101 | B24: 1 | C24: 2.18 | D24: =$E$5*C24 -> #REF! | E24: =$E$8*$E$5 -> #REF! | F24: =ROUND($F$8*D24,0) -> #REF! | G24: =D24+E24+F24 -> #REF! | H24: =ROUND(G24/$H$8,0) -> #REF!
A25: LX1102 | B25: 2 | C25: 2.57 | D25: =$E$5*C25 -> #REF! | E25: =$E$8*$E$5 -> #REF! | F25: =ROUND($F$8*D25,0) -> #REF! | G25: =D25+E25+F25 -> #REF! | H25: =ROUND(G25/$H$8,0) -> #REF!
A26: LX1103 | B26: 3 | C26: 3.05 | D26: =$E$5*C26 -> #REF! | E26: =$E$8*$E$5 -> #REF! | F26: =ROUND($F$8*D26,0) -> #REF! | G26: =D26+E26+F26 -> #REF! | H26: =ROUND(G26/$H$8,0) -> #REF!
A27: LX1104 | B27: 4 | C27: 3.6 | D27: =$E$5*C27 -> #REF! | E27: =$E$8*$E$5 -> #REF! | F27: =ROUND($F$8*D27,0) -> #REF! | G27: =D27+E27+F27 -> #REF! | H27: =ROUND(G27/$H$8,0) -> #REF!
A29: LX1200 | B29: 2. Xe t¶i, xe cÈu tõ 3,5 TÊn ®Õn d­íi 7,5 TÊn, xe kh¸ch tõ 20 ghÕ ®Õn d­íi 40 ghÕ
A30: LX1201 | B30: 1 | C30: 2.35 | D30: =$E$5*C30 -> #REF! | E30: =$E$8*$E$5 -> #REF! | F30: =ROUND($F$8*D30,0) -> #REF! | G30: =D30+E30+F30 -> #REF! | H30: =ROUND(G30/$H$8,0) -> #REF!
A31: LX1202 | B31: 2 | C31: 2.76 | D31: =$E$5*C31 -> #REF! | E31: =$E$8*$E$5 -> #REF! | F31: =ROUND($F$8*D31,0) -> #REF! | G31: =D31+E31+F31 -> #REF! | H31: =ROUND(G31/$H$8,0) -> #REF!
A32: LX1203 | B32: 3 | C32: 3.25 | D32: =$E$5*C32 -> #REF! | E32: =$E$8*$E$5 -> #REF! | F32: =ROUND($F$8*D32,0) -> #REF! | G32: =D32+E32+F32 -> #REF! | H32: =ROUND(G32/$H$8,0) -> #REF!
A33: LX1204 | B33: 4 | C33: 3.82 | D33: =$E$5*C33 -> #REF! | E33: =$E$8*$E$5 -> #REF! | F33: =ROUND($F$8*D33,0) -> #REF! | G33: =D33+E33+F33 -> #REF! | H33: =ROUND(G33/$H$8,0) -> #REF!
A35: LX1300 | B35: 3. Xe t¶i, xe cÈu tõ 7,5 TÊn ®Õn d­íi 16,5 TÊn, xe kh¸ch tõ 40 ghÕ ®Õn d­íi 60 ghÕ
A36: LX1301 | B36: 1 | C36: 2.51 | D36: =$E$5*C36 -> #REF! | E36: =$E$8*$E$5 -> #REF! | F36: =ROUND($F$8*D36,0) -> #REF! | G36: =D36+E36+F36 -> #REF! | H36: =ROUND(G36/$H$8,0) -> #REF!
A37: LX1302 | B37: 2 | C37: 2.94 | D37: =$E$5*C37 -> #REF! | E37: =$E$8*$E$5 -> #REF! | F37: =ROUND($F$8*D37,0) -> #REF! | G37: =D37+E37+F37 -> #REF! | H37: =ROUND(G37/$H$8,0) -> #REF!
A38: LX1303 | B38: 3 | C38: 3.44 | D38: =$E$5*C38 -> #REF! | E38: =$E$8*$E$5 -> #REF! | F38: =ROUND($F$8*D38,0) -> #REF! | G38: =D38+E38+F38 -> #REF! | H38: =ROUND(G38/$H$8,0) -> #REF!
A39: LX1304 | B39: 4 | C39: 4.05 | D39: =$E$5*C39 -> #REF! | E39: =$E$8*$E$5 -> #REF! | F39: =ROUND($F$8*D39,0) -> #REF! | G39: =D39+E39+F39 -> #REF! | H39: =ROUND(G39/$H$8,0) -> #REF!
A41: LX1400 | B41: 4. Xe t¶i, xe cÈu tõ 16,5 TÊn ®Õn d­íi 25 TÊn, xe kh¸ch tõ 60 ghÕ ®Õn d­íi 80 ghÕ
A42: LX1401 | B42: 1 | C42: 2.66 | D42: =$E$5*C42 -> #REF! | E42: =$E$8*$E$5 -> #REF! | F42: =ROUND($F$8*D42,0) -> #REF! | G42: =D42+E42+F42 -> #REF! | H42: =ROUND(G42/$H$8,0) -> #REF!
A43: LX1402 | B43: 2 | C43: 3.11 | D43: =$E$5*C43 -> #REF! | E43: =$E$8*$E$5 -> #REF! | F43: =ROUND($F$8*D43,0) -> #REF! | G43: =D43+E43+F43 -> #REF! | H43: =ROUND(G43/$H$8,0) -> #REF!
A44: LX1403 | B44: 3 | C44: 3.64 | D44: =$E$5*C44 -> #REF! | E44: =$E$8*$E$5 -> #REF! | F44: =ROUND($F$8*D44,0) -> #REF! | G44: =D44+E44+F44 -> #REF! | H44: =ROUND(G44/$H$8,0) -> #REF!
A45: LX1404 | B45: 4 | C45: 4.2 | D45: =$E$5*C45 -> #REF! | E45: =$E$8*$E$5 -> #REF! | F45: =ROUND($F$8*D45,0) -> #REF! | G45: =D45+E45+F45 -> #REF! | H45: =ROUND(G45/$H$8,0) -> #REF!
A47: LX1500 | B47: 5. Xe t¶i, xe cÈu tõ 25 TÊn ®Õn d­íi 40 TÊn, xe kh¸ch tõ 80 ghÕ trë lªn
A48: LX1501 | B48: 1 | C48: 2.99 | D48: =$E$5*C48 -> #REF! | E48: =$E$8*$E$5 -> #REF! | F48: =ROUND($F$8*D48,0) -> #REF! | G48: =D48+E48+F48 -> #REF! | H48: =ROUND(G48/$H$8,0) -> #REF!
A49: LX1502 | B49: 2 | C49: 3.5 | D49: =$E$5*C49 -> #REF! | E49: =$E$8*$E$5 -> #REF! | F49: =ROUND($F$8*D49,0) -> #REF! | G49: =D49+E49+F49 -> #REF! | H49: =ROUND(G49/$H$8,0) -> #REF!
A50: LX1503 | B50: 3 | C50: 4.11 | D50: =$E$5*C50 -> #REF! | E50: =$E$8*$E$5 -> #REF! | F50: =ROUND($F$8*D50,0) -> #REF! | G50: =D50+E50+F50 -> #REF! | H50: =ROUND(G50/$H$8,0) -> #REF!
A51: LX1504 | B51: 4 | C51: 4.82 | D51: =$E$5*C51 -> #REF! | E51: =$E$8*$E$5 -> #REF! | F51: =ROUND($F$8*D51,0) -> #REF! | G51: =D51+E51+F51 -> #REF! | H51: =ROUND(G51/$H$8,0) -> #REF!
A53: LX1600 | B53: 6. Xe t¶i, xe cÈu tõ 40 TÊn trë lªn
A54: LX1601 | B54: 1 | C54: 3.2 | D54: =$E$5*C54 -> #REF! | E54: =$E$8*$E$5 -> #REF! | F54: =ROUND($F$8*D54,0) -> #REF! | G54: =D54+E54+F54 -> #REF! | H54: =ROUND(G54/$H$8,0) -> #REF!
A55: LX1602 | B55: 2 | C55: 3.75 | D55: =$E$5*C55 -> #REF! | E55: =$E$8*$E$5 -> #REF! | F55: =ROUND($F$8*D55,0) -> #REF! | G55: =D55+E55+F55 -> #REF! | H55: =ROUND(G55/$H$8,0) -> #REF!
A56: LX1603 | B56: 3 | C56: 4.39 | D56: =$E$5*C56 -> #REF! | E56: =$E$8*$E$5 -> #REF! | F56: =ROUND($F$8*D56,0) -> #REF! | G56: =D56+E56+F56 -> #REF! | H56: =ROUND(G56/$H$8,0) -> #REF!
A57: LX1604 | B57: 4 | C57: 5.15 | D57: =$E$5*C57 -> #REF! | E57: =$E$8*$E$5 -> #REF! | F57: =ROUND($F$8*D57,0) -> #REF! | G57: =D57+E57+F57 -> #REF! | H57: =ROUND(G57/$H$8,0) -> #REF!

Sheet TLg Laitau (2)
B1: tiÒn l­¬ng ngµy c«ng thî ®iÒu khiÓn tµu biÓn vµ tµu s«ng
B2: ='TLg CN&Laixe (2)'!B3 -> (Theo N§110/2008/N§-CP ngµy 10/10/2008 cña ChÝnh phñ)
B4: L­¬ng tèi thiÓu : | E4: =#REF! -> #REF! | F4: ®ång
B6: BËc | C6: HS l­¬ng | D6: L­¬ng CB (=HS l­¬ng xLTT) | E6: Phô cÊp l­u ®éng 20% xLTT | F6: PC# 26%LCB (10% kh«ng æn ®Þnh sx, 12% l­¬ng phô, 4%kho¸n) | G6: Céng | H6: TiÒn l­¬ng ngµy c«ng (chia 26 ngµy)
E7: =SUMIF(#REF!,"LTT",#REF!) -> #REF! | F7: =SUMIF(#REF!,"LCB",#REF!) -> #REF! | H7: ='TLg CN&Laixe (2)'!H8 -> 26
A9: LT1 | B9: tµu vËn t¶i s«ng theo nhãm tµu - b.2 (trang 99)
B10: Nhãm I : Ph­¬ng tiÖn kh«ng cã ®éng c¬ cã träng t¶i toµn phÇn tõ 5 tÊn ®Õn 15 tÊn; ph­¬ng tiÖn cã träng t¶i
B11: ®éng c¬ cã c«ng suÊt m¸y chÝnh tõ 5 m· lùc ®Õn 15 m· lùc hoÆc søc chë tõ 5 ng­êi ®Õn 12 ng­êi.
B12: Nhãm 2 : Tµu kh¸ch cã søc chë tõ trªn 12 ng­êi ®Õn 50 ng­êi; phµ cã träng t¶i toµn phÇn ®Õn 50 tÊn; ®oµn lai
B13: cã träng t¶i toµn phÇn ®Õn 400 tÊn; ph­¬ng tiÖn cã tæng c«ng suÊt m¸y chÝnh tõ trªn 15 m· lùc ®Õn 150 m· lùc.
B14: Nhãm 3 : Tµu kh¸ch cã søc chë tõ trªn 50 ng­êi ®Õn 100 ng­êi; phµ cã träng t¶i toµn phÇn trªn 50 tÊn ®Õn
B15: 150 tÊn; ph­¬ng tiÖn chë hµng cã träng t¶i toµn phÇn trªn 150 tÊn ®Õn 500 tÊn; ®oµn lai cã träng t¶i toµn phÇn
B16: trªn 400 tÊn ®Õn 1000 tÊn, ph­¬ng tiÖn cã tæng c«ng suÊt m¸y chÝnh tõ trªn 150 m· lùc ®Õn 400 m· lùc.
B17: Nhãm 4 : Tµu kh¸ch cã søc chë trªn 100 ng­êi; phµ cã träng t¶i toµn phÇn trªn 150 tÊn, ph­¬ng tiÖn chë hµng
B18: cã träng t¶i toµn phÇn trªn 500 tÊn; ®oµn lai cã träng t¶i toµn phÇn trªn 1000 tÊn, ph­¬ng tiÖn cã tæng c«ng
B19: suÊt m¸y chÝnh trªn 400 m· lùc.
A21: LT1100 | B21: 1. ThuyÒn tr­ëng
A22: LT1110 | B22: - Nhãm I
A23: LT1111 | B23: 1 | C23: 2.81 | D23: =$E$4*C23 -> #REF! | E23: =$E$7*$E$4 -> #REF! | F23: =ROUND($F$7*D23,0) -> #REF! | G23: =D23+E23+F23 -> #REF! | H23: =ROUND(G23/$H$7,0) -> #REF!
A24: LT1112 | B24: 2 | C24: 2.99 | D24: =$E$4*C24 -> #REF! | E24: =$E$7*$E$4 -> #REF! | F24: =ROUND($F$7*D24,0) -> #REF! | G24: =D24+E24+F24 -> #REF! | H24: =ROUND(G24/$H$7,0) -> #REF!
A25: LT1120 | B25: - Nhãm II
A26: LT1121 | B26: 1 | C26: 3.73 | D26: =$E$4*C26 -> #REF! | E26: =$E$7*$E$4 -> #REF! | F26: =ROUND($F$7*D26,0) -> #REF! | G26: =D26+E26+F26 -> #REF! | H26: =ROUND(G26/$H$7,0) -> #REF!
A27: LT1122 | B27: 2 | C27: 3.91 | D27: =$E$4*C27 -> #REF! | E27: =$E$7*$E$4 -> #REF! | F27: =ROUND($F$7*D27,0) -> #REF! | G27: =D27+E27+F27 -> #REF! | H27: =ROUND(G27/$H$7,0) -> #REF!
A28: LT1130 | B28: - Nhãm III
A29: LT1131 | B29: 1 | C29: 4.14 | D29: =$E$4*C29 -> #REF! | E29: =$E$7*$E$4 -> #REF! | F29: =ROUND($F$7*D29,0) -> #REF! | G29: =D29+E29+F29 -> #REF! | H29: =ROUND(G29/$H$7,0) -> #REF!
A30: LT1132 | B30: 2 | C30: 4.36 | D30: =$E$4*C30 -> #REF! | E30: =$E$7*$E$4 -> #REF! | F30: =ROUND($F$7*D30,0) -> #REF! | G30: =D30+E30+F30 -> #REF! | H30: =ROUND(G30/$H$7,0) -> #REF!
A31: LT1140 | B31: - Nhãm IV
A32: LT1141 | B32: 1 | C32: 4.68 | D32: =$E$4*C32 -> #REF! | E32: =$E$7*$E$4 -> #REF! | F32: =ROUND($F$7*D32,0) -> #REF! | G32: =D32+E32+F32 -> #REF! | H32: =ROUND(G32/$H$7,0) -> #REF!
A33: LT1142 | B33: 2 | C33: 4.92 | D33: =$E$4*C33 -> #REF! | E33: =$E$7*$E$4 -> #REF! | F33: =ROUND($F$7*D33,0) -> #REF! | G33: =D33+E33+F33 -> #REF! | H33: =ROUND(G33/$H$7,0) -> #REF!
A35: LT1200 | B35: 2. §¹i phã, m¸y tr­ëng
A36: LT1210 | B36: - Nhãm I
A37: LT1211 | B37: 1 | C37: 2.51 | D37: =$E$4*C37 -> #REF! | E37: =$E$7*$E$4 -> #REF! | F37: =ROUND($F$7*D37,0) -> #REF! | G37: =D37+E37+F37 -> #REF! | H37: =ROUND(G37/$H$7,0) -> #REF!
A38: LT1212 | B38: 2 | C38: 2.66 | D38: =$E$4*C38 -> #REF! | E38: =$E$7*$E$4 -> #REF! | F38: =ROUND($F$7*D38,0) -> #REF! | G38: =D38+E38+F38 -> #REF! | H38: =ROUND(G38/$H$7,0) -> #REF!
A39: LT1220 | B39: - Nhãm II
A40: LT1221 | B40: 1 | C40: 3.17 | D40: =$E$4*C40 -> #REF! | E40: =$E$7*$E$4 -> #REF! | F40: =ROUND($F$7*D40,0) -> #REF! | G40: =D40+E40+F40 -> #REF! | H40: =ROUND(G40/$H$7,0) -> #REF!
A41: LT1222 | B41: 2 | C41: 3.3 | D41: =$E$4*C41 -> #REF! | E41: =$E$7*$E$4 -> #REF! | F41: =ROUND($F$7*D41,0) -> #REF! | G41: =D41+E41+F41 -> #REF! | H41: =ROUND(G41/$H$7,0) -> #REF!
A42: LT1230 | B42: - Nhãm III
A43: LT1231 | B43: 1 | C43: 3.55 | D43: =$E$4*C43 -> #REF! | E43: =$E$7*$E$4 -> #REF! | F43: =ROUND($F$7*D43,0) -> #REF! | G43: =D43+E43+F43 -> #REF! | H43: =ROUND(G43/$H$7,0) -> #REF!
A44: LT1232 | B44: 2 | C44: 3.76 | D44: =$E$4*C44 -> #REF! | E44: =$E$7*$E$4 -> #REF! | F44: =ROUND($F$7*D44,0) -> #REF! | G44: =D44+E44+F44 -> #REF! | H44: =ROUND(G44/$H$7,0) -> #REF!
A45: LT1240 | B45: - Nhãm IV
A46: LT1241 | B46: 1 | C46: 4.16 | D46: =$E$4*C46 -> #REF! | E46: =$E$7*$E$4 -> #REF! | F46: =ROUND($F$7*D46,0) -> #REF! | G46: =D46+E46+F46 -> #REF! | H46: =ROUND(G46/$H$7,0) -> #REF!
A47: LT1242 | B47: 2 | C47: 4.37 | D47: =$E$4*C47 -> #REF! | E47: =$E$7*$E$4 -> #REF! | F47: =ROUND($F$7*D47,0) -> #REF! | G47: =D47+E47+F47 -> #REF! | H47: =ROUND(G47/$H$7,0) -> #REF!
A49: LT1300 | B49: 3. ThuyÒn phã 2, m¸y 2
A50: LT1320 | B50: - Nhãm II
A51: LT1321 | B51: 1 | C51: 2.66 | D51: =$E$4*C51 -> #REF! | E51: =$E$7*$E$4 -> #REF! | F51: =ROUND($F$7*D51,0) -> #REF! | G51: =D51+E51+F51 -> #REF! | H51: =ROUND(G51/$H$7,0) -> #REF!
A52: LT1322 | B52: 2 | C52: 2.81 | D52: =$E$4*C52 -> #REF! | E52: =$E$7*$E$4 -> #REF! | F52: =ROUND($F$7*D52,0) -> #REF! | G52: =D52+E52+F52 -> #REF! | H52: =ROUND(G52/$H$7,0) -> #REF!
A53: LT1330 | B53: - Nhãm III
A54: LT1331 | B54: 1 | C54: 2.93 | D54: =$E$4*C54 -> #REF! | E54: =$E$7*$E$4 -> #REF! | F54: =ROUND($F$7*D54,0) -> #REF! | G54: =D54+E54+F54 -> #REF! | H54: =ROUND(G54/$H$7,0) -> #REF!
A55: LT1332 | B55: 2 | C55: 3.1 | D55: =$E$4*C55 -> #REF! | E55: =$E$7*$E$4 -> #REF! | F55: =ROUND($F$7*D55,0) -> #REF! | G55: =D55+E55+F55 -> #REF! | H55: =ROUND(G55/$H$7,0) -> #REF!
A56: LT1340 | B56: - Nhãm IV
A57: LT1341 | B57: 1 | C57: 3.55 | D57: =$E$4*C57 -> #REF! | E57: =$E$7*$E$4 -> #REF! | F57: =ROUND($F$7*D57,0) -> #REF! | G57: =D57+E57+F57 -> #REF! | H57: =ROUND(G57/$H$7,0) -> #REF!
A58: LT1342 | B58: 2 | C58: 3.76 | D58: =$E$4*C58 -> #REF! | E58: =$E$7*$E$4 -> #REF! | F58: =ROUND($F$7*D58,0) -> #REF! | G58: =D58+E58+F58 -> #REF! | H58: =ROUND(G58/$H$7,0) -> #REF!
A60: LT2000 | B60: tµu vËn t¶i s«ng kh«ng theo nhãm tµu - b.2 (trang 97)
A62: LT2100 | B62: 1. Thñy thñ
A63: LT2110 | B63: - Nhãm I (vËn t¶i däc s«ng)
A64: LT2111 | B64: 1 | C64: 1.93 | D64: =$E$4*C64 -> #REF! | E64: =$E$7*$E$4 -> #REF! | F64: =ROUND($F$7*D64,0) -> #REF! | G64: =D64+E64+F64 -> #REF! | H64: =ROUND(G64/$H$7,0) -> #REF!
A65: LT2112 | B65: 2 | C65: 2.18 | D65: =$E$4*C65 -> #REF! | E65: =$E$7*$E$4 -> #REF! | F65: =ROUND($F$7*D65,0) -> #REF! | G65: =D65+E65+F65 -> #REF! | H65: =ROUND(G65/$H$7,0) -> #REF!
A66: LT2113 | B66: 3 | C66: 2.51 | D66: =$E$4*C66 -> #REF! | E66: =$E$7*$E$4 -> #REF! | F66: =ROUND($F$7*D66,0) -> #REF! | G66: =D66+E66+F66 -> #REF! | H66: =ROUND(G66/$H$7,0) -> #REF!
A67: LT2114 | B67: 4 | C67: 2.83 | D67: =$E$4*C67 -> #REF! | E67: =$E$7*$E$4 -> #REF! | F67: =ROUND($F$7*D67,0) -> #REF! | G67: =D67+E67+F67 -> #REF! | H67: =ROUND(G67/$H$7,0) -> #REF!
A68: LT2120 | B68: - Nhãm II (vËn t¶i sang ngang)
A69: LT2121 | B69: 1 | C69: 2.12 | D69: =$E$4*C69 -> #REF! | E69: =$E$7*$E$4 -> #REF! | F69: =ROUND($F$7*D69,0) -> #REF! | G69: =D69+E69+F69 -> #REF! | H69: =ROUND(G69/$H$7,0) -> #REF!
A70: LT2122 | B70: 2 | C70: 2.39 | D70: =$E$4*C70 -> #REF! | E70: =$E$7*$E$4 -> #REF! | F70: =ROUND($F$7*D70,0) -> #REF! | G70: =D70+E70+F70 -> #REF! | H70: =ROUND(G70/$H$7,0) -> #REF!
A71: LT2123 | B71: 3 | C71: 2.76 | D71: =$E$4*C71 -> #REF! | E71: =$E$7*$E$4 -> #REF! | F71: =ROUND($F$7*D71,0) -> #REF! | G71: =D71+E71+F71 -> #REF! | H71: =ROUND(G71/$H$7,0) -> #REF!
A72: LT2124 | B72: 4 | C72: 3.11 | D72: =$E$4*C72 -> #REF! | E72: =$E$7*$E$4 -> #REF! | F72: =ROUND($F$7*D72,0) -> #REF! | G72: =D72+E72+F72 -> #REF! | H72: =ROUND(G72/$H$7,0) -> #REF!
A74: LT2200 | B74: 2. Thî m¸y, thî ®iÖn
A75: LT2210 | B75: - Nhãm I (vËn t¶i däc s«ng)
A76: LT2211 | B76: 1 | C76: 2.05 | D76: =$E$4*C76 -> #REF! | E76: =$E$7*$E$4 -> #REF! | F76: =ROUND($F$7*D76,0) -> #REF! | G76: =D76+E76+F76 -> #REF! | H76: =ROUND(G76/$H$7,0) -> #REF!
A77: LT2212 | B77: 2 | C77: 2.35 | D77: =$E$4*C77 -> #REF! | E77: =$E$7*$E$4 -> #REF! | F77: =ROUND($F$7*D77,0) -> #REF! | G77: =D77+E77+F77 -> #REF! | H77: =ROUND(G77/$H$7,0) -> #REF!
A78: LT2213 | B78: 3 | C78: 2.66 | D78: =$E$4*C78 -> #REF! | E78: =$E$7*$E$4 -> #REF! | F78: =ROUND($F$7*D78,0) -> #REF! | G78: =D78+E78+F78 -> #REF! | H78: =ROUND(G78/$H$7,0) -> #REF!
A79: LT2214 | B79: 4 | C79: 2.99 | D79: =$E$4*C79 -> #REF! | E79: =$E$7*$E$4 -> #REF! | F79: =ROUND($F$7*D79,0) -> #REF! | G79: =D79+E79+F79 -> #REF! | H79: =ROUND(G79/$H$7,0) -> #REF!
A80: LT2220 | B80: - Nhãm II (vËn t¶i sang ngang)
A81: LT2221 | B81: 1 | C81: 2.25 | D81: =$E$4*C81 -> #REF! | E81: =$E$7*$E$4 -> #REF! | F81: =ROUND($F$7*D81,0) -> #REF! | G81: =D81+E81+F81 -> #REF! | H81: =ROUND(G81/$H$7,0) -> #REF!
A82: LT2222 | B82: 2 | C82: 2.58 | D82: =$E$4*C82 -> #REF! | E82: =$E$7*$E$4 -> #REF! | F82: =ROUND($F$7*D82,0) -> #REF! | G82: =D82+E82+F82 -> #REF! | H82: =ROUND(G82/$H$7,0) -> #REF!
A83: LT2223 | B83: 3 | C83: 2.92 | D83: =$E$4*C83 -> #REF! | E83: =$E$7*$E$4 -> #REF! | F83: =ROUND($F$7*D83,0) -> #REF! | G83: =D83+E83+F83 -> #REF! | H83: =ROUND(G83/$H$7,0) -> #REF!
A84: LT2224 | B84: 4 | C84: 3.8 | D84: =$E$4*C84 -> #REF! | E84: =$E$7*$E$4 -> #REF! | F84: =ROUND($F$7*D84,0) -> #REF! | G84: =D84+E84+F84 -> #REF! | H84: =ROUND(G84/$H$7,0) -> #REF!
A87: LT3000 | B87: tµu vËn t¶i biÓn theo nhãm tµu - b.2 (trang 98)
A89: LT3100 | B89: 1. ThuyÒn tr­ëng
A90: LT3110 | B90: - D­íi 200 GRT
A91: LT3111 | B91: 1 | C91: 4.56 | D91: =$E$4*C91 -> #REF! | E91: =$E$7*$E$4 -> #REF! | F91: =ROUND($F$7*D91,0) -> #REF! | G91: =D91+E91+F91 -> #REF! | H91: =ROUND(G91/$H$7,0) -> #REF!
A92: LT3112 | B92: 2 | C92: 4.88 | D92: =$E$4*C92 -> #REF! | E92: =$E$7*$E$4 -> #REF! | F92: =ROUND($F$7*D92,0) -> #REF! | G92: =D92+E92+F92 -> #REF! | H92: =ROUND(G92/$H$7,0) -> #REF!
A93: LT3120 | B93: - Tõ 200 GRT ®Õn 499 GRT
A94: LT3121 | B94: 1 | C94: 4.88 | D94: =$E$4*C94 -> #REF! | E94: =$E$7*$E$4 -> #REF! | F94: =ROUND($F$7*D94,0) -> #REF! | G94: =D94+E94+F94 -> #REF! | H94: =ROUND(G94/$H$7,0) -> #REF!
A95: LT3122 | B95: 2 | C95: 5.19 | D95: =$E$4*C95 -> #REF! | E95: =$E$7*$E$4 -> #REF! | F95: =ROUND($F$7*D95,0) -> #REF! | G95: =D95+E95+F95 -> #REF! | H95: =ROUND(G95/$H$7,0) -> #REF!
A96: LT3130 | B96: - Tõ 500 GRT ®Õn 1599 GRT
A97: LT3131 | B97: 1 | C97: 5.19 | D97: =$E$4*C97 -> #REF! | E97: =$E$7*$E$4 -> #REF! | F97: =ROUND($F$7*D97,0) -> #REF! | G97: =D97+E97+F97 -> #REF! | H97: =ROUND(G97/$H$7,0) -> #REF!
A98: LT3132 | B98: 2 | C98: 5.41 | D98: =$E$4*C98 -> #REF! | E98: =$E$7*$E$4 -> #REF! | F98: =ROUND($F$7*D98,0) -> #REF! | G98: =D98+E98+F98 -> #REF! | H98: =ROUND(G98/$H$7,0) -> #REF!
A99: LT3140 | B99: - Tõ 1600 GRT ®Õn 5999 GRT
A100: LT3141 | B100: 1 | C100: 5.41 | D100: =$E$4*C100 -> #REF! | E100: =$E$7*$E$4 -> #REF! | F100: =ROUND($F$7*D100,0) -> #REF! | G100: =D100+E100+F100 -> #REF! | H100: =ROUND(G100/$H$7,0) -> #REF!
A101: LT3142 | B101: 2 | C101: 5.75 | D101: =$E$4*C101 -> #REF! | E101: =$E$7*$E$4 -> #REF! | F101: =ROUND($F$7*D101,0) -> #REF! | G101: =D101+E101+F101 -> #REF! | H101: =ROUND(G101/$H$7,0) -> #REF!
A102: LT3150 | B102: - Tõ 6000 GRT ®Õn 10000 GRT
A103: LT3151 | B103: 1 | C103: 6.16 | D103: =$E$4*C103 -> #REF! | E103: =$E$7*$E$4 -> #REF! | F103: =ROUND($F$7*D103,0) -> #REF! | G103: =D103+E103+F103 -> #REF! | H103: =ROUND(G103/$H$7,0) -> #REF!
A104: LT3152 | B104: 2 | C104: 6.5 | D104: =$E$4*C104 -> #REF! | E104: =$E$7*$E$4 -> #REF! | F104: =ROUND($F$7*D104,0) -> #REF! | G104: =D104+E104+F104 -> #REF! | H104: =ROUND(G104/$H$7,0) -> #REF!
A105: LT3160 | B105: - Tõ 10000 GRT trë lªn
A106: LT3161 | B106: 1 | C106: 6.65 | D106: =$E$4*C106 -> #REF! | E106: =$E$7*$E$4 -> #REF! | F106: =ROUND($F$7*D106,0) -> #REF! | G106: =D106+E106+F106 -> #REF! | H106: =ROUND(G106/$H$7,0) -> #REF!
A107: LT3162 | B107: 2 | C107: 7.15 | D107: =$E$4*C107 -> #REF! | E107: =$E$7*$E$4 -> #REF! | F107: =ROUND($F$7*D107,0) -> #REF! | G107: =D107+E107+F107 -> #REF! | H107: =ROUND(G107/$H$7,0) -> #REF!
A109: LT3200 | B109: 2. M¸y tr­ëng
A110: LT3210 | B110: - D­íi 200 GRT
A111: LT3211 | B111: 1 | C111: 4.36 | D111: =$E$4*C111 -> #REF! | E111: =$E$7*$E$4 -> #REF! | F111: =ROUND($F$7*D111,0) -> #REF! | G111: =D111+E111+F111 -> #REF! | H111: =ROUND(G111/$H$7,0) -> #REF!
A112: LT3212 | B112: 2 | C112: 4.56 | D112: =$E$4*C112 -> #REF! | E112: =$E$7*$E$4 -> #REF! | F112: =ROUND($F$7*D112,0) -> #REF! | G112: =D112+E112+F112 -> #REF! | H112: =ROUND(G112/$H$7,0) -> #REF!
A113: LT3220 | B113: - Tõ 200 GRT ®Õn 499 GRT
...

Sheet TLg CN&Laixe (2)
B2: tiÒn l­¬ng ngµy c«ng thî ®iÒu khiÓn m¸y XD vµ c«ng nh©n l¸i xe
B3: (Theo N§110/2008/N§-CP ngµy 10/10/2008 cña ChÝnh phñ)
B5: L­¬ng tèi thiÓu : | E5: =#REF! -> #REF! | F5: ®ång
B7: BËc | C7: HS l­¬ng | D7: L­¬ng CB (=HS l­¬ng xLTT) | E7: C¸c kho¶n phô cÊp tÝnh theo LTT | F7: C¸c kho¶n phô cÊp tÝnh theo l­¬ng c¬ b¶n | G7: Céng | H7: TiÒn l­¬ng ngµy c«ng (chia 26 ngµy)
E8: =SUMIF(#REF!,"LTT",#REF!) -> #REF! | F8: =SUMIF(#REF!,"LCB",#REF!) -> #REF! | H8: 26
A10: LM1000 | B10: X©y dùng c¬ b¶n - Nhãm II - A.1 (trang 64)
A12: LM1100 | B12: - VËn hµnh c¸c lo¹i m¸y x©y dùng
A13: LM1101 | B13: 1 | C13: 1.67 | D13: =$E$5*C13 -> #REF! | E13: =$E$8*$E$5 -> #REF! | F13: =ROUND($F$8*D13,0) -> #REF! | G13: =D13+E13+F13 -> #REF! | H13: =ROUND(G13/$H$8,0) -> #REF!
A14: LM1102 | B14: 2 | C14: 1.96 | D14: =$E$5*C14 -> #REF! | E14: =$E$8*$E$5 -> #REF! | F14: =ROUND($F$8*D14,0) -> #REF! | G14: =D14+E14+F14 -> #REF! | H14: =ROUND(G14/$H$8,0) -> #REF!
A15: LM1103 | B15: 3 | C15: 2.31 | D15: =$E$5*C15 -> #REF! | E15: =$E$8*$E$5 -> #REF! | F15: =ROUND($F$8*D15,0) -> #REF! | G15: =D15+E15+F15 -> #REF! | H15: =ROUND(G15/$H$8,0) -> #REF!
A16: LM1104 | B16: 4 | C16: 2.71 | D16: =$E$5*C16 -> #REF! | E16: =$E$8*$E$5 -> #REF! | F16: =ROUND($F$8*D16,0) -> #REF! | G16: =D16+E16+F16 -> #REF! | H16: =ROUND(G16/$H$8,0) -> #REF!
A17: LM1105 | B17: 5 | C17: 3.19 | D17: =$E$5*C17 -> #REF! | E17: =$E$8*$E$5 -> #REF! | F17: =ROUND($F$8*D17,0) -> #REF! | G17: =D17+E17+F17 -> #REF! | H17: =ROUND(G17/$H$8,0) -> #REF!
A18: LM1106 | B18: 6 | C18: 3.74 | D18: =$E$5*C18 -> #REF! | E18: =$E$8*$E$5 -> #REF! | F18: =ROUND($F$8*D18,0) -> #REF! | G18: =D18+E18+F18 -> #REF! | H18: =ROUND(G18/$H$8,0) -> #REF!
A19: LM1107 | B19: 7 | C19: 4.4 | D19: =$E$5*C19 -> #REF! | E19: =$E$8*$E$5 -> #REF! | F19: =ROUND($F$8*D19,0) -> #REF! | G19: =D19+E19+F19 -> #REF! | H19: =ROUND(G19/$H$8,0) -> #REF!
A21: LX1000 | B21: C«ng nh©n l¸i xe - B.12 (trang115)
A23: LX1100 | B23: 1. Xe con, taxi, xe t¶i, xe cÈu d­íi 3,5 TÊn, xe kh¸ch d­íi 20 ghÕ
A24: LX1101 | B24: 1 | C24: 2.18 | D24: =$E$5*C24 -> #REF! | E24: =$E$8*$E$5 -> #REF! | F24: =ROUND($F$8*D24,0) -> #REF! | G24: =D24+E24+F24 -> #REF! | H24: =ROUND(G24/$H$8,0) -> #REF!
A25: LX1102 | B25: 2 | C25: 2.57 | D25: =$E$5*C25 -> #REF! | E25: =$E$8*$E$5 -> #REF! | F25: =ROUND($F$8*D25,0) -> #REF! | G25: =D25+E25+F25 -> #REF! | H25: =ROUND(G25/$H$8,0) -> #REF!
A26: LX1103 | B26: 3 | C26: 3.05 | D26: =$E$5*C26 -> #REF! | E26: =$E$8*$E$5 -> #REF! | F26: =ROUND($F$8*D26,0) -> #REF! | G26: =D26+E26+F26 -> #REF! | H26: =ROUND(G26/$H$8,0) -> #REF!
A27: LX1104 | B27: 4 | C27: 3.6 | D27: =$E$5*C27 -> #REF! | E27: =$E$8*$E$5 -> #REF! | F27: =ROUND($F$8*D27,0) -> #REF! | G27: =D27+E27+F27 -> #REF! | H27: =ROUND(G27/$H$8,0) -> #REF!
A29: LX1200 | B29: 2. Xe t¶i, xe cÈu tõ 3,5 TÊn ®Õn d­íi 7,5 TÊn, xe kh¸ch tõ 20 ghÕ ®Õn d­íi 40 ghÕ
A30: LX1201 | B30: 1 | C30: 2.35 | D30: =$E$5*C30 -> #REF! | E30: =$E$8*$E$5 -> #REF! | F30: =ROUND($F$8*D30,0) -> #REF! | G30: =D30+E30+F30 -> #REF! | H30: =ROUND(G30/$H$8,0) -> #REF!
A31: LX1202 | B31: 2 | C31: 2.76 | D31: =$E$5*C31 -> #REF! | E31: =$E$8*$E$5 -> #REF! | F31: =ROUND($F$8*D31,0) -> #REF! | G31: =D31+E31+F31 -> #REF! | H31: =ROUND(G31/$H$8,0) -> #REF!
A32: LX1203 | B32: 3 | C32: 3.25 | D32: =$E$5*C32 -> #REF! | E32: =$E$8*$E$5 -> #REF! | F32: =ROUND($F$8*D32,0) -> #REF! | G32: =D32+E32+F32 -> #REF! | H32: =ROUND(G32/$H$8,0) -> #REF!
A33: LX1204 | B33: 4 | C33: 3.82 | D33: =$E$5*C33 -> #REF! | E33: =$E$8*$E$5 -> #REF! | F33: =ROUND($F$8*D33,0) -> #REF! | G33: =D33+E33+F33 -> #REF! | H33: =ROUND(G33/$H$8,0) -> #REF!
A35: LX1300 | B35: 3. Xe t¶i, xe cÈu tõ 7,5 TÊn ®Õn d­íi 16,5 TÊn, xe kh¸ch tõ 40 ghÕ ®Õn d­íi 60 ghÕ
A36: LX1301 | B36: 1 | C36: 2.51 | D36: =$E$5*C36 -> #REF! | E36: =$E$8*$E$5 -> #REF! | F36: =ROUND($F$8*D36,0) -> #REF! | G36: =D36+E36+F36 -> #REF! | H36: =ROUND(G36/$H$8,0) -> #REF!
A37: LX1302 | B37: 2 | C37: 2.94 | D37: =$E$5*C37 -> #REF! | E37: =$E$8*$E$5 -> #REF! | F37: =ROUND($F$8*D37,0) -> #REF! | G37: =D37+E37+F37 -> #REF! | H37: =ROUND(G37/$H$8,0) -> #REF!
A38: LX1303 | B38: 3 | C38: 3.44 | D38: =$E$5*C38 -> #REF! | E38: =$E$8*$E$5 -> #REF! | F38: =ROUND($F$8*D38,0) -> #REF! | G38: =D38+E38+F38 -> #REF! | H38: =ROUND(G38/$H$8,0) -> #REF!
A39: LX1304 | B39: 4 | C39: 4.05 | D39: =$E$5*C39 -> #REF! | E39: =$E$8*$E$5 -> #REF! | F39: =ROUND($F$8*D39,0) -> #REF! | G39: =D39+E39+F39 -> #REF! | H39: =ROUND(G39/$H$8,0) -> #REF!
A41: LX1400 | B41: 4. Xe t¶i, xe cÈu tõ 16,5 TÊn ®Õn d­íi 25 TÊn, xe kh¸ch tõ 60 ghÕ ®Õn d­íi 80 ghÕ
A42: LX1401 | B42: 1 | C42: 2.66 | D42: =$E$5*C42 -> #REF! | E42: =$E$8*$E$5 -> #REF! | F42: =ROUND($F$8*D42,0) -> #REF! | G42: =D42+E42+F42 -> #REF! | H42: =ROUND(G42/$H$8,0) -> #REF!
A43: LX1402 | B43: 2 | C43: 3.11 | D43: =$E$5*C43 -> #REF! | E43: =$E$8*$E$5 -> #REF! | F43: =ROUND($F$8*D43,0) -> #REF! | G43: =D43+E43+F43 -> #REF! | H43: =ROUND(G43/$H$8,0) -> #REF!
A44: LX1403 | B44: 3 | C44: 3.64 | D44: =$E$5*C44 -> #REF! | E44: =$E$8*$E$5 -> #REF! | F44: =ROUND($F$8*D44,0) -> #REF! | G44: =D44+E44+F44 -> #REF! | H44: =ROUND(G44/$H$8,0) -> #REF!
A45: LX1404 | B45: 4 | C45: 4.2 | D45: =$E$5*C45 -> #REF! | E45: =$E$8*$E$5 -> #REF! | F45: =ROUND($F$8*D45,0) -> #REF! | G45: =D45+E45+F45 -> #REF! | H45: =ROUND(G45/$H$8,0) -> #REF!
A47: LX1500 | B47: 5. Xe t¶i, xe cÈu tõ 25 TÊn ®Õn d­íi 40 TÊn, xe kh¸ch tõ 80 ghÕ trë lªn
A48: LX1501 | B48: 1 | C48: 2.99 | D48: =$E$5*C48 -> #REF! | E48: =$E$8*$E$5 -> #REF! | F48: =ROUND($F$8*D48,0) -> #REF! | G48: =D48+E48+F48 -> #REF! | H48: =ROUND(G48/$H$8,0) -> #REF!
A49: LX1502 | B49: 2 | C49: 3.5 | D49: =$E$5*C49 -> #REF! | E49: =$E$8*$E$5 -> #REF! | F49: =ROUND($F$8*D49,0) -> #REF! | G49: =D49+E49+F49 -> #REF! | H49: =ROUND(G49/$H$8,0) -> #REF!
A50: LX1503 | B50: 3 | C50: 4.11 | D50: =$E$5*C50 -> #REF! | E50: =$E$8*$E$5 -> #REF! | F50: =ROUND($F$8*D50,0) -> #REF! | G50: =D50+E50+F50 -> #REF! | H50: =ROUND(G50/$H$8,0) -> #REF!
A51: LX1504 | B51: 4 | C51: 4.82 | D51: =$E$5*C51 -> #REF! | E51: =$E$8*$E$5 -> #REF! | F51: =ROUND($F$8*D51,0) -> #REF! | G51: =D51+E51+F51 -> #REF! | H51: =ROUND(G51/$H$8,0) -> #REF!
A53: LX1600 | B53: 6. Xe t¶i, xe cÈu tõ 40 TÊn trë lªn
A54: LX1601 | B54: 1 | C54: 3.2 | D54: =$E$5*C54 -> #REF! | E54: =$E$8*$E$5 -> #REF! | F54: =ROUND($F$8*D54,0) -> #REF! | G54: =D54+E54+F54 -> #REF! | H54: =ROUND(G54/$H$8,0) -> #REF!
A55: LX1602 | B55: 2 | C55: 3.75 | D55: =$E$5*C55 -> #REF! | E55: =$E$8*$E$5 -> #REF! | F55: =ROUND($F$8*D55,0) -> #REF! | G55: =D55+E55+F55 -> #REF! | H55: =ROUND(G55/$H$8,0) -> #REF!
A56: LX1603 | B56: 3 | C56: 4.39 | D56: =$E$5*C56 -> #REF! | E56: =$E$8*$E$5 -> #REF! | F56: =ROUND($F$8*D56,0) -> #REF! | G56: =D56+E56+F56 -> #REF! | H56: =ROUND(G56/$H$8,0) -> #REF!
A57: LX1604 | B57: 4 | C57: 5.15 | D57: =$E$5*C57 -> #REF! | E57: =$E$8*$E$5 -> #REF! | F57: =ROUND($F$8*D57,0) -> #REF! | G57: =D57+E57+F57 -> #REF! | H57: =ROUND(G57/$H$8,0) -> #REF!

Sheet TONG HOP KINH PHI 
A2: BẢNG TỔNG HỢP CHI PHÍ XÂY DỰNG
A3: CÔNG TRÌNH : XÂY DỰNG KHU VUI CHƠI GIẢI TRÍ CHO TRẺ EM TẠI CÔNG VIÊN TAO ĐÀN
A4: ĐỊA ĐIỂM: QUẬN 1, TP. HCM
A6: STT | B6: Hạng mục | C6: Giá trị trước thuế | D6: Chi phí lán trại | E6: Thuế VAT | F6: Giá trị sau thuế
A7: 1 | B7: Hạng mục: Phần bó vỉa, sân nền | C7: =#REF! -> #REF! | D7: =C7*1% -> #REF! | E7: =(C7+D7)*10% -> #REF! | F7: =C7+D7+E7 -> #REF!
A8: =A7+1 -> 2 | B8: Hạng mục: Phân cây xanh | C8: =#REF! -> #REF! | D8: =C8*1% -> #REF! | E8: =(C8+D8)*10% -> #REF! | F8: =C8+D8+E8 -> #REF!
A9: =A8+1 -> 3 | B9: Hạng mục: Phần điện tổng thể - trong nhà | C9: =#REF! -> #REF! | D9: =C9*1% -> #REF! | E9: =(C9+D9)*10% -> #REF! | F9: =C9+D9+E9 -> #REF!
A10: =A9+1 -> 4 | B10: Hạng mục: Phần xây dựng khu trò chơi trong nhà | C10: =#REF! -> #REF! | D10: =C10*1% -> #REF! | E10: =(C10+D10)*10% -> #REF! | F10: =C10+D10+E10 -> #REF!
B11: CỘNG | C11: =SUM(C7:C10) -> #REF! | D11: =C11*1% -> #REF! | E11: =(C11+D11)*10% -> #REF! | F11: =C11+D11+E11 -> #REF!
A15: BẢNG TỔNG HỢP CHI PHÍ XÂY DỰNG
A19: STT | B19: Hạng mục | C19: Giá trị trước thuế | D19: Chi phí lán trại | E19: Thuế VAT | F19: Giá trị sau thuế
B20: A. XÂY LẮP | C20: =SUM(C21:C33) -> 2.0056146e+10 | D20: =SUM(D21:D33) -> 2.206176e+08 | E20: =SUM(E21:E33) -> 2.0056146e+09 | F20: =E20+D20+C20 -> 2.2282378e+10
A21: 1 | B21: PHÁ DỠ TẠO MẶT BẰNG + HÀNG RÀO + CỔNG CHÍNH. PHỤ | C21: ='[8]Tong hop kinh phi'!$D$19 -> 6.8086278e+08 | D21: =C21*1%*1.1 -> 7489490.6 | E21: =C21*0.1 -> 68086278 | F21: =ROUNDDOWN(E21+D21+C21,0) -> 756438548
A22: 2 | B22: NHÀ BẢO VỆ | C22: ='[9]Tong hop kinh phi'!$D$19 -> 62444875 | D22: =C22*1%*1.1 -> 686893.63 | E22: =C22*0.1 -> 6244487.5 | F22: =ROUNDDOWN(E22+D22+C22,0) -> 69376256
A23: 3 | B23: NHÀ ĐỂ MÁY BƠM | C23: ='[10]Tong hop kinh phi'!$D$19 -> 62444875 | D23: =C23*1%*1.1 -> 686893.63 | E23: =C23*0.1 -> 6244487.5 | F23: =ROUNDDOWN(E23+D23+C23,0) -> 69376256
A24: 4 | B24: NHÀ CHỜ HÌNH NẤM | C24: ='[11]Tong hop kinh phi'!$D$19 -> 29588960 | D24: =C24*1%*1.1 -> 325478.56 | E24: =C24*0.1 -> 2958896 | F24: =ROUNDDOWN(E24+D24+C24,0) -> 32873334
A25: 5 | B25: NHÀ ĐỂ BÌNH GAS | C25: ='[12]Tong hop kinh phi'!$D$19 -> 28265161 | D25: =C25*1%*1.1 -> 310916.77 | E25: =C25*0.1 -> 2826516.1 | F25: =ROUNDDOWN(E25+D25+C25,0) -> 31402593
A26: 6 | B26: NHÀ ĐỂ XE | C26: ='[13]Tong hop kinh phi'!$D$19 -> 30991330 | D26: =C26*1%*1.1 -> 340904.63 | E26: =C26*0.1 -> 3099133 | F26: =ROUNDDOWN(E26+D26+C26,0) -> 34431367
A27: 7 | B27: KHỐI NHÀ CHÍNH | C27: ='[14]Tong hop kinh phi'!$D$19 -> 1.4841532e+10 | D27: =C27*1%*1.1 -> 1.6325685e+08 | E27: =C27*0.1 -> 1.4841532e+09 | F27: =ROUNDDOWN(E27+D27+C27,0) -> 16488941795
A28: 8 | B28: CẦU THANG THOÁT HIỂM | C28: ='[15]Tong hop kinh phi'!$D$19 -> 1.6955218e+08 | D28: =C28*1%*1.1 -> 1865074 | E28: =C28*0.1 -> 16955218 | F28: =ROUNDDOWN(E28+D28+C28,0) -> 188372477
A29: 9 | B29: BỂ NƯỚC PHÒNG CHÁY CHỮA CHÁY + HỒ BƠI + HẦM TỰ HOẠI | C29: ='[16]Tong hop kinh phi'!$D$20 -> 7.321049e+08 | D29: =C29*1%*1.1 -> 8053153.9 | E29: =C29*0.1 -> 73210490 | F29: =ROUNDDOWN(E29+D29+C29,0) -> 813368543
A30: 10 | B30: HỆ THỐNG ĐIỆN | C30: ='[17]Tong hop kinh phi'!$D$20 -> 9.0139349e+08 | D30: =C30*1%*1.1 -> 9915328.4 | E30: =C30*0.1 -> 90139349 | F30: =ROUNDDOWN(E30+D30+C30,0) -> 1001448168
A31: 11 | B31: HỆ THỐNG CẤP THOÁT NƯỚC | C31: ='[18]Tong hop kinh phi'!$D$19 -> 1.0392591e+09 | D31: =C31*1%*1.1 -> 11431851 | E31: =C31*0.1 -> 1.0392591e+08 | F31: =ROUNDDOWN(E31+D31+C31,0) -> 1154616911
A32: 12 | B32: PHÒNG CHÁY CHỮA CHÁY VÀ BÁO CHÁY TỰ ĐỘNG | C32: ='[19]Tong hop kinh phi'!$D$19 -> 1.1611683e+09 | D32: =C32*1%*1.1 -> 12772851 | E32: =C32*0.1 -> 1.1611683e+08 | F32: =ROUNDDOWN(E32+D32+C32,0) -> 1290057939
A33: 13 | B33: NÂNG NỀN, LÁT SÂN, VỈA HÈ VÀ CHỒNG CÂY | C33: ='[20]Tong hop kinh phi'!$D$20 -> 3.1653815e+08 | D33: =C33*1%*1.1 -> 3481919.7 | E33: =C33*0.1 -> 31653815 | F33: =ROUNDDOWN(E33+D33+C33,0) -> 351673890
B34: B. THIẾT BỊ | C34: =C35 -> 4097070000 | E34: =E35 -> 409707000 | F34: =E34+C34 -> 4506777000
A35: 1 | B35: CUNG CẤP VÀ THI CÔNG LẮP ĐẶT THIẾT BỊ | C35: ='[21]PL1_Ket qua khao sat gia'!$I$1106 -> 4097070000 | E35: =C35*0.1 -> 409707000 | F35: =E35+C35 -> 4506777000
B37: TỔNG CỘNG A + B | C37: =C34+C20 -> 2.4153216e+10 | D37: =D20+D34 -> 2.206176e+08 | E37: =E34+E20 -> 2.4153216e+09 | F37: =+F20+F34 -> 2.6789155e+10

Sheet noi suy 975
A1: BẢNG TÍNH CHI PHÍ KHÁC
A2: I | B2: Định mức chi phí quản lý dự án và tư vấn đầu tư xây dựng công trình (Kèm theo Quyết định 957/QĐ-BXD - ngày 29/09/2009 của Bộ xây dựng) | M2: Tải văn bản này
A4: 1 | B4: Định mức chi phí quản lý dự án
B5: Loại công trình | C5: Chi phí xây dựng và thiết bị | O5: Nội suy | P5: Cận dưới | Q5: Cận trên
C6: 10 | D6: 20 | E6: 50 | F6: 100 | G6: 200 | H6: 500 | I6: 1000 | J6: 2000 | K6: 5000 | L6: 10000 | M6: 20000 | N6: 30000 | O6: ='TONG HOP KINH PHI '!C37/10^9 -> 24.153216 | P6: =IF(O6<C6,C6,IF(O6>N6,N6,HLOOKUP($O$6,C6:N6,1))) -> 20 | Q6: =IF(O6<C6,C6,IF(O6>N6,N6,INDEX(C6:N6,MATCH(O6,C6:N6,1)+1))) -> 50
B7: Công trình dân dụng | C7: 0.02524 | D7: 0.02141 | E7: 0.01912 | F7: 0.01537 | G7: 0.01436 | H7: 0.01254 | I7: 0.01026 | J7: 0.00793 | K7: 0.00589 | L7: 0.00442 | M7: 0.0033 | N7: 0.00264 | O7: =ROUND(TREND(P7:Q7,$P$6:$Q$6,$O$6),5) -> 0.02109 | P7: =HLOOKUP($P$6,$C$6:$N$11,2,TRUE) -> 0.02141 | Q7: =HLOOKUP($Q$6,$C$6:$N$11,2,FALSE) -> 0.01912
B8: Công trình công nghiệp | C8: 0.02657 | D8: 0.02254 | E8: 0.02013 | F8: 0.01617 | G8: 0.01512 | H8: 0.0132 | I8: 0.0108 | J8: 0.00931 | K8: 0.0062 | L8: 0.00465 | M8: 0.00347 | N8: 0.00278 | O8: =ROUND(TREND(P8:Q8,$P$6:$Q$6,$O$6),5) -> 0.02221 | P8: =HLOOKUP($P$6,$C$6:$N$11,3,TRUE) -> 0.02254 | Q8: =HLOOKUP($Q$6,$C$6:$N$11,3,FALSE) -> 0.02013
B9: Công trình giao thông | C9: 0.02259 | D9: 0.01916 | E9: 0.01711 | F9: 0.01375 | G9: 0.01285 | H9: 0.01122 | I9: 0.00918 | J9: 0.00791 | K9: 0.00827 | L9: 0.00395 | M9: 0.00295 | N9: 0.00236 | O9: =ROUND(TREND(P9:Q9,$P$6:$Q$6,$O$6),5) -> 0.01888 | P9: =HLOOKUP($P$6,$C$6:$N$11,4,TRUE) -> 0.01916 | Q9: =HLOOKUP($Q$6,$C$6:$N$11,4,FALSE) -> 0.01711
B10: Công trình thủy lợi | C10: 0.02391 | D10: 0.02029 | E10: 0.01811 | F10: 0.01455 | G10: 0.01361 | H10: 0.01188 | I10: 0.00972 | J10: 0.00838 | K10: 0.00558 | L10: 0.00419 | M10: 0.00313 | N10: 0.0025 | O10: =ROUND(TREND(P10:Q10,$P$6:$Q$6,$O$6),5) -> 0.01999 | P10: =HLOOKUP($P$6,$C$6:$N$11,5,TRUE) -> 0.02029 | Q10: =HLOOKUP($Q$6,$C$6:$N$11,5,FALSE) -> 0.01811
B11: Công trình hạ tầng kỹ thuật | C11: 0.02125 | D11: 0.01803 | E11: 0.0161 | F11: 0.01294 | G11: 0.0121 | H11: 0.01056 | I11: 0.00864 | J11: 0.00744 | K11: 0.00496 | L11: 0.00372 | M11: 0.00278 | N11: 0.00222 | O11: =ROUND(TREND(P11:Q11,$P$6:$Q$6,$O$6),5) -> 0.01776 | P11: =HLOOKUP($P$6,$C$6:$N$11,6,TRUE) -> 0.01803 | Q11: =HLOOKUP($Q$6,$C$6:$N$11,6,FALSE) -> 0.0161
A14: 2 | B14: Định mức chi phí lập dự án
B15: Loại công trình | C15: Chi phí xây dựng và thiết bị | O15: Nội suy | P15: Cận dưới | Q15: Cận trên
C16: 15 | D16: 20 | E16: 50 | F16: 100 | G16: 200 | H16: 500 | I16: 1000 | J16: 2000 | K16: 5000 | L16: 10000 | M16: 20000 | N16: 30000 | O16: =O6 -> 24.153216 | P16: =IF(O16<C16,C16,IF(O16>N16,N16,HLOOKUP($O$16,C16:N16,1))) -> 20 | Q16: =IF(O16<C16,C16,IF(O16>N16,N16,INDEX(C16:N16,MATCH(O16,C16:N16,1)+1))) -> 50
B17: Công trình dân dụng | C17: 0.00655 | D17: 0.00538 | E17: 0.00442 | F17: 0.00314 | G17: 0.00237 | H17: 0.00191 | I17: 0.00164 | J17: 0.00139 | K17: 0.00111 | L17: 0.00089 | M17: 0.0007 | N17: 0.00057 | O17: =ROUND(TREND(P17:Q17,$P$16:$Q$16,$O$16),5) -> 0.00525 | P17: =HLOOKUP($P$16,$C$16:$N$21,2,TRUE) -> 0.00538 | Q17: =HLOOKUP($Q$16,$C$16:$N$21,2,FALSE) -> 0.00442
B18: Công trình công nghiệp | C18: 0.00934 | D18: 0.00794 | E18: 0.0063 | F18: 0.00467 | G18: 0.00368 | H18: 0.00345 | I18: 0.00299 | J18: 0.00242 | K18: 0.00207 | L18: 0.00145 | M18: 0.00104 | N18: 0.00074 | O18: =ROUND(TREND(P18:Q18,$P$16:$Q$16,$O$16),5) -> 0.00771 | P18: =HLOOKUP($P$16,$C$16:$N$21,3,TRUE) -> 0.00794 | Q18: =HLOOKUP($Q$16,$C$16:$N$21,3,FALSE) -> 0.0063
B19: Công trình giao thông | C19: 0.00492 | D19: 0.00449 | E19: 0.00358 | F19: 0.00281 | G19: 0.00194 | H19: 0.0015 | I19: 0.00131 | J19: 0.00112 | K19: 0.00089 | L19: 0.00072 | M19: 0.00058 | N19: 0.00047 | O19: =ROUND(TREND(P19:Q19,$P$16:$Q$16,$O$16),5) -> 0.00436 | P19: =HLOOKUP($P$16,$C$16:$N$21,4,TRUE) -> 0.00449 | Q19: =HLOOKUP($Q$16,$C$16:$N$21,4,FALSE) -> 0.00358
B20: Công trình thủy lợi | C20: 0.00589 | D20: 0.00536 | E20: 0.00428 | F20: 0.003 | G20: 0.00226 | H20: 0.00182 | I20: 0.00156 | J20: 0.00134 | K20: 0.00107 | L20: 0.00086 | M20: 0.00069 | N20: 0.00056 | O20: =ROUND(TREND(P20:Q20,$P$16:$Q$16,$O$16),5) -> 0.00521 | P20: =HLOOKUP($P$16,$C$16:$N$21,5,TRUE) -> 0.00536 | Q20: =HLOOKUP($Q$16,$C$16:$N$21,5,FALSE) -> 0.00428
B21: Công trình hạ tầng kỹ thuật | C21: 0.00514 | D21: 0.00467 | E21: 0.00374 | F21: 0.00291 | G21: 0.002 | H21: 0.00156 | I21: 0.00137 | J21: 0.00117 | K21: 0.00094 | L21: 0.00075 | M21: 0.0006 | N21: 0.00048 | O21: =ROUND(TREND(P21:Q21,$P$16:$Q$16,$O$16),5) -> 0.00454 | P21: =HLOOKUP($P$16,$C$16:$N$21,6,TRUE) -> 0.00467 | Q21: =HLOOKUP($Q$16,$C$16:$N$21,6,FALSE) -> 0.00374
A24: 3 | B24: Định mức lập báo cáo KTKT
B25: Loại công trình | C25: Chi phí xây dựng và thiết bị | F25: Nội suy | G25: Cận dưới | H25: Cận trên
C26: 3 | D26: 7 | E26: 15 | F26: ='TONG MUC DAU TU'!C9/10^9 -> 20.056146 | G26: =IF($F$26<$C$26,$C$26,IF($F$26>$E$26,$E$26,HLOOKUP($F$26,$C$26:$E$26,1))) -> 15 | H26: =IF($F$26<$C$26,$C$26,IF($F$26>$E$26,$E$26,INDEX(C26:E26,MATCH(F26,C26:E26,1)+1))) -> 15
B27: Công trình dân dụng | C27: 0.036 | D27: 0.032 | E27: 0.028 | F27: =ROUND(TREND(G27:H27,$G$26:$H$26,$F$26),5) -> 0.028 | G27: =HLOOKUP($G$26,$C$26:$E$31,2,TRUE) -> 0.028 | H27: =HLOOKUP($H$26,$C$26:$E$31,2,TRUE) -> 0.028
B28: Công trình công nghiệp | C28: 0.037 | D28: 0.033 | E28: 0.029 | F28: =ROUND(TREND(G28:H28,$G$26:$H$26,$F$26),5) -> 0.029 | G28: =HLOOKUP($G$26,$C$26:$E$31,3,TRUE) -> 0.029 | H28: =HLOOKUP($H$26,$C$26:$E$31,3,TRUE) -> 0.029
B29: Công trình giao thông | C29: 0.028 | D29: 0.021 | E29: 0.019 | F29: =ROUND(TREND(G29:H29,$G$26:$H$26,$F$26),5) -> 0.019 | G29: =HLOOKUP($G$26,$C$26:$E$31,4,TRUE) -> 0.019 | H29: =HLOOKUP($H$26,$C$26:$E$31,4,TRUE) -> 0.019
B30: Công trình thủy lợi | C30: 0.034 | D30: 0.03 | E30: 0.028 | F30: =ROUND(TREND(G30:H30,$G$26:$H$26,$F$26),5) -> 0.028 | G30: =HLOOKUP($G$26,$C$26:$E$31,5,TRUE) -> 0.028 | H30: =HLOOKUP($H$26,$C$26:$E$31,5,TRUE) -> 0.028
B31: Công trình hạ tầng kỹ thuật | C31: 0.032 | D31: 0.026 | E31: 0.023 | F31: =ROUND(TREND(G31:H31,$G$26:$H$26,$F$26),5) -> 0.023 | G31: =HLOOKUP($G$26,$C$26:$E$31,6,TRUE) -> 0.023 | H31: =HLOOKUP($H$26,$C$26:$E$31,6,TRUE) -> 0.023
A34: 4 | B34: Định mức chi phí thiết kế
B36: Cấp công trình | C36: Chi phí xây dựng (chưa có thuế ) | N36: Nội suy | O36: STT | P36: Hệ số TKBVTC | Q36: Cận dưới | R36: Cận trên
C37: 7 | D37: 10 | E37: 20 | F37: 50 | G37: 100 | H37: 200 | I37: 500 | J37: 1000 | K37: 2000 | L37: 5000 | M37: 8000 | N37: ='TONG HOP KINH PHI '!C20/10^9 -> 20.056146 | Q37: =IF($N$37<$C$37,$C$37,IF($N$37>$M$37,$M$37,HLOOKUP($N$37,$C$37:$M$37,1))) -> 20 | R37: =IF($N$37<$C$37,$C$37,IF($N$37>$M$37,$M$37,INDEX(C37:M37,MATCH(N37,C37:M37,1)+1))) -> 50
B38: Công trình dân dụng - Thiết kế kỹ thuật - 3 bước (bảng 6 trang 16 QD957) | O38: 1
B39: Công trình dân dụng - 3 bước - Cấp đặc biệt | C39: 0 | D39: 0.0274 | E39: 0.0238 | F39: 0.02 | G39: 0.0182 | H39: 0.0166 | I39: 0.014 | J39: 0.0113 | K39: 0.0097 | L39: 0.0075 | M39: 0.0058 | N39: =ROUND(TREND(Q39:R39,$Q$37:$R$37,$N$37),5) -> 0.02379 | O39: 2 | P39: 0.55 | Q39: =HLOOKUP($Q$37,$C$37:$M$97,3,TRUE) -> 0.0238 | R39: =HLOOKUP($R$37,$C$37:$M$97,3,TRUE) -> 0.02
B40: Công trình dân dụng - 3 bước - Cấp I | C40: 0 | D40: 0.0248 | E40: 0.0217 | F40: 0.0182 | G40: 0.0164 | H40: 0.0151 | I40: 0.0127 | J40: 0.0103 | K40: 0.0089 | L40: 0.0068 | M40: 0.0053 | N40: =ROUND(TREND(Q40:R40,$Q$37:$R$37,$N$37),5) -> 0.02169 | O40: 3 | P40: 0.55 | Q40: =HLOOKUP($Q$37,$C$37:$M$97,4,TRUE) -> 0.0217 | R40: =HLOOKUP($R$37,$C$37:$M$97,4,TRUE) -> 0.0182
B41: Công trình dân dụng - 3 bước - Cấp II | C41: 0.0236 | D41: 0.0225 | E41: 0.0196 | F41: 0.0166 | G41: 0.0151 | H41: 0.0137 | I41: 0.0116 | J41: 0.0095 | K41: 0.008 | L41: 0.0062 | M41: 0.0047 | N41: =ROUND(TREND(Q41:R41,$Q$37:$R$37,$N$37),5) -> 0.01959 | O41: 4 | P41: 0.55 | Q41: =HLOOKUP($Q$37,$C$37:$M$97,5,TRUE) -> 0.0196 | R41: =HLOOKUP($R$37,$C$37:$M$97,5,TRUE) -> 0.0166
B42: Công trình dân dụng - 3 bước - Cấp III | C42: 0.0212 | D42: 0.0203 | E42: 0.0176 | F42: 0.0148 | G42: 0.0134 | H42: 0.0123 | I42: 0.0104 | J42: 0.0085 | K42: 0.0072 | L42: 0.0055 | M42: 0.0042 | N42: =ROUND(TREND(Q42:R42,$Q$37:$R$37,$N$37),5) -> 0.01759 | O42: 5 | P42: 0.55 | Q42: =HLOOKUP($Q$37,$C$37:$M$97,6,TRUE) -> 0.0176 | R42: =HLOOKUP($R$37,$C$37:$M$97,6,TRUE) -> 0.0148
B43: Công trình dân dụng - 3 bước - Cấp IV | C43: 0.0188 | D43: 0.018 | E43: 0.0157 | F43: 0.0123 | G43: 0.0104 | H43: 0.0088 | I43: 0.0075 | J43: 0.0061 | N43: =ROUND(TREND(Q43:R43,$Q$37:$R$37,$N$37),5) -> 0.01569 | O43: 6 | P43: 0.55 | Q43: =HLOOKUP($Q$37,$C$37:$M$97,7,TRUE) -> 0.0157 | R43: =HLOOKUP($R$37,$C$37:$M$97,7,TRUE) -> 0.0123
B44: Công trình dân dụng (thiết kế 2 bước) | O44: 7
B45: Công trình dân dụng - 2 bước - Cấp đặc biệt | D45: 0.0424 | E45: 0.0368 | F45: 0.031 | G45: 0.0282 | H45: 0.0257 | I45: 0.0217 | J45: 0.0175 | K45: 0.015 | L45: 0.0116 | M45: 0.009 | N45: =ROUND(TREND(Q45:R45,$Q$37:$R$37,$N$37),5) -> 0.03679 | O45: 8 | Q45: =HLOOKUP($Q$37,$C$37:$M$97,9,TRUE) -> 0.0368 | R45: =HLOOKUP($R$37,$C$37:$M$97,9,TRUE) -> 0.031
B46: Công trình dân dụng - 2 bước - Cấp I | D46: 0.0384 | E46: 0.0336 | F46: 0.0282 | G46: 0.0254 | H46: 0.0234 | I46: 0.0196 | J46: 0.0159 | K46: 0.0138 | L46: 0.0105 | M46: 0.0082 | N46: =ROUND(TREND(Q46:R46,$Q$37:$R$37,$N$37),5) -> 0.03359 | O46: 9 | Q46: =HLOOKUP($Q$37,$C$37:$M$97,10,TRUE) -> 0.0336 | R46: =HLOOKUP($R$37,$C$37:$M$97,10,TRUE) -> 0.0282
B47: Công trình dân dụng - 2 bước - Cấp II | C47: 0.0363 | D47: 0.0348 | E47: 0.0301 | F47: 0.0254 | G47: 0.0229 | H47: 0.021 | I47: 0.0179 | J47: 0.0145 | K47: 0.0124 | L47: 0.0096 | M47: 0.0073 | N47: =ROUND(TREND(Q47:R47,$Q$37:$R$37,$N$37),5) -> 0.03009 | O47: 10 | Q47: =HLOOKUP($Q$37,$C$37:$M$97,11,TRUE) -> 0.0301 | R47: =HLOOKUP($R$37,$C$37:$M$97,11,TRUE) -> 0.0254
B48: Công trình dân dụng - 2 bước - Cấp III | C48: 0.0327 | D48: 0.0315 | E48: 0.0273 | F48: 0.0229 | G48: 0.0208 | H48: 0.019 | I48: 0.0162 | J48: 0.0131 | K48: 0.0111 | L48: 0.0086 | M48: 0.0065 | N48: =ROUND(TREND(Q48:R48,$Q$37:$R$37,$N$37),5) -> 0.02729 | O48: 11 | Q48: =HLOOKUP($Q$37,$C$37:$M$97,12,TRUE) -> 0.0273 | R48: =HLOOKUP($R$37,$C$37:$M$97,12,TRUE) -> 0.0229
B49: Công trình dân dụng - 2 bước - Cấp IV | C49: 0.029 | D49: 0.0278 | E49: 0.0243 | F49: 0.0191 | G49: 0.0162 | H49: 0.0137 | I49: 0.0116 | J49: 0.0095 | N49: =ROUND(TREND(Q49:R49,$Q$37:$R$37,$N$37),5) -> 0.02429 | O49: 12 | Q49: =HLOOKUP($Q$37,$C$37:$M$97,13,TRUE) -> 0.0243 | R49: =HLOOKUP($R$37,$C$37:$M$97,13,TRUE) -> 0.0191
B50: Công trình công nghiệp (thiết kế 3 bước) | O50: 13
B51: Công trình công nghiệp - 3 bước - Cấp đặc biệt | D51: 0.0279 | E51: 0.0258 | F51: 0.0221 | G51: 0.0201 | H51: 0.0182 | I51: 0.0166 | J51: 0.0145 | K51: 0.0123 | L51: 0.0095 | M51: 0.0073 | N51: =ROUND(TREND(Q51:R51,$Q$37:$R$37,$N$37),5) -> 0.02579 | O51: 14 | P51: 0.6 | Q51: =HLOOKUP($Q$37,$C$37:$M$97,15,TRUE) -> 0.0258 | R51: =HLOOKUP($R$37,$C$37:$M$97,15,TRUE) -> 0.0221
B52: Công trình công nghiệp - 3 bước - Cấp I | D52: 0.0233 | E52: 0.0215 | F52: 0.0183 | G52: 0.0167 | H52: 0.0151 | I52: 0.0138 | J52: 0.0121 | K52: 0.0103 | L52: 0.0079 | M52: 0.0061 | N52: =ROUND(TREND(Q52:R52,$Q$37:$R$37,$N$37),5) -> 0.02149 | O52: 15 | P52: 0.6 | Q52: =HLOOKUP($Q$37,$C$37:$M$97,16,TRUE) -> 0.0215 | R52: =HLOOKUP($R$37,$C$37:$M$97,16,TRUE) -> 0.0183
B53: Công trình công nghiệp - 3 bước - Cấp II | C53: 0.0199 | D53: 0.0194 | E53: 0.0179 | F53: 0.0153 | G53: 0.0139 | H53: 0.0126 | I53: 0.0115 | J53: 0.0101 | K53: 0.0086 | L53: 0.0066 | M53: 0.0051 | N53: =ROUND(TREND(Q53:R53,$Q$37:$R$37,$N$37),5) -> 0.0179 | O53: 16 | P53: 0.6 | Q53: =HLOOKUP($Q$37,$C$37:$M$97,17,TRUE) -> 0.0179 | R53: =HLOOKUP($R$37,$C$37:$M$97,17,TRUE) -> 0.0153
B54: Công trình công nghiệp - 3 bước - Cấp III | C54: 0.0173 | D54: 0.0169 | E54: 0.0156 | F54: 0.0132 | G54: 0.012 | H54: 0.011 | I54: 0.0101 | J54: 0.009 | K54: 0.0077 | L54: 0.0059 | M54: 0.0046 | N54: =ROUND(TREND(Q54:R54,$Q$37:$R$37,$N$37),5) -> 0.0156 | O54: 17 | P54: 0.6 | Q54: =HLOOKUP($Q$37,$C$37:$M$97,18,TRUE) -> 0.0156 | R54: =HLOOKUP($R$37,$C$37:$M$97,18,TRUE) -> 0.0132
B55: Công trình công nghiệp - 3 bước - Cấp IV | C55: 0.0154 | D55: 0.015 | E55: 0.0139 | F55: 0.0117 | G55: 0.0108 | H55: 0.0092 | I55: 0.0078 | J55: 0.0067 | N55: =ROUND(TREND(Q55:R55,$Q$37:$R$37,$N$37),5) -> 0.0139 | O55: 18 | P55: 0.6 | Q55: =HLOOKUP($Q$37,$C$37:$M$97,19,TRUE) -> 0.0139 | R55: =HLOOKUP($R$37,$C$37:$M$97,19,TRUE) -> 0.0117
B56: Công trình công nghiệp (thiết kế 2 bước) | O56: 19
B57: Công trình công nghiệp - 2 bước - Cấp đặc biệt | D57: 0.0467 | E57: 0.0412 | F57: 0.0353 | G57: 0.0321 | H57: 0.0291 | I57: 0.0265 | J57: 0.0232 | K57: 0.0196 | L57: 0.0152 | M57: 0.0116 | N57: =ROUND(TREND(Q57:R57,$Q$37:$R$37,$N$37),5) -> 0.04119 | O57: 20 | Q57: =HLOOKUP($Q$37,$C$37:$M$97,21,TRUE) -> 0.0412 | R57: =HLOOKUP($R$37,$C$37:$M$97,21,TRUE) -> 0.0353
B58: Công trình công nghiệp - 2 bước - Cấp I | D58: 0.0373 | E58: 0.0344 | F58: 0.0292 | G58: 0.0267 | H58: 0.0241 | I58: 0.022 | J58: 0.0193 | K58: 0.0164 | L58: 0.0126 | M58: 0.0097 | N58: =ROUND(TREND(Q58:R58,$Q$37:$R$37,$N$37),5) -> 0.03439 | O58: 21 | Q58: =HLOOKUP($Q$37,$C$37:$M$97,22,TRUE) -> 0.0344 | R58: =HLOOKUP($R$37,$C$37:$M$97,22,TRUE) -> 0.0292
B59: Công trình công nghiệp - 2 bước - Cấp II | C59: 0.0307 | D59: 0.0299 | E59: 0.0276 | F59: 0.0235 | G59: 0.0215 | H59: 0.0194 | I59: 0.0177 | J59: 0.0155 | K59: 0.0132 | L59: 0.0102 | M59: 0.0078 | N59: =ROUND(TREND(Q59:R59,$Q$37:$R$37,$N$37),5) -> 0.02759 | O59: 22 | Q59: =HLOOKUP($Q$37,$C$37:$M$97,23,TRUE) -> 0.0276 | R59: =HLOOKUP($R$37,$C$37:$M$97,23,TRUE) -> 0.0235
B60: Công trình công nghiệp - 2 bước - Cấp III | C60: 0.0276 | D60: 0.0269 | E60: 0.0249 | F60: 0.0211 | G60: 0.0192 | H60: 0.0175 | I60: 0.0161 | J60: 0.0144 | K60: 0.0122 | L60: 0.0094 | M60: 0.0072 | N60: =ROUND(TREND(Q60:R60,$Q$37:$R$37,$N$37),5) -> 0.02489 | O60: 23 | Q60: =HLOOKUP($Q$37,$C$37:$M$97,24,TRUE) -> 0.0249 | R60: =HLOOKUP($R$37,$C$37:$M$97,24,TRUE) -> 0.0211
B61: Công trình công nghiệp - 2 bước - Cấp IV | C61: 0.0245 | D61: 0.0239 | E61: 0.0221 | F61: 0.0187 | G61: 0.0172 | H61: 0.0146 | I61: 0.0124 | J61: 0.0106 | N61: =ROUND(TREND(Q61:R61,$Q$37:$R$37,$N$37),5) -> 0.02209 | O61: 24 | Q61: =HLOOKUP($Q$37,$C$37:$M$97,25,TRUE) -> 0.0221 | R61: =HLOOKUP($R$37,$C$37:$M$97,25,TRUE) -> 0.0187
B62: Công trình giao thông (thiết kế 3 bước) | O62: 25
B63: Công trình giao thông - 3 bước - Cấp đặc biệt | D63: 0.0181 | E63: 0.0167 | F63: 0.0146 | G63: 0.0126 | H63: 0.01145 | I63: 0.0106 | J63: 0.0091 | K63: 0.0076 | L63: 0.0058 | M63: 0.0044 | N63: =ROUND(TREND(Q63:R63,$Q$37:$R$37,$N$37),5) -> 0.0167 | O63: 26 | P63: 0.55 | Q63: =HLOOKUP($Q$37,$C$37:$M$97,27,TRUE) -> 0.0167 | R63: =HLOOKUP($R$37,$C$37:$M$97,27,TRUE) -> 0.0146
B64: Công trình giao thông - 3 bước - Cấp I | D64: 0.0111 | E64: 0.0105 | F64: 0.0087 | G64: 0.0081 | H64: 0.0073 | I64: 0.0067 | J64: 0.0057 | K64: 0.0048 | L64: 0.0037 | M64: 0.0028 | N64: =ROUND(TREND(Q64:R64,$Q$37:$R$37,$N$37),5) -> 0.0105 | O64: 27 | P64: 0.55 | Q64: =HLOOKUP($Q$37,$C$37:$M$97,28,TRUE) -> 0.0105 | R64: =HLOOKUP($R$37,$C$37:$M$97,28,TRUE) -> 0.0087
B65: Công trình giao thông - 3 bước - Cấp II | C65: 0.0104 | D65: 0.0101 | E65: 0.0094 | F65: 0.008 | G65: 0.0073 | H65: 0.0067 | I65: 0.0061 | J65: 0.0052 | K65: 0.0044 | L65: 0.0034 | M65: 0.0026 | N65: =ROUND(TREND(Q65:R65,$Q$37:$R$37,$N$37),5) -> 0.0094 | O65: 28 | P65: 0.55 | Q65: =HLOOKUP($Q$37,$C$37:$M$97,29,TRUE) -> 0.0094 | R65: =HLOOKUP($R$37,$C$37:$M$97,29,TRUE) -> 0.008
B66: Công trình giao thông - 3 bước - Cấp III | C66: 0.0095 | D66: 0.0092 | E66: 0.0085 | F66: 0.0073 | G66: 0.0067 | H66: 0.0061 | I66: 0.005 | J66: 0.0042 | K66: 0.0024 | L66: 0.0028 | M66: 0.0021 | N66: =ROUND(TREND(Q66:R66,$Q$37:$R$37,$N$37),5) -> 0.0085 | O66: 29 | P66: 0.55 | Q66: =HLOOKUP($Q$37,$C$37:$M$97,30,TRUE) -> 0.0085 | R66: =HLOOKUP($R$37,$C$37:$M$97,30,TRUE) -> 0.0073
B67: Công trình giao thông - 3 bước - Cấp IV | C67: 0.0085 | D67: 0.0083 | E67: 0.0076 | F67: 0.0066 | G67: 0.006 | H67: 0.0051 | I67: 0.0043 | J67: 0.0037 | K67: 0.0031 | L67: 0.0024 | N67: =ROUND(TREND(Q67:R67,$Q$37:$R$37,$N$37),5) -> 0.0076 | O67: 30 | P67: 0.55 | Q67: =HLOOKUP($Q$37,$C$37:$M$97,31,TRUE) -> 0.0076 | R67: =HLOOKUP($R$37,$C$37:$M$97,31,TRUE) -> 0.0066
B68: Công trình giao thông (thiết kế 2 bước) | O68: 31
B69: Công trình giao thông - 2 bước - Cấp đặc biệt | D69: 0.028 | E69: 0.0258 | F69: 0.0221 | G69: 0.0201 | H69: 0.0182 | I69: 0.0166 | J69: 0.0145 | K69: 0.0123 | L69: 0.0095 | M69: 0.0073 | N69: =ROUND(TREND(Q69:R69,$Q$37:$R$37,$N$37),5) -> 0.02579 | O69: 32 | Q69: =HLOOKUP($Q$37,$C$37:$M$97,33,TRUE) -> 0.0258 | R69: =HLOOKUP($R$37,$C$37:$M$97,33,TRUE) -> 0.0221
B70: Công trình giao thông - 2 bước - Cấp I | D70: 0.0272 | E70: 0.0215 | F70: 0.0183 | G70: 0.0167 | H70: 0.0151 | I70: 0.0138 | J70: 0.0121 | K70: 0.0103 | L70: 0.0079 | M70: 0.0061 | N70: =ROUND(TREND(Q70:R70,$Q$37:$R$37,$N$37),5) -> 0.02149 | O70: 33 | Q70: =HLOOKUP($Q$37,$C$37:$M$97,34,TRUE) -> 0.0215 | R70: =HLOOKUP($R$37,$C$37:$M$97,34,TRUE) -> 0.0183
B71: Công trình giao thông - 2 bước - Cấp II | C71: 0.0161 | D71: 0.0156 | E71: 0.0145 | F71: 0.0123 | G71: 0.0112 | H71: 0.0103 | I71: 0.0093 | J71: 0.0079 | K71: 0.0067 | L71: 0.0052 | M71: 0.004 | N71: =ROUND(TREND(Q71:R71,$Q$37:$R$37,$N$37),5) -> 0.0145 | O71: 34 | Q71: =HLOOKUP($Q$37,$C$37:$M$97,35,TRUE) -> 0.0145 | R71: =HLOOKUP($R$37,$C$37:$M$97,35,TRUE) -> 0.0123
B72: Công trình giao thông - 2 bước - Cấp III | C72: 0.0146 | D72: 0.0142 | E72: 0.0131 | F72: 0.0113 | G72: 0.0103 | H72: 0.0092 | I72: 0.0077 | J72: 0.0065 | K72: 0.0055 | L72: 0.0042 | M72: 0.0032 | N72: =ROUND(TREND(Q72:R72,$Q$37:$R$37,$N$37),5) -> 0.0131 | O72: 35 | Q72: =HLOOKUP($Q$37,$C$37:$M$97,36,TRUE) -> 0.0131 | R72: =HLOOKUP($R$37,$C$37:$M$97,36,TRUE) -> 0.0113
B73: Công trình giao thông - 2 bước - Cấp IV | C73: 0.0131 | D73: 0.0128 | E73: 0.0118 | F73: 0.0101 | G73: 0.0092 | H73: 0.0078 | I73: 0.0066 | J73: 0.0057 | K73: 0.0048 | L73: 0.0037 | N73: =ROUND(TREND(Q73:R73,$Q$37:$R$37,$N$37),5) -> 0.0118 | O73: 36 | Q73: =HLOOKUP($Q$37,$C$37:$M$97,37,TRUE) -> 0.0118 | R73: =HLOOKUP($R$37,$C$37:$M$97,37,TRUE) -> 0.0101
B74: Công trình thủy lợi (thiết kế 3 bước) | O74: 37
B75: Công trình thủy lợi - 3 bước - Cấp đặc biệt | D75: 0.0259 | E75: 0.0225 | F75: 0.0191 | G75: 0.0172 | H75: 0.0157 | I75: 0.0134 | J75: 0.0113 | K75: 0.0096 | L75: 0.0074 | M75: 0.0057 | N75: =ROUND(TREND(Q75:R75,$Q$37:$R$37,$N$37),5) -> 0.02249 | O75: 38 | P75: 0.55 | Q75: =HLOOKUP($Q$37,$C$37:$M$97,39,TRUE) -> 0.0225 | R75: =HLOOKUP($R$37,$C$37:$M$97,39,TRUE) -> 0.0191
B76: Công trình thủy lợi - 3 bước - Cấp I | D76: 0.0235 | E76: 0.0205 | F76: 0.0173 | G76: 0.0155 | H76: 0.0143 | I76: 0.0121 | J76: 0.0102 | K76: 0.0087 | L76: 0.0067 | M76: 0.0051 | N76: =ROUND(TREND(Q76:R76,$Q$37:$R$37,$N$37),5) -> 0.02049 | O76: 39 | P76: 0.55 | Q76: =HLOOKUP($Q$37,$C$37:$M$97,40,TRUE) -> 0.0205 | R76: =HLOOKUP($R$37,$C$37:$M$97,40,TRUE) -> 0.0173
B77: Công trình thủy lợi - 3 bước - Cấp II | C77: 0.0222 | D77: 0.0213 | E77: 0.0186 | F77: 0.0157 | G77: 0.0142 | H77: 0.0131 | I77: 0.0106 | J77: 0.0091 | K77: 0.0076 | L77: 0.0058 | M77: 0.0045 | N77: =ROUND(TREND(Q77:R77,$Q$37:$R$37,$N$37),5) -> 0.01859 | O77: 40 | P77: 0.55 | Q77: =HLOOKUP($Q$37,$C$37:$M$97,41,TRUE) -> 0.0186 | R77: =HLOOKUP($R$37,$C$37:$M$97,41,TRUE) -> 0.0157
B78: Công trình thủy lợi - 3 bước - Cấp III | C78: 0.0201 | D78: 0.0193 | E78: 0.0167 | F78: 0.014 | G78: 0.0127 | H78: 0.0108 | I78: 0.0092 | J78: 0.0078 | K78: 0.0067 | L78: 0.0051 | M78: 0.004 | N78: =ROUND(TREND(Q78:R78,$Q$37:$R$37,$N$37),5) -> 0.01669 | O78: 41 | P78: 0.55 | Q78: =HLOOKUP($Q$37,$C$37:$M$97,42,TRUE) -> 0.0167 | R78: =HLOOKUP($R$37,$C$37:$M$97,42,TRUE) -> 0.014
B79: Công trình thủy lợi - 3 bước - Cấp IV | C79: 0.0177 | D79: 0.017 | E79: 0.0149 | F79: 0.011 | G79: 0.0093 | H79: 0.008 | I79: 0.0067 | J79: 0.0058 | K79: 0.0049 | L79: 0.0038 | N79: =ROUND(TREND(Q79:R79,$Q$37:$R$37,$N$37),5) -> 0.01489 | O79: 42 | P79: 0.55 | Q79: =HLOOKUP($Q$37,$C$37:$M$97,43,TRUE) -> 0.0149 | R79: =HLOOKUP($R$37,$C$37:$M$97,43,TRUE) -> 0.011
B80: Công trình thủy lợi (thiết kế 2 bước) | O80: 43
B81: Công trình thủy lợi - 2 bước - Cấp đặc biệt | D81: 0.0401 | E81: 0.0348 | F81: 0.0296 | G81: 0.0266 | H81: 0.0243 | I81: 0.0207 | J81: 0.0175 | K81: 0.0148 | L81: 0.0114 | M81: 0.0088 | N81: =ROUND(TREND(Q81:R81,$Q$37:$R$37,$N$37),5) -> 0.03479 | O81: 44 | Q81: =HLOOKUP($Q$37,$C$37:$M$97,45,TRUE) -> 0.0348 | R81: =HLOOKUP($R$37,$C$37:$M$97,45,TRUE) -> 0.0296
B82: Công trình thủy lợi - 2 bước - Cấp I | D82: 0.0364 | E82: 0.0317 | F82: 0.0268 | G82: 0.024 | H82: 0.0221 | I82: 0.0187 | J82: 0.0158 | K82: 0.0134 | L82: 0.0103 | M82: 0.0079 | N82: =ROUND(TREND(Q82:R82,$Q$37:$R$37,$N$37),5) -> 0.03169 | O82: 45 | Q82: =HLOOKUP($Q$37,$C$37:$M$97,46,TRUE) -> 0.0317 | R82: =HLOOKUP($R$37,$C$37:$M$97,46,TRUE) -> 0.0268
B83: Công trình thủy lợi - 2 bước - Cấp II | C83: 0.0342 | D83: 0.0329 | E83: 0.0287 | F83: 0.0241 | G83: 0.0219 | H83: 0.0201 | I83: 0.0162 | J83: 0.0138 | K83: 0.0117 | L83: 0.009 | M83: 0.0051 | N83: =ROUND(TREND(Q83:R83,$Q$37:$R$37,$N$37),5) -> 0.02869 | O83: 46 | Q83: =HLOOKUP($Q$37,$C$37:$M$97,47,TRUE) -> 0.0287 | R83: =HLOOKUP($R$37,$C$37:$M$97,47,TRUE) -> 0.0241
B84: Công trình thủy lợi - 2 bước - Cấp III | C84: 0.0311 | D84: 0.0298 | E84: 0.0258 | F84: 0.0216 | G84: 0.0196 | H84: 0.0167 | I84: 0.0142 | J84: 0.0121 | K84: 0.0103 | L84: 0.0079 | M84: 0.0046 | N84: =ROUND(TREND(Q84:R84,$Q$37:$R$37,$N$37),5) -> 0.02579 | O84: 47 | Q84: =HLOOKUP($Q$37,$C$37:$M$97,48,TRUE) -> 0.0258 | R84: =HLOOKUP($R$37,$C$37:$M$97,48,TRUE) -> 0.0216
B85: Công trình thủy lợi - 2 bước - Cấp IV | C85: 0.0274 | D85: 0.0263 | E85: 0.0231 | F85: 0.017 | G85: 0.0144 | H85: 0.0123 | I85: 0.0104 | J85: 0.0089 | K85: 0.0075 | L85: 0.0058 | N85: =ROUND(TREND(Q85:R85,$Q$37:$R$37,$N$37),5) -> 0.02309 | O85: 48 | Q85: =HLOOKUP($Q$37,$C$37:$M$97,49,TRUE) -> 0.0231 | R85: =HLOOKUP($R$37,$C$37:$M$97,49,TRUE) -> 0.017
B86: Công trình hạ tầng kỹ thuật (thiết kế 3 bước) | O86: 49
B87: Công trình hạ tầng kỹ thuật - 3 bước - Cấp đặc biệt | D87: 0.0195 | E87: 0.0169 | F87: 0.0142 | G87: 0.0129 | H87: 0.0118 | I87: 0.0099 | J87: 0.0084 | K87: 0.0072 | L87: 0.0055 | M87: 0.0042 | N87: =ROUND(TREND(Q87:R87,$Q$37:$R$37,$N$37),5) -> 0.01689 | O87: 50 | P87: 0.55 | Q87: =HLOOKUP($Q$37,$C$37:$M$97,51,TRUE) -> 0.0169 | R87: =HLOOKUP($R$37,$C$37:$M$97,51,TRUE) -> 0.0142
B88: Công trình hạ tầng kỹ thuật - 3 bước - Cấp I | D88: 0.0177 | E88: 0.0154 | F88: 0.0131 | G88: 0.0117 | H88: 0.0107 | I88: 0.0085 | J88: 0.0072 | K88: 0.0061 | L88: 0.0047 | M88: 0.0031 | N88: =ROUND(TREND(Q88:R88,$Q$37:$R$37,$N$37),5) -> 0.0154 | O88: 51 | P88: 0.55 | Q88: =HLOOKUP($Q$37,$C$37:$M$97,52,TRUE) -> 0.0154 | R88: =HLOOKUP($R$37,$C$37:$M$97,52,TRUE) -> 0.0131
B89: Công trình hạ tầng kỹ thuật - 3 bước - Cấp II | C89: 0.0168 | D89: 0.0161 | E89: 0.0141 | F89: 0.0118 | G89: 0.0106 | H89: 0.0098 | I89: 0.0078 | J89: 0.0067 | K89: 0.0057 | L89: 0.0044 | M89: 0.0029 | N89: =ROUND(TREND(Q89:R89,$Q$37:$R$37,$N$37),5) -> 0.0141 | O89: 52 | P89: 0.55 | Q89: =HLOOKUP($Q$37,$C$37:$M$97,53,TRUE) -> 0.0141 | R89: =HLOOKUP($R$37,$C$37:$M$97,53,TRUE) -> 0.0118
B90: Công trình hạ tầng kỹ thuật - 3 bước - Cấp III | C90: 0.015 | D90: 0.0144 | E90: 0.0126 | F90: 0.0105 | G90: 0.0096 | H90: 0.0084 | I90: 0.0076 | J90: 0.0064 | K90: 0.0055 | L90: 0.0042 | M90: 0.0027 | N90: =ROUND(TREND(Q90:R90,$Q$37:$R$37,$N$37),5) -> 0.0126 | O90: 53 | P90: 0.55 | Q90: =HLOOKUP($Q$37,$C$37:$M$97,54,TRUE) -> 0.0126 | R90: =HLOOKUP($R$37,$C$37:$M$97,54,TRUE) -> 0.0105
B91: Công trình hạ tầng kỹ thuật - 3 bước - Cấp IV | C91: 0.0134 | D91: 0.0128 | E91: 0.0111 | F91: 0.0088 | G91: 0.008 | H91: 0.006 | I91: 0.0058 | J91: 0.005 | K91: 0.0042 | L91: 0.0032 | N91: =ROUND(TREND(Q91:R91,$Q$37:$R$37,$N$37),5) -> 0.0111 | O91: 54 | P91: 0.55 | Q91: =HLOOKUP($Q$37,$C$37:$M$97,55,TRUE) -> 0.0111 | R91: =HLOOKUP($R$37,$C$37:$M$97,55,TRUE) -> 0.0088
B92: Công trình hạ tầng kỹ thuật (thiết kế 2 bước) | O92: 55
B93: Công trình hạ tầng kỹ thuật - 2 bước - Cấp đặc biệt | D93: 0.0302 | E93: 0.0261 | F93: 0.022 | G93: 0.0199 | H93: 0.0182 | I93: 0.0153 | J93: 0.013 | K93: 0.0111 | L93: 0.0085 | M93: 0.0065 | N93: =ROUND(TREND(Q93:R93,$Q$37:$R$37,$N$37),5) -> 0.02609 | O93: 56 | Q93: =HLOOKUP($Q$37,$C$37:$M$97,57,TRUE) -> 0.0261 | R93: =HLOOKUP($R$37,$C$37:$M$97,57,TRUE) -> 0.022
B94: Công trình hạ tầng kỹ thuật - 2 bước - Cấp I | D94: 0.0274 | E94: 0.0238 | F94: 0.0203 | G94: 0.0181 | H94: 0.0165 | I94: 0.0131 | J94: 0.0111 | K94: 0.0094 | L94: 0.0072 | M94: 0.0056 | N94: =ROUND(TREND(Q94:R94,$Q$37:$R$37,$N$37),5) -> 0.02379 | O94: 57 | Q94: =HLOOKUP($Q$37,$C$37:$M$97,58,TRUE) -> 0.0238 | R94: =HLOOKUP($R$37,$C$37:$M$97,58,TRUE) -> 0.0203
B95: Công trình hạ tầng kỹ thuật - 2 bước - Cấp II | C95: 0.0258 | D95: 0.0248 | E95: 0.0215 | F95: 0.0181 | G95: 0.0164 | H95: 0.0151 | I95: 0.0121 | J95: 0.0102 | K95: 0.0087 | L95: 0.0067 | M95: 0.0051 | N95: =ROUND(TREND(Q95:R95,$Q$37:$R$37,$N$37),5) -> 0.02149 | O95: 58 | Q95: =HLOOKUP($Q$37,$C$37:$M$97,59,TRUE) -> 0.0215 | R95: =HLOOKUP($R$37,$C$37:$M$97,59,TRUE) -> 0.0181
B96: Công trình hạ tầng kỹ thuật - 2 bước - Cấp III | C96: 0.0232 | D96: 0.0223 | E96: 0.0194 | F96: 0.0162 | G96: 0.0148 | H96: 0.0129 | I96: 0.0117 | J96: 0.0099 | K96: 0.0084 | L96: 0.0064 | M96: 0.0041 | N96: =ROUND(TREND(Q96:R96,$Q$37:$R$37,$N$37),5) -> 0.01939 | O96: 59 | Q96: =HLOOKUP($Q$37,$C$37:$M$97,60,TRUE) -> 0.0194 | R96: =HLOOKUP($R$37,$C$37:$M$97,60,TRUE) -> 0.0162
B97: Công trình hạ tầng kỹ thuật - 2 bước - Cấp IV | C97: 0.0207 | D97: 0.0198 | E97: 0.0172 | F97: 0.0135 | G97: 0.0123 | H97: 0.0092 | I97: 0.0089 | J97: 0.0076 | K97: 0.0064 | L97: 0.0049 | N97: =ROUND(TREND(Q97:R97,$Q$37:$R$37,$N$37),5) -> 0.01719 | O97: 60 | Q97: =HLOOKUP($Q$37,$C$37:$M$97,61,TRUE) -> 0.0172 | R97: =HLOOKUP($R$37,$C$37:$M$97,61,TRUE) -> 0.0135
A99: 5 | B99: Định mức chi phí thẩm tra tính hiệu quả và tính khả thi của dự án đầu tư (bảng 14)
B100: Loại công trình | C100: Chi phí xây dựng và thiết bị | O100: Nội suy | P100: Cận dưới | Q100: Cận trên
C101: 15 | D101: 20 | E101: 50 | F101: 100 | G101: 200 | H101: 500 | I101: 1000 | J101: 2000 | K101: 5000 | L101: 10000 | M101: 20000 | N101: 30000 | O101: =([22]THKP957!$L$5+[22]THKP957!$L$7)/10^9 -> 20 | P101: =IF(O101<C101,C101,IF(O101>N101,N101,HLOOKUP($O$101,C101:N101,1))) -> 20 | Q101: =IF(O101<C101,C101,IF(O101>N101,N101,INDEX(C101:N101,MATCH(O101,C101:N101,1)+1))) -> 50
B102: Công trình dân dụng | C102: 0.00098 | D102: 0.00081 | E102: 0.00066 | F102: 0.00047 | G102: 0.00035 | H102: 0.00023 | I102: 0.0002 | J102: 0.00017 | K102: 0.00014 | L102: 0.0001 | M102: 8e-05 | N102: 6e-05 | O102: =ROUND(TREND(P102:Q102,$P$101:$Q$101,$O$101),5) -> 0.00081 | P102: =HLOOKUP($P$101,$C$101:$N$106,2,TRUE) -> 0.00081 | Q102: =HLOOKUP($Q$101,$C$101:$N$106,2,TRUE) -> 0.00066
B103: Công trình công nghiệp | C103: 0.0014 | D103: 0.00119 | E103: 0.00095 | F103: 0.0007 | G103: 0.00055 | H103: 0.00041 | I103: 0.00036 | J103: 0.00029 | K103: 0.00025 | L103: 0.00015 | M103: 0.0001 | N103: 7e-05 | O103: =ROUND(TREND(P103:Q103,$P$101:$Q$101,$O$101),5) -> 0.00119 | P103: =HLOOKUP($P$101,$C$101:$N$106,3,TRUE) -> 0.00119 | Q103: =HLOOKUP($Q$101,$C$101:$N$106,3,TRUE) -> 0.00095
B104: Công trình giao thông | C104: 0.00074 | D104: 0.00067 | E104: 0.00054 | F104: 0.00042 | G104: 0.00029 | H104: 0.00018 | I104: 0.00016 | J104: 0.00013 | K104: 0.00011 | L104: 7e-05 | M104: 5e-05 | N104: 4e-05 | O104: =ROUND(TREND(P104:Q104,$P$101:$Q$101,$O$101),5) -> 0.00067 | P104: =HLOOKUP($P$101,$C$101:$N$106,4,TRUE) -> 0.00067 | Q104: =HLOOKUP($Q$101,$C$101:$N$106,4,TRUE) -> 0.00054
B105: Công trình thủy lợi | C105: 0.00088 | D105: 0.0008 | E105: 0.00064 | F105: 0.00045 | G105: 0.00034 | H105: 0.00022 | I105: 0.00019 | J105: 0.00016 | K105: 0.00013 | L105: 9e-05 | M105: 7e-05 | N105: 5e-05 | O105: =ROUND(TREND(P105:Q105,$P$101:$Q$101,$O$101),5) -> 0.0008 | P105: =HLOOKUP($P$101,$C$101:$N$106,5,TRUE) -> 0.0008 | Q105: =HLOOKUP($Q$101,$C$101:$N$106,5,TRUE) -> 0.00064
B106: Công trình hạ tầng kỹ thuật | C106: 0.00077 | D106: 0.0007 | E106: 0.00056 | F106: 0.00044 | G106: 0.0003 | H106: 0.00019 | I106: 0.00017 | J106: 0.00014 | K106: 0.00012 | L106: 8e-05 | M106: 6e-05 | N106: 4e-05 | O106: =ROUND(TREND(P106:Q106,$P$101:$Q$101,$O$101),5) -> 0.0007 | P106: =HLOOKUP($P$101,$C$101:$N$106,6,TRUE) -> 0.0007 | Q106: =HLOOKUP($Q$101,$C$101:$N$106,6,TRUE) -> 0.00056
A108: 6 | B108: Định mức thẩm tra thiết kế kỹ thuật (bảng 15)
B109: Loại công trình | C109: Chi phí xây dựng | M109: Nội suy | N109: Cận dưới | O109: Cận trên
C110: 10 | D110: 20 | E110: 50 | F110: 100 | G110: 200 | H110: 500 | I110: 1000 | J110: 2000 | K110: 5000 | L110: 8000 | M110: =([22]THKP957!$L$5)/10^9 -> 0 | N110: =IF(M110<C110,C110,IF(M110>L110,L110,HLOOKUP($M$110,C110:L110,1))) -> 10 | O110: =IF(M110<C110,C110,IF(M110>L110,L110,INDEX(C110:L110,MATCH(M110,C110:L110,1)+1))) -> 10
...
