Workbook
Name bang1: Bang1!$F$4:$H$11
Name CotSo1: Bang1!$G$4:$G$11
Name CotSo2: Bang1!$H$4:$H$11
Name STT: Bang1!$F$4:$F$11

Sheet Bang1
F1: BẢNG 1
F2: STT | G2: Cột số 1 | H2: Cột số 2
F3: =ROW() -> 3
F4: =ROW()-$F$3 -> 1 | G4: Cộng
F5: =ROW()-$F$3 -> 2 | G5: Hòa | H5: Độc
F6: =ROW()-$F$3 -> 3 | G6: Xã | H6: Lập
F7: =ROW()-$F$3 -> 4 | G7: Hội | H7: Tự
F8: =ROW()-$F$3 -> 5 | G8: Chủ | H8: Do
F9: =ROW()-$F$3 -> 6 | G9: Nghĩa | H9: Hạnh
F10: =ROW()-$F$3 -> 7 | G10: Việt | H10: Phúc
F11: =ROW()-$F$3 -> 8 | G11: Nam

Sheet Bang2
E1: NHỜ MỌI NGƯỜI GIÚP ĐỠ
E4: BẢNG 2
E5: STT | F5: CÔNG THỨC
E6: =ROW() -> 6
E7: =Bang1!F4 -> 1 | F7: =VLOOKUP(E7,bang1,2) -> Cộng | G7: =VLOOKUP(E7,bang1,3) -> 0
E8: =Bang1!F5 -> 2 | F8: =VLOOKUP(E8,bang1,2) -> Hòa | G8: =VLOOKUP(E8,bang1,3) -> Độc
E9: =Bang1!F6 -> 3 | F9: =VLOOKUP(E9,bang1,2) -> Xã | G9: =VLOOKUP(E9,bang1,3) -> Lập
E10: =Bang1!F7 -> 4 | F10: =VLOOKUP(E10,bang1,2) -> Hội | G10: =VLOOKUP(E10,bang1,3) -> Tự
E11: =Bang1!F8 -> 5 | F11: =VLOOKUP(E11,bang1,2) -> Chủ | G11: =VLOOKUP(E11,bang1,3) -> Do
E12: =Bang1!F9 -> 6 | F12: =VLOOKUP(E12,bang1,2) -> Nghĩa | G12: =VLOOKUP(E12,bang1,3) -> Hạnh
E13: =Bang1!F10 -> 7 | F13: =VLOOKUP(E13,bang1,2) -> Việt | G13: =VLOOKUP(E13,bang1,3) -> Phúc
E14: =Bang1!F11 -> 8 | F14: =VLOOKUP(E14,bang1,2) -> Nam | G14: =VLOOKUP(E14,bang1,3) -> 0
D16: Mục đích | E16: Khi THÊM dòng, hay XÓA dòng bất kỳ trong vùng bảng 1. Thì vùng bảng 2 sẽ tự cập nhật THÊM hoặc XÓA dòng tương ứng các dữ liệu như bảng 1./.
F17: Ví dụ: (Hiện tại)
E18: Nếu | F18: Bảng 1: Chèn THÊM dòng, giữa dòng 7 và dòng 8. Thì ở bảng 2, tại cột STT, (Xảy ra lỗi) Không cập nhật số STT là số 5.
E19: Hoặc Nếu | F19: Bảng 1: XÓA dòng 8. Thì ở bảng 2, cột STT, sẽ xảy ra lỗi #REF!
D21: Lưu ý: | E21: Bảng 1 và bảng 2 đều làm việc ở kiểu mảng
E22: VBA có giải quyết được bài toán này không. Nếu có thì quá tốt. Vì thực tế, trong công việc, dữ liệu sẽ rất lớn.
D23: Chân thành cảm ơn ./.
