Workbook
Name chuong_1: 'luong lai may'!$B$7
Name chuong_1: 'may thi cong'!$B$7
Name chuong_1_name: 'luong lai may'!$B$9
Name chuong_1_name: 'may thi cong'!$B$9
Name chuong_2: 'luong lai may'!#REF!
Name chuong_2: 'may thi cong'!#REF!
Name chuong_2_name: 'luong lai may'!#REF!
Name chuong_2_name: 'may thi cong'!#REF!

Sheet may thi cong
C2: BẢNG XÁC ĐỊNH GIÁ CA MÁY VÀ THIẾT BỊ THI CÔNG
B3: Căn cứ:
B4: - Theo QĐ 1134/QĐ-BXD ngày 08/10/2015 về việc công bố định mức các hao phí xác định giá ca máy và thiết bị thi công xây dựng | M4: Hệ số: | N4: diezel: 1,02-1,05 | P4: 1.05 | R4: Giá trị thu hồi:
B5: - Theo TT05/2016-BXD ngày 10/03/2016 về việc hướng dẫn xác định đơn giá nhân công trong quản lý chi phí đầu tư xây dựng | N5: xăng: 1,01-1,03 | P5: 1.03 | R5: - Nếu nguyên giá >=30.000.000 đồng thì thu hồi 10% nguyên giá
B6: - Thông tư 06/2016-BXD ngày 10/03/2016 về việc hướng dẫn xác định và quản lý chi phí đầu tư xây dựng | N6: kWh: 1,03-1,07 | P6: 1.07 | R6: - Nếu nguyên giá <30.000.000 đồng thì thu hồi 0% nguyên giá
B7: - Theo TT06/2010-BXD hướng dẫn xác định giá ca máy thiết bị (lấy nguyên giá máy theo TT06/2010-BXD)
B8: - Giá bán lẻ xăng dầu của tập đoàn Petrolimex, giá bán điện của tập đoàn Điện lực | M8: Giá NL (đồng) | N8: diezel | O8: xăng | P8: kWh
N9: 14400 | O9: 15960 | P9: 2320
B11: Mã hiệu | C11: Loại máy và thiết bị | D11: Số ca năm | E11: Định mức (%) | J11: Định mức tiêu hao nhiên liệu, năng lượng | L11: Nhân công điều khiển máy | M11: Nguyên giá | N11: Chi phí khấu hao | O11: Chi phí sửa chữa | P11: Chi phí khác | Q11: Chi phí nhiên liệu, năng lượng | R11: Chi phí tiền lương | S11: Giá ca máy
E12: Khấu hao | G12: Sửa chữa | H12: Chi phí khác | M12: (1000 VNĐ) | N12: CPKH | O12: CPSC | P12: CPK | Q12: CPNL | R12: CPTL | S12: đồng
B13: 1 | C13: 2 | D13: 3 | E13: 4 | G13: 5 | H13: 6 | J13: 7 | L13: 8 | M13: 9 | N13: 10 | O13: 11 | P13: 12 | Q13: 13 | R13: 14 | S13: 15
B14: M101.0000 | C14: MÁY THI CÔNG ĐẤT VÀ LU LÈN
B15: M101.0100 | C15: Máy đào một gầu, bánh xích - dung tích gầu:
B16: M101.0101 | C16: 0,40 m3 | D16: 260 | E16: 17 | F16: 5.8 | H16: 5 | J16: 43 | K16: lít diezel | L16: 1x4/7 | M16: 731700 | N16: =+IF(M16>=30000,(M16-M16*10%)*1000*E16%/D16,M16*E16%*1000/D16) -> 430577.31 | O16: =+IFERROR(IF(ISNUMBER(B16),"",M16*F16%*1000/D16),"") -> 163225.38 | P16: =+IFERROR(IF(ISNUMBER(B16),"",M16*H16%*1000/D16),"") -> 140711.54 | Q16: =+IF(RIGHT(K16,3)="zel",$N$9*$P$4*$J16,IF(RIGHT(K16,3)="ăng",$J16*$O$9*$P$5,IF(RIGHT(K16,3)="kWh",$J16*$P$9*$P$6,0))) -> 650160 | R16: =+VLOOKUP(B16,'luong lai may'!$B$16:$E$611,4,0) -> 196154 | S16: =+ROUND(SUM(N16:R16),0) -> 1580828
B17: M101.0102 | C17: 0,50 m3 | D17: 260 | E17: 17 | F17: 5.8 | H17: 5 | J17: 51 | K17: lít diezel | L17: 1x4/7 | M17: 860200 | N17: =+IF(M17>=30000,(M17-M17*10%)*1000*E17%/D17,M17*E17%*1000/D17) -> 506194.62 | O17: =+IFERROR(IF(ISNUMBER(B17),"",M17*F17%*1000/D17),"") -> 191890.77 | P17: =+IFERROR(IF(ISNUMBER(B17),"",M17*H17%*1000/D17),"") -> 165423.08 | Q17: =+IF(RIGHT(K17,3)="zel",$N$9*$P$4*$J17,IF(RIGHT(K17,3)="ăng",$J17*$O$9*$P$5,IF(RIGHT(K17,3)="kWh",$J17*$P$9*$P$6,0))) -> 771120 | R17: =+VLOOKUP(B17,'luong lai may'!$B$16:$E$611,4,0) -> 196154 | S17: =+ROUND(SUM(N17:R17),0) -> 1830782
B18: M101.0103 | C18: 0,65 m3 | D18: 260 | E18: 17 | F18: 5.8 | H18: 5 | J18: 59 | K18: lít diezel | L18: 1x3/7+1x5/7 | M18: 971700 | N18: =+IF(M18>=30000,(M18-M18*10%)*1000*E18%/D18,M18*E18%*1000/D18) -> 571808.08 | O18: =+IFERROR(IF(ISNUMBER(B18),"",M18*F18%*1000/D18),"") -> 216763.85 | P18: =+IFERROR(IF(ISNUMBER(B18),"",M18*H18%*1000/D18),"") -> 186865.38 | Q18: =+IF(RIGHT(K18,3)="zel",$N$9*$P$4*$J18,IF(RIGHT(K18,3)="ăng",$J18*$O$9*$P$5,IF(RIGHT(K18,3)="kWh",$J18*$P$9*$P$6,0))) -> 892080 | R18: =+VLOOKUP(B18,'luong lai may'!$B$16:$E$611,4,0) -> 397692 | S18: =+ROUND(SUM(N18:R18),0) -> 2265209
B19: M101.0104 | C19: 0,80 m3 | D19: 260 | E19: 17 | F19: 5.8 | H19: 5 | J19: 65 | K19: lít diezel | L19: 1x3/7+1x5/7 | M19: 1068900 | N19: =+IF(M19>=30000,(M19-M19*10%)*1000*E19%/D19,M19*E19%*1000/D19) -> 629006.54 | O19: =+IFERROR(IF(ISNUMBER(B19),"",M19*F19%*1000/D19),"") -> 238446.92 | P19: =+IFERROR(IF(ISNUMBER(B19),"",M19*H19%*1000/D19),"") -> 205557.69 | Q19: =+IF(RIGHT(K19,3)="zel",$N$9*$P$4*$J19,IF(RIGHT(K19,3)="ăng",$J19*$O$9*$P$5,IF(RIGHT(K19,3)="kWh",$J19*$P$9*$P$6,0))) -> 982800 | R19: =+VLOOKUP(B19,'luong lai may'!$B$16:$E$611,4,0) -> 397692 | S19: =+ROUND(SUM(N19:R19),0) -> 2453503
B20: M101.0105 | C20: 1,25 m3 | D20: 260 | E20: 17 | F20: 5.8 | H20: 5 | J20: 83 | K20: lít diezel | L20: 1x4/7+1x6/7 | M20: 1683600 | N20: =+IF(M20>=30000,(M20-M20*10%)*1000*E20%/D20,M20*E20%*1000/D20) -> 990733.85 | O20: =+IFERROR(IF(ISNUMBER(B20),"",M20*F20%*1000/D20),"") -> 375572.31 | P20: =+IFERROR(IF(ISNUMBER(B20),"",M20*H20%*1000/D20),"") -> 323769.23 | Q20: =+IF(RIGHT(K20,3)="zel",$N$9*$P$4*$J20,IF(RIGHT(K20,3)="ăng",$J20*$O$9*$P$5,IF(RIGHT(K20,3)="kWh",$J20*$P$9*$P$6,0))) -> 1254960 | R20: =+VLOOKUP(B20,'luong lai may'!$B$16:$E$611,4,0) -> 470000 | S20: =+ROUND(SUM(N20:R20),0) -> 3415035
B21: M101.0106 | C21: 1,60 m3 | D21: 260 | E21: 16 | F21: 5.5 | H21: 5 | J21: 113 | K21: lít diezel | L21: 1x4/7+1x6/7 | M21: 2027400 | N21: =+IF(M21>=30000,(M21-M21*10%)*1000*E21%/D21,M21*E21%*1000/D21) -> 1122867.7 | O21: =+IFERROR(IF(ISNUMBER(B21),"",M21*F21%*1000/D21),"") -> 428873.08 | P21: =+IFERROR(IF(ISNUMBER(B21),"",M21*H21%*1000/D21),"") -> 389884.62 | Q21: =+IF(RIGHT(K21,3)="zel",$N$9*$P$4*$J21,IF(RIGHT(K21,3)="ăng",$J21*$O$9*$P$5,IF(RIGHT(K21,3)="kWh",$J21*$P$9*$P$6,0))) -> 1708560 | R21: =+VLOOKUP(B21,'luong lai may'!$B$16:$E$611,4,0) -> 470000 | S21: =+ROUND(SUM(N21:R21),0) -> 4120185
B22: M101.0107 | C22: 2,30 m3 | D22: 260 | E22: 16 | F22: 5.5 | H22: 5 | J22: 138 | K22: lít diezel | L22: 1x4/7+1x7/7 | M22: 2943500 | N22: =+IF(M22>=30000,(M22-M22*10%)*1000*E22%/D22,M22*E22%*1000/D22) -> 1630246.2 | O22: =+IFERROR(IF(ISNUMBER(B22),"",M22*F22%*1000/D22),"") -> 622663.46 | P22: =+IFERROR(IF(ISNUMBER(B22),"",M22*H22%*1000/D22),"") -> 566057.69 | Q22: =+IF(RIGHT(K22,3)="zel",$N$9*$P$4*$J22,IF(RIGHT(K22,3)="ăng",$J22*$O$9*$P$5,IF(RIGHT(K22,3)="kWh",$J22*$P$9*$P$6,0))) -> 2086560 | R22: =+VLOOKUP(B22,'luong lai may'!$B$16:$E$611,4,0) -> 519231 | S22: =+ROUND(SUM(N22:R22),0) -> 5424758
B23: M101.0108 | C23: 3,60 m3 | D23: 300 | E23: 14 | F23: 4 | H23: 5 | J23: 199 | K23: lít diezel | L23: 1x4/7+1x7/7 | M23: 6504000 | N23: =+IF(M23>=30000,(M23-M23*10%)*1000*E23%/D23,M23*E23%*1000/D23) -> 2731680 | O23: =+IFERROR(IF(ISNUMBER(B23),"",M23*F23%*1000/D23),"") -> 867200 | P23: =+IFERROR(IF(ISNUMBER(B23),"",M23*H23%*1000/D23),"") -> 1084000 | Q23: =+IF(RIGHT(K23,3)="zel",$N$9*$P$4*$J23,IF(RIGHT(K23,3)="ăng",$J23*$O$9*$P$5,IF(RIGHT(K23,3)="kWh",$J23*$P$9*$P$6,0))) -> 3008880 | R23: =+VLOOKUP(B23,'luong lai may'!$B$16:$E$611,4,0) -> 519231 | S23: =+ROUND(SUM(N23:R23),0) -> 8210991
B24: M101.0200 | C24: Máy đào một gầu, bánh hơi - dung tích gầu: | O24: =+IFERROR(IF(ISNUMBER(B24),"",M24*F24%*1000/D24),"") | P24: =+IFERROR(IF(ISNUMBER(B24),"",M24*H24%*1000/D24),"") | Q24: =+IF(RIGHT(K24,3)="zel",$N$9*$P$4*$J24,IF(RIGHT(K24,3)="ăng",$J24*$O$9*$P$5,IF(RIGHT(K24,3)="kWh",$J24*$P$9*$P$6,0))) -> 0
B25: M101.0201 | C25: 0,75 m3 | D25: 260 | E25: 17 | F25: 5.4 | H25: 5 | J25: 57 | K25: lít diezel | L25: 1x3/7+1x5/7 | M25: 1022800 | N25: =+IF(M25>=30000,(M25-M25*10%)*1000*E25%/D25,M25*E25%*1000/D25) -> 601878.46 | O25: =+IFERROR(IF(ISNUMBER(B25),"",M25*F25%*1000/D25),"") -> 212427.69 | P25: =+IFERROR(IF(ISNUMBER(B25),"",M25*H25%*1000/D25),"") -> 196692.31 | Q25: =+IF(RIGHT(K25,3)="zel",$N$9*$P$4*$J25,IF(RIGHT(K25,3)="ăng",$J25*$O$9*$P$5,IF(RIGHT(K25,3)="kWh",$J25*$P$9*$P$6,0))) -> 861840 | R25: =+VLOOKUP(B25,'luong lai may'!$B$16:$E$611,4,0) -> 397692 | S25: =+ROUND(SUM(N25:R25),0) -> 2270530
B26: M101.0202 | C26: 1,25 m3 | D26: 260 | E26: 17 | F26: 4.7 | H26: 5 | J26: 73 | K26: lít diezel | L26: 1x4/7+1x6/7 | M26: 1818300 | N26: =+IF(M26>=30000,(M26-M26*10%)*1000*E26%/D26,M26*E26%*1000/D26) -> 1069999.6 | O26: =+IFERROR(IF(ISNUMBER(B26),"",M26*F26%*1000/D26),"") -> 328692.69 | P26: =+IFERROR(IF(ISNUMBER(B26),"",M26*H26%*1000/D26),"") -> 349673.08 | Q26: =+IF(RIGHT(K26,3)="zel",$N$9*$P$4*$J26,IF(RIGHT(K26,3)="ăng",$J26*$O$9*$P$5,IF(RIGHT(K26,3)="kWh",$J26*$P$9*$P$6,0))) -> 1103760 | R26: =+VLOOKUP(B26,'luong lai may'!$B$16:$E$611,4,0) -> 470000 | S26: =+ROUND(SUM(N26:R26),0) -> 3322125
B27: M101.0300 | C27: Máy đào gầu ngoạm (gầu dây) - dung tích gầu: | O27: =+IFERROR(IF(ISNUMBER(B27),"",M27*F27%*1000/D27),"") | P27: =+IFERROR(IF(ISNUMBER(B27),"",M27*H27%*1000/D27),"") | Q27: =+IF(RIGHT(K27,3)="zel",$N$9*$P$4*$J27,IF(RIGHT(K27,3)="ăng",$J27*$O$9*$P$5,IF(RIGHT(K27,3)="kWh",$J27*$P$9*$P$6,0))) -> 0
B28: M101.0301 | C28: 0,40 m3 | D28: 260 | E28: 17 | F28: 5.8 | H28: 5 | J28: 59 | K28: lít diezel | L28: 1x3/7+1x5/7 | M28: 942600 | N28: =+IF(M28>=30000,(M28-M28*10%)*1000*E28%/D28,M28*E28%*1000/D28) -> 554683.85 | O28: =+IFERROR(IF(ISNUMBER(B28),"",M28*F28%*1000/D28),"") -> 210272.31 | P28: =+IFERROR(IF(ISNUMBER(B28),"",M28*H28%*1000/D28),"") -> 181269.23 | Q28: =+IF(RIGHT(K28,3)="zel",$N$9*$P$4*$J28,IF(RIGHT(K28,3)="ăng",$J28*$O$9*$P$5,IF(RIGHT(K28,3)="kWh",$J28*$P$9*$P$6,0))) -> 892080 | R28: =+VLOOKUP(B28,'luong lai may'!$B$16:$E$611,4,0) -> 397692 | S28: =+ROUND(SUM(N28:R28),0) -> 2235997
B29: M101.0302 | C29: 0,65 m3 | D29: 260 | E29: 17 | F29: 5.8 | H29: 5 | J29: 65 | K29: lít diezel | L29: 1x3/7+1x5/7 | M29: 1036800 | N29: =+IF(M29>=30000,(M29-M29*10%)*1000*E29%/D29,M29*E29%*1000/D29) -> 610116.92 | O29: =+IFERROR(IF(ISNUMBER(B29),"",M29*F29%*1000/D29),"") -> 231286.15 | P29: =+IFERROR(IF(ISNUMBER(B29),"",M29*H29%*1000/D29),"") -> 199384.62 | Q29: =+IF(RIGHT(K29,3)="zel",$N$9*$P$4*$J29,IF(RIGHT(K29,3)="ăng",$J29*$O$9*$P$5,IF(RIGHT(K29,3)="kWh",$J29*$P$9*$P$6,0))) -> 982800 | R29: =+VLOOKUP(B29,'luong lai may'!$B$16:$E$611,4,0) -> 397692 | S29: =+ROUND(SUM(N29:R29),0) -> 2421280
B30: M101.0303 | C30: 1,00 m3 | D30: 260 | E30: 17 | F30: 5.8 | H30: 5 | J30: 83 | K30: lít diezel | L30: 1x4/7+1x6/7 | M30: 1599500 | N30: =+IF(M30>=30000,(M30-M30*10%)*1000*E30%/D30,M30*E30%*1000/D30) -> 941244.23 | O30: =+IFERROR(IF(ISNUMBER(B30),"",M30*F30%*1000/D30),"") -> 356811.54 | P30: =+IFERROR(IF(ISNUMBER(B30),"",M30*H30%*1000/D30),"") -> 307596.15 | Q30: =+IF(RIGHT(K30,3)="zel",$N$9*$P$4*$J30,IF(RIGHT(K30,3)="ăng",$J30*$O$9*$P$5,IF(RIGHT(K30,3)="kWh",$J30*$P$9*$P$6,0))) -> 1254960 | R30: =+VLOOKUP(B30,'luong lai may'!$B$16:$E$611,4,0) -> 470000 | S30: =+ROUND(SUM(N30:R30),0) -> 3330612
B31: M101.0304 | C31: 1,20 m3 | D31: 260 | E31: 16 | F31: 5.5 | H31: 5 | J31: 113 | K31: lít diezel | L31: 1x4/7+1x6/7 | M31: 1926000 | N31: =+IF(M31>=30000,(M31-M31*10%)*1000*E31%/D31,M31*E31%*1000/D31) -> 1066707.7 | O31: =+IFERROR(IF(ISNUMBER(B31),"",M31*F31%*1000/D31),"") -> 407423.08 | P31: =+IFERROR(IF(ISNUMBER(B31),"",M31*H31%*1000/D31),"") -> 370384.62 | Q31: =+IF(RIGHT(K31,3)="zel",$N$9*$P$4*$J31,IF(RIGHT(K31,3)="ăng",$J31*$O$9*$P$5,IF(RIGHT(K31,3)="kWh",$J31*$P$9*$P$6,0))) -> 1708560 | R31: =+VLOOKUP(B31,'luong lai may'!$B$16:$E$611,4,0) -> 470000 | S31: =+ROUND(SUM(N31:R31),0) -> 4023075
B32: M101.0305 | C32: 1,60 m3 | D32: 260 | E32: 16 | F32: 5.5 | H32: 5 | J32: 128 | K32: lít diezel | L32: 1x4/7+1x7/7 | M32: 2448100 | N32: =+IF(M32>=30000,(M32-M32*10%)*1000*E32%/D32,M32*E32%*1000/D32) -> 1355870.8 | O32: =+IFERROR(IF(ISNUMBER(B32),"",M32*F32%*1000/D32),"") -> 517867.31 | P32: =+IFERROR(IF(ISNUMBER(B32),"",M32*H32%*1000/D32),"") -> 470788.46 | Q32: =+IF(RIGHT(K32,3)="zel",$N$9*$P$4*$J32,IF(RIGHT(K32,3)="ăng",$J32*$O$9*$P$5,IF(RIGHT(K32,3)="kWh",$J32*$P$9*$P$6,0))) -> 1935360 | R32: =+VLOOKUP(B32,'luong lai may'!$B$16:$E$611,4,0) -> 519231 | S32: =+ROUND(SUM(N32:R32),0) -> 4799118
B33: M101.0306 | C33: 2,30 m3 | D33: 260 | E33: 16 | F33: 5.5 | H33: 5 | J33: 164 | K33: lít diezel | L33: 1x4/7+1x7/7 | M33: 3255700 | N33: =+IF(M33>=30000,(M33-M33*10%)*1000*E33%/D33,M33*E33%*1000/D33) -> 1803156.9 | O33: =+IFERROR(IF(ISNUMBER(B33),"",M33*F33%*1000/D33),"") -> 688705.77 | P33: =+IFERROR(IF(ISNUMBER(B33),"",M33*H33%*1000/D33),"") -> 626096.15 | Q33: =+IF(RIGHT(K33,3)="zel",$N$9*$P$4*$J33,IF(RIGHT(K33,3)="ăng",$J33*$O$9*$P$5,IF(RIGHT(K33,3)="kWh",$J33*$P$9*$P$6,0))) -> 2479680 | R33: =+VLOOKUP(B33,'luong lai may'!$B$16:$E$611,4,0) -> 519231 | S33: =+ROUND(SUM(N33:R33),0) -> 6116870
B34: M101.0400 | C34: Máy xúc lật - dung tích gầu: | O34: =+IFERROR(IF(ISNUMBER(B34),"",M34*F34%*1000/D34),"") | P34: =+IFERROR(IF(ISNUMBER(B34),"",M34*H34%*1000/D34),"")
B35: M101.0401 | C35: 0,60 m3 | D35: 260 | E35: 16 | F35: 4.8 | H35: 5 | J35: 29 | K35: lít diezel | L35: 1x4/7 | M35: 602400 | N35: =+IF(M35>=30000,(M35-M35*10%)*1000*E35%/D35,M35*E35%*1000/D35) -> 333636.92 | O35: =+IFERROR(IF(ISNUMBER(B35),"",M35*F35%*1000/D35),"") -> 111212.31 | P35: =+IFERROR(IF(ISNUMBER(B35),"",M35*H35%*1000/D35),"") -> 115846.15 | Q35: =+IF(RIGHT(K35,3)="zel",$N$9*$P$4*$J35,IF(RIGHT(K35,3)="ăng",$J35*$O$9*$P$5,IF(RIGHT(K35,3)="kWh",$J35*$P$9*$P$6,0))) -> 438480 | R35: =+VLOOKUP(B35,'luong lai may'!$B$16:$E$611,4,0) -> 196154 | S35: =+ROUND(SUM(N35:R35),0) -> 1195329
B36: M101.0402 | C36: 1,00 m3 | D36: 260 | E36: 16 | F36: 4.8 | H36: 5 | J36: 39 | K36: lít diezel | L36: 1x4/7 | M36: 795000 | N36: =+IF(M36>=30000,(M36-M36*10%)*1000*E36%/D36,M36*E36%*1000/D36) -> 440307.69 | O36: =+IFERROR(IF(ISNUMBER(B36),"",M36*F36%*1000/D36),"") -> 146769.23 | P36: =+IFERROR(IF(ISNUMBER(B36),"",M36*H36%*1000/D36),"") -> 152884.62 | Q36: =+IF(RIGHT(K36,3)="zel",$N$9*$P$4*$J36,IF(RIGHT(K36,3)="ăng",$J36*$O$9*$P$5,IF(RIGHT(K36,3)="kWh",$J36*$P$9*$P$6,0))) -> 589680 | R36: =+VLOOKUP(B36,'luong lai may'!$B$16:$E$611,4,0) -> 196154 | S36: =+ROUND(SUM(N36:R36),0) -> 1525796
B37: M101.0403 | C37: 1,25 m3 | D37: 260 | E37: 16 | F37: 4.8 | H37: 5 | J37: 47 | K37: lít diezel | L37: 1x3/7+1x5/7 | M37: 926000 | N37: =+IF(M37>=30000,(M37-M37*10%)*1000*E37%/D37,M37*E37%*1000/D37) -> 512861.54 | O37: =+IFERROR(IF(ISNUMBER(B37),"",M37*F37%*1000/D37),"") -> 170953.85 | P37: =+IFERROR(IF(ISNUMBER(B37),"",M37*H37%*1000/D37),"") -> 178076.92 | Q37: =+IF(RIGHT(K37,3)="zel",$N$9*$P$4*$J37,IF(RIGHT(K37,3)="ăng",$J37*$O$9*$P$5,IF(RIGHT(K37,3)="kWh",$J37*$P$9*$P$6,0))) -> 710640 | R37: =+VLOOKUP(B37,'luong lai may'!$B$16:$E$611,4,0) -> 397692 | S37: =+ROUND(SUM(N37:R37),0) -> 1970224
B38: M101.0404 | C38: 1,65 m3 | D38: 260 | E38: 16 | F38: 4.8 | H38: 5 | J38: 75 | K38: lít diezel | L38: 1x3/7+1x5/7 | M38: 1188400 | N38: =+IF(M38>=30000,(M38-M38*10%)*1000*E38%/D38,M38*E38%*1000/D38) -> 658190.77 | O38: =+IFERROR(IF(ISNUMBER(B38),"",M38*F38%*1000/D38),"") -> 219396.92 | P38: =+IFERROR(IF(ISNUMBER(B38),"",M38*H38%*1000/D38),"") -> 228538.46 | Q38: =+IF(RIGHT(K38,3)="zel",$N$9*$P$4*$J38,IF(RIGHT(K38,3)="ăng",$J38*$O$9*$P$5,IF(RIGHT(K38,3)="kWh",$J38*$P$9*$P$6,0))) -> 1134000 | R38: =+VLOOKUP(B38,'luong lai may'!$B$16:$E$611,4,0) -> 397692 | S38: =+ROUND(SUM(N38:R38),0) -> 2637818
B39: M101.0405 | C39: 2,30 m3 | D39: 260 | E39: 14 | F39: 4.4 | H39: 5 | J39: 95 | K39: lít diezel | L39: 1x4/7+1x6/7 | M39: 1543100 | N39: =+IF(M39>=30000,(M39-M39*10%)*1000*E39%/D39,M39*E39%*1000/D39) -> 747810 | O39: =+IFERROR(IF(ISNUMBER(B39),"",M39*F39%*1000/D39),"") -> 261140 | P39: =+IFERROR(IF(ISNUMBER(B39),"",M39*H39%*1000/D39),"") -> 296750 | Q39: =+IF(RIGHT(K39,3)="zel",$N$9*$P$4*$J39,IF(RIGHT(K39,3)="ăng",$J39*$O$9*$P$5,IF(RIGHT(K39,3)="kWh",$J39*$P$9*$P$6,0))) -> 1436400 | R39: =+VLOOKUP(B39,'luong lai may'!$B$16:$E$611,4,0) -> 470000 | S39: =+ROUND(SUM(N39:R39),0) -> 3212100
B40: M101.0406 | C40: 2,80 m3 | D40: 260 | E40: 14 | F40: 4.4 | H40: 5 | J40: 101 | K40: lít diezel | L40: 1x4/7+1x6/7 | M40: 1928600 | N40: =+IF(M40>=30000,(M40-M40*10%)*1000*E40%/D40,M40*E40%*1000/D40) -> 934629.23 | O40: =+IFERROR(IF(ISNUMBER(B40),"",M40*F40%*1000/D40),"") -> 326378.46 | P40: =+IFERROR(IF(ISNUMBER(B40),"",M40*H40%*1000/D40),"") -> 370884.62 | Q40: =+IF(RIGHT(K40,3)="zel",$N$9*$P$4*$J40,IF(RIGHT(K40,3)="ăng",$J40*$O$9*$P$5,IF(RIGHT(K40,3)="kWh",$J40*$P$9*$P$6,0))) -> 1527120 | R40: =+VLOOKUP(B40,'luong lai may'!$B$16:$E$611,4,0) -> 470000 | S40: =+ROUND(SUM(N40:R40),0) -> 3629012
B41: M101.0407 | C41: 3,20 m3 | D41: 260 | E41: 14 | F41: 3.8 | H41: 5 | J41: 134 | K41: lít diezel | L41: 1x4/7+1x6/7 | M41: 2862800 | N41: =+IF(M41>=30000,(M41-M41*10%)*1000*E41%/D41,M41*E41%*1000/D41) -> 1387356.9 | O41: =+IFERROR(IF(ISNUMBER(B41),"",M41*F41%*1000/D41),"") -> 418409.23 | P41: =+IFERROR(IF(ISNUMBER(B41),"",M41*H41%*1000/D41),"") -> 550538.46 | Q41: =+IF(RIGHT(K41,3)="zel",$N$9*$P$4*$J41,IF(RIGHT(K41,3)="ăng",$J41*$O$9*$P$5,IF(RIGHT(K41,3)="kWh",$J41*$P$9*$P$6,0))) -> 2026080 | R41: =+VLOOKUP(B41,'luong lai may'!$B$16:$E$611,4,0) -> 470000 | S41: =+ROUND(SUM(N41:R41),0) -> 4852385
B42: M101.0500 | C42: Máy ủi - công suất: | O42: =+IFERROR(IF(ISNUMBER(B42),"",M42*F42%*1000/D42),"") | P42: =+IFERROR(IF(ISNUMBER(B42),"",M42*H42%*1000/D42),"")
...

Sheet nhan cong
A1: BẢNG LƯƠNG NHÂN CÔNG | J1: Vùng I | K1: 2.350.000-2.530.000 | M1: Địa bàn áp dụng mức lương đầu vào căn cứ theo quy định hiện hành của Chính phủ về mức lương tối thiểu vùng
A2: (Theo Thông tư số 05/2016/TT-BXD ngày 10/03/2016 của Bộ Xây dựng) | J2: Vùng II | K2: 2.150.000-2.320.000
J3: Vùng III | K3: 2.000.000-2.154.000
A4: - Mức lương đầu vào (LNC) để xác định đơn giá nhân công : | F4: Vùng II | G4: 2000000 | H4: đ/tháng | J4: Vùng IV | K4: 1.900.000-2.050.000
A6: TT | B6: MS nhân công | C6: Loại nhân công | D6: Cấp bậc | E6: H.số lương (HCB) | F6: Lương cấp bậc (đ/tháng) | G6: Đ.giá NC (đ/công) | H6: Ghi chú | J6: Ghi chú:
A7: B1. BẢNG LƯƠNG CÔNG NHÂN XDCB | J7: 1) Nhóm I
A8: B1.1 Bảng lương công nhân XDCB Nhóm I | J8: - Mộc, nề, sắt, bê tông, cốp pha, hoàn thiện, đào đất, đắp đất;
A9: 1 | B9: N1207 | C9: Nhân công 2/7 N1 | D9: 2 | E9: 1.83 | F9: =+E9*$G$4 -> 3660000 | G9: =+ROUND(F9/26,0) -> 140769
A10: 2 | B10: N1217 | C10: Nhân công 2,1/7 N1 | D10: 2.1 | E10: 1.863 | F10: =+E10*$G$4 -> 3726000 | G10: =+ROUND(F10/26,0) -> 143308 | J10: - Khảo sát xây dựng (bao gồm cả đo đạc xây dựng);
A11: 3 | B11: N1227 | C11: Nhân công 2,2/7 N1 | D11: 2.2 | E11: 1.896 | F11: =+E11*$G$4 -> 3792000 | G11: =+ROUND(F11/26,0) -> 145846 | J11: - Vận hành các loại máy xây dựng (máy làm đất, máy đầm, máy nâng hạ, máy khoan, máy đóng ép cọc, máy bơm, máy hàn…)
A12: 4 | B12: N1237 | C12: Nhân công 2,3/7 N1 | D12: 2.3 | E12: 1.929 | F12: =+E12*$G$4 -> 3858000 | G12: =+ROUND(F12/26,0) -> 148385
A13: 5 | B13: N1247 | C13: Nhân công 2,4/7 N1 | D13: 2.4 | E13: 1.962 | F13: =+E13*$G$4 -> 3924000 | G13: =+ROUND(F13/26,0) -> 150923
A14: 6 | B14: N1257 | C14: Nhân công 2,5/7 N1 | D14: 2.5 | E14: 1.995 | F14: =+E14*$G$4 -> 3990000 | G14: =+ROUND(F14/26,0) -> 153462 | J14: 2) Nhóm II:
A15: 7 | C15: Nhân công 2,6/7 N1 | D15: 2.6 | E15: 2.028 | F15: =+E15*$G$4 -> 4056000 | G15: =+ROUND(F15/26,0) -> 156000 | J15: - Các công tác không thuộc nhóm I
A16: 8 | B16: N1277 | C16: Nhân công 2,7/7 N1 | D16: 2.7 | E16: 2.061 | F16: =+E16*$G$4 -> 4122000 | G16: =+ROUND(F16/26,0) -> 158538
A17: 9 | C17: Nhân công 2,8/7 N1 | D17: 2.8 | E17: 2.094 | F17: =+E17*$G$4 -> 4188000 | G17: =+ROUND(F17/26,0) -> 161077
A18: 10 | C18: Nhân công 2,9/7 N1 | D18: 2.9 | E18: 2.127 | F18: =+E18*$G$4 -> 4254000 | G18: =+ROUND(F18/26,0) -> 163615
A19: 11 | B19: N1307 | C19: Nhân công 3/7 N1 | D19: 3 | E19: 2.16 | F19: =+E19*$G$4 -> 4320000 | G19: =+ROUND(F19/26,0) -> 166154
A20: 12 | C20: Nhân công 3,1/7 N1 | D20: 3.1 | E20: 2.199 | F20: =+E20*$G$4 -> 4398000 | G20: =+ROUND(F20/26,0) -> 169154
A21: 13 | B21: N1327 | C21: Nhân công 3,2/7 N1 | D21: 3.2 | E21: 2.238 | F21: =+E21*$G$4 -> 4476000 | G21: =+ROUND(F21/26,0) -> 172154
A22: 14 | B22: N1337 | C22: Nhân công 3,3/7 N1 | D22: 3.3 | E22: 2.277 | F22: =+E22*$G$4 -> 4554000 | G22: =+ROUND(F22/26,0) -> 175154
A23: 15 | C23: Nhân công 3,4/7 N1 | D23: 3.4 | E23: 2.316 | F23: =+E23*$G$4 -> 4632000 | G23: =+ROUND(F23/26,0) -> 178154
A24: 16 | B24: N1357 | C24: Nhân công 3,5/7 N1 | D24: 3.5 | E24: 2.355 | F24: =+E24*$G$4 -> 4710000 | G24: =+ROUND(F24/26,0) -> 181154
A25: 17 | C25: Nhân công 3,6/7 N1 | D25: 3.6 | E25: 2.394 | F25: =+E25*$G$4 -> 4788000 | G25: =+ROUND(F25/26,0) -> 184154
A26: 18 | B26: N1377 | C26: Nhân công 3,7/7 N1 | D26: 3.7 | E26: 2.433 | F26: =+E26*$G$4 -> 4866000 | G26: =+ROUND(F26/26,0) -> 187154
A27: 19 | C27: Nhân công 3,8/7 N1 | D27: 3.8 | E27: 2.472 | F27: =+E27*$G$4 -> 4944000 | G27: =+ROUND(F27/26,0) -> 190154
A28: 20 | C28: Nhân công 3,9/7 N1 | D28: 3.9 | E28: 2.511 | F28: =+E28*$G$4 -> 5022000 | G28: =+ROUND(F28/26,0) -> 193154
A29: 21 | B29: N1407 | C29: Nhân công 4/7 N1 | D29: 4 | E29: 2.55 | F29: =+E29*$G$4 -> 5100000 | G29: =+ROUND(F29/26,0) -> 196154
A30: 22 | C30: Nhân công 4,1/7 N1 | D30: 4.1 | E30: 2.596 | F30: =+E30*$G$4 -> 5192000 | G30: =+ROUND(F30/26,0) -> 199692
A31: 23 | C31: Nhân công 4,2/7 N1 | D31: 4.2 | E31: 2.642 | F31: =+E31*$G$4 -> 5284000 | G31: =+ROUND(F31/26,0) -> 203231
A32: 24 | B32: N1437 | C32: Nhân công 4,3/7 N1 | D32: 4.3 | E32: 2.688 | F32: =+E32*$G$4 -> 5376000 | G32: =+ROUND(F32/26,0) -> 206769
A33: 25 | C33: Nhân công 4,4/7 N1 | D33: 4.4 | E33: 2.734 | F33: =+E33*$G$4 -> 5468000 | G33: =+ROUND(F33/26,0) -> 210308
A34: 26 | B34: N1457 | C34: Nhân công 4,5/7 N1 | D34: 4.5 | E34: 2.78 | F34: =+E34*$G$4 -> 5560000 | G34: =+ROUND(F34/26,0) -> 213846
A35: 27 | C35: Nhân công 4,6/7 N1 | D35: 4.6 | E35: 2.826 | F35: =+E35*$G$4 -> 5652000 | G35: =+ROUND(F35/26,0) -> 217385
A36: 28 | B36: N1477 | C36: Nhân công 4,7/7 N1 | D36: 4.7 | E36: 2.872 | F36: =+E36*$G$4 -> 5744000 | G36: =+ROUND(F36/26,0) -> 220923
A37: 29 | C37: Nhân công 4,8/7 N1 | D37: 4.8 | E37: 2.918 | F37: =+E37*$G$4 -> 5836000 | G37: =+ROUND(F37/26,0) -> 224462
A38: 30 | C38: Nhân công 4,9/7 N1 | D38: 4.9 | E38: 2.964 | F38: =+E38*$G$4 -> 5928000 | G38: =+ROUND(F38/26,0) -> 228000
A39: 31 | B39: N1507 | C39: Nhân công 5/7 N1 | D39: 5 | E39: 3.01 | F39: =+E39*$G$4 -> 6020000 | G39: =+ROUND(F39/26,0) -> 231538
A40: 32 | C40: Nhân công 5,1/7 N1 | D40: 5.1 | E40: 3.065 | F40: =+E40*$G$4 -> 6130000 | G40: =+ROUND(F40/26,0) -> 235769
A41: 33 | B41: N1527 | C41: Nhân công 5,2/7 N1 | D41: 5.2 | E41: 3.12 | F41: =+E41*$G$4 -> 6240000 | G41: =+ROUND(F41/26,0) -> 240000
...

Sheet luong lai may
C2: BẢNG XÁC ĐỊNH GIÁ CA MÁY VÀ THIẾT BỊ THI CÔNG
B3: Căn cứ:
B4: - Theo QĐ 1134/QĐ-BXD ngày 08/10/2015 về việc công bố định mức các hao phí xác định giá ca máy và thiết bị thi công xây dựng | E4: Giá trị thu hồi:
B5: - Theo TT05/2016-BXD ngày 10/03/2016 về việc hướng dẫn xác định đơn giá nhân công trong quản lý chi phí đầu tư xây dựng | E5: - Nếu nguyên giá >=30.000.000 đồng thì thu hồi 10% nguyên giá
B6: - Thông tư 06/2016-BXD ngày 10/03/2016 về việc hướng dẫn xác định và quản lý chi phí đầu tư xây dựng | E6: - Nếu nguyên giá <30.000.000 đồng thì thu hồi 0%
B7: - Theo TT06/2010-BXD hướng dẫn xác định giá ca máy thiết bị
B8: - Giá bán lẻ xăng dầu của tập đoàn Petrolimex, giá bán điện của tập đoàn Điện lực
AY9: Lương thợ điều khiển tàu hút, tàu cuốc nạo vét sông | BY9: B.5.4. Lương thợ điều khiển tàu hút, tàu cuốc, tàu đào gầu ngoạm nạo vét biển
AE10: Nhóm 1: Tàu, ca nô có công suất máy chính từ 5CV đến 150CV. | AK10: Nhóm 2: Tàu, ca nô có công suất máy chính trên 150CV; cần cẩu nổi; tàu đóng cọc. | AQ10: Lương thủy thủ, thợ máy, thợ điện | AY10: Tàu hút dưới 150m3/h | BG10: Tàu hút từ 150m3/h đến 300m3/h | BO10: Tàu hút trên 300m3/h, tàu cuốc dưới 300m3/h | BY10: Tàu hút, tàu cuốc từ 300m3/h đến dưới 800m3/h | CI10: Tàu hút, tàu cuốc từ 800m3/h trở lên | CS10: BẢNG LƯƠNG THỢ LẶN
B11: Mã hiệu | C11: Loại máy và thiết bị | D11: Nhân công điều khiển máy | E11: Chi phí tiền lương | F11: Giá ca máy | G11: Công nhân vận hành máy nhóm I | M11: Công nhân vận hành máy không thuộc nhóm I (thuộc nhóm II) | S11: Lái xe nhóm I | W11: Lái xe nhóm II | AA11: Lái xe nhóm III | AE11: Thuyền trưởng nhóm I | AG11: Thuyền phó 1, máy 1 nhóm I | AI11: Thuyền phó 2, máy 2 nhóm I | AK11: Thuyền trưởng nhóm II | AM11: Thuyền phó 1, máy 1 nhóm II | AO11: Thuyền phó 2, máy 2 nhóm II | AQ11: Thủy thủ bậc 1 | AR11: Thủy thủ bậc 2 | AS11: Thủy thủ bậc 3 | AT11: Thủy thủ bậc 4 | AU11: Thợ máy, thợ điện bậc 1 | AV11: Thợ máy, thợ điện bậc 2 | AW11: Thợ máy, thợ điện bậc 3 | AX11: Thợ máy, thợ điện bậc 4 | AY11: Thuyền trưởng bậc 1 | AZ11: Thuyền trưởng bậc 2 | BA11: Máy trưởng bậc 1 | BB11: Máy trưởng bậc 2 | BC11: Máy 2, kỹ thuật viên cuốc 1, thuyền phó bậc 1 | BD11: Máy 2, kỹ thuật viên cuốc 1, thuyền phó bậc 2 | BE11: Kỹ thuật viên cuốc 2 bậc 1 | BF11: Kỹ thuật viên cuốc 2 bậc 2 | BG11: Thuyền trưởng bậc 1 | BH11: Thuyền trưởng bậc 2 | BI11: Máy trưởng bậc 1 | BJ11: Máy trưởng bậc 2 | BK11: Máy 2, kỹ thuật viên cuốc 1, thuyền phó bậc 1 | BL11: Máy 2, kỹ thuật viên cuốc 1, thuyền phó bậc 2 | BM11: Kỹ thuật viên cuốc 2 bậc 1 | BN11: Kỹ thuật viên cuốc 2 bậc 2 | BO11: Thuyền trưởng bậc 1 | BP11: Thuyền trưởng bậc 2 | BQ11: Máy trưởng bậc 1 | BR11: Máy trưởng bậc 2 | BS11: Điện trưởng bậc 1 | BT11: Điện trưởng bậc 2 | BU11: Máy 2, kỹ thuật viên cuốc 1, thuyền phó bậc 1 | BV11: Máy 2, kỹ thuật viên cuốc 1, thuyền phó bậc 2 | BW11: Kỹ thuật viên cuốc 2 bậc 1 | BX11: Kỹ thuật viên cuốc 2 bậc 2 | BY11: Thuyền trưởng tàu hút bụng bậc 1 | BZ11: Thuyền trưởng tàu hút bụng bậc 2 | CA11: Máy trưởng, thuyền trưởng tàu cuốc, tàu hút phun, tàu đào gầu ngoạm bậc 1 | CB11: Máy trưởng, thuyền trưởng tàu cuốc, tàu hút phun, tàu đào gầu ngoạm bậc 2 | CC11: Điện trưởng tàu hút, tàu cuốc; kỹ thuật viên cuốc 1, thuyền phó 2 tàu hút bụng; kỹ thuật viên cuốc 2 tàu cuốc, tàu hút phun, tàu đào gầu ngoạm bậc 1 | CD11: Điện trưởng tàu hút, tàu cuốc; kỹ thuật viên cuốc 1, thuyền phó 2 tàu hút bụng; kỹ thuật viên cuốc 2 tàu cuốc, tàu hút phun, tàu đào gầu ngoạm bậc 2 | CE11: Máy 2; kỹ thuật viên cuốc 1 tàu cuốc, tàu hút phun, tàu đào gầu ngoạm bậc 1 | CF11: Máy 2; kỹ thuật viên cuốc 1 tàu cuốc, tàu hút phun, tàu đào gầu ngoạm bậc 2 | CG11: Thuyền phó tàu cuốc, kỹ thuật viên cuốc 2 tàu hút bậc 1 | CH11: Thuyền phó tàu cuốc, kỹ thuật viên cuốc 2 tàu hút bậc 2 | CI11: Thuyền trưởng tàu hút bụng bậc 1 | CJ11: Thuyền trưởng tàu hút bụng bậc 2 | CK11: Máy trưởng, thuyền trưởng tàu cuốc, tàu hút phun, tàu đào gầu ngoạm bậc 1 | CL11: Máy trưởng, thuyền trưởng tàu cuốc, tàu hút phun, tàu đào gầu ngoạm bậc 2 | CM11: Điện trưởng tàu hút, tàu cuốc; kỹ thuật viên cuốc 1, thuyền phó 2 tàu hút bụng; kỹ thuật viên cuốc 2 tàu cuốc, tàu hút phun, tàu đào gầu ngoạm bậc 1 | CN11: Điện trưởng tàu hút, tàu cuốc; kỹ thuật viên cuốc 1, thuyền phó 2 tàu hút bụng; kỹ thuật viên cuốc 2 tàu cuốc, tàu hút phun, tàu đào gầu ngoạm bậc 2 | CO11: Máy 2; kỹ thuật viên cuốc 1 tàu cuốc, tàu hút phun, tàu đào gầu ngoạm bậc 1 | CP11: Máy 2; kỹ thuật viên cuốc 1 tàu cuốc, tàu hút phun, tàu đào gầu ngoạm bậc 2 | CQ11: Thuyền phó tàu cuốc, kỹ thuật viên cuốc 2 tàu hút bậc 1 | CR11: Thuyền phó tàu cuốc, kỹ thuật viên cuốc 2 tàu hút bậc 2 | CS11: Thợ lặn bậc 1 | CT11: Thợ lặn bậc 2 | CU11: Thợ lặn bậc 3 | CV11: Thợ lặn bậc 4 | CW11: Thợ lặn cấp I bậc 1 | CX11: Thợ lặn cấp I bậc 2 | CY11: Thợ lặn cấp II
E12: CPTL | F12: đồng | G12: =+'nhan cong'!B9 -> N1207 | H12: =+'nhan cong'!B19 -> N1307 | I12: =+'nhan cong'!B29 -> N1407 | J12: =+'nhan cong'!B39 -> N1507 | K12: =+'nhan cong'!B49 -> N1607 | L12: =+'nhan cong'!B59 -> N1707 | M12: =+'nhan cong'!B62 -> N2207 | N12: =+'nhan cong'!B72 -> N2307 | O12: =+'nhan cong'!B82 -> N2407 | P12: =+'nhan cong'!B92 -> N2507 | Q12: =+'nhan cong'!B102 -> N2607 | R12: =+'nhan cong'!B112 -> N2707 | S12: =+'nhan cong'!B131 -> Lx.175 | T12: =+'nhan cong'!B132 -> Lx.275 | U12: =+'nhan cong'!B133 -> Lx.375 | V12: =+'nhan cong'!B134 -> Lx.475 | W12: =+'nhan cong'!B136 -> Lx.125 | X12: =+'nhan cong'!B137 -> Lx.225 | Y12: =+'nhan cong'!B138 -> Lx.325 | Z12: =+'nhan cong'!B139 -> Lx.425 | AA12: =+'nhan cong'!B141 -> Lx.140 | AB12: =+'nhan cong'!B142 -> Lx.240 | AC12: =+'nhan cong'!B143 -> Lx.340 | AD12: =+'nhan cong'!B144 -> Lx.440 | AE12: =+'nhan cong'!B149 -> Ttr.11s | AF12: =+'nhan cong'!B150 -> Ttr.12s | AG12: =+'nhan cong'!B151 -> Tp1M1.11s | AH12: =+'nhan cong'!B152 -> Tp1M1.12s | AI12: =+'nhan cong'!B153 -> Tp2M2.11s | AJ12: =+'nhan cong'!B154 -> Tp2M2.12s | AK12: =+'nhan cong'!B156 -> Ttr.21s | AL12: =+'nhan cong'!B157 -> Ttr.22s | AM12: =+'nhan cong'!B158 -> Tp1M1.21s | AN12: =+'nhan cong'!B159 -> Tp1M1.22s | AO12: =+'nhan cong'!B160 -> Tp2M2.21s | AP12: =+'nhan cong'!B161 -> Tp2M2.22s | AQ12: =+'nhan cong'!B163 -> ThuyThu.1b | AR12: =+'nhan cong'!B164 -> ThuyThu.2b | AS12: =+'nhan cong'!B165 -> ThuyThu.3b | AT12: =+'nhan cong'!B166 -> ThuyThu.4b | AU12: =+'nhan cong'!B167 -> TmayTdien.1b | AV12: =+'nhan cong'!B168 -> TmayTdien.2b | AW12: =+'nhan cong'!B169 -> TmayTdien.3b | AX12: =+'nhan cong'!B170 -> TmayTdien.4b | AY12: TTrHut150.1s | AZ12: TTrHut150.2s | BA12: Mtr.1s | BB12: Mtr.2s | BC12: M2KtvCuoc1.1s | BD12: M2KtvCuoc1.2s | BE12: KtvCuoc2.1s | BF12: KtvCuoc2.2s | BG12: TTrHut300.1s | BH12: TTrHut300.2s | BI12: Mtr.3s | BJ12: Mtr.4s | BK12: M2KtvCuoc1.3s | BL12: M2KtvCuoc1.4s | BM12: KtvCuoc2.3s | BN12: KtvCuoc2.4s | BO12: TTrHutCuoc300.1s | BP12: TTrHutCuoc300.2s | BQ12: Mtr.5s | BR12: Mtr.6s | BS12: DtrHutCuoc300.1s | BT12: DtrHutCuoc300.2s | BU12: M2KtvCuoc1.5s | BV12: M2KtvCuoc1.6s | BW12: KtvCuoc2.5s | BX12: KtvCuoc2.6s | BY12: TTrHutCuoc300.1b | BZ12: TTrHutCuoc300.2b | CA12: MtrTtrCuocPhun.1b | CB12: MtrTtrCuocPhun.2b | CC12: DtrCuocPhun.1b | CD12: DtrCuocPhun.2b | CE12: M2Ktv.1b | CF12: M2Ktv.2b | CG12: Tp2KtvHutBung.1b | CH12: Tp2KtvHutBung.2b | CI12: TTrHutCuoc800.1b | CJ12: TTrHutCuoc800.2b | CK12: MtrTtrCuocPhun.3b | CL12: MtrTtrCuocPhun.4b | CM12: DtrCuocPhun.3b | CN12: DtrCuocPhun.4b | CO12: M2Ktv.3b | CP12: M2Ktv.4b | CQ12: Tp2KtvHutBung.3b | CR12: Tp2KtvHutBung.4b | CS12: Tholan.104 | CT12: Tholan.204 | CU12: Tholan.304 | CV12: Tholan.404 | CW12: TholanC1.12 | CX12: TholanC1.22 | CY12: TholanC2
B13: 1 | C13: 2 | D13: 8 | E13: 14 | F13: 15 | G13: =+VLOOKUP(G12,'nhan cong'!$B$9:$G$59,6,0) -> 140769 | H13: =+VLOOKUP(H12,'nhan cong'!$B$9:$G$59,6,0) -> 166154 | I13: =+VLOOKUP(I12,'nhan cong'!$B$9:$G$59,6,0) -> 196154 | J13: =+VLOOKUP(J12,'nhan cong'!$B$9:$G$59,6,0) -> 231538 | K13: =+VLOOKUP(K12,'nhan cong'!$B$9:$G$59,6,0) -> 273846 | L13: =+VLOOKUP(L12,'nhan cong'!$B$9:$G$59,6,0) -> 323077 | M13: =+VLOOKUP(M12,'nhan cong'!$B$62:$G$112,6,0) -> 159231 | N13: =+VLOOKUP(N12,'nhan cong'!$B$62:$G$112,6,0) -> 187692 | O13: =+VLOOKUP(O12,'nhan cong'!$B$62:$G$112,6,0) -> 220000 | P13: =+VLOOKUP(P12,'nhan cong'!$B$62:$G$112,6,0) -> 259231 | Q13: =+VLOOKUP(Q12,'nhan cong'!$B$62:$G$112,6,0) -> 304615 | R13: =+VLOOKUP(R12,'nhan cong'!$B$62:$G$112,6,0) -> 357692 | S13: =+VLOOKUP(S12,'nhan cong'!$B$131:$G$134,6,0) -> 167692 | T13: =+VLOOKUP(T12,'nhan cong'!$B$131:$G$134,6,0) -> 197692 | U13: =+VLOOKUP(U12,'nhan cong'!$B$131:$G$134,6,0) -> 234615 | V13: =+VLOOKUP(V12,'nhan cong'!$B$131:$G$134,6,0) -> 276923 | W13: =+VLOOKUP(W12,'nhan cong'!$B$136:$G$139,6,0) -> 193077 | X13: =+VLOOKUP(X12,'nhan cong'!$B$136:$G$139,6,0) -> 226154 | Y13: =+VLOOKUP(Y12,'nhan cong'!$B$136:$G$139,6,0) -> 264615 | Z13: =+VLOOKUP(Z12,'nhan cong'!$B$136:$G$139,6,0) -> 311538 | AA13: =+VLOOKUP(AA12,'nhan cong'!$B$141:$G$144,6,0) -> 230000 | AB13: =+VLOOKUP(AB12,'nhan cong'!$B$141:$G$144,6,0) -> 269231 | AC13: =+VLOOKUP(AC12,'nhan cong'!$B$141:$G$144,6,0) -> 316154 | AD13: =+VLOOKUP(AD12,'nhan cong'!$B$141:$G$144,6,0) -> 370769 | AE13: =+VLOOKUP(AE12,'nhan cong'!$B$149:$G$154,6,0) -> 286923 | AF13: =+VLOOKUP(AF12,'nhan cong'!$B$149:$G$154,6,0) -> 300769 | AG13: =+VLOOKUP(AG12,'nhan cong'!$B$149:$G$154,6,0) -> 243846 | AH13: =+VLOOKUP(AH12,'nhan cong'!$B$149:$G$154,6,0) -> 253846 | AI13: =+VLOOKUP(AI12,'nhan cong'!$B$149:$G$154,6,0) -> 204615 | AJ13: =+VLOOKUP(AJ12,'nhan cong'!$B$149:$G$154,6,0) -> 216154 | AK13: =+VLOOKUP(AK12,'nhan cong'!$B$156:$G$161,6,0) -> 318462 | AL13: =+VLOOKUP(AL12,'nhan cong'!$B$156:$G$161,6,0) -> 335385 | AM13: =+VLOOKUP(AM12,'nhan cong'!$B$156:$G$161,6,0) -> 273077 | AN13: =+VLOOKUP(AN12,'nhan cong'!$B$156:$G$161,6,0) -> 289231 | AO13: =+VLOOKUP(AO12,'nhan cong'!$B$156:$G$161,6,0) -> 225385 | AP13: =+VLOOKUP(AP12,'nhan cong'!$B$156:$G$161,6,0) -> 238462 | AQ13: =+VLOOKUP(AQ12,'nhan cong'!$B$163:$G$170,6,0) -> 148462 | AR13: =+VLOOKUP(AR12,'nhan cong'!$B$163:$G$170,6,0) -> 167692 | AS13: =+VLOOKUP(AS12,'nhan cong'!$B$163:$G$170,6,0) -> 193077 | AT13: =+VLOOKUP(AT12,'nhan cong'!$B$163:$G$170,6,0) -> 217692 | AU13: =+VLOOKUP(AU12,'nhan cong'!$B$163:$G$170,6,0) -> 157692 | AV13: =+VLOOKUP(AV12,'nhan cong'!$B$163:$G$170,6,0) -> 180769 | AW13: =+VLOOKUP(AW12,'nhan cong'!$B$163:$G$170,6,0) -> 204615 | AX13: =+VLOOKUP(AX12,'nhan cong'!$B$163:$G$170,6,0) -> 230000 | AY13: =+VLOOKUP(AY12,'nhan cong'!$B$173:$G$180,6,0) -> 300769 | AZ13: =+VLOOKUP(AZ12,'nhan cong'!$B$173:$G$180,6,0) -> 320000 | BA13: =+VLOOKUP(BA12,'nhan cong'!$B$173:$G$180,6,0) -> 269231 | BB13: =+VLOOKUP(BB12,'nhan cong'!$B$173:$G$180,6,0) -> 286923 | BC13: =+VLOOKUP(BC12,'nhan cong'!$B$173:$G$180,6,0) -> 267692 | BD13: =+VLOOKUP(BD12,'nhan cong'!$B$173:$G$180,6,0) -> 285385 | BE13: =+VLOOKUP(BE12,'nhan cong'!$B$173:$G$180,6,0) -> 243846 | BF13: =+VLOOKUP(BF12,'nhan cong'!$B$173:$G$180,6,0) -> 269231 | BG13: =+VLOOKUP(BG12,'nhan cong'!$B$182:$G$189,6,0) -> 336154 | BH13: =+VLOOKUP(BH12,'nhan cong'!$B$182:$G$189,6,0) -> 360000 | BI13: =+VLOOKUP(BI12,'nhan cong'!$B$182:$G$189,6,0) -> 320000 | BJ13: =+VLOOKUP(BJ12,'nhan cong'!$B$182:$G$189,6,0) -> 336154 | BK13: =+VLOOKUP(BK12,'nhan cong'!$B$182:$G$189,6,0) -> 314615 | BL13: =+VLOOKUP(BL12,'nhan cong'!$B$182:$G$189,6,0) -> 330769 | BM13: =+VLOOKUP(BM12,'nhan cong'!$B$182:$G$189,6,0) -> 286923 | BN13: =+VLOOKUP(BN12,'nhan cong'!$B$182:$G$189,6,0) -> 300769 | BO13: =+VLOOKUP(BO12,'nhan cong'!$B$191:$G$200,6,0) -> 375385 | BP13: =+VLOOKUP(BP12,'nhan cong'!$B$191:$G$200,6,0) -> 399231 | BQ13: =+VLOOKUP(BQ12,'nhan cong'!$B$191:$G$200,6,0) -> 362308 | BR13: =+VLOOKUP(BR12,'nhan cong'!$B$191:$G$200,6,0) -> 390000 | BS13: =+VLOOKUP(BS12,'nhan cong'!$B$191:$G$200,6,0) -> 320000 | BT13: =+VLOOKUP(BT12,'nhan cong'!$B$191:$G$200,6,0) -> 335385 | BU13: =+VLOOKUP(BU12,'nhan cong'!$B$191:$G$200,6,0) -> 360000 | BV13: =+VLOOKUP(BV12,'nhan cong'!$B$191:$G$200,6,0) -> 378462 | ... BX13: =+VLOOKUP(BX12,'nhan cong'!$B$191:$G$200,6,0) -> 360000 | BY13: =+VLOOKUP(BY12,'nhan cong'!$B$203:$G$212,6,0) -> 399231 | BZ13: =+VLOOKUP(BZ12,'nhan cong'!$B$203:$G$212,6,0) -> 416154 | CA13: =+VLOOKUP(CA12,'nhan cong'!$B$203:$G$212,6,0) -> 378462 | CB13: =+VLOOKUP(CB12,'nhan cong'!$B$203:$G$212,6,0) -> 399231 | CC13: =+VLOOKUP(CC12,'nhan cong'!$B$203:$G$212,6,0) -> 336154 | CD13: =+VLOOKUP(CD12,'nhan cong'!$B$203:$G$212,6,0) -> 360000 | CE13: =+VLOOKUP(CE12,'nhan cong'!$B$203:$G$212,6,0) -> 360000 | CF13: =+VLOOKUP(CF12,'nhan cong'!$B$203:$G$212,6,0) -> 378462 | ... CH13: =+VLOOKUP(CH12,'nhan cong'!$B$203:$G$212,6,0) -> 336154 | CI13: =+VLOOKUP(CI12,'nhan cong'!$B$214:$G$223,6,0) -> 416154 | CJ13: =+VLOOKUP(CJ12,'nhan cong'!$B$214:$G$223,6,0) -> 442308 | CK13: =+VLOOKUP(CK12,'nhan cong'!$B$214:$G$223,6,0) -> 399231 | CL13: =+VLOOKUP(CL12,'nhan cong'!$B$214:$G$223,6,0) -> 416154 | CM13: =+VLOOKUP(CM12,'nhan cong'!$B$214:$G$223,6,0) -> 360000 | CN13: =+VLOOKUP(CN12,'nhan cong'!$B$214:$G$223,6,0) -> 378462 | CO13: =+VLOOKUP(CO12,'nhan cong'!$B$214:$G$223,6,0) -> 378462 | CP13: =+VLOOKUP(CP12,'nhan cong'!$B$214:$G$223,6,0) -> 399231 | ... CR13: =+VLOOKUP(CR12,'nhan cong'!$B$214:$G$223,6,0) -> 360000 | CS13: =+VLOOKUP(CS12,'nhan cong'!$B$226:$G$232,6,0) -> 230000 | CT13: =+VLOOKUP(CT12,'nhan cong'!$B$226:$G$232,6,0) -> 252308 | CU13: =+VLOOKUP(CU12,'nhan cong'!$B$226:$G$232,6,0) -> 286154 | CV13: =+VLOOKUP(CV12,'nhan cong'!$B$226:$G$232,6,0) -> 319231 | CW13: =+VLOOKUP(CW12,'nhan cong'!$B$226:$G$232,6,0) -> 359231 | CX13: =+VLOOKUP(CX12,'nhan cong'!$B$226:$G$232,6,0) -> 405385 | CY13: =+VLOOKUP(CY12,'nhan cong'!$B$226:$G$232,6,0) -> 442308
B14: M101.0000 | C14: MÁY THI CÔNG ĐẤT VÀ LU LÈN
B15: M101.0100 | C15: Máy đào một gầu, bánh xích - dung tích gầu:
B16: M101.0101 | C16: 0,40 m3 | D16: 1x4/7 | E16: =+ROUND(SUMPRODUCT($G$13:$CY$13,G16:CY16),3) -> 196154 | I16: 1
B17: M101.0102 | C17: 0,50 m3 | D17: 1x4/7 | E17: =+ROUND(SUMPRODUCT($G$13:$CY$13,G17:CY17),3) -> 196154 | I17: 1
B18: M101.0103 | C18: 0,65 m3 | D18: 1x3/7+1x5/7 | E18: =+ROUND(SUMPRODUCT($G$13:$CY$13,G18:CY18),3) -> 397692 | H18: 1 | J18: 1
B19: M101.0104 | C19: 0,80 m3 | D19: 1x3/7+1x5/7 | E19: =+ROUND(SUMPRODUCT($G$13:$CY$13,G19:CY19),3) -> 397692 | H19: 1 | J19: 1
B20: M101.0105 | C20: 1,25 m3 | D20: 1x4/7+1x6/7 | E20: =+ROUND(SUMPRODUCT($G$13:$CY$13,G20:CY20),3) -> 470000 | I20: 1 | K20: 1
B21: M101.0106 | C21: 1,60 m3 | D21: 1x4/7+1x6/7 | E21: =+ROUND(SUMPRODUCT($G$13:$CY$13,G21:CY21),3) -> 470000 | I21: 1 | K21: 1
B22: M101.0107 | C22: 2,30 m3 | D22: 1x4/7+1x7/7 | E22: =+ROUND(SUMPRODUCT($G$13:$CY$13,G22:CY22),3) -> 519231 | I22: 1 | L22: 1
B23: M101.0108 | C23: 3,60 m3 | D23: 1x4/7+1x7/7 | E23: =+ROUND(SUMPRODUCT($G$13:$CY$13,G23:CY23),3) -> 519231 | I23: 1 | L23: 1
B24: M101.0200 | C24: Máy đào một gầu, bánh hơi - dung tích gầu:
B25: M101.0201 | C25: 0,75 m3 | D25: 1x3/7+1x5/7 | E25: =+ROUND(SUMPRODUCT($G$13:$CY$13,G25:CY25),3) -> 397692 | H25: 1 | J25: 1
B26: M101.0202 | C26: 1,25 m3 | D26: 1x4/7+1x6/7 | E26: =+ROUND(SUMPRODUCT($G$13:$CY$13,G26:CY26),3) -> 470000 | I26: 1 | K26: 1
B27: M101.0300 | C27: Máy đào gầu ngoạm (gầu dây) - dung tích gầu:
B28: M101.0301 | C28: 0,40 m3 | D28: 1x3/7+1x5/7 | E28: =+ROUND(SUMPRODUCT($G$13:$CY$13,G28:CY28),3) -> 397692 | H28: 1 | J28: 1
B29: M101.0302 | C29: 0,65 m3 | D29: 1x3/7+1x5/7 | E29: =+ROUND(SUMPRODUCT($G$13:$CY$13,G29:CY29),3) -> 397692 | H29: 1 | J29: 1
B30: M101.0303 | C30: 1,00 m3 | D30: 1x4/7+1x6/7 | E30: =+ROUND(SUMPRODUCT($G$13:$CY$13,G30:CY30),3) -> 470000 | I30: 1 | K30: 1
B31: M101.0304 | C31: 1,20 m3 | D31: 1x4/7+1x6/7 | E31: =+ROUND(SUMPRODUCT($G$13:$CY$13,G31:CY31),3) -> 470000 | I31: 1 | K31: 1
B32: M101.0305 | C32: 1,60 m3 | D32: 1x4/7+1x7/7 | E32: =+ROUND(SUMPRODUCT($G$13:$CY$13,G32:CY32),3) -> 519231 | I32: 1 | L32: 1
B33: M101.0306 | C33: 2,30 m3 | D33: 1x4/7+1x7/7 | E33: =+ROUND(SUMPRODUCT($G$13:$CY$13,G33:CY33),3) -> 519231 | I33: 1 | L33: 1
B34: M101.0400 | C34: Máy xúc lật - dung tích gầu: | I34: 1
B35: M101.0401 | C35: 0,60 m3 | D35: 1x4/7 | E35: =+ROUND(SUMPRODUCT($G$13:$CY$13,G35:CY35),3) -> 196154 | I35: 1
B36: M101.0402 | C36: 1,00 m3 | D36: 1x4/7 | E36: =+ROUND(SUMPRODUCT($G$13:$CY$13,G36:CY36),3) -> 196154 | I36: 1
B37: M101.0403 | C37: 1,25 m3 | D37: 1x3/7+1x5/7 | E37: =+ROUND(SUMPRODUCT($G$13:$CY$13,G37:CY37),3) -> 397692 | H37: 1 | J37: 1
B38: M101.0404 | C38: 1,65 m3 | D38: 1x3/7+1x5/7 | E38: =+ROUND(SUMPRODUCT($G$13:$CY$13,G38:CY38),3) -> 397692 | H38: 1 | J38: 1
B39: M101.0405 | C39: 2,30 m3 | D39: 1x4/7+1x6/7 | E39: =+ROUND(SUMPRODUCT($G$13:$CY$13,G39:CY39),3) -> 470000 | I39: 1 | K39: 1
B40: M101.0406 | C40: 2,80 m3 | D40: 1x4/7+1x6/7 | E40: =+ROUND(SUMPRODUCT($G$13:$CY$13,G40:CY40),3) -> 470000 | I40: 1 | K40: 1
B41: M101.0407 | C41: 3,20 m3 | D41: 1x4/7+1x6/7 | E41: =+ROUND(SUMPRODUCT($G$13:$CY$13,G41:CY41),3) -> 470000 | I41: 1 | K41: 1
...
