Workbook
Name chuong_1: 'luong lai may'!$B$7
Name chuong_1: 'may thi cong'!$B$7
Name chuong_1_name: 'luong lai may'!$B$9
Name chuong_1_name: 'may thi cong'!$B$9
Name chuong_2: 'luong lai may'!#REF!
Name chuong_2: 'may thi cong'!#REF!
Name chuong_2_name: 'luong lai may'!#REF!
Name chuong_2_name: 'may thi cong'!#REF!

Sheet may thi cong
C2: BẢNG XÁC ĐỊNH GIÁ CA MÁY VÀ THIẾT BỊ THI CÔNG
B3: Căn cứ:
B4: - Theo QĐ 1134/QĐ-BXD ngày 08/10/2015 về việc công bố định mức các hao phí xác định giá ca máy và thiết bị thi công xây dựng | M4: Hệ số: | N4: diezel: 1,02-1,05 | P4: 1.05 | R4: Giá trị thu hồi:
B5: - Theo TT05/2016-BXD ngày 10/03/2016 về việc hướng dẫn xác định đơn giá nhân công trong quản lý chi phí đầu tư xây dựng | N5: xăng: 1,01-1,03 | P5: 1.03 | R5: - Nếu nguyên giá >=30.000.000 đồng thì thu hồi 10% nguyên giá
B6: - Thông tư 06/2016-BXD ngày 10/03/2016 về việc hướng dẫn xác định và quản lý chi phí đầu tư xây dựng | N6: kWh: 1,03-1,07 | P6: 1.07 | R6: - Nếu nguyên giá <30.000.000 đồng thì thu hồi 0% nguyên giá
B7: - Theo TT06/2010-BXD hướng dẫn xác định giá ca máy thiết bị (lấy nguyên giá máy theo TT06/2010-BXD)
B8: - Giá bán lẻ xăng dầu của tập đoàn Petrolimex, giá bán điện của tập đoàn Điện lực | M8: Giá NL (đồng) | N8: diezel | O8: xăng | P8: kWh
N9: 14400 | O9: 15960 | P9: 2320
B11: Mã hiệu | C11: Loại máy và thiết bị | D11: Số ca năm | E11: Định mức (%) | J11: Định mức tiêu hao nhiên liệu, năng lượng | L11: Nhân công điều khiển máy | M11: Nguyên giá | N11: Chi phí khấu hao | O11: Chi phí sửa chữa | P11: Chi phí khác | Q11: Chi phí nhiên liệu, năng lượng | R11: Chi phí tiền lương | S11: Giá ca máy
E12: Khấu hao | G12: Sửa chữa | H12: Chi phí khác | M12: (1000 VNĐ) | N12: CPKH | O12: CPSC | P12: CPK | Q12: CPNL | R12: CPTL | S12: đồng
B13: 1 | C13: 2 | D13: 3 | E13: 4 | G13: 5 | H13: 6 | J13: 7 | L13: 8 | M13: 9 | N13: 10 | O13: 11 | P13: 12 | Q13: 13 | R13: 14 | S13: 15
B14: M101.0000 | C14: MÁY THI CÔNG ĐẤT VÀ LU LÈN
B15: M101.0100 | C15: Máy đào một gầu, bánh xích - dung tích gầu:
B16: M101.0101 | C16: 0,40 m3 | D16: 260 | E16: 17 | F16: 5.8 | H16: 5 | J16: 43 | K16: lít diezel | L16: 1x4/7 | M16: 731700 | N16: =+IF(M16>=30000,(M16-M16*10%)*1000*E16%/D16,M16*E16%*1000/D16) -> 430577.31 | O16: =+IFERROR(IF(ISNUMBER(B16),"",M16*F16%*1000/D16),"") -> 163225.38 | P16: =+IFERROR(IF(ISNUMBER(B16),"",M16*H16%*1000/D16),"") -> 140711.54 | Q16: =+IF(RIGHT(K16,3)="zel",$N$9*$P$4*$J16,IF(RIGHT(K16,3)="ăng",$J16*$O$9*$P$5,IF(RIGHT(K16,3)="kWh",$J16*$P$9*$P$6,0))) -> 650160 | R16: =+VLOOKUP(B16,'luong lai may'!$B$16:$E$611,4,0) -> 196154 | S16: =+ROUND(SUM(N16:R16),0) -> 1580828
B17: M101.0102 | C17: 0,50 m3 | D17: 260 | E17: 17 | F17: 5.8 | H17: 5 | J17: 51 | K17: lít diezel | L17: 1x4/7 | M17: 860200 | N17: =+IF(M17>=30000,(M17-M17*10%)*1000*E17%/D17,M17*E17%*1000/D17) -> 506194.62 | O17: =+IFERROR(IF(ISNUMBER(B17),"",M17*F17%*1000/D17),"") -> 191890.77 | P17: =+IFERROR(IF(ISNUMBER(B17),"",M17*H17%*1000/D17),"") -> 165423.08 | Q17: =+IF(RIGHT(K17,3)="zel",$N$9*$P$4*$J17,IF(RIGHT(K17,3)="ăng",$J17*$O$9*$P$5,IF(RIGHT(K17,3)="kWh",$J17*$P$9*$P$6,0))) -> 771120 | R17: =+VLOOKUP(B17,'luong lai may'!$B$16:$E$611,4,0) -> 196154 | S17: =+ROUND(SUM(N17:R17),0) -> 1830782
B18: M101.0103 | C18: 0,65 m3 | D18: 260 | E18: 17 | F18: 5.8 | H18: 5 | J18: 59 | K18: lít diezel | L18: 1x3/7+1x5/7 | M18: 971700 | N18: =+IF(M18>=30000,(M18-M18*10%)*1000*E18%/D18,M18*E18%*1000/D18) -> 571808.08 | O18: =+IFERROR(IF(ISNUMBER(B18),"",M18*F18%*1000/D18),"") -> 216763.85 | P18: =+IFERROR(IF(ISNUMBER(B18),"",M18*H18%*1000/D18),"") -> 186865.38 | Q18: =+IF(RIGHT(K18,3)="zel",$N$9*$P$4*$J18,IF(RIGHT(K18,3)="ăng",$J18*$O$9*$P$5,IF(RIGHT(K18,3)="kWh",$J18*$P$9*$P$6,0))) -> 892080 | R18: =+VLOOKUP(B18,'luong lai may'!$B$16:$E$611,4,0) -> 397692 | S18: =+ROUND(SUM(N18:R18),0) -> 2265209
B19: M101.0104 | C19: 0,80 m3 | D19: 260 | E19: 17 | F19: 5.8 | H19: 5 | J19: 65 | K19: lít diezel | L19: 1x3/7+1x5/7 | M19: 1068900 | N19: =+IF(M19>=30000,(M19-M19*10%)*1000*E19%/D19,M19*E19%*1000/D19) -> 629006.54 | O19: =+IFERROR(IF(ISNUMBER(B19),"",M19*F19%*1000/D19),"") -> 238446.92 | P19: =+IFERROR(IF(ISNUMBER(B19),"",M19*H19%*1000/D19),"") -> 205557.69 | Q19: =+IF(RIGHT(K19,3)="zel",$N$9*$P$4*$J19,IF(RIGHT(K19,3)="ăng",$J19*$O$9*$P$5,IF(RIGHT(K19,3)="kWh",$J19*$P$9*$P$6,0))) -> 982800 | R19: =+VLOOKUP(B19,'luong lai may'!$B$16:$E$611,4,0) -> 397692 | S19: =+ROUND(SUM(N19:R19),0) -> 2453503
B20: M101.0105 | C20: 1,25 m3 | D20: 260 | E20: 17 | F20: 5.8 | H20: 5 | J20: 83 | K20: lít diezel | L20: 1x4/7+1x6/7 | M20: 1683600 | N20: =+IF(M20>=30000,(M20-M20*10%)*1000*E20%/D20,M20*E20%*1000/D20) -> 990733.85 | O20: =+IFERROR(IF(ISNUMBER(B20),"",M20*F20%*1000/D20),"") -> 375572.31 | P20: =+IFERROR(IF(ISNUMBER(B20),"",M20*H20%*1000/D20),"") -> 323769.23 | Q20: =+IF(RIGHT(K20,3)="zel",$N$9*$P$4*$J20,IF(RIGHT(K20,3)="ăng",$J20*$O$9*$P$5,IF(RIGHT(K20,3)="kWh",$J20*$P$9*$P$6,0))) -> 1254960 | R20: =+VLOOKUP(B20,'luong lai may'!$B$16:$E$611,4,0) -> 470000 | S20: =+ROUND(SUM(N20:R20),0) -> 3415035
B21: M101.0106 | C21: 1,60 m3 | D21: 260 | E21: 16 | F21: 5.5 | H21: 5 | J21: 113 | K21: lít diezel | L21: 1x4/7+1x6/7 | M21: 2027400 | N21: =+IF(M21>=30000,(M21-M21*10%)*1000*E21%/D21,M21*E21%*1000/D21) -> 1122867.7 | O21: =+IFERROR(IF(ISNUMBER(B21),"",M21*F21%*1000/D21),"") -> 428873.08 | P21: =+IFERROR(IF(ISNUMBER(B21),"",M21*H21%*1000/D21),"") -> 389884.62 | Q21: =+IF(RIGHT(K21,3)="zel",$N$9*$P$4*$J21,IF(RIGHT(K21,3)="ăng",$J21*$O$9*$P$5,IF(RIGHT(K21,3)="kWh",$J21*$P$9*$P$6,0))) -> 1708560 | R21: =+VLOOKUP(B21,'luong lai may'!$B$16:$E$611,4,0) -> 470000 | S21: =+ROUND(SUM(N21:R21),0) -> 4120185
B22: M101.0107 | C22: 2,30 m3 | D22: 260 | E22: 16 | F22: 5.5 | H22: 5 | J22: 138 | K22: lít diezel | L22: 1x4/7+1x7/7 | M22: 2943500 | N22: =+IF(M22>=30000,(M22-M22*10%)*1000*E22%/D22,M22*E22%*1000/D22) -> 1630246.2 | O22: =+IFERROR(IF(ISNUMBER(B22),"",M22*F22%*1000/D22),"") -> 622663.46 | P22: =+IFERROR(IF(ISNUMBER(B22),"",M22*H22%*1000/D22),"") -> 566057.69 | Q22: =+IF(RIGHT(K22,3)="zel",$N$9*$P$4*$J22,IF(RIGHT(K22,3)="ăng",$J22*$O$9*$P$5,IF(RIGHT(K22,3)="kWh",$J22*$P$9*$P$6,0))) -> 2086560 | R22: =+VLOOKUP(B22,'luong lai may'!$B$16:$E$611,4,0) -> 519231 | S22: =+ROUND(SUM(N22:R22),0) -> 5424758
B23: M101.0108 | C23: 3,60 m3 | D23: 300 | E23: 14 | F23: 4 | H23: 5 | J23: 199 | K23: lít diezel | L23: 1x4/7+1x7/7 | M23: 6504000 | N23: =+IF(M23>=30000,(M23-M23*10%)*1000*E23%/D23,M23*E23%*1000/D23) -> 2731680 | O23: =+IFERROR(IF(ISNUMBER(B23),"",M23*F23%*1000/D23),"") -> 867200 | P23: =+IFERROR(IF(ISNUMBER(B23),"",M23*H23%*1000/D23),"") -> 1084000 | Q23: =+IF(RIGHT(K23,3)="zel",$N$9*$P$4*$J23,IF(RIGHT(K23,3)="ăng",$J23*$O$9*$P$5,IF(RIGHT(K23,3)="kWh",$J23*$P$9*$P$6,0))) -> 3008880 | R23: =+VLOOKUP(B23,'luong lai may'!$B$16:$E$611,4,0) -> 519231 | S23: =+ROUND(SUM(N23:R23),0) -> 8210991
B24: M101.0200 | C24: Máy đào một gầu, bánh hơi - dung tích gầu: | O24: =+IFERROR(IF(ISNUMBER(B24),"",M24*F24%*1000/D24),"") | P24: =+IFERROR(IF(ISNUMBER(B24),"",M24*H24%*1000/D24),"") | Q24: =+IF(RIGHT(K24,3)="zel",$N$9*$P$4*$J24,IF(RIGHT(K24,3)="ăng",$J24*$O$9*$P$5,IF(RIGHT(K24,3)="kWh",$J24*$P$9*$P$6,0))) -> 0
B25: M101.0201 | C25: 0,75 m3 | D25: 260 | E25: 17 | F25: 5.4 | H25: 5 | J25: 57 | K25: lít diezel | L25: 1x3/7+1x5/7 | M25: 1022800 | N25: =+IF(M25>=30000,(M25-M25*10%)*1000*E25%/D25,M25*E25%*1000/D25) -> 601878.46 | O25: =+IFERROR(IF(ISNUMBER(B25),"",M25*F25%*1000/D25),"") -> 212427.69 | P25: =+IFERROR(IF(ISNUMBER(B25),"",M25*H25%*1000/D25),"") -> 196692.31 | Q25: =+IF(RIGHT(K25,3)="zel",$N$9*$P$4*$J25,IF(RIGHT(K25,3)="ăng",$J25*$O$9*$P$5,IF(RIGHT(K25,3)="kWh",$J25*$P$9*$P$6,0))) -> 861840 | R25: =+VLOOKUP(B25,'luong lai may'!$B$16:$E$611,4,0) -> 397692 | S25: =+ROUND(SUM(N25:R25),0) -> 2270530
B26: M101.0202 | C26: 1,25 m3 | D26: 260 | E26: 17 | F26: 4.7 | H26: 5 | J26: 73 | K26: lít diezel | L26: 1x4/7+1x6/7 | M26: 1818300 | N26: =+IF(M26>=30000,(M26-M26*10%)*1000*E26%/D26,M26*E26%*1000/D26) -> 1069999.6 | O26: =+IFERROR(IF(ISNUMBER(B26),"",M26*F26%*1000/D26),"") -> 328692.69 | P26: =+IFERROR(IF(ISNUMBER(B26),"",M26*H26%*1000/D26),"") -> 349673.08 | Q26: =+IF(RIGHT(K26,3)="zel",$N$9*$P$4*$J26,IF(RIGHT(K26,3)="ăng",$J26*$O$9*$P$5,IF(RIGHT(K26,3)="kWh",$J26*$P$9*$P$6,0))) -> 1103760 | R26: =+VLOOKUP(B26,'luong lai may'!$B$16:$E$611,4,0) -> 470000 | S26: =+ROUND(SUM(N26:R26),0) -> 3322125
B27: M101.0300 | C27: Máy đào gầu ngoạm (gầu dây) - dung tích gầu: | O27: =+IFERROR(IF(ISNUMBER(B27),"",M27*F27%*1000/D27),"") | P27: =+IFERROR(IF(ISNUMBER(B27),"",M27*H27%*1000/D27),"") | Q27: =+IF(RIGHT(K27,3)="zel",$N$9*$P$4*$J27,IF(RIGHT(K27,3)="ăng",$J27*$O$9*$P$5,IF(RIGHT(K27,3)="kWh",$J27*$P$9*$P$6,0))) -> 0
B28: M101.0301 | C28: 0,40 m3 | D28: 260 | E28: 17 | F28: 5.8 | H28: 5 | J28: 59 | K28: lít diezel | L28: 1x3/7+1x5/7 | M28: 942600 | N28: =+IF(M28>=30000,(M28-M28*10%)*1000*E28%/D28,M28*E28%*1000/D28) -> 554683.85 | O28: =+IFERROR(IF(ISNUMBER(B28),"",M28*F28%*1000/D28),"") -> 210272.31 | P28: =+IFERROR(IF(ISNUMBER(B28),"",M28*H28%*1000/D28),"") -> 181269.23 | Q28: =+IF(RIGHT(K28,3)="zel",$N$9*$P$4*$J28,IF(RIGHT(K28,3)="ăng",$J28*$O$9*$P$5,IF(RIGHT(K28,3)="kWh",$J28*$P$9*$P$6,0))) -> 892080 | R28: =+VLOOKUP(B28,'luong lai may'!$B$16:$E$611,4,0) -> 397692 | S28: =+ROUND(SUM(N28:R28),0) -> 2235997
B29: M101.0302 | C29: 0,65 m3 | D29: 260 | E29: 17 | F29: 5.8 | H29: 5 | J29: 65 | K29: lít diezel | L29: 1x3/7+1x5/7 | M29: 1036800 | N29: =+IF(M29>=30000,(M29-M29*10%)*1000*E29%/D29,M29*E29%*1000/D29) -> 610116.92 | O29: =+IFERROR(IF(ISNUMBER(B29),"",M29*F29%*1000/D29),"") -> 231286.15 | P29: =+IFERROR(IF(ISNUMBER(B29),"",M29*H29%*1000/D29),"") -> 199384.62 | Q29: =+IF(RIGHT(K29,3)="zel",$N$9*$P$4*$J29,IF(RIGHT(K29,3)="ăng",$J29*$O$9*$P$5,IF(RIGHT(K29,3)="kWh",$J29*$P$9*$P$6,0))) -> 982800 | R29: =+VLOOKUP(B29,'luong lai may'!$B$16:$E$611,4,0) -> 397692 | S29: =+ROUND(SUM(N29:R29),0) -> 2421280
B30: M101.0303 | C30: 1,00 m3 | D30: 260 | E30: 17 | F30: 5.8 | H30: 5 | J30: 83 | K30: lít diezel | L30: 1x4/7+1x6/7 | M30: 1599500 | N30: =+IF(M30>=30000,(M30-M30*10%)*1000*E30%/D30,M30*E30%*1000/D30) -> 941244.23 | O30: =+IFERROR(IF(ISNUMBER(B30),"",M30*F30%*1000/D30),"") -> 356811.54 | P30: =+IFERROR(IF(ISNUMBER(B30),"",M30*H30%*1000/D30),"") -> 307596.15 | Q30: =+IF(RIGHT(K30,3)="zel",$N$9*$P$4*$J30,IF(RIGHT(K30,3)="ăng",$J30*$O$9*$P$5,IF(RIGHT(K30,3)="kWh",$J30*$P$9*$P$6,0))) -> 1254960 | R30: =+VLOOKUP(B30,'luong lai may'!$B$16:$E$611,4,0) -> 470000 | S30: =+ROUND(SUM(N30:R30),0) -> 3330612
B31: M101.0304 | C31: 1,20 m3 | D31: 260 | E31: 16 | F31: 5.5 | H31: 5 | J31: 113 | K31: lít diezel | L31: 1x4/7+1x6/7 | M31: 1926000 | N31: =+IF(M31>=30000,(M31-M31*10%)*1000*E31%/D31,M31*E31%*1000/D31) -> 1066707.7 | O31: =+IFERROR(IF(ISNUMBER(B31),"",M31*F31%*1000/D31),"") -> 407423.08 | P31: =+IFERROR(IF(ISNUMBER(B31),"",M31*H31%*1000/D31),"") -> 370384.62 | Q31: =+IF(RIGHT(K31,3)="zel",$N$9*$P$4*$J31,IF(RIGHT(K31,3)="ăng",$J31*$O$9*$P$5,IF(RIGHT(K31,3)="kWh",$J31*$P$9*$P$6,0))) -> 1708560 | R31: =+VLOOKUP(B31,'luong lai may'!$B$16:$E$611,4,0) -> 470000 | S31: =+ROUND(SUM(N31:R31),0) -> 4023075
B32: M101.0305 | C32: 1,60 m3 | D32: 260 | E32: 16 | F32: 5.5 | H32: 5 | J32: 128 | K32: lít diezel | L32: 1x4/7+1x7/7 | M32: 2448100 | N32: =+IF(M32>=30000,(M32-M32*10%)*1000*E32%/D32,M32*E32%*1000/D32) -> 1355870.8 | O32: =+IFERROR(IF(ISNUMBER(B32),"",M32*F32%*1000/D32),"") -> 517867.31 | P32: =+IFERROR(IF(ISNUMBER(B32),"",M32*H32%*1000/D32),"") -> 470788.46 | Q32: =+IF(RIGHT(K32,3)="zel",$N$9*$P$4*$J32,IF(RIGHT(K32,3)="ăng",$J32*$O$9*$P$5,IF(RIGHT(K32,3)="kWh",$J32*$P$9*$P$6,0))) -> 1935360 | R32: =+VLOOKUP(B32,'luong lai may'!$B$16:$E$611,4,0) -> 519231 | S32: =+ROUND(SUM(N32:R32),0) -> 4799118
B33: M101.0306 | C33: 2,30 m3 | D33: 260 | E33: 16 | F33: 5.5 | H33: 5 | J33: 164 | K33: lít diezel | L33: 1x4/7+1x7/7 | M33: 3255700 | N33: =+IF(M33>=30000,(M33-M33*10%)*1000*E33%/D33,M33*E33%*1000/D33) -> 1803156.9 | O33: =+IFERROR(IF(ISNUMBER(B33),"",M33*F33%*1000/D33),"") -> 688705.77 | P33: =+IFERROR(IF(ISNUMBER(B33),"",M33*H33%*1000/D33),"") -> 626096.15 | Q33: =+IF(RIGHT(K33,3)="zel",$N$9*$P$4*$J33,IF(RIGHT(K33,3)="ăng",$J33*$O$9*$P$5,IF(RIGHT(K33,3)="kWh",$J33*$P$9*$P$6,0))) -> 2479680 | R33: =+VLOOKUP(B33,'luong lai may'!$B$16:$E$611,4,0) -> 519231 | S33: =+ROUND(SUM(N33:R33),0) -> 6116870
B34: M101.0400 | C34: Máy xúc lật - dung tích gầu: | O34: =+IFERROR(IF(ISNUMBER(B34),"",M34*F34%*1000/D34),"") | P34: =+IFERROR(IF(ISNUMBER(B34),"",M34*H34%*1000/D34),"")
B35: M101.0401 | C35: 0,60 m3 | D35: 260 | E35: 16 | F35: 4.8 | H35: 5 | J35: 29 | K35: lít diezel | L35: 1x4/7 | M35: 602400 | N35: =+IF(M35>=30000,(M35-M35*10%)*1000*E35%/D35,M35*E35%*1000/D35) -> 333636.92 | O35: =+IFERROR(IF(ISNUMBER(B35),"",M35*F35%*1000/D35),"") -> 111212.31 | P35: =+IFERROR(IF(ISNUMBER(B35),"",M35*H35%*1000/D35),"") -> 115846.15 | Q35: =+IF(RIGHT(K35,3)="zel",$N$9*$P$4*$J35,IF(RIGHT(K35,3)="ăng",$J35*$O$9*$P$5,IF(RIGHT(K35,3)="kWh",$J35*$P$9*$P$6,0))) -> 438480 | R35: =+VLOOKUP(B35,'luong lai may'!$B$16:$E$611,4,0) -> 196154 | S35: =+ROUND(SUM(N35:R35),0) -> 1195329
B36: M101.0402 | C36: 1,00 m3 | D36: 260 | E36: 16 | F36: 4.8 | H36: 5 | J36: 39 | K36: lít diezel | L36: 1x4/7 | M36: 795000 | N36: =+IF(M36>=30000,(M36-M36*10%)*1000*E36%/D36,M36*E36%*1000/D36) -> 440307.69 | O36: =+IFERROR(IF(ISNUMBER(B36),"",M36*F36%*1000/D36),"") -> 146769.23 | P36: =+IFERROR(IF(ISNUMBER(B36),"",M36*H36%*1000/D36),"") -> 152884.62 | Q36: =+IF(RIGHT(K36,3)="zel",$N$9*$P$4*$J36,IF(RIGHT(K36,3)="ăng",$J36*$O$9*$P$5,IF(RIGHT(K36,3)="kWh",$J36*$P$9*$P$6,0))) -> 589680 | R36: =+VLOOKUP(B36,'luong lai may'!$B$16:$E$611,4,0) -> 196154 | S36: =+ROUND(SUM(N36:R36),0) -> 1525796
B37: M101.0403 | C37: 1,25 m3 | D37: 260 | E37: 16 | F37: 4.8 | H37: 5 | J37: 47 | K37: lít diezel | L37: 1x3/7+1x5/7 | M37: 926000 | N37: =+IF(M37>=30000,(M37-M37*10%)*1000*E37%/D37,M37*E37%*1000/D37) -> 512861.54 | O37: =+IFERROR(IF(ISNUMBER(B37),"",M37*F37%*1000/D37),"") -> 170953.85 | P37: =+IFERROR(IF(ISNUMBER(B37),"",M37*H37%*1000/D37),"") -> 178076.92 | Q37: =+IF(RIGHT(K37,3)="zel",$N$9*$P$4*$J37,IF(RIGHT(K37,3)="ăng",$J37*$O$9*$P$5,IF(RIGHT(K37,3)="kWh",$J37*$P$9*$P$6,0))) -> 710640 | R37: =+VLOOKUP(B37,'luong lai may'!$B$16:$E$611,4,0) -> 397692 | S37: =+ROUND(SUM(N37:R37),0) -> 1970224
B38: M101.0404 | C38: 1,65 m3 | D38: 260 | E38: 16 | F38: 4.8 | H38: 5 | J38: 75 | K38: lít diezel | L38: 1x3/7+1x5/7 | M38: 1188400 | N38: =+IF(M38>=30000,(M38-M38*10%)*1000*E38%/D38,M38*E38%*1000/D38) -> 658190.77 | O38: =+IFERROR(IF(ISNUMBER(B38),"",M38*F38%*1000/D38),"") -> 219396.92 | P38: =+IFERROR(IF(ISNUMBER(B38),"",M38*H38%*1000/D38),"") -> 228538.46 | Q38: =+IF(RIGHT(K38,3)="zel",$N$9*$P$4*$J38,IF(RIGHT(K38,3)="ăng",$J38*$O$9*$P$5,IF(RIGHT(K38,3)="kWh",$J38*$P$9*$P$6,0))) -> 1134000 | R38: =+VLOOKUP(B38,'luong lai may'!$B$16:$E$611,4,0) -> 397692 | S38: =+ROUND(SUM(N38:R38),0) -> 2637818
B39: M101.0405 | C39: 2,30 m3 | D39: 260 | E39: 14 | F39: 4.4 | H39: 5 | J39: 95 | K39: lít diezel | L39: 1x4/7+1x6/7 | M39: 1543100 | N39: =+IF(M39>=30000,(M39-M39*10%)*1000*E39%/D39,M39*E39%*1000/D39) -> 747810 | O39: =+IFERROR(IF(ISNUMBER(B39),"",M39*F39%*1000/D39),"") -> 261140 | P39: =+IFERROR(IF(ISNUMBER(B39),"",M39*H39%*1000/D39),"") -> 296750 | Q39: =+IF(RIGHT(K39,3)="zel",$N$9*$P$4*$J39,IF(RIGHT(K39,3)="ăng",$J39*$O$9*$P$5,IF(RIGHT(K39,3)="kWh",$J39*$P$9*$P$6,0))) -> 1436400 | R39: =+VLOOKUP(B39,'luong lai may'!$B$16:$E$611,4,0) -> 470000 | S39: =+ROUND(SUM(N39:R39),0) -> 3212100
B40: M101.0406 | C40: 2,80 m3 | D40: 260 | E40: 14 | F40: 4.4 | H40: 5 | J40: 101 | K40: lít diezel | L40: 1x4/7+1x6/7 | M40: 1928600 | N40: =+IF(M40>=30000,(M40-M40*10%)*1000*E40%/D40,M40*E40%*1000/D40) -> 934629.23 | O40: =+IFERROR(IF(ISNUMBER(B40),"",M40*F40%*1000/D40),"") -> 326378.46 | P40: =+IFERROR(IF(ISNUMBER(B40),"",M40*H40%*1000/D40),"") -> 370884.62 | Q40: =+IF(RIGHT(K40,3)="zel",$N$9*$P$4*$J40,IF(RIGHT(K40,3)="ăng",$J40*$O$9*$P$5,IF(RIGHT(K40,3)="kWh",$J40*$P$9*$P$6,0))) -> 1527120 | R40: =+VLOOKUP(B40,'luong lai may'!$B$16:$E$611,4,0) -> 470000 | S40: =+ROUND(SUM(N40:R40),0) -> 3629012
B41: M101.0407 | C41: 3,20 m3 | D41: 260 | E41: 14 | F41: 3.8 | H41: 5 | J41: 134 | K41: lít diezel | L41: 1x4/7+1x6/7 | M41: 2862800 | N41: =+IF(M41>=30000,(M41-M41*10%)*1000*E41%/D41,M41*E41%*1000/D41) -> 1387356.9 | O41: =+IFERROR(IF(ISNUMBER(B41),"",M41*F41%*1000/D41),"") -> 418409.23 | P41: =+IFERROR(IF(ISNUMBER(B41),"",M41*H41%*1000/D41),"") -> 550538.46 | Q41: =+IF(RIGHT(K41,3)="zel",$N$9*$P$4*$J41,IF(RIGHT(K41,3)="ăng",$J41*$O$9*$P$5,IF(RIGHT(K41,3)="kWh",$J41*$P$9*$P$6,0))) -> 2026080 | R41: =+VLOOKUP(B41,'luong lai may'!$B$16:$E$611,4,0) -> 470000 | S41: =+ROUND(SUM(N41:R41),0) -> 4852385
B42: M101.0500 | C42: Máy ủi - công suất: | O42: =+IFERROR(IF(ISNUMBER(B42),"",M42*F42%*1000/D42),"") | P42: =+IFERROR(IF(ISNUMBER(B42),"",M42*H42%*1000/D42),"")
B43: M101.0501 | C43: 75 cv | D43: 230 | E43: 18 | F43: 6 | H43: 5 | J43: 38 | K43: lít diezel | L43: 1x4/7 | M43: 432700 | N43: =+IF(M43>=30000,(M43-M43*10%)*1000*E43%/D43,M43*E43%*1000/D43) -> 304771.3 | O43: =+IFERROR(IF(ISNUMBER(B43),"",M43*F43%*1000/D43),"") -> 112878.26 | P43: =+IFERROR(IF(ISNUMBER(B43),"",M43*H43%*1000/D43),"") -> 94065.217 | Q43: =+IF(RIGHT(K43,3)="zel",$N$9*$P$4*$J43,IF(RIGHT(K43,3)="ăng",$J43*$O$9*$P$5,IF(RIGHT(K43,3)="kWh",$J43*$P$9*$P$6,0))) -> 574560 | R43: =+VLOOKUP(B43,'luong lai may'!$B$16:$E$611,4,0) -> 196154 | S43: =+ROUND(SUM(N43:R43),0) -> 1282429
B44: M101.0502 | C44: 110 cv | D44: 250 | E44: 17 | F44: 5.8 | H44: 5 | J44: 46 | K44: lít diezel | L44: 1x3/7+1x5/7 | M44: 743000 | N44: =+IF(M44>=30000,(M44-M44*10%)*1000*E44%/D44,M44*E44%*1000/D44) -> 454716 | O44: =+IFERROR(IF(ISNUMBER(B44),"",M44*F44%*1000/D44),"") -> 172376 | P44: =+IFERROR(IF(ISNUMBER(B44),"",M44*H44%*1000/D44),"") -> 148600 | Q44: =+IF(RIGHT(K44,3)="zel",$N$9*$P$4*$J44,IF(RIGHT(K44,3)="ăng",$J44*$O$9*$P$5,IF(RIGHT(K44,3)="kWh",$J44*$P$9*$P$6,0))) -> 695520 | R44: =+VLOOKUP(B44,'luong lai may'!$B$16:$E$611,4,0) -> 397692 | S44: =+ROUND(SUM(N44:R44),0) -> 1868904
B45: M101.0503 | C45: 140 cv | D45: 250 | E45: 17 | F45: 5.8 | H45: 5 | J45: 59 | K45: lít diezel | L45: 1x3/7+1x5/7 | M45: 1192300 | N45: =+IF(M45>=30000,(M45-M45*10%)*1000*E45%/D45,M45*E45%*1000/D45) -> 729687.6 | O45: =+IFERROR(IF(ISNUMBER(B45),"",M45*F45%*1000/D45),"") -> 276613.6 | P45: =+IFERROR(IF(ISNUMBER(B45),"",M45*H45%*1000/D45),"") -> 238460 | Q45: =+IF(RIGHT(K45,3)="zel",$N$9*$P$4*$J45,IF(RIGHT(K45,3)="ăng",$J45*$O$9*$P$5,IF(RIGHT(K45,3)="kWh",$J45*$P$9*$P$6,0))) -> 892080 | R45: =+VLOOKUP(B45,'luong lai may'!$B$16:$E$611,4,0) -> 397692 | S45: =+ROUND(SUM(N45:R45),0) -> 2534533
B46: M101.0504 | C46: 180 cv | D46: 250 | E46: 16 | F46: 5.5 | H46: 5 | J46: 76 | K46: lít diezel | L46: 1x3/7+1x5/7 | M46: 1529700 | N46: =+IF(M46>=30000,(M46-M46*10%)*1000*E46%/D46,M46*E46%*1000/D46) -> 881107.2 | O46: =+IFERROR(IF(ISNUMBER(B46),"",M46*F46%*1000/D46),"") -> 336534 | P46: =+IFERROR(IF(ISNUMBER(B46),"",M46*H46%*1000/D46),"") -> 305940 | Q46: =+IF(RIGHT(K46,3)="zel",$N$9*$P$4*$J46,IF(RIGHT(K46,3)="ăng",$J46*$O$9*$P$5,IF(RIGHT(K46,3)="kWh",$J46*$P$9*$P$6,0))) -> 1149120 | R46: =+VLOOKUP(B46,'luong lai may'!$B$16:$E$611,4,0) -> 397692 | S46: =+ROUND(SUM(N46:R46),0) -> 3070393
B47: M101.0505 | C47: 250 cv | D47: 250 | E47: 16 | F47: 5.2 | H47: 5 | J47: 94 | K47: lít diezel | L47: 1x3/7+1x6/7 | M47: 1921700 | N47: =+IF(M47>=30000,(M47-M47*10%)*1000*E47%/D47,M47*E47%*1000/D47) -> 1106899.2 | O47: =+IFERROR(IF(ISNUMBER(B47),"",M47*F47%*1000/D47),"") -> 399713.6 | P47: =+IFERROR(IF(ISNUMBER(B47),"",M47*H47%*1000/D47),"") -> 384340 | Q47: =+IF(RIGHT(K47,3)="zel",$N$9*$P$4*$J47,IF(RIGHT(K47,3)="ăng",$J47*$O$9*$P$5,IF(RIGHT(K47,3)="kWh",$J47*$P$9*$P$6,0))) -> 1421280 | R47: =+VLOOKUP(B47,'luong lai may'!$B$16:$E$611,4,0) -> 440000 | S47: =+ROUND(SUM(N47:R47),0) -> 3752233
B48: M101.0506 | C48: 320 cv | D48: 250 | E48: 14 | F48: 4.1 | H48: 5 | J48: 125 | K48: lít diezel | L48: 1x3/7+1x7/7 | M48: 3236600 | N48: =+IF(M48>=30000,(M48-M48*10%)*1000*E48%/D48,M48*E48%*1000/D48) -> 1631246.4 | O48: =+IFERROR(IF(ISNUMBER(B48),"",M48*F48%*1000/D48),"") -> 530802.4 | P48: =+IFERROR(IF(ISNUMBER(B48),"",M48*H48%*1000/D48),"") -> 647320 | Q48: =+IF(RIGHT(K48,3)="zel",$N$9*$P$4*$J48,IF(RIGHT(K48,3)="ăng",$J48*$O$9*$P$5,IF(RIGHT(K48,3)="kWh",$J48*$P$9*$P$6,0))) -> 1890000 | R48: =+VLOOKUP(B48,'luong lai may'!$B$16:$E$611,4,0) -> 489231 | S48: =+ROUND(SUM(N48:R48),0) -> 5188600
B49: M101.0600 | C49: Máy cạp tự hành - dung tích thùng: | O49: =+IFERROR(IF(ISNUMBER(B49),"",M49*F49%*1000/D49),"") | P49: =+IFERROR(IF(ISNUMBER(B49),"",M49*H49%*1000/D49),"")
B50: M101.0601 | C50: 9 m3 | D50: 240 | E50: 17 | F50: 4.2 | H50: 5 | J50: 132 | K50: lít diezel | L50: 1x3/7+1x6/7 | M50: 1507100 | N50: =+IF(M50>=30000,(M50-M50*10%)*1000*E50%/D50,M50*E50%*1000/D50) -> 960776.25 | O50: =+IFERROR(IF(ISNUMBER(B50),"",M50*F50%*1000/D50),"") -> 263742.5 | P50: =+IFERROR(IF(ISNUMBER(B50),"",M50*H50%*1000/D50),"") -> 313979.17 | Q50: =+IF(RIGHT(K50,3)="zel",$N$9*$P$4*$J50,IF(RIGHT(K50,3)="ăng",$J50*$O$9*$P$5,IF(RIGHT(K50,3)="kWh",$J50*$P$9*$P$6,0))) -> 1995840 | R50: =+VLOOKUP(B50,'luong lai may'!$B$16:$E$611,4,0) -> 440000 | S50: =+ROUND(SUM(N50:R50),0) -> 3974338
B51: M101.0602 | C51: 16 m3 | D51: 240 | E51: 16 | F51: 4 | H51: 5 | J51: 154 | K51: lít diezel | L51: 1x3/7+1x7/7 | M51: 2295300 | N51: =+IF(M51>=30000,(M51-M51*10%)*1000*E51%/D51,M51*E51%*1000/D51) -> 1377180 | O51: =+IFERROR(IF(ISNUMBER(B51),"",M51*F51%*1000/D51),"") -> 382550 | P51: =+IFERROR(IF(ISNUMBER(B51),"",M51*H51%*1000/D51),"") -> 478187.5 | Q51: =+IF(RIGHT(K51,3)="zel",$N$9*$P$4*$J51,IF(RIGHT(K51,3)="ăng",$J51*$O$9*$P$5,IF(RIGHT(K51,3)="kWh",$J51*$P$9*$P$6,0))) -> 2328480 | R51: =+VLOOKUP(B51,'luong lai may'!$B$16:$E$611,4,0) -> 489231 | S51: =+ROUND(SUM(N51:R51),0) -> 5055629
B52: M101.0603 | C52: 25 m3 | D52: 240 | E52: 16 | F52: 4 | H52: 5 | J52: 182 | K52: lít diezel | L52: 1x3/7+1x7/7 | M52: 2869000 | N52: =+IF(M52>=30000,(M52-M52*10%)*1000*E52%/D52,M52*E52%*1000/D52) -> 1721400 | O52: =+IFERROR(IF(ISNUMBER(B52),"",M52*F52%*1000/D52),"") -> 478166.67 | P52: =+IFERROR(IF(ISNUMBER(B52),"",M52*H52%*1000/D52),"") -> 597708.33 | Q52: =+IF(RIGHT(K52,3)="zel",$N$9*$P$4*$J52,IF(RIGHT(K52,3)="ăng",$J52*$O$9*$P$5,IF(RIGHT(K52,3)="kWh",$J52*$P$9*$P$6,0))) -> 2751840 | R52: =+VLOOKUP(B52,'luong lai may'!$B$16:$E$611,4,0) -> 489231 | S52: =+ROUND(SUM(N52:R52),0) -> 6038346
B53: M101.0700 | C53: Máy san tự hành - công suất: | O53: =+IFERROR(IF(ISNUMBER(B53),"",M53*F53%*1000/D53),"") | P53: =+IFERROR(IF(ISNUMBER(B53),"",M53*H53%*1000/D53),"")
B54: M101.0701 | C54: 108 cv | D54: 210 | E54: 17 | F54: 3.6 | H54: 5 | J54: 39 | K54: lít diezel | L54: 1x3/7+1x5/7 | M54: 892100 | N54: =+IF(M54>=30000,(M54-M54*10%)*1000*E54%/D54,M54*E54%*1000/D54) -> 649958.57 | O54: =+IFERROR(IF(ISNUMBER(B54),"",M54*F54%*1000/D54),"") -> 152931.43 | P54: =+IFERROR(IF(ISNUMBER(B54),"",M54*H54%*1000/D54),"") -> 212404.76 | Q54: =+IF(RIGHT(K54,3)="zel",$N$9*$P$4*$J54,IF(RIGHT(K54,3)="ăng",$J54*$O$9*$P$5,IF(RIGHT(K54,3)="kWh",$J54*$P$9*$P$6,0))) -> 589680 | R54: =+VLOOKUP(B54,'luong lai may'!$B$16:$E$611,4,0) -> 397692 | S54: =+ROUND(SUM(N54:R54),0) -> 2002667
B55: M101.0702 | C55: 180 cv | D55: 210 | E55: 16 | F55: 3.1 | H55: 5 | J55: 54 | K55: lít diezel | L55: 1x3/7+1x5/7 | M55: 1494500 | N55: =+IF(M55>=30000,(M55-M55*10%)*1000*E55%/D55,M55*E55%*1000/D55) -> 1024800 | O55: =+IFERROR(IF(ISNUMBER(B55),"",M55*F55%*1000/D55),"") -> 220616.67 | P55: =+IFERROR(IF(ISNUMBER(B55),"",M55*H55%*1000/D55),"") -> 355833.33 | Q55: =+IF(RIGHT(K55,3)="zel",$N$9*$P$4*$J55,IF(RIGHT(K55,3)="ăng",$J55*$O$9*$P$5,IF(RIGHT(K55,3)="kWh",$J55*$P$9*$P$6,0))) -> 816480 | R55: =+VLOOKUP(B55,'luong lai may'!$B$16:$E$611,4,0) -> 397692 | S55: =+ROUND(SUM(N55:R55),0) -> 2815422
B56: M101.0800 | C56: Máy đầm đất cầm tay - trọng lượng: | O56: =+IFERROR(IF(ISNUMBER(B56),"",M56*F56%*1000/D56),"") | P56: =+IFERROR(IF(ISNUMBER(B56),"",M56*H56%*1000/D56),"")
B57: M101.0801 | C57: 50 kg | D57: 150 | E57: 20 | F57: 5.4 | H57: 4 | J57: 3 | K57: lít xăng | L57: 1x3/7 | M57: 23100 | N57: =+IF(M57>=30000,(M57-M57*10%)*1000*E57%/D57,M57*E57%*1000/D57) -> 30800 | O57: =+IFERROR(IF(ISNUMBER(B57),"",M57*F57%*1000/D57),"") -> 8316 | P57: =+IFERROR(IF(ISNUMBER(B57),"",M57*H57%*1000/D57),"") -> 6160 | Q57: =+IF(RIGHT(K57,3)="zel",$N$9*$P$4*$J57,IF(RIGHT(K57,3)="ăng",$J57*$O$9*$P$5,IF(RIGHT(K57,3)="kWh",$J57*$P$9*$P$6,0))) -> 49316.4 | R57: =+VLOOKUP(B57,'luong lai may'!$B$16:$E$611,4,0) -> 166154 | S57: =+ROUND(SUM(N57:R57),0) -> 260746
B58: M101.0802 | C58: 60 kg | D58: 150 | E58: 20 | F58: 5.4 | H58: 4 | J58: 3.5 | K58: lít xăng | L58: 1x3/7 | M58: 28900 | N58: =+IF(M58>=30000,(M58-M58*10%)*1000*E58%/D58,M58*E58%*1000/D58) -> 38533.333 | O58: =+IFERROR(IF(ISNUMBER(B58),"",M58*F58%*1000/D58),"") -> 10404 | P58: =+IFERROR(IF(ISNUMBER(B58),"",M58*H58%*1000/D58),"") -> 7706.6667 | Q58: =+IF(RIGHT(K58,3)="zel",$N$9*$P$4*$J58,IF(RIGHT(K58,3)="ăng",$J58*$O$9*$P$5,IF(RIGHT(K58,3)="kWh",$J58*$P$9*$P$6,0))) -> 57535.8 | R58: =+VLOOKUP(B58,'luong lai may'!$B$16:$E$611,4,0) -> 166154 | S58: =+ROUND(SUM(N58:R58),0) -> 280334
B59: M101.0803 | C59: 70 kg | D59: 150 | E59: 20 | F59: 5.4 | H59: 4 | J59: 4 | K59: lít xăng | L59: 1x3/7 | M59: 31200 | N59: =+IF(M59>=30000,(M59-M59*10%)*1000*E59%/D59,M59*E59%*1000/D59) -> 37440 | O59: =+IFERROR(IF(ISNUMBER(B59),"",M59*F59%*1000/D59),"") -> 11232 | P59: =+IFERROR(IF(ISNUMBER(B59),"",M59*H59%*1000/D59),"") -> 8320 | Q59: =+IF(RIGHT(K59,3)="zel",$N$9*$P$4*$J59,IF(RIGHT(K59,3)="ăng",$J59*$O$9*$P$5,IF(RIGHT(K59,3)="kWh",$J59*$P$9*$P$6,0))) -> 65755.2 | R59: =+VLOOKUP(B59,'luong lai may'!$B$16:$E$611,4,0) -> 166154 | S59: =+ROUND(SUM(N59:R59),0) -> 288901
B60: M101.0804 | C60: 80 kg | D60: 150 | E60: 20 | F60: 5.4 | H60: 4 | J60: 5 | K60: lít xăng | L60: 1x3/7 | M60: 32850 | N60: =+IF(M60>=30000,(M60-M60*10%)*1000*E60%/D60,M60*E60%*1000/D60) -> 39420 | O60: =+IFERROR(IF(ISNUMBER(B60),"",M60*F60%*1000/D60),"") -> 11826 | P60: =+IFERROR(IF(ISNUMBER(B60),"",M60*H60%*1000/D60),"") -> 8760 | Q60: =+IF(RIGHT(K60,3)="zel",$N$9*$P$4*$J60,IF(RIGHT(K60,3)="ăng",$J60*$O$9*$P$5,IF(RIGHT(K60,3)="kWh",$J60*$P$9*$P$6,0))) -> 82194 | R60: =+VLOOKUP(B60,'luong lai may'!$B$16:$E$611,4,0) -> 166154 | S60: =+ROUND(SUM(N60:R60),0) -> 308354
B61: M101.0900 | C61: Đầm bánh hơi tự hành - trọng lượng: | O61: =+IFERROR(IF(ISNUMBER(B61),"",M61*F61%*1000/D61),"") | P61: =+IFERROR(IF(ISNUMBER(B61),"",M61*H61%*1000/D61),"")
B62: M101.0901 | C62: 9 t | D62: 230 | E62: 18 | F62: 4.3 | H62: 5 | J62: 34 | K62: lít diezel | L62: 1x5/7 | M62: 533500 | N62: =+IF(M62>=30000,(M62-M62*10%)*1000*E62%/D62,M62*E62%*1000/D62) -> 375769.57 | O62: =+IFERROR(IF(ISNUMBER(B62),"",M62*F62%*1000/D62),"") -> 99741.304 | P62: =+IFERROR(IF(ISNUMBER(B62),"",M62*H62%*1000/D62),"") -> 115978.26 | Q62: =+IF(RIGHT(K62,3)="zel",$N$9*$P$4*$J62,IF(RIGHT(K62,3)="ăng",$J62*$O$9*$P$5,IF(RIGHT(K62,3)="kWh",$J62*$P$9*$P$6,0))) -> 514080 | R62: =+VLOOKUP(B62,'luong lai may'!$B$16:$E$611,4,0) -> 231538 | S62: =+ROUND(SUM(N62:R62),0) -> 1337107
B63: M101.0902 | C63: 16 t | D63: 230 | E63: 18 | F63: 4.3 | H63: 5 | J63: 38 | K63: lít diezel | L63: 1x5/7 | M63: 606200 | N63: =+IF(M63>=30000,(M63-M63*10%)*1000*E63%/D63,M63*E63%*1000/D63) -> 426975.65 | O63: =+IFERROR(IF(ISNUMBER(B63),"",M63*F63%*1000/D63),"") -> 113333.04 | P63: =+IFERROR(IF(ISNUMBER(B63),"",M63*H63%*1000/D63),"") -> 131782.61 | Q63: =+IF(RIGHT(K63,3)="zel",$N$9*$P$4*$J63,IF(RIGHT(K63,3)="ăng",$J63*$O$9*$P$5,IF(RIGHT(K63,3)="kWh",$J63*$P$9*$P$6,0))) -> 574560 | R63: =+VLOOKUP(B63,'luong lai may'!$B$16:$E$611,4,0) -> 231538 | S63: =+ROUND(SUM(N63:R63),0) -> 1478189
B64: M101.0903 | C64: 25 t | D64: 230 | E64: 17 | F64: 4.1 | H64: 5 | J64: 55 | K64: lít diezel | L64: 1x5/7 | M64: 761900 | N64: =+IF(M64>=30000,(M64-M64*10%)*1000*E64%/D64,M64*E64%*1000/D64) -> 506829.13 | O64: =+IFERROR(IF(ISNUMBER(B64),"",M64*F64%*1000/D64),"") -> 135816.96 | P64: =+IFERROR(IF(ISNUMBER(B64),"",M64*H64%*1000/D64),"") -> 165630.43 | Q64: =+IF(RIGHT(K64,3)="zel",$N$9*$P$4*$J64,IF(RIGHT(K64,3)="ăng",$J64*$O$9*$P$5,IF(RIGHT(K64,3)="kWh",$J64*$P$9*$P$6,0))) -> 831600 | R64: =+VLOOKUP(B64,'luong lai may'!$B$16:$E$611,4,0) -> 231538 | S64: =+ROUND(SUM(N64:R64),0) -> 1871415
B65: M101.1000 | C65: Máy đầm rung tự hành - trọng lượng: | O65: =+IFERROR(IF(ISNUMBER(B65),"",M65*F65%*1000/D65),"") | P65: =+IFERROR(IF(ISNUMBER(B65),"",M65*H65%*1000/D65),"")
B66: M101.1001 | C66: 8 t | D66: 230 | E66: 17 | F66: 4.6 | H66: 5 | J66: 19 | K66: lít diezel | L66: 1x4/7 | M66: 679100 | N66: =+IF(M66>=30000,(M66-M66*10%)*1000*E66%/D66,M66*E66%*1000/D66) -> 451749.13 | O66: =+IFERROR(IF(ISNUMBER(B66),"",M66*F66%*1000/D66),"") -> 135820 | P66: =+IFERROR(IF(ISNUMBER(B66),"",M66*H66%*1000/D66),"") -> 147630.43 | Q66: =+IF(RIGHT(K66,3)="zel",$N$9*$P$4*$J66,IF(RIGHT(K66,3)="ăng",$J66*$O$9*$P$5,IF(RIGHT(K66,3)="kWh",$J66*$P$9*$P$6,0))) -> 287280 | R66: =+VLOOKUP(B66,'luong lai may'!$B$16:$E$611,4,0) -> 196154 | S66: =+ROUND(SUM(N66:R66),0) -> 1218634
B67: M101.1002 | C67: 15 t | D67: 230 | E67: 17 | F67: 4.3 | H67: 5 | J67: 39 | K67: lít diezel | L67: 1x4/7 | M67: 1106200 | N67: =+IF(M67>=30000,(M67-M67*10%)*1000*E67%/D67,M67*E67%*1000/D67) -> 735863.48 | O67: =+IFERROR(IF(ISNUMBER(B67),"",M67*F67%*1000/D67),"") -> 206811.3 | P67: =+IFERROR(IF(ISNUMBER(B67),"",M67*H67%*1000/D67),"") -> 240478.26 | Q67: =+IF(RIGHT(K67,3)="zel",$N$9*$P$4*$J67,IF(RIGHT(K67,3)="ăng",$J67*$O$9*$P$5,IF(RIGHT(K67,3)="kWh",$J67*$P$9*$P$6,0))) -> 589680 | R67: =+VLOOKUP(B67,'luong lai may'!$B$16:$E$611,4,0) -> 196154 | S67: =+ROUND(SUM(N67:R67),0) -> 1968987
B68: M101.1003 | C68: 18 t | D68: 230 | E68: 17 | F68: 4.3 | H68: 5 | J68: 53 | K68: lít diezel | L68: 1x4/7 | M68: 1294500 | N68: =+IF(M68>=30000,(M68-M68*10%)*1000*E68%/D68,M68*E68%*1000/D68) -> 861123.91 | O68: =+IFERROR(IF(ISNUMBER(B68),"",M68*F68%*1000/D68),"") -> 242015.22 | P68: =+IFERROR(IF(ISNUMBER(B68),"",M68*H68%*1000/D68),"") -> 281413.04 | Q68: =+IF(RIGHT(K68,3)="zel",$N$9*$P$4*$J68,IF(RIGHT(K68,3)="ăng",$J68*$O$9*$P$5,IF(RIGHT(K68,3)="kWh",$J68*$P$9*$P$6,0))) -> 801360 | R68: =+VLOOKUP(B68,'luong lai may'!$B$16:$E$611,4,0) -> 196154 | S68: =+ROUND(SUM(N68:R68),0) -> 2382066
B69: M101.1004 | C69: 25 t | D69: 230 | E69: 17 | F69: 3.7 | H69: 5 | J69: 67 | K69: lít diezel | L69: 1x4/7 | M69: 1455700 | N69: =+IF(M69>=30000,(M69-M69*10%)*1000*E69%/D69,M69*E69%*1000/D69) -> 968356.96 | O69: =+IFERROR(IF(ISNUMBER(B69),"",M69*F69%*1000/D69),"") -> 234177.83 | P69: =+IFERROR(IF(ISNUMBER(B69),"",M69*H69%*1000/D69),"") -> 316456.52 | Q69: =+IF(RIGHT(K69,3)="zel",$N$9*$P$4*$J69,IF(RIGHT(K69,3)="ăng",$J69*$O$9*$P$5,IF(RIGHT(K69,3)="kWh",$J69*$P$9*$P$6,0))) -> 1013040 | R69: =+VLOOKUP(B69,'luong lai may'!$B$16:$E$611,4,0) -> 196154 | S69: =+ROUND(SUM(N69:R69),0) -> 2728185
B70: M101.1100 | C70: Đầm bánh thép tự hành - trọng lượng: | O70: =+IFERROR(IF(ISNUMBER(B70),"",M70*F70%*1000/D70),"") | P70: =+IFERROR(IF(ISNUMBER(B70),"",M70*H70%*1000/D70),"")
B71: M101.1101 | C71: 6,0 t | D71: 230 | E71: 18 | F71: 2.9 | H71: 5 | J71: 20 | K71: lít diezel | L71: 1x3/7 | M71: 319100 | N71: =+IF(M71>=30000,(M71-M71*10%)*1000*E71%/D71,M71*E71%*1000/D71) -> 224757.39 | O71: =+IFERROR(IF(ISNUMBER(B71),"",M71*F71%*1000/D71),"") -> 40234.348 | P71: =+IFERROR(IF(ISNUMBER(B71),"",M71*H71%*1000/D71),"") -> 69369.565 | Q71: =+IF(RIGHT(K71,3)="zel",$N$9*$P$4*$J71,IF(RIGHT(K71,3)="ăng",$J71*$O$9*$P$5,IF(RIGHT(K71,3)="kWh",$J71*$P$9*$P$6,0))) -> 302400 | R71: =+VLOOKUP(B71,'luong lai may'!$B$16:$E$611,4,0) -> 166154 | S71: =+ROUND(SUM(N71:R71),0) -> 802915
B72: M101.1102 | C72: 8,5 t | D72: 230 | E72: 18 | F72: 2.9 | H72: 5 | J72: 24 | K72: lít diezel | L72: 1x3/7 | M72: 319100 | N72: =+IF(M72>=30000,(M72-M72*10%)*1000*E72%/D72,M72*E72%*1000/D72) -> 224757.39 | O72: =+IFERROR(IF(ISNUMBER(B72),"",M72*F72%*1000/D72),"") -> 40234.348 | P72: =+IFERROR(IF(ISNUMBER(B72),"",M72*H72%*1000/D72),"") -> 69369.565 | Q72: =+IF(RIGHT(K72,3)="zel",$N$9*$P$4*$J72,IF(RIGHT(K72,3)="ăng",$J72*$O$9*$P$5,IF(RIGHT(K72,3)="kWh",$J72*$P$9*$P$6,0))) -> 362880 | R72: =+VLOOKUP(B72,'luong lai may'!$B$16:$E$611,4,0) -> 166154 | S72: =+ROUND(SUM(N72:R72),0) -> 863395
B73: M101.1103 | C73: 10 t | D73: 230 | E73: 18 | F73: 2.9 | H73: 5 | J73: 26 | K73: lít diezel | L73: 1x4/7 | M73: 415300 | N73: =+IF(M73>=30000,(M73-M73*10%)*1000*E73%/D73,M73*E73%*1000/D73) -> 292515.65 | O73: =+IFERROR(IF(ISNUMBER(B73),"",M73*F73%*1000/D73),"") -> 52363.913 | P73: =+IFERROR(IF(ISNUMBER(B73),"",M73*H73%*1000/D73),"") -> 90282.609 | Q73: =+IF(RIGHT(K73,3)="zel",$N$9*$P$4*$J73,IF(RIGHT(K73,3)="ăng",$J73*$O$9*$P$5,IF(RIGHT(K73,3)="kWh",$J73*$P$9*$P$6,0))) -> 393120 | R73: =+VLOOKUP(B73,'luong lai may'!$B$16:$E$611,4,0) -> 196154 | S73: =+ROUND(SUM(N73:R73),0) -> 1024436
B74: M101.1104 | C74: 15,5 t | D74: 230 | E74: 17 | F74: 2.7 | H74: 5 | J74: 42 | K74: lít diezel | L74: 1x4/7 | M74: 686100 | N74: =+IF(M74>=30000,(M74-M74*10%)*1000*E74%/D74,M74*E74%*1000/D74) -> 456405.65 | O74: =+IFERROR(IF(ISNUMBER(B74),"",M74*F74%*1000/D74),"") -> 80542.174 | P74: =+IFERROR(IF(ISNUMBER(B74),"",M74*H74%*1000/D74),"") -> 149152.17 | Q74: =+IF(RIGHT(K74,3)="zel",$N$9*$P$4*$J74,IF(RIGHT(K74,3)="ăng",$J74*$O$9*$P$5,IF(RIGHT(K74,3)="kWh",$J74*$P$9*$P$6,0))) -> 635040 | R74: =+VLOOKUP(B74,'luong lai may'!$B$16:$E$611,4,0) -> 196154 | S74: =+ROUND(SUM(N74:R74),0) -> 1517294
B75: M101.1200 | C75: Quả đầm - trọng lượng: | O75: =+IFERROR(IF(ISNUMBER(B75),"",M75*F75%*1000/D75),"") | P75: =+IFERROR(IF(ISNUMBER(B75),"",M75*H75%*1000/D75),"")
B76: M101.1201 | C76: 16 t | D76: 230 | E76: 17 | F76: 2.5 | H76: 5 | L76: 1x4/7 | M76: 521500 | N76: =+IF(M76>=30000,(M76-M76*10%)*1000*E76%/D76,M76*E76%*1000/D76) -> 346910.87 | O76: =+IFERROR(IF(ISNUMBER(B76),"",M76*F76%*1000/D76),"") -> 56684.783 | P76: =+IFERROR(IF(ISNUMBER(B76),"",M76*H76%*1000/D76),"") -> 113369.57 | Q76: =+IF(RIGHT(K76,3)="zel",$N$9*$P$4*$J76,IF(RIGHT(K76,3)="ăng",$J76*$O$9*$P$5,IF(RIGHT(K76,3)="kWh",$J76*$P$9*$P$6,0))) -> 0 | R76: =+VLOOKUP(B76,'luong lai may'!$B$16:$E$611,4,0) -> 196154 | S76: =+ROUND(SUM(N76:R76),0) -> 713119
B77: M102.0000 | C77: MÁY NÂNG CHUYỂN | O77: =+IFERROR(IF(ISNUMBER(B77),"",M77*F77%*1000/D77),"") | P77: =+IFERROR(IF(ISNUMBER(B77),"",M77*H77%*1000/D77),"")
B78: M102.0100 | C78: Cần trục ô tô - sức nâng: | O78: =+IFERROR(IF(ISNUMBER(B78),"",M78*F78%*1000/D78),"") | P78: =+IFERROR(IF(ISNUMBER(B78),"",M78*H78%*1000/D78),"")
B79: M102.0101 | C79: 3 t | D79: 220 | E79: 10 | F79: 5.1 | H79: 5 | J79: 25 | K79: lít diezel | L79: 1x1/4+1x3/4 lái xe nhóm 1 | M79: 563300 | N79: =+IF(M79>=30000,(M79-M79*10%)*1000*E79%/D79,M79*E79%*1000/D79) -> 230440.91 | O79: =+IFERROR(IF(ISNUMBER(B79),"",M79*F79%*1000/D79),"") -> 130583.18 | P79: =+IFERROR(IF(ISNUMBER(B79),"",M79*H79%*1000/D79),"") -> 128022.73 | Q79: =+IF(RIGHT(K79,3)="zel",$N$9*$P$4*$J79,IF(RIGHT(K79,3)="ăng",$J79*$O$9*$P$5,IF(RIGHT(K79,3)="kWh",$J79*$P$9*$P$6,0))) -> 378000 | R79: =+VLOOKUP(B79,'luong lai may'!$B$16:$E$611,4,0) -> 402307 | S79: =+ROUND(SUM(N79:R79),0) -> 1269354
B80: M102.0102 | C80: 4 t | D80: 220 | E80: 10 | F80: 5.1 | H80: 5 | J80: 26 | K80: lít diezel | L80: 1x1/4+1x3/4 lái xe nhóm 1 | M80: 604700 | N80: =+IF(M80>=30000,(M80-M80*10%)*1000*E80%/D80,M80*E80%*1000/D80) -> 247377.27 | O80: =+IFERROR(IF(ISNUMBER(B80),"",M80*F80%*1000/D80),"") -> 140180.45 | P80: =+IFERROR(IF(ISNUMBER(B80),"",M80*H80%*1000/D80),"") -> 137431.82 | Q80: =+IF(RIGHT(K80,3)="zel",$N$9*$P$4*$J80,IF(RIGHT(K80,3)="ăng",$J80*$O$9*$P$5,IF(RIGHT(K80,3)="kWh",$J80*$P$9*$P$6,0))) -> 393120 | R80: =+VLOOKUP(B80,'luong lai may'!$B$16:$E$611,4,0) -> 402307 | S80: =+ROUND(SUM(N80:R80),0) -> 1320417
B81: M102.0103 | C81: 5 t | D81: 220 | E81: 10 | F81: 4.7 | H81: 5 | J81: 30 | K81: lít diezel | L81: 1x1/4+1x3/4 lái xe nhóm 1 | M81: 671500 | N81: =+IF(M81>=30000,(M81-M81*10%)*1000*E81%/D81,M81*E81%*1000/D81) -> 274704.55 | O81: =+IFERROR(IF(ISNUMBER(B81),"",M81*F81%*1000/D81),"") -> 143456.82 | P81: =+IFERROR(IF(ISNUMBER(B81),"",M81*H81%*1000/D81),"") -> 152613.64 | Q81: =+IF(RIGHT(K81,3)="zel",$N$9*$P$4*$J81,IF(RIGHT(K81,3)="ăng",$J81*$O$9*$P$5,IF(RIGHT(K81,3)="kWh",$J81*$P$9*$P$6,0))) -> 453600 | R81: =+VLOOKUP(B81,'luong lai may'!$B$16:$E$611,4,0) -> 402307 | S81: =+ROUND(SUM(N81:R81),0) -> 1426682
B82: M102.0104 | C82: 6 t | D82: 220 | E82: 10 | F82: 4.7 | H82: 5 | J82: 33 | K82: lít diezel | L82: 1x1/4+1x3/4 lái xe nhóm 1 | M82: 827700 | N82: =+IF(M82>=30000,(M82-M82*10%)*1000*E82%/D82,M82*E82%*1000/D82) -> 338604.55 | O82: =+IFERROR(IF(ISNUMBER(B82),"",M82*F82%*1000/D82),"") -> 176826.82 | P82: =+IFERROR(IF(ISNUMBER(B82),"",M82*H82%*1000/D82),"") -> 188113.64 | Q82: =+IF(RIGHT(K82,3)="zel",$N$9*$P$4*$J82,IF(RIGHT(K82,3)="ăng",$J82*$O$9*$P$5,IF(RIGHT(K82,3)="kWh",$J82*$P$9*$P$6,0))) -> 498960 | R82: =+VLOOKUP(B82,'luong lai may'!$B$16:$E$611,4,0) -> 402307 | S82: =+ROUND(SUM(N82:R82),0) -> 1604812
B83: M102.0105 | C83: 10 t | D83: 220 | E83: 10 | F83: 4.5 | H83: 5 | J83: 37 | K83: lít diezel | L83: 1x1/4+1x3/4 lái xe nhóm 2 | M83: 1158800 | N83: =+IF(M83>=30000,(M83-M83*10%)*1000*E83%/D83,M83*E83%*1000/D83) -> 474054.55 | O83: =+IFERROR(IF(ISNUMBER(B83),"",M83*F83%*1000/D83),"") -> 237027.27 | P83: =+IFERROR(IF(ISNUMBER(B83),"",M83*H83%*1000/D83),"") -> 263363.64 | Q83: =+IF(RIGHT(K83,3)="zel",$N$9*$P$4*$J83,IF(RIGHT(K83,3)="ăng",$J83*$O$9*$P$5,IF(RIGHT(K83,3)="kWh",$J83*$P$9*$P$6,0))) -> 559440 | R83: =+VLOOKUP(B83,'luong lai may'!$B$16:$E$611,4,0) -> 457692 | S83: =+ROUND(SUM(N83:R83),0) -> 1991577
B84: M102.0106 | C84: 16 t | D84: 220 | E84: 10 | F84: 4.5 | H84: 5 | J84: 43 | K84: lít diezel | L84: 1x1/4+1x3/4 lái xe nhóm 2 | M84: 1357800 | N84: =+IF(M84>=30000,(M84-M84*10%)*1000*E84%/D84,M84*E84%*1000/D84) -> 555463.64 | O84: =+IFERROR(IF(ISNUMBER(B84),"",M84*F84%*1000/D84),"") -> 277731.82 | P84: =+IFERROR(IF(ISNUMBER(B84),"",M84*H84%*1000/D84),"") -> 308590.91 | Q84: =+IF(RIGHT(K84,3)="zel",$N$9*$P$4*$J84,IF(RIGHT(K84,3)="ăng",$J84*$O$9*$P$5,IF(RIGHT(K84,3)="kWh",$J84*$P$9*$P$6,0))) -> 650160 | R84: =+VLOOKUP(B84,'luong lai may'!$B$16:$E$611,4,0) -> 457692 | S84: =+ROUND(SUM(N84:R84),0) -> 2249638
B85: M102.0107 | C85: 20 t | D85: 220 | E85: 9 | F85: 4.5 | H85: 5 | J85: 44 | K85: lít diezel | L85: 1x1/4+1x3/4 lái xe nhóm 2 | M85: 1691700 | N85: =+IF(M85>=30000,(M85-M85*10%)*1000*E85%/D85,M85*E85%*1000/D85) -> 622853.18 | O85: =+IFERROR(IF(ISNUMBER(B85),"",M85*F85%*1000/D85),"") -> 346029.55 | P85: =+IFERROR(IF(ISNUMBER(B85),"",M85*H85%*1000/D85),"") -> 384477.27 | Q85: =+IF(RIGHT(K85,3)="zel",$N$9*$P$4*$J85,IF(RIGHT(K85,3)="ăng",$J85*$O$9*$P$5,IF(RIGHT(K85,3)="kWh",$J85*$P$9*$P$6,0))) -> 665280 | R85: =+VLOOKUP(B85,'luong lai may'!$B$16:$E$611,4,0) -> 457692 | S85: =+ROUND(SUM(N85:R85),0) -> 2476332
B86: M102.0108 | C86: 25 t | D86: 220 | E86: 9 | F86: 4.3 | H86: 5 | J86: 50 | K86: lít diezel | L86: 1x1/4+1x3/4 lái xe nhóm 3 | M86: 1945600 | N86: =+IF(M86>=30000,(M86-M86*10%)*1000*E86%/D86,M86*E86%*1000/D86) -> 716334.55 | O86: =+IFERROR(IF(ISNUMBER(B86),"",M86*F86%*1000/D86),"") -> 380276.36 | P86: =+IFERROR(IF(ISNUMBER(B86),"",M86*H86%*1000/D86),"") -> 442181.82 | Q86: =+IF(RIGHT(K86,3)="zel",$N$9*$P$4*$J86,IF(RIGHT(K86,3)="ăng",$J86*$O$9*$P$5,IF(RIGHT(K86,3)="kWh",$J86*$P$9*$P$6,0))) -> 756000 | R86: =+VLOOKUP(B86,'luong lai may'!$B$16:$E$611,4,0) -> 546154 | S86: =+ROUND(SUM(N86:R86),0) -> 2840947
B87: M102.0109 | C87: 30 t | D87: 220 | E87: 9 | F87: 4.3 | H87: 5 | J87: 54 | K87: lít diezel | L87: 1x1/4+1x3/4 lái xe nhóm 3 | M87: 2199200 | N87: =+IF(M87>=30000,(M87-M87*10%)*1000*E87%/D87,M87*E87%*1000/D87) -> 809705.45 | O87: =+IFERROR(IF(ISNUMBER(B87),"",M87*F87%*1000/D87),"") -> 429843.64 | P87: =+IFERROR(IF(ISNUMBER(B87),"",M87*H87%*1000/D87),"") -> 499818.18 | Q87: =+IF(RIGHT(K87,3)="zel",$N$9*$P$4*$J87,IF(RIGHT(K87,3)="ăng",$J87*$O$9*$P$5,IF(RIGHT(K87,3)="kWh",$J87*$P$9*$P$6,0))) -> 816480 | R87: =+VLOOKUP(B87,'luong lai may'!$B$16:$E$611,4,0) -> 546154 | S87: =+ROUND(SUM(N87:R87),0) -> 3102001
B88: M102.0110 | C88: 40 t | D88: 220 | E88: 8 | F88: 4.1 | H88: 5 | J88: 64 | K88: lít diezel | L88: 1x1/4+1x3/4 lái xe nhóm 3 | M88: 3258600 | N88: =+IF(M88>=30000,(M88-M88*10%)*1000*E88%/D88,M88*E88%*1000/D88) -> 1066450.9 | O88: =+IFERROR(IF(ISNUMBER(B88),"",M88*F88%*1000/D88),"") -> 607284.55 | P88: =+IFERROR(IF(ISNUMBER(B88),"",M88*H88%*1000/D88),"") -> 740590.91 | Q88: =+IF(RIGHT(K88,3)="zel",$N$9*$P$4*$J88,IF(RIGHT(K88,3)="ăng",$J88*$O$9*$P$5,IF(RIGHT(K88,3)="kWh",$J88*$P$9*$P$6,0))) -> 967680 | R88: =+VLOOKUP(B88,'luong lai may'!$B$16:$E$611,4,0) -> 546154 | S88: =+ROUND(SUM(N88:R88),0) -> 3928160
B89: M102.0111 | C89: 50 t | D89: 220 | E89: 8 | F89: 4.1 | H89: 5 | J89: 70 | K89: lít diezel | L89: 1x1/4+1x3/4 lái xe nhóm 3 | M89: 4572100 | N89: =+IF(M89>=30000,(M89-M89*10%)*1000*E89%/D89,M89*E89%*1000/D89) -> 1496323.6 | O89: =+IFERROR(IF(ISNUMBER(B89),"",M89*F89%*1000/D89),"") -> 852073.18 | P89: =+IFERROR(IF(ISNUMBER(B89),"",M89*H89%*1000/D89),"") -> 1039113.6 | Q89: =+IF(RIGHT(K89,3)="zel",$N$9*$P$4*$J89,IF(RIGHT(K89,3)="ăng",$J89*$O$9*$P$5,IF(RIGHT(K89,3)="kWh",$J89*$P$9*$P$6,0))) -> 1058400 | R89: =+VLOOKUP(B89,'luong lai may'!$B$16:$E$611,4,0) -> 546154 | S89: =+ROUND(SUM(N89:R89),0) -> 4992064
B90: M102.0200 | C90: Cần trục bánh hơi - sức nâng: | O90: =+IFERROR(IF(ISNUMBER(B90),"",M90*F90%*1000/D90),"") | P90: =+IFERROR(IF(ISNUMBER(B90),"",M90*H90%*1000/D90),"")
B91: M102.0201 | C91: 16 t | D91: 200 | E91: 10 | F91: 4.5 | H91: 5 | J91: 33 | K91: lít diezel | L91: 1x3/7+1x5/7 | M91: 900600 | N91: =+IF(M91>=30000,(M91-M91*10%)*1000*E91%/D91,M91*E91%*1000/D91) -> 405270 | O91: =+IFERROR(IF(ISNUMBER(B91),"",M91*F91%*1000/D91),"") -> 202635 | P91: =+IFERROR(IF(ISNUMBER(B91),"",M91*H91%*1000/D91),"") -> 225150 | Q91: =+IF(RIGHT(K91,3)="zel",$N$9*$P$4*$J91,IF(RIGHT(K91,3)="ăng",$J91*$O$9*$P$5,IF(RIGHT(K91,3)="kWh",$J91*$P$9*$P$6,0))) -> 498960 | R91: =+VLOOKUP(B91,'luong lai may'!$B$16:$E$611,4,0) -> 397692 | S91: =+ROUND(SUM(N91:R91),0) -> 1729707
B92: M102.0202 | C92: 25 t | D92: 200 | E92: 10 | F92: 4.5 | H92: 5 | J92: 36 | K92: lít diezel | L92: 1x4/7+1x6/7 | M92: 1104300 | N92: =+IF(M92>=30000,(M92-M92*10%)*1000*E92%/D92,M92*E92%*1000/D92) -> 496935 | O92: =+IFERROR(IF(ISNUMBER(B92),"",M92*F92%*1000/D92),"") -> 248467.5 | P92: =+IFERROR(IF(ISNUMBER(B92),"",M92*H92%*1000/D92),"") -> 276075 | Q92: =+IF(RIGHT(K92,3)="zel",$N$9*$P$4*$J92,IF(RIGHT(K92,3)="ăng",$J92*$O$9*$P$5,IF(RIGHT(K92,3)="kWh",$J92*$P$9*$P$6,0))) -> 544320 | R92: =+VLOOKUP(B92,'luong lai may'!$B$16:$E$611,4,0) -> 470000 | S92: =+ROUND(SUM(N92:R92),0) -> 2035798
B93: M102.0203 | C93: 40 t | D93: 200 | E93: 9 | F93: 4 | H93: 5 | J93: 50 | K93: lít diezel | L93: 1x4/7+1x6/7 | M93: 2289000 | N93: =+IF(M93>=30000,(M93-M93*10%)*1000*E93%/D93,M93*E93%*1000/D93) -> 927045 | O93: =+IFERROR(IF(ISNUMBER(B93),"",M93*F93%*1000/D93),"") -> 457800 | P93: =+IFERROR(IF(ISNUMBER(B93),"",M93*H93%*1000/D93),"") -> 572250 | Q93: =+IF(RIGHT(K93,3)="zel",$N$9*$P$4*$J93,IF(RIGHT(K93,3)="ăng",$J93*$O$9*$P$5,IF(RIGHT(K93,3)="kWh",$J93*$P$9*$P$6,0))) -> 756000 | R93: =+VLOOKUP(B93,'luong lai may'!$B$16:$E$611,4,0) -> 470000 | S93: =+ROUND(SUM(N93:R93),0) -> 3183095
B94: M102.0204 | C94: 63 t | D94: 200 | E94: 9 | F94: 4 | H94: 5 | J94: 61 | K94: lít diezel | L94: 1x4/7+1x6/7 | M94: 2711900 | N94: =+IF(M94>=30000,(M94-M94*10%)*1000*E94%/D94,M94*E94%*1000/D94) -> 1098319.5 | O94: =+IFERROR(IF(ISNUMBER(B94),"",M94*F94%*1000/D94),"") -> 542380 | P94: =+IFERROR(IF(ISNUMBER(B94),"",M94*H94%*1000/D94),"") -> 677975 | Q94: =+IF(RIGHT(K94,3)="zel",$N$9*$P$4*$J94,IF(RIGHT(K94,3)="ăng",$J94*$O$9*$P$5,IF(RIGHT(K94,3)="kWh",$J94*$P$9*$P$6,0))) -> 922320 | R94: =+VLOOKUP(B94,'luong lai may'!$B$16:$E$611,4,0) -> 470000 | S94: =+ROUND(SUM(N94:R94),0) -> 3710995
B95: M102.0205 | C95: 90 t | D95: 200 | E95: 8 | F95: 3.8 | H95: 5 | J95: 69 | K95: lít diezel | L95: 1x4/7+1x7/7 | M95: 5120500 | N95: =+IF(M95>=30000,(M95-M95*10%)*1000*E95%/D95,M95*E95%*1000/D95) -> 1843380 | O95: =+IFERROR(IF(ISNUMBER(B95),"",M95*F95%*1000/D95),"") -> 972895 | P95: =+IFERROR(IF(ISNUMBER(B95),"",M95*H95%*1000/D95),"") -> 1280125 | Q95: =+IF(RIGHT(K95,3)="zel",$N$9*$P$4*$J95,IF(RIGHT(K95,3)="ăng",$J95*$O$9*$P$5,IF(RIGHT(K95,3)="kWh",$J95*$P$9*$P$6,0))) -> 1043280 | R95: =+VLOOKUP(B95,'luong lai may'!$B$16:$E$611,4,0) -> 519231 | S95: =+ROUND(SUM(N95:R95),0) -> 5658911
B96: M102.0206 | C96: 100 t | D96: 200 | E96: 8 | F96: 3.8 | H96: 5 | J96: 74 | K96: lít diezel | L96: 2x4/7+1x7/7 | M96: 6168500 | N96: =+IF(M96>=30000,(M96-M96*10%)*1000*E96%/D96,M96*E96%*1000/D96) -> 2220660 | O96: =+IFERROR(IF(ISNUMBER(B96),"",M96*F96%*1000/D96),"") -> 1172015 | P96: =+IFERROR(IF(ISNUMBER(B96),"",M96*H96%*1000/D96),"") -> 1542125 | Q96: =+IF(RIGHT(K96,3)="zel",$N$9*$P$4*$J96,IF(RIGHT(K96,3)="ăng",$J96*$O$9*$P$5,IF(RIGHT(K96,3)="kWh",$J96*$P$9*$P$6,0))) -> 1118880 | R96: =+VLOOKUP(B96,'luong lai may'!$B$16:$E$611,4,0) -> 715385 | S96: =+ROUND(SUM(N96:R96),0) -> 6769065
B97: M102.0207 | C97: 110 t | D97: 200 | E97: 8 | F97: 3.6 | H97: 5 | J97: 78 | K97: lít diezel | L97: 2x4/7+1x7/7 | M97: 7794400 | N97: =+IF(M97>=30000,(M97-M97*10%)*1000*E97%/D97,M97*E97%*1000/D97) -> 2805984 | O97: =+IFERROR(IF(ISNUMBER(B97),"",M97*F97%*1000/D97),"") -> 1402992 | P97: =+IFERROR(IF(ISNUMBER(B97),"",M97*H97%*1000/D97),"") -> 1948600 | Q97: =+IF(RIGHT(K97,3)="zel",$N$9*$P$4*$J97,IF(RIGHT(K97,3)="ăng",$J97*$O$9*$P$5,IF(RIGHT(K97,3)="kWh",$J97*$P$9*$P$6,0))) -> 1179360 | R97: =+VLOOKUP(B97,'luong lai may'!$B$16:$E$611,4,0) -> 715385 | S97: =+ROUND(SUM(N97:R97),0) -> 8052321
B98: M102.0208 | C98: 130 t | D98: 200 | E98: 8 | F98: 3.6 | H98: 5 | J98: 81 | K98: lít diezel | L98: 2x4/7+1x7/7 | M98: 9306500 | N98: =+IF(M98>=30000,(M98-M98*10%)*1000*E98%/D98,M98*E98%*1000/D98) -> 3350340 | O98: =+IFERROR(IF(ISNUMBER(B98),"",M98*F98%*1000/D98),"") -> 1675170 | P98: =+IFERROR(IF(ISNUMBER(B98),"",M98*H98%*1000/D98),"") -> 2326625 | Q98: =+IF(RIGHT(K98,3)="zel",$N$9*$P$4*$J98,IF(RIGHT(K98,3)="ăng",$J98*$O$9*$P$5,IF(RIGHT(K98,3)="kWh",$J98*$P$9*$P$6,0))) -> 1224720 | R98: =+VLOOKUP(B98,'luong lai may'!$B$16:$E$611,4,0) -> 715385 | S98: =+ROUND(SUM(N98:R98),0) -> 9292240
B99: M102.0300 | C99: Cần trục bánh xích - sức nâng: | O99: =+IFERROR(IF(ISNUMBER(B99),"",M99*F99%*1000/D99),"") | P99: =+IFERROR(IF(ISNUMBER(B99),"",M99*H99%*1000/D99),"")
B100: M102.0301 | C100: 5 t | D100: 200 | E100: 10 | F100: 5.4 | H100: 5 | J100: 32 | K100: lít diezel | L100: 1x3/7+1x5/7 | M100: 705200 | N100: =+IF(M100>=30000,(M100-M100*10%)*1000*E100%/D100,M100*E100%*1000/D100) -> 317340 | O100: =+IFERROR(IF(ISNUMBER(B100),"",M100*F100%*1000/D100),"") -> 190404 | P100: =+IFERROR(IF(ISNUMBER(B100),"",M100*H100%*1000/D100),"") -> 176300 | Q100: =+IF(RIGHT(K100,3)="zel",$N$9*$P$4*$J100,IF(RIGHT(K100,3)="ăng",$J100*$O$9*$P$5,IF(RIGHT(K100,3)="kWh",$J100*$P$9*$P$6,0))) -> 483840 | R100: =+VLOOKUP(B100,'luong lai may'!$B$16:$E$611,4,0) -> 397692 | S100: =+ROUND(SUM(N100:R100),0) -> 1565576
B101: M102.0302 | C101: 10 t | D101: 200 | E101: 10 | F101: 4.5 | H101: 5 | J101: 36 | K101: lít diezel | L101: 1x3/7+1x5/7 | M101: 946700 | N101: =+IF(M101>=30000,(M101-M101*10%)*1000*E101%/D101,M101*E101%*1000/D101) -> 426015 | O101: =+IFERROR(IF(ISNUMBER(B101),"",M101*F101%*1000/D101),"") -> 213007.5 | P101: =+IFERROR(IF(ISNUMBER(B101),"",M101*H101%*1000/D101),"") -> 236675 | Q101: =+IF(RIGHT(K101,3)="zel",$N$9*$P$4*$J101,IF(RIGHT(K101,3)="ăng",$J101*$O$9*$P$5,IF(RIGHT(K101,3)="kWh",$J101*$P$9*$P$6,0))) -> 544320 | R101: =+VLOOKUP(B101,'luong lai may'!$B$16:$E$611,4,0) -> 397692 | S101: =+ROUND(SUM(N101:R101),0) -> 1817710
B102: M102.0303 | C102: 16 t | D102: 200 | E102: 10 | F102: 4.5 | H102: 5 | J102: 45 | K102: lít diezel | L102: 1x3/7+1x5/7 | M102: 1230900 | N102: =+IF(M102>=30000,(M102-M102*10%)*1000*E102%/D102,M102*E102%*1000/D102) -> 553905 | O102: =+IFERROR(IF(ISNUMBER(B102),"",M102*F102%*1000/D102),"") -> 276952.5 | P102: =+IFERROR(IF(ISNUMBER(B102),"",M102*H102%*1000/D102),"") -> 307725 | Q102: =+IF(RIGHT(K102,3)="zel",$N$9*$P$4*$J102,IF(RIGHT(K102,3)="ăng",$J102*$O$9*$P$5,IF(RIGHT(K102,3)="kWh",$J102*$P$9*$P$6,0))) -> 680400 | R102: =+VLOOKUP(B102,'luong lai may'!$B$16:$E$611,4,0) -> 397692 | S102: =+ROUND(SUM(N102:R102),0) -> 2216675
...

Sheet nhan cong
A1: BẢNG LƯƠNG NHÂN CÔNG | J1: Vùng I | K1: 2.350.000-2.530.000 | M1: Địa bàn áp dụng mức lương đầu vào căn cứ theo quy định hiện hành của Chính phủ về mức lương tối thiểu vùng
A2: (Theo Thông tư số 05/2016/TT-BXD ngày 10/03/2016 của Bộ Xây dựng) | J2: Vùng II | K2: 2.150.000-2.320.000
J3: Vùng III | K3: 2.000.000-2.154.000
A4: - Mức lương đầu vào (LNC) để xác định đơn giá nhân công : | F4: Vùng II | G4: 2000000 | H4: đ/tháng | J4: Vùng IV | K4: 1.900.000-2.050.000
A6: TT | B6: MS nhân công | C6: Loại nhân công | D6: Cấp bậc | E6: H.số lương (HCB) | F6: Lương cấp bậc (đ/tháng) | G6: Đ.giá NC (đ/công) | H6: Ghi chú | J6: Ghi chú:
A7: B1. BẢNG LƯƠNG CÔNG NHÂN XDCB | J7: 1) Nhóm I
A8: B1.1 Bảng lương công nhân XDCB Nhóm I | J8: - Mộc, nề, sắt, bê tông, cốp pha, hoàn thiện, đào đất, đắp đất;
A9: 1 | B9: N1207 | C9: Nhân công 2/7 N1 | D9: 2 | E9: 1.83 | F9: =+E9*$G$4 -> 3660000 | G9: =+ROUND(F9/26,0) -> 140769
A10: 2 | B10: N1217 | C10: Nhân công 2,1/7 N1 | D10: 2.1 | E10: 1.863 | F10: =+E10*$G$4 -> 3726000 | G10: =+ROUND(F10/26,0) -> 143308 | J10: - Khảo sát xây dựng (bao gồm cả đo đạc xây dựng);
A11: 3 | B11: N1227 | C11: Nhân công 2,2/7 N1 | D11: 2.2 | E11: 1.896 | F11: =+E11*$G$4 -> 3792000 | G11: =+ROUND(F11/26,0) -> 145846 | J11: - Vận hành các loại máy xây dựng (máy làm đất, máy đầm, máy nâng hạ, máy khoan, máy đóng ép cọc, máy bơm, máy hàn…)
A12: 4 | B12: N1237 | C12: Nhân công 2,3/7 N1 | D12: 2.3 | E12: 1.929 | F12: =+E12*$G$4 -> 3858000 | G12: =+ROUND(F12/26,0) -> 148385
A13: 5 | B13: N1247 | C13: Nhân công 2,4/7 N1 | D13: 2.4 | E13: 1.962 | F13: =+E13*$G$4 -> 3924000 | G13: =+ROUND(F13/26,0) -> 150923
A14: 6 | B14: N1257 | C14: Nhân công 2,5/7 N1 | D14: 2.5 | E14: 1.995 | F14: =+E14*$G$4 -> 3990000 | G14: =+ROUND(F14/26,0) -> 153462 | J14: 2) Nhóm II:
A15: 7 | C15: Nhân công 2,6/7 N1 | D15: 2.6 | E15: 2.028 | F15: =+E15*$G$4 -> 4056000 | G15: =+ROUND(F15/26,0) -> 156000 | J15: - Các công tác không thuộc nhóm I
A16: 8 | B16: N1277 | C16: Nhân công 2,7/7 N1 | D16: 2.7 | E16: 2.061 | F16: =+E16*$G$4 -> 4122000 | G16: =+ROUND(F16/26,0) -> 158538
A17: 9 | C17: Nhân công 2,8/7 N1 | D17: 2.8 | E17: 2.094 | F17: =+E17*$G$4 -> 4188000 | G17: =+ROUND(F17/26,0) -> 161077
A18: 10 | C18: Nhân công 2,9/7 N1 | D18: 2.9 | E18: 2.127 | F18: =+E18*$G$4 -> 4254000 | G18: =+ROUND(F18/26,0) -> 163615
A19: 11 | B19: N1307 | C19: Nhân công 3/7 N1 | D19: 3 | E19: 2.16 | F19: =+E19*$G$4 -> 4320000 | G19: =+ROUND(F19/26,0) -> 166154
A20: 12 | C20: Nhân công 3,1/7 N1 | D20: 3.1 | E20: 2.199 | F20: =+E20*$G$4 -> 4398000 | G20: =+ROUND(F20/26,0) -> 169154
A21: 13 | B21: N1327 | C21: Nhân công 3,2/7 N1 | D21: 3.2 | E21: 2.238 | F21: =+E21*$G$4 -> 4476000 | G21: =+ROUND(F21/26,0) -> 172154
A22: 14 | B22: N1337 | C22: Nhân công 3,3/7 N1 | D22: 3.3 | E22: 2.277 | F22: =+E22*$G$4 -> 4554000 | G22: =+ROUND(F22/26,0) -> 175154
A23: 15 | C23: Nhân công 3,4/7 N1 | D23: 3.4 | E23: 2.316 | F23: =+E23*$G$4 -> 4632000 | G23: =+ROUND(F23/26,0) -> 178154
A24: 16 | B24: N1357 | C24: Nhân công 3,5/7 N1 | D24: 3.5 | E24: 2.355 | F24: =+E24*$G$4 -> 4710000 | G24: =+ROUND(F24/26,0) -> 181154
A25: 17 | C25: Nhân công 3,6/7 N1 | D25: 3.6 | E25: 2.394 | F25: =+E25*$G$4 -> 4788000 | G25: =+ROUND(F25/26,0) -> 184154
A26: 18 | B26: N1377 | C26: Nhân công 3,7/7 N1 | D26: 3.7 | E26: 2.433 | F26: =+E26*$G$4 -> 4866000 | G26: =+ROUND(F26/26,0) -> 187154
A27: 19 | C27: Nhân công 3,8/7 N1 | D27: 3.8 | E27: 2.472 | F27: =+E27*$G$4 -> 4944000 | G27: =+ROUND(F27/26,0) -> 190154
A28: 20 | C28: Nhân công 3,9/7 N1 | D28: 3.9 | E28: 2.511 | F28: =+E28*$G$4 -> 5022000 | G28: =+ROUND(F28/26,0) -> 193154
A29: 21 | B29: N1407 | C29: Nhân công 4/7 N1 | D29: 4 | E29: 2.55 | F29: =+E29*$G$4 -> 5100000 | G29: =+ROUND(F29/26,0) -> 196154
A30: 22 | C30: Nhân công 4,1/7 N1 | D30: 4.1 | E30: 2.596 | F30: =+E30*$G$4 -> 5192000 | G30: =+ROUND(F30/26,0) -> 199692
A31: 23 | C31: Nhân công 4,2/7 N1 | D31: 4.2 | E31: 2.642 | F31: =+E31*$G$4 -> 5284000 | G31: =+ROUND(F31/26,0) -> 203231
A32: 24 | B32: N1437 | C32: Nhân công 4,3/7 N1 | D32: 4.3 | E32: 2.688 | F32: =+E32*$G$4 -> 5376000 | G32: =+ROUND(F32/26,0) -> 206769
A33: 25 | C33: Nhân công 4,4/7 N1 | D33: 4.4 | E33: 2.734 | F33: =+E33*$G$4 -> 5468000 | G33: =+ROUND(F33/26,0) -> 210308
A34: 26 | B34: N1457 | C34: Nhân công 4,5/7 N1 | D34: 4.5 | E34: 2.78 | F34: =+E34*$G$4 -> 5560000 | G34: =+ROUND(F34/26,0) -> 213846
A35: 27 | C35: Nhân công 4,6/7 N1 | D35: 4.6 | E35: 2.826 | F35: =+E35*$G$4 -> 5652000 | G35: =+ROUND(F35/26,0) -> 217385
A36: 28 | B36: N1477 | C36: Nhân công 4,7/7 N1 | D36: 4.7 | E36: 2.872 | F36: =+E36*$G$4 -> 5744000 | G36: =+ROUND(F36/26,0) -> 220923
A37: 29 | C37: Nhân công 4,8/7 N1 | D37: 4.8 | E37: 2.918 | F37: =+E37*$G$4 -> 5836000 | G37: =+ROUND(F37/26,0) -> 224462
A38: 30 | C38: Nhân công 4,9/7 N1 | D38: 4.9 | E38: 2.964 | F38: =+E38*$G$4 -> 5928000 | G38: =+ROUND(F38/26,0) -> 228000
A39: 31 | B39: N1507 | C39: Nhân công 5/7 N1 | D39: 5 | E39: 3.01 | F39: =+E39*$G$4 -> 6020000 | G39: =+ROUND(F39/26,0) -> 231538
A40: 32 | C40: Nhân công 5,1/7 N1 | D40: 5.1 | E40: 3.065 | F40: =+E40*$G$4 -> 6130000 | G40: =+ROUND(F40/26,0) -> 235769
A41: 33 | B41: N1527 | C41: Nhân công 5,2/7 N1 | D41: 5.2 | E41: 3.12 | F41: =+E41*$G$4 -> 6240000 | G41: =+ROUND(F41/26,0) -> 240000
A42: 34 | C42: Nhân công 5,3/7 N1 | D42: 5.3 | E42: 3.175 | F42: =+E42*$G$4 -> 6350000 | G42: =+ROUND(F42/26,0) -> 244231
A43: 35 | C43: Nhân công 5,4/7 N1 | D43: 5.4 | E43: 3.23 | F43: =+E43*$G$4 -> 6460000 | G43: =+ROUND(F43/26,0) -> 248462
A44: 36 | B44: N1557 | C44: Nhân công 5,5/7 N1 | D44: 5.5 | E44: 3.285 | F44: =+E44*$G$4 -> 6570000 | G44: =+ROUND(F44/26,0) -> 252692
A45: 37 | C45: Nhân công 5,6/7 N1 | D45: 5.6 | E45: 3.34 | F45: =+E45*$G$4 -> 6680000 | G45: =+ROUND(F45/26,0) -> 256923
A46: 38 | C46: Nhân công 5,7/7 N1 | D46: 5.7 | E46: 3.395 | F46: =+E46*$G$4 -> 6790000 | G46: =+ROUND(F46/26,0) -> 261154
A47: 39 | C47: Nhân công 5,8/7 N1 | D47: 5.8 | E47: 3.45 | F47: =+E47*$G$4 -> 6900000 | G47: =+ROUND(F47/26,0) -> 265385
A48: 40 | C48: Nhân công 5,9/7 N1 | D48: 5.9 | E48: 3.505 | F48: =+E48*$G$4 -> 7010000 | G48: =+ROUND(F48/26,0) -> 269615
A49: 41 | B49: N1607 | C49: Nhân công 6/7 N1 | D49: 6 | E49: 3.56 | F49: =+E49*$G$4 -> 7120000 | G49: =+ROUND(F49/26,0) -> 273846
A50: 42 | C50: Nhân công 6,1/7 N1 | D50: 6.1 | E50: 3.624 | F50: =+E50*$G$4 -> 7248000 | G50: =+ROUND(F50/26,0) -> 278769
A51: 43 | C51: Nhân công 6,2/7 N1 | D51: 6.2 | E51: 3.688 | F51: =+E51*$G$4 -> 7376000 | G51: =+ROUND(F51/26,0) -> 283692
A52: 44 | C52: Nhân công 6,3/7 N1 | D52: 6.3 | E52: 3.752 | F52: =+E52*$G$4 -> 7504000 | G52: =+ROUND(F52/26,0) -> 288615
A53: 45 | C53: Nhân công 6,4/7 N1 | D53: 6.4 | E53: 3.816 | F53: =+E53*$G$4 -> 7632000 | G53: =+ROUND(F53/26,0) -> 293538
A54: 46 | C54: Nhân công 6,5/7 N1 | D54: 6.5 | E54: 3.88 | F54: =+E54*$G$4 -> 7760000 | G54: =+ROUND(F54/26,0) -> 298462
A55: 47 | C55: Nhân công 6,6/7 N1 | D55: 6.6 | E55: 3.944 | F55: =+E55*$G$4 -> 7888000 | G55: =+ROUND(F55/26,0) -> 303385
A56: 48 | C56: Nhân công 6,7/7 N1 | D56: 6.7 | E56: 4.008 | F56: =+E56*$G$4 -> 8016000 | G56: =+ROUND(F56/26,0) -> 308308
A57: 49 | C57: Nhân công 6,8/7 N1 | D57: 6.8 | E57: 4.072 | F57: =+E57*$G$4 -> 8144000 | G57: =+ROUND(F57/26,0) -> 313231
A58: 50 | C58: Nhân công 6,9/7 N1 | D58: 6.9 | E58: 4.136 | F58: =+E58*$G$4 -> 8272000 | G58: =+ROUND(F58/26,0) -> 318154
A59: 51 | B59: N1707 | C59: Nhân công 7/7 N1 | D59: 7 | E59: 4.2 | F59: =+E59*$G$4 -> 8400000 | G59: =+ROUND(F59/26,0) -> 323077
A61: B1.2 Bảng lương công nhân XDCB Nhóm II
A62: 1 | B62: N2207 | C62: Nhân công 2/7 N2 | D62: 2 | E62: 2.07 | F62: =+E62*$G$4 -> 4140000 | G62: =+ROUND(F62/26,0) -> 159231
A63: 2 | C63: Nhân công 2,1/7 N2 | D63: 2.1 | E63: 2.107 | F63: =+E63*$G$4 -> 4214000 | G63: =+ROUND(F63/26,0) -> 162077
A64: 3 | C64: Nhân công 2,2/7 N2 | D64: 2.2 | E64: 2.144 | F64: =+E64*$G$4 -> 4288000 | G64: =+ROUND(F64/26,0) -> 164923
A65: 4 | C65: Nhân công 2,3/7 N2 | D65: 2.3 | E65: 2.181 | F65: =+E65*$G$4 -> 4362000 | G65: =+ROUND(F65/26,0) -> 167769
A66: 5 | C66: Nhân công 2,4/7 N2 | D66: 2.4 | E66: 2.218 | F66: =+E66*$G$4 -> 4436000 | G66: =+ROUND(F66/26,0) -> 170615
A67: 6 | B67: N2257 | C67: Nhân công 2,5/7 N2 | D67: 2.5 | E67: 2.255 | F67: =+E67*$G$4 -> 4510000 | G67: =+ROUND(F67/26,0) -> 173462
A68: 7 | C68: Nhân công 2,6/7 N2 | D68: 2.6 | E68: 2.292 | F68: =+E68*$G$4 -> 4584000 | G68: =+ROUND(F68/26,0) -> 176308
A69: 8 | B69: N2277 | C69: Nhân công 2,7/7 N2 | D69: 2.7 | E69: 2.329 | F69: =+E69*$G$4 -> 4658000 | G69: =+ROUND(F69/26,0) -> 179154
A70: 9 | C70: Nhân công 2,8/7 N2 | D70: 2.8 | E70: 2.366 | F70: =+E70*$G$4 -> 4732000 | G70: =+ROUND(F70/26,0) -> 182000
A71: 10 | C71: Nhân công 2,9/7 N2 | D71: 2.9 | E71: 2.403 | F71: =+E71*$G$4 -> 4806000 | G71: =+ROUND(F71/26,0) -> 184846
A72: 11 | B72: N2307 | C72: Nhân công 3/7 N2 | D72: 3 | E72: 2.44 | F72: =+E72*$G$4 -> 4880000 | G72: =+ROUND(F72/26,0) -> 187692
A73: 12 | C73: Nhân công 3,1/7 N2 | D73: 3.1 | E73: 2.482 | F73: =+E73*$G$4 -> 4964000 | G73: =+ROUND(F73/26,0) -> 190923
A74: 13 | B74: N2327 | C74: Nhân công 3,2/7 N2 | D74: 3.2 | E74: 2.524 | F74: =+E74*$G$4 -> 5048000 | G74: =+ROUND(F74/26,0) -> 194154
A75: 14 | C75: Nhân công 3,3/7 N2 | D75: 3.3 | E75: 2.566 | F75: =+E75*$G$4 -> 5132000 | G75: =+ROUND(F75/26,0) -> 197385
A76: 15 | C76: Nhân công 3,4/7 N2 | D76: 3.4 | E76: 2.608 | F76: =+E76*$G$4 -> 5216000 | G76: =+ROUND(F76/26,0) -> 200615
A77: 16 | B77: N2357 | C77: Nhân công 3,5/7 N2 | D77: 3.5 | E77: 2.65 | F77: =+E77*$G$4 -> 5300000 | G77: =+ROUND(F77/26,0) -> 203846
A78: 17 | C78: Nhân công 3,6/7 N2 | D78: 3.6 | E78: 2.692 | F78: =+E78*$G$4 -> 5384000 | G78: =+ROUND(F78/26,0) -> 207077
A79: 18 | B79: N2377 | C79: Nhân công 3,7/7 N2 | D79: 3.7 | E79: 2.734 | F79: =+E79*$G$4 -> 5468000 | G79: =+ROUND(F79/26,0) -> 210308
A80: 19 | C80: Nhân công 3,8/7 N2 | D80: 3.8 | E80: 2.776 | F80: =+E80*$G$4 -> 5552000 | G80: =+ROUND(F80/26,0) -> 213538
A81: 20 | C81: Nhân công 3,9/7 N2 | D81: 3.9 | E81: 2.818 | F81: =+E81*$G$4 -> 5636000 | G81: =+ROUND(F81/26,0) -> 216769
A82: 21 | B82: N2407 | C82: Nhân công 4/7 N2 | D82: 4 | E82: 2.86 | F82: =+E82*$G$4 -> 5720000 | G82: =+ROUND(F82/26,0) -> 220000
A83: 22 | C83: Nhân công 4,1/7 N2 | D83: 4.1 | E83: 2.911 | F83: =+E83*$G$4 -> 5822000 | G83: =+ROUND(F83/26,0) -> 223923
A84: 23 | B84: N2427 | C84: Nhân công 4,2/7 N2 | D84: 4.2 | E84: 2.962 | F84: =+E84*$G$4 -> 5924000 | G84: =+ROUND(F84/26,0) -> 227846
A85: 24 | C85: Nhân công 4,3/7 N2 | D85: 4.3 | E85: 3.013 | F85: =+E85*$G$4 -> 6026000 | G85: =+ROUND(F85/26,0) -> 231769
A86: 25 | C86: Nhân công 4,4/7 N2 | D86: 4.4 | E86: 3.064 | F86: =+E86*$G$4 -> 6128000 | G86: =+ROUND(F86/26,0) -> 235692
A87: 26 | B87: N2457 | C87: Nhân công 4,5/7 N2 | D87: 4.5 | E87: 3.115 | F87: =+E87*$G$4 -> 6230000 | G87: =+ROUND(F87/26,0) -> 239615
A88: 27 | C88: Nhân công 4,6/7 N2 | D88: 4.6 | E88: 3.166 | F88: =+E88*$G$4 -> 6332000 | G88: =+ROUND(F88/26,0) -> 243538
A89: 28 | B89: N2477 | C89: Nhân công 4,7/7 N2 | D89: 4.7 | E89: 3.217 | F89: =+E89*$G$4 -> 6434000 | G89: =+ROUND(F89/26,0) -> 247462
A90: 29 | C90: Nhân công 4,8/7 N2 | D90: 4.8 | E90: 3.268 | F90: =+E90*$G$4 -> 6536000 | G90: =+ROUND(F90/26,0) -> 251385
A91: 30 | C91: Nhân công 4,9/7 N2 | D91: 4.9 | E91: 3.319 | F91: =+E91*$G$4 -> 6638000 | G91: =+ROUND(F91/26,0) -> 255308
A92: 31 | B92: N2507 | C92: Nhân công 5/7 N2 | D92: 5 | E92: 3.37 | F92: =+E92*$G$4 -> 6740000 | G92: =+ROUND(F92/26,0) -> 259231
A93: 32 | C93: Nhân công 5,1/7 N2 | D93: 5.1 | E93: 3.429 | F93: =+E93*$G$4 -> 6858000 | G93: =+ROUND(F93/26,0) -> 263769
A94: 33 | B94: N2527 | C94: Nhân công 5,2/7 N2 | D94: 5.2 | E94: 3.488 | F94: =+E94*$G$4 -> 6976000 | G94: =+ROUND(F94/26,0) -> 268308
A95: 34 | C95: Nhân công 5,3/7 N2 | D95: 5.3 | E95: 3.547 | F95: =+E95*$G$4 -> 7094000 | G95: =+ROUND(F95/26,0) -> 272846
A96: 35 | C96: Nhân công 5,4/7 N2 | D96: 5.4 | E96: 3.606 | F96: =+E96*$G$4 -> 7212000 | G96: =+ROUND(F96/26,0) -> 277385
A97: 36 | B97: N2557 | C97: Nhân công 5,5/7 N2 | D97: 5.5 | E97: 3.665 | F97: =+E97*$G$4 -> 7330000 | G97: =+ROUND(F97/26,0) -> 281923
A98: 37 | C98: Nhân công 5,6/7 N2 | D98: 5.6 | E98: 3.724 | F98: =+E98*$G$4 -> 7448000 | G98: =+ROUND(F98/26,0) -> 286462
A99: 38 | C99: Nhân công 5,7/7 N2 | D99: 5.7 | E99: 3.783 | F99: =+E99*$G$4 -> 7566000 | G99: =+ROUND(F99/26,0) -> 291000
A100: 39 | C100: Nhân công 5,8/7 N2 | D100: 5.8 | E100: 3.842 | F100: =+E100*$G$4 -> 7684000 | G100: =+ROUND(F100/26,0) -> 295538
A101: 40 | C101: Nhân công 5,9/7 N2 | D101: 5.9 | E101: 3.901 | F101: =+E101*$G$4 -> 7802000 | G101: =+ROUND(F101/26,0) -> 300077
A102: 41 | B102: N2607 | C102: Nhân công 6/7 N2 | D102: 6 | E102: 3.96 | F102: =+E102*$G$4 -> 7920000 | G102: =+ROUND(F102/26,0) -> 304615
...

Sheet luong lai may
C2: BẢNG XÁC ĐỊNH GIÁ CA MÁY VÀ THIẾT BỊ THI CÔNG
B3: Căn cứ:
B4: - Theo QĐ 1134/QĐ-BXD ngày 08/10/2015 về việc công bố định mức các hao phí xác định giá ca máy và thiết bị thi công xây dựng | E4: Giá trị thu hồi:
B5: - Theo TT05/2016-BXD ngày 10/03/2016 về việc hướng dẫn xác định đơn giá nhân công trong quản lý chi phí đầu tư xây dựng | E5: - Nếu nguyên giá >=30.000.000 đồng thì thu hồi 10% nguyên giá
B6: - Thông tư 06/2016-BXD ngày 10/03/2016 về việc hướng dẫn xác định và quản lý chi phí đầu tư xây dựng | E6: - Nếu nguyên giá <30.000.000 đồng thì thu hồi 0%
B7: - Theo TT06/2010-BXD hướng dẫn xác định giá ca máy thiết bị
B8: - Giá bán lẻ xăng dầu của tập đoàn Petrolimex, giá bán điện của tập đoàn Điện lực
AY9: Lương thợ điều khiển tàu hút, tàu cuốc nạo vét sông | BY9: B.5.4. Lương thợ điều khiển tàu hút, tàu cuốc, tàu đào gầu ngoạm nạo vét biển
AE10: Nhóm 1: Tàu, ca nô có công suất máy chính từ 5CV đến 150CV. | AK10: Nhóm 2: Tàu, ca nô có công suất máy chính trên 150CV; cần cẩu nổi; tàu đóng cọc. | AQ10: Lương thủy thủ, thợ máy, thợ điện | AY10: Tàu hút dưới 150m3/h | BG10: Tàu hút từ 150m3/h đến 300m3/h | BO10: Tàu hút trên 300m3/h, tàu cuốc dưới 300m3/h | BY10: Tàu hút, tàu cuốc từ 300m3/h đến dưới 800m3/h | CI10: Tàu hút, tàu cuốc từ 800m3/h trở lên | CS10: BẢNG LƯƠNG THỢ LẶN
B11: Mã hiệu | C11: Loại máy và thiết bị | D11: Nhân công điều khiển máy | E11: Chi phí tiền lương | F11: Giá ca máy | G11: Công nhân vận hành máy nhóm I | M11: Công nhân vận hành máy không thuộc nhóm I (thuộc nhóm II) | S11: Lái xe nhóm I | W11: Lái xe nhóm II | AA11: Lái xe nhóm III | AE11: Thuyền trưởng nhóm I | AG11: Thuyền phó 1, máy 1 nhóm I | AI11: Thuyền phó 2, máy 2 nhóm I | AK11: Thuyền trưởng nhóm II | AM11: Thuyền phó 1, máy 1 nhóm II | AO11: Thuyền phó 2, máy 2 nhóm II | AQ11: Thủy thủ bậc 1 | AR11: Thủy thủ bậc 2 | AS11: Thủy thủ bậc 3 | AT11: Thủy thủ bậc 4 | AU11: Thợ máy, thợ điện bậc 1 | AV11: Thợ máy, thợ điện bậc 2 | AW11: Thợ máy, thợ điện bậc 3 | AX11: Thợ máy, thợ điện bậc 4 | AY11: Thuyền trưởng bậc 1 | AZ11: Thuyền trưởng bậc 2 | BA11: Máy trưởng bậc 1 | BB11: Máy trưởng bậc 2 | BC11: Máy 2, kỹ thuật viên cuốc 1, thuyền phó bậc 1 | BD11: Máy 2, kỹ thuật viên cuốc 1, thuyền phó bậc 2 | BE11: Kỹ thuật viên cuốc 2 bậc 1 | BF11: Kỹ thuật viên cuốc 2 bậc 2 | BG11: Thuyền trưởng bậc 1 | BH11: Thuyền trưởng bậc 2 | BI11: Máy trưởng bậc 1 | BJ11: Máy trưởng bậc 2 | BK11: Máy 2, kỹ thuật viên cuốc 1, thuyền phó bậc 1 | BL11: Máy 2, kỹ thuật viên cuốc 1, thuyền phó bậc 2 | BM11: Kỹ thuật viên cuốc 2 bậc 1 | BN11: Kỹ thuật viên cuốc 2 bậc 2 | BO11: Thuyền trưởng bậc 1 | BP11: Thuyền trưởng bậc 2 | BQ11: Máy trưởng bậc 1 | BR11: Máy trưởng bậc 2 | BS11: Điện trưởng bậc 1 | BT11: Điện trưởng bậc 2 | BU11: Máy 2, kỹ thuật viên cuốc 1, thuyền phó bậc 1 | BV11: Máy 2, kỹ thuật viên cuốc 1, thuyền phó bậc 2 | BW11: Kỹ thuật viên cuốc 2 bậc 1 | BX11: Kỹ thuật viên cuốc 2 bậc 2 | BY11: Thuyền trưởng tàu hút bụng bậc 1 | BZ11: Thuyền trưởng tàu hút bụng bậc 2 | CA11: Máy trưởng, thuyền trưởng tàu cuốc, tàu hút phun, tàu đào gầu ngoạm bậc 1 | CB11: Máy trưởng, thuyền trưởng tàu cuốc, tàu hút phun, tàu đào gầu ngoạm bậc 2 | CC11: Điện trưởng tàu hút, tàu cuốc; kỹ thuật viên cuốc 1, thuyền phó 2 tàu hút bụng; kỹ thuật viên cuốc 2 tàu cuốc, tàu hút phun, tàu đào gầu ngoạm bậc 1 | CD11: Điện trưởng tàu hút, tàu cuốc; kỹ thuật viên cuốc 1, thuyền phó 2 tàu hút bụng; kỹ thuật viên cuốc 2 tàu cuốc, tàu hút phun, tàu đào gầu ngoạm bậc 2 | CE11: Máy 2; kỹ thuật viên cuốc 1 tàu cuốc, tàu hút phun, tàu đào gầu ngoạm bậc 1 | CF11: Máy 2; kỹ thuật viên cuốc 1 tàu cuốc, tàu hút phun, tàu đào gầu ngoạm bậc 2 | CG11: Thuyền phó tàu cuốc, kỹ thuật viên cuốc 2 tàu hút bậc 1 | CH11: Thuyền phó tàu cuốc, kỹ thuật viên cuốc 2 tàu hút bậc 2 | CI11: Thuyền trưởng tàu hút bụng bậc 1 | CJ11: Thuyền trưởng tàu hút bụng bậc 2 | CK11: Máy trưởng, thuyền trưởng tàu cuốc, tàu hút phun, tàu đào gầu ngoạm bậc 1 | CL11: Máy trưởng, thuyền trưởng tàu cuốc, tàu hút phun, tàu đào gầu ngoạm bậc 2 | CM11: Điện trưởng tàu hút, tàu cuốc; kỹ thuật viên cuốc 1, thuyền phó 2 tàu hút bụng; kỹ thuật viên cuốc 2 tàu cuốc, tàu hút phun, tàu đào gầu ngoạm bậc 1 | CN11: Điện trưởng tàu hút, tàu cuốc; kỹ thuật viên cuốc 1, thuyền phó 2 tàu hút bụng; kỹ thuật viên cuốc 2 tàu cuốc, tàu hút phun, tàu đào gầu ngoạm bậc 2 | CO11: Máy 2; kỹ thuật viên cuốc 1 tàu cuốc, tàu hút phun, tàu đào gầu ngoạm bậc 1 | CP11: Máy 2; kỹ thuật viên cuốc 1 tàu cuốc, tàu hút phun, tàu đào gầu ngoạm bậc 2 | CQ11: Thuyền phó tàu cuốc, kỹ thuật viên cuốc 2 tàu hút bậc 1 | CR11: Thuyền phó tàu cuốc, kỹ thuật viên cuốc 2 tàu hút bậc 2 | CS11: Thợ lặn bậc 1 | CT11: Thợ lặn bậc 2 | CU11: Thợ lặn bậc 3 | CV11: Thợ lặn bậc 4 | CW11: Thợ lặn cấp I bậc 1 | CX11: Thợ lặn cấp I bậc 2 | CY11: Thợ lặn cấp II
E12: CPTL | F12: đồng | G12: =+'nhan cong'!B9 -> N1207 | H12: =+'nhan cong'!B19 -> N1307 | I12: =+'nhan cong'!B29 -> N1407 | J12: =+'nhan cong'!B39 -> N1507 | K12: =+'nhan cong'!B49 -> N1607 | L12: =+'nhan cong'!B59 -> N1707 | M12: =+'nhan cong'!B62 -> N2207 | N12: =+'nhan cong'!B72 -> N2307 | O12: =+'nhan cong'!B82 -> N2407 | P12: =+'nhan cong'!B92 -> N2507 | Q12: =+'nhan cong'!B102 -> N2607 | R12: =+'nhan cong'!B112 -> N2707 | S12: =+'nhan cong'!B131 -> Lx.175 | T12: =+'nhan cong'!B132 -> Lx.275 | U12: =+'nhan cong'!B133 -> Lx.375 | V12: =+'nhan cong'!B134 -> Lx.475 | W12: =+'nhan cong'!B136 -> Lx.125 | X12: =+'nhan cong'!B137 -> Lx.225 | Y12: =+'nhan cong'!B138 -> Lx.325 | Z12: =+'nhan cong'!B139 -> Lx.425 | AA12: =+'nhan cong'!B141 -> Lx.140 | AB12: =+'nhan cong'!B142 -> Lx.240 | AC12: =+'nhan cong'!B143 -> Lx.340 | AD12: =+'nhan cong'!B144 -> Lx.440 | AE12: =+'nhan cong'!B149 -> Ttr.11s | AF12: =+'nhan cong'!B150 -> Ttr.12s | AG12: =+'nhan cong'!B151 -> Tp1M1.11s | AH12: =+'nhan cong'!B152 -> Tp1M1.12s | AI12: =+'nhan cong'!B153 -> Tp2M2.11s | AJ12: =+'nhan cong'!B154 -> Tp2M2.12s | AK12: =+'nhan cong'!B156 -> Ttr.21s | AL12: =+'nhan cong'!B157 -> Ttr.22s | AM12: =+'nhan cong'!B158 -> Tp1M1.21s | AN12: =+'nhan cong'!B159 -> Tp1M1.22s | AO12: =+'nhan cong'!B160 -> Tp2M2.21s | AP12: =+'nhan cong'!B161 -> Tp2M2.22s | AQ12: =+'nhan cong'!B163 -> ThuyThu.1b | AR12: =+'nhan cong'!B164 -> ThuyThu.2b | AS12: =+'nhan cong'!B165 -> ThuyThu.3b | AT12: =+'nhan cong'!B166 -> ThuyThu.4b | AU12: =+'nhan cong'!B167 -> TmayTdien.1b | AV12: =+'nhan cong'!B168 -> TmayTdien.2b | AW12: =+'nhan cong'!B169 -> TmayTdien.3b | AX12: =+'nhan cong'!B170 -> TmayTdien.4b | AY12: TTrHut150.1s | AZ12: TTrHut150.2s | BA12: Mtr.1s | BB12: Mtr.2s | BC12: M2KtvCuoc1.1s | BD12: M2KtvCuoc1.2s | BE12: KtvCuoc2.1s | BF12: KtvCuoc2.2s | BG12: TTrHut300.1s | BH12: TTrHut300.2s | BI12: Mtr.3s | BJ12: Mtr.4s | BK12: M2KtvCuoc1.3s | BL12: M2KtvCuoc1.4s | BM12: KtvCuoc2.3s | BN12: KtvCuoc2.4s | BO12: TTrHutCuoc300.1s | BP12: TTrHutCuoc300.2s | BQ12: Mtr.5s | BR12: Mtr.6s | BS12: DtrHutCuoc300.1s | BT12: DtrHutCuoc300.2s | BU12: M2KtvCuoc1.5s | BV12: M2KtvCuoc1.6s | BW12: KtvCuoc2.5s | BX12: KtvCuoc2.6s | BY12: TTrHutCuoc300.1b | BZ12: TTrHutCuoc300.2b | CA12: MtrTtrCuocPhun.1b | CB12: MtrTtrCuocPhun.2b | CC12: DtrCuocPhun.1b | CD12: DtrCuocPhun.2b | CE12: M2Ktv.1b | CF12: M2Ktv.2b | CG12: Tp2KtvHutBung.1b | CH12: Tp2KtvHutBung.2b | CI12: TTrHutCuoc800.1b | CJ12: TTrHutCuoc800.2b | CK12: MtrTtrCuocPhun.3b | CL12: MtrTtrCuocPhun.4b | CM12: DtrCuocPhun.3b | CN12: DtrCuocPhun.4b | CO12: M2Ktv.3b | CP12: M2Ktv.4b | CQ12: Tp2KtvHutBung.3b | CR12: Tp2KtvHutBung.4b | CS12: Tholan.104 | CT12: Tholan.204 | CU12: Tholan.304 | CV12: Tholan.404 | CW12: TholanC1.12 | CX12: TholanC1.22 | CY12: TholanC2
B13: 1 | C13: 2 | D13: 8 | E13: 14 | F13: 15 | G13: =+VLOOKUP(G12,'nhan cong'!$B$9:$G$59,6,0) -> 140769 | H13: =+VLOOKUP(H12,'nhan cong'!$B$9:$G$59,6,0) -> 166154 | I13: =+VLOOKUP(I12,'nhan cong'!$B$9:$G$59,6,0) -> 196154 | J13: =+VLOOKUP(J12,'nhan cong'!$B$9:$G$59,6,0) -> 231538 | K13: =+VLOOKUP(K12,'nhan cong'!$B$9:$G$59,6,0) -> 273846 | L13: =+VLOOKUP(L12,'nhan cong'!$B$9:$G$59,6,0) -> 323077 | M13: =+VLOOKUP(M12,'nhan cong'!$B$62:$G$112,6,0) -> 159231 | N13: =+VLOOKUP(N12,'nhan cong'!$B$62:$G$112,6,0) -> 187692 | O13: =+VLOOKUP(O12,'nhan cong'!$B$62:$G$112,6,0) -> 220000 | P13: =+VLOOKUP(P12,'nhan cong'!$B$62:$G$112,6,0) -> 259231 | Q13: =+VLOOKUP(Q12,'nhan cong'!$B$62:$G$112,6,0) -> 304615 | R13: =+VLOOKUP(R12,'nhan cong'!$B$62:$G$112,6,0) -> 357692 | S13: =+VLOOKUP(S12,'nhan cong'!$B$131:$G$134,6,0) -> 167692 | T13: =+VLOOKUP(T12,'nhan cong'!$B$131:$G$134,6,0) -> 197692 | U13: =+VLOOKUP(U12,'nhan cong'!$B$131:$G$134,6,0) -> 234615 | V13: =+VLOOKUP(V12,'nhan cong'!$B$131:$G$134,6,0) -> 276923 | W13: =+VLOOKUP(W12,'nhan cong'!$B$136:$G$139,6,0) -> 193077 | X13: =+VLOOKUP(X12,'nhan cong'!$B$136:$G$139,6,0) -> 226154 | Y13: =+VLOOKUP(Y12,'nhan cong'!$B$136:$G$139,6,0) -> 264615 | Z13: =+VLOOKUP(Z12,'nhan cong'!$B$136:$G$139,6,0) -> 311538 | AA13: =+VLOOKUP(AA12,'nhan cong'!$B$141:$G$144,6,0) -> 230000 | AB13: =+VLOOKUP(AB12,'nhan cong'!$B$141:$G$144,6,0) -> 269231 | AC13: =+VLOOKUP(AC12,'nhan cong'!$B$141:$G$144,6,0) -> 316154 | AD13: =+VLOOKUP(AD12,'nhan cong'!$B$141:$G$144,6,0) -> 370769 | AE13: =+VLOOKUP(AE12,'nhan cong'!$B$149:$G$154,6,0) -> 286923 | AF13: =+VLOOKUP(AF12,'nhan cong'!$B$149:$G$154,6,0) -> 300769 | AG13: =+VLOOKUP(AG12,'nhan cong'!$B$149:$G$154,6,0) -> 243846 | AH13: =+VLOOKUP(AH12,'nhan cong'!$B$149:$G$154,6,0) -> 253846 | AI13: =+VLOOKUP(AI12,'nhan cong'!$B$149:$G$154,6,0) -> 204615 | AJ13: =+VLOOKUP(AJ12,'nhan cong'!$B$149:$G$154,6,0) -> 216154 | AK13: =+VLOOKUP(AK12,'nhan cong'!$B$156:$G$161,6,0) -> 318462 | AL13: =+VLOOKUP(AL12,'nhan cong'!$B$156:$G$161,6,0) -> 335385 | AM13: =+VLOOKUP(AM12,'nhan cong'!$B$156:$G$161,6,0) -> 273077 | AN13: =+VLOOKUP(AN12,'nhan cong'!$B$156:$G$161,6,0) -> 289231 | AO13: =+VLOOKUP(AO12,'nhan cong'!$B$156:$G$161,6,0) -> 225385 | AP13: =+VLOOKUP(AP12,'nhan cong'!$B$156:$G$161,6,0) -> 238462 | AQ13: =+VLOOKUP(AQ12,'nhan cong'!$B$163:$G$170,6,0) -> 148462 | AR13: =+VLOOKUP(AR12,'nhan cong'!$B$163:$G$170,6,0) -> 167692 | AS13: =+VLOOKUP(AS12,'nhan cong'!$B$163:$G$170,6,0) -> 193077 | AT13: =+VLOOKUP(AT12,'nhan cong'!$B$163:$G$170,6,0) -> 217692 | AU13: =+VLOOKUP(AU12,'nhan cong'!$B$163:$G$170,6,0) -> 157692 | AV13: =+VLOOKUP(AV12,'nhan cong'!$B$163:$G$170,6,0) -> 180769 | AW13: =+VLOOKUP(AW12,'nhan cong'!$B$163:$G$170,6,0) -> 204615 | AX13: =+VLOOKUP(AX12,'nhan cong'!$B$163:$G$170,6,0) -> 230000 | AY13: =+VLOOKUP(AY12,'nhan cong'!$B$173:$G$180,6,0) -> 300769 | AZ13: =+VLOOKUP(AZ12,'nhan cong'!$B$173:$G$180,6,0) -> 320000 | BA13: =+VLOOKUP(BA12,'nhan cong'!$B$173:$G$180,6,0) -> 269231 | BB13: =+VLOOKUP(BB12,'nhan cong'!$B$173:$G$180,6,0) -> 286923 | BC13: =+VLOOKUP(BC12,'nhan cong'!$B$173:$G$180,6,0) -> 267692 | BD13: =+VLOOKUP(BD12,'nhan cong'!$B$173:$G$180,6,0) -> 285385 | BE13: =+VLOOKUP(BE12,'nhan cong'!$B$173:$G$180,6,0) -> 243846 | BF13: =+VLOOKUP(BF12,'nhan cong'!$B$173:$G$180,6,0) -> 269231 | BG13: =+VLOOKUP(BG12,'nhan cong'!$B$182:$G$189,6,0) -> 336154 | BH13: =+VLOOKUP(BH12,'nhan cong'!$B$182:$G$189,6,0) -> 360000 | BI13: =+VLOOKUP(BI12,'nhan cong'!$B$182:$G$189,6,0) -> 320000 | BJ13: =+VLOOKUP(BJ12,'nhan cong'!$B$182:$G$189,6,0) -> 336154 | BK13: =+VLOOKUP(BK12,'nhan cong'!$B$182:$G$189,6,0) -> 314615 | BL13: =+VLOOKUP(BL12,'nhan cong'!$B$182:$G$189,6,0) -> 330769 | BM13: =+VLOOKUP(BM12,'nhan cong'!$B$182:$G$189,6,0) -> 286923 | BN13: =+VLOOKUP(BN12,'nhan cong'!$B$182:$G$189,6,0) -> 300769 | BO13: =+VLOOKUP(BO12,'nhan cong'!$B$191:$G$200,6,0) -> 375385 | BP13: =+VLOOKUP(BP12,'nhan cong'!$B$191:$G$200,6,0) -> 399231 | BQ13: =+VLOOKUP(BQ12,'nhan cong'!$B$191:$G$200,6,0) -> 362308 | BR13: =+VLOOKUP(BR12,'nhan cong'!$B$191:$G$200,6,0) -> 390000 | BS13: =+VLOOKUP(BS12,'nhan cong'!$B$191:$G$200,6,0) -> 320000 | BT13: =+VLOOKUP(BT12,'nhan cong'!$B$191:$G$200,6,0) -> 335385 | BU13: =+VLOOKUP(BU12,'nhan cong'!$B$191:$G$200,6,0) -> 360000 | BV13: =+VLOOKUP(BV12,'nhan cong'!$B$191:$G$200,6,0) -> 378462 | ... BX13: =+VLOOKUP(BX12,'nhan cong'!$B$191:$G$200,6,0) -> 360000 | BY13: =+VLOOKUP(BY12,'nhan cong'!$B$203:$G$212,6,0) -> 399231 | BZ13: =+VLOOKUP(BZ12,'nhan cong'!$B$203:$G$212,6,0) -> 416154 | CA13: =+VLOOKUP(CA12,'nhan cong'!$B$203:$G$212,6,0) -> 378462 | CB13: =+VLOOKUP(CB12,'nhan cong'!$B$203:$G$212,6,0) -> 399231 | CC13: =+VLOOKUP(CC12,'nhan cong'!$B$203:$G$212,6,0) -> 336154 | CD13: =+VLOOKUP(CD12,'nhan cong'!$B$203:$G$212,6,0) -> 360000 | CE13: =+VLOOKUP(CE12,'nhan cong'!$B$203:$G$212,6,0) -> 360000 | CF13: =+VLOOKUP(CF12,'nhan cong'!$B$203:$G$212,6,0) -> 378462 | ... CH13: =+VLOOKUP(CH12,'nhan cong'!$B$203:$G$212,6,0) -> 336154 | CI13: =+VLOOKUP(CI12,'nhan cong'!$B$214:$G$223,6,0) -> 416154 | CJ13: =+VLOOKUP(CJ12,'nhan cong'!$B$214:$G$223,6,0) -> 442308 | CK13: =+VLOOKUP(CK12,'nhan cong'!$B$214:$G$223,6,0) -> 399231 | CL13: =+VLOOKUP(CL12,'nhan cong'!$B$214:$G$223,6,0) -> 416154 | CM13: =+VLOOKUP(CM12,'nhan cong'!$B$214:$G$223,6,0) -> 360000 | CN13: =+VLOOKUP(CN12,'nhan cong'!$B$214:$G$223,6,0) -> 378462 | CO13: =+VLOOKUP(CO12,'nhan cong'!$B$214:$G$223,6,0) -> 378462 | CP13: =+VLOOKUP(CP12,'nhan cong'!$B$214:$G$223,6,0) -> 399231 | ... CR13: =+VLOOKUP(CR12,'nhan cong'!$B$214:$G$223,6,0) -> 360000 | CS13: =+VLOOKUP(CS12,'nhan cong'!$B$226:$G$232,6,0) -> 230000 | CT13: =+VLOOKUP(CT12,'nhan cong'!$B$226:$G$232,6,0) -> 252308 | CU13: =+VLOOKUP(CU12,'nhan cong'!$B$226:$G$232,6,0) -> 286154 | CV13: =+VLOOKUP(CV12,'nhan cong'!$B$226:$G$232,6,0) -> 319231 | CW13: =+VLOOKUP(CW12,'nhan cong'!$B$226:$G$232,6,0) -> 359231 | CX13: =+VLOOKUP(CX12,'nhan cong'!$B$226:$G$232,6,0) -> 405385 | CY13: =+VLOOKUP(CY12,'nhan cong'!$B$226:$G$232,6,0) -> 442308
B14: M101.0000 | C14: MÁY THI CÔNG ĐẤT VÀ LU LÈN
B15: M101.0100 | C15: Máy đào một gầu, bánh xích - dung tích gầu:
B16: M101.0101 | C16: 0,40 m3 | D16: 1x4/7 | E16: =+ROUND(SUMPRODUCT($G$13:$CY$13,G16:CY16),3) -> 196154 | I16: 1
B17: M101.0102 | C17: 0,50 m3 | D17: 1x4/7 | E17: =+ROUND(SUMPRODUCT($G$13:$CY$13,G17:CY17),3) -> 196154 | I17: 1
B18: M101.0103 | C18: 0,65 m3 | D18: 1x3/7+1x5/7 | E18: =+ROUND(SUMPRODUCT($G$13:$CY$13,G18:CY18),3) -> 397692 | H18: 1 | J18: 1
B19: M101.0104 | C19: 0,80 m3 | D19: 1x3/7+1x5/7 | E19: =+ROUND(SUMPRODUCT($G$13:$CY$13,G19:CY19),3) -> 397692 | H19: 1 | J19: 1
B20: M101.0105 | C20: 1,25 m3 | D20: 1x4/7+1x6/7 | E20: =+ROUND(SUMPRODUCT($G$13:$CY$13,G20:CY20),3) -> 470000 | I20: 1 | K20: 1
B21: M101.0106 | C21: 1,60 m3 | D21: 1x4/7+1x6/7 | E21: =+ROUND(SUMPRODUCT($G$13:$CY$13,G21:CY21),3) -> 470000 | I21: 1 | K21: 1
B22: M101.0107 | C22: 2,30 m3 | D22: 1x4/7+1x7/7 | E22: =+ROUND(SUMPRODUCT($G$13:$CY$13,G22:CY22),3) -> 519231 | I22: 1 | L22: 1
B23: M101.0108 | C23: 3,60 m3 | D23: 1x4/7+1x7/7 | E23: =+ROUND(SUMPRODUCT($G$13:$CY$13,G23:CY23),3) -> 519231 | I23: 1 | L23: 1
B24: M101.0200 | C24: Máy đào một gầu, bánh hơi - dung tích gầu:
B25: M101.0201 | C25: 0,75 m3 | D25: 1x3/7+1x5/7 | E25: =+ROUND(SUMPRODUCT($G$13:$CY$13,G25:CY25),3) -> 397692 | H25: 1 | J25: 1
B26: M101.0202 | C26: 1,25 m3 | D26: 1x4/7+1x6/7 | E26: =+ROUND(SUMPRODUCT($G$13:$CY$13,G26:CY26),3) -> 470000 | I26: 1 | K26: 1
B27: M101.0300 | C27: Máy đào gầu ngoạm (gầu dây) - dung tích gầu:
B28: M101.0301 | C28: 0,40 m3 | D28: 1x3/7+1x5/7 | E28: =+ROUND(SUMPRODUCT($G$13:$CY$13,G28:CY28),3) -> 397692 | H28: 1 | J28: 1
B29: M101.0302 | C29: 0,65 m3 | D29: 1x3/7+1x5/7 | E29: =+ROUND(SUMPRODUCT($G$13:$CY$13,G29:CY29),3) -> 397692 | H29: 1 | J29: 1
B30: M101.0303 | C30: 1,00 m3 | D30: 1x4/7+1x6/7 | E30: =+ROUND(SUMPRODUCT($G$13:$CY$13,G30:CY30),3) -> 470000 | I30: 1 | K30: 1
B31: M101.0304 | C31: 1,20 m3 | D31: 1x4/7+1x6/7 | E31: =+ROUND(SUMPRODUCT($G$13:$CY$13,G31:CY31),3) -> 470000 | I31: 1 | K31: 1
B32: M101.0305 | C32: 1,60 m3 | D32: 1x4/7+1x7/7 | E32: =+ROUND(SUMPRODUCT($G$13:$CY$13,G32:CY32),3) -> 519231 | I32: 1 | L32: 1
B33: M101.0306 | C33: 2,30 m3 | D33: 1x4/7+1x7/7 | E33: =+ROUND(SUMPRODUCT($G$13:$CY$13,G33:CY33),3) -> 519231 | I33: 1 | L33: 1
B34: M101.0400 | C34: Máy xúc lật - dung tích gầu: | I34: 1
B35: M101.0401 | C35: 0,60 m3 | D35: 1x4/7 | E35: =+ROUND(SUMPRODUCT($G$13:$CY$13,G35:CY35),3) -> 196154 | I35: 1
B36: M101.0402 | C36: 1,00 m3 | D36: 1x4/7 | E36: =+ROUND(SUMPRODUCT($G$13:$CY$13,G36:CY36),3) -> 196154 | I36: 1
B37: M101.0403 | C37: 1,25 m3 | D37: 1x3/7+1x5/7 | E37: =+ROUND(SUMPRODUCT($G$13:$CY$13,G37:CY37),3) -> 397692 | H37: 1 | J37: 1
B38: M101.0404 | C38: 1,65 m3 | D38: 1x3/7+1x5/7 | E38: =+ROUND(SUMPRODUCT($G$13:$CY$13,G38:CY38),3) -> 397692 | H38: 1 | J38: 1
B39: M101.0405 | C39: 2,30 m3 | D39: 1x4/7+1x6/7 | E39: =+ROUND(SUMPRODUCT($G$13:$CY$13,G39:CY39),3) -> 470000 | I39: 1 | K39: 1
B40: M101.0406 | C40: 2,80 m3 | D40: 1x4/7+1x6/7 | E40: =+ROUND(SUMPRODUCT($G$13:$CY$13,G40:CY40),3) -> 470000 | I40: 1 | K40: 1
B41: M101.0407 | C41: 3,20 m3 | D41: 1x4/7+1x6/7 | E41: =+ROUND(SUMPRODUCT($G$13:$CY$13,G41:CY41),3) -> 470000 | I41: 1 | K41: 1
B42: M101.0500 | C42: Máy ủi - công suất:
B43: M101.0501 | C43: 75 cv | D43: 1x4/7 | E43: =+ROUND(SUMPRODUCT($G$13:$CY$13,G43:CY43),3) -> 196154 | I43: 1
B44: M101.0502 | C44: 110 cv | D44: 1x3/7+1x5/7 | E44: =+ROUND(SUMPRODUCT($G$13:$CY$13,G44:CY44),3) -> 397692 | H44: 1 | J44: 1
B45: M101.0503 | C45: 140 cv | D45: 1x3/7+1x5/7 | E45: =+ROUND(SUMPRODUCT($G$13:$CY$13,G45:CY45),3) -> 397692 | H45: 1 | J45: 1
B46: M101.0504 | C46: 180 cv | D46: 1x3/7+1x5/7 | E46: =+ROUND(SUMPRODUCT($G$13:$CY$13,G46:CY46),3) -> 397692 | H46: 1 | J46: 1
B47: M101.0505 | C47: 250 cv | D47: 1x3/7+1x6/7 | E47: =+ROUND(SUMPRODUCT($G$13:$CY$13,G47:CY47),3) -> 440000 | H47: 1 | K47: 1
B48: M101.0506 | C48: 320 cv | D48: 1x3/7+1x7/7 | E48: =+ROUND(SUMPRODUCT($G$13:$CY$13,G48:CY48),3) -> 489231 | H48: 1 | L48: 1
B49: M101.0600 | C49: Máy cạp tự hành - dung tích thùng:
B50: M101.0601 | C50: 9 m3 | D50: 1x3/7+1x6/7 | E50: =+ROUND(SUMPRODUCT($G$13:$CY$13,G50:CY50),3) -> 440000 | H50: 1 | K50: 1
B51: M101.0602 | C51: 16 m3 | D51: 1x3/7+1x7/7 | E51: =+ROUND(SUMPRODUCT($G$13:$CY$13,G51:CY51),3) -> 489231 | H51: 1 | L51: 1
B52: M101.0603 | C52: 25 m3 | D52: 1x3/7+1x7/7 | E52: =+ROUND(SUMPRODUCT($G$13:$CY$13,G52:CY52),3) -> 489231 | H52: 1 | L52: 1
B53: M101.0700 | C53: Máy san tự hành - công suất:
B54: M101.0701 | C54: 108 cv | D54: 1x3/7+1x5/7 | E54: =+ROUND(SUMPRODUCT($G$13:$CY$13,G54:CY54),3) -> 397692 | H54: 1 | J54: 1
B55: M101.0702 | C55: 180 cv | D55: 1x3/7+1x5/7 | E55: =+ROUND(SUMPRODUCT($G$13:$CY$13,G55:CY55),3) -> 397692 | H55: 1 | J55: 1
B56: M101.0800 | C56: Máy đầm đất cầm tay - trọng lượng:
B57: M101.0801 | C57: 50 kg | D57: 1x3/7 | E57: =+ROUND(SUMPRODUCT($G$13:$CY$13,G57:CY57),3) -> 166154 | H57: 1
B58: M101.0802 | C58: 60 kg | D58: 1x3/7 | E58: =+ROUND(SUMPRODUCT($G$13:$CY$13,G58:CY58),3) -> 166154 | H58: 1
B59: M101.0803 | C59: 70 kg | D59: 1x3/7 | E59: =+ROUND(SUMPRODUCT($G$13:$CY$13,G59:CY59),3) -> 166154 | H59: 1
B60: M101.0804 | C60: 80 kg | D60: 1x3/7 | E60: =+ROUND(SUMPRODUCT($G$13:$CY$13,G60:CY60),3) -> 166154 | H60: 1
B61: M101.0900 | C61: Đầm bánh hơi tự hành - trọng lượng:
B62: M101.0901 | C62: 9 t | D62: 1x5/7 | E62: =+ROUND(SUMPRODUCT($G$13:$CY$13,G62:CY62),3) -> 231538 | J62: 1
B63: M101.0902 | C63: 16 t | D63: 1x5/7 | E63: =+ROUND(SUMPRODUCT($G$13:$CY$13,G63:CY63),3) -> 231538 | J63: 1
B64: M101.0903 | C64: 25 t | D64: 1x5/7 | E64: =+ROUND(SUMPRODUCT($G$13:$CY$13,G64:CY64),3) -> 231538 | J64: 1
B65: M101.1000 | C65: Máy đầm rung tự hành - trọng lượng:
B66: M101.1001 | C66: 8 t | D66: 1x4/7 | E66: =+ROUND(SUMPRODUCT($G$13:$CY$13,G66:CY66),3) -> 196154 | I66: 1
B67: M101.1002 | C67: 15 t | D67: 1x4/7 | E67: =+ROUND(SUMPRODUCT($G$13:$CY$13,G67:CY67),3) -> 196154 | I67: 1
B68: M101.1003 | C68: 18 t | D68: 1x4/7 | E68: =+ROUND(SUMPRODUCT($G$13:$CY$13,G68:CY68),3) -> 196154 | I68: 1
B69: M101.1004 | C69: 25 t | D69: 1x4/7 | E69: =+ROUND(SUMPRODUCT($G$13:$CY$13,G69:CY69),3) -> 196154 | I69: 1
B70: M101.1100 | C70: Đầm bánh thép tự hành - trọng lượng:
B71: M101.1101 | C71: 6,0 t | D71: 1x3/7 | E71: =+ROUND(SUMPRODUCT($G$13:$CY$13,G71:CY71),3) -> 166154 | H71: 1
B72: M101.1102 | C72: 8,5 t | D72: 1x3/7 | E72: =+ROUND(SUMPRODUCT($G$13:$CY$13,G72:CY72),3) -> 166154 | H72: 1
B73: M101.1103 | C73: 10 t | D73: 1x4/7 | E73: =+ROUND(SUMPRODUCT($G$13:$CY$13,G73:CY73),3) -> 196154 | I73: 1
B74: M101.1104 | C74: 15,5 t | D74: 1x4/7 | E74: =+ROUND(SUMPRODUCT($G$13:$CY$13,G74:CY74),3) -> 196154 | I74: 1
B75: M101.1200 | C75: Quả đầm - trọng lượng:
B76: M101.1201 | C76: 16 t | D76: 1x4/7 | E76: =+ROUND(SUMPRODUCT($G$13:$CY$13,G76:CY76),3) -> 196154 | I76: 1
B77: M102.0000 | C77: MÁY NÂNG CHUYỂN | E77: =+ROUND(SUMPRODUCT($G$13:$CY$13,G77:CY77),3) -> 0
B78: M102.0100 | C78: Cần trục ô tô - sức nâng: | E78: =+ROUND(SUMPRODUCT($G$13:$CY$13,G78:CY78),3) -> 0
B79: M102.0101 | C79: 3 t | D79: 1x1/4+1x3/4 lái xe nhóm 1 | E79: =+ROUND(SUMPRODUCT($G$13:$CY$13,G79:CY79),3) -> 402307 | S79: 1 | U79: 1
B80: M102.0102 | C80: 4 t | D80: 1x1/4+1x3/4 lái xe nhóm 1 | E80: =+ROUND(SUMPRODUCT($G$13:$CY$13,G80:CY80),3) -> 402307 | S80: 1 | U80: 1
B81: M102.0103 | C81: 5 t | D81: 1x1/4+1x3/4 lái xe nhóm 1 | E81: =+ROUND(SUMPRODUCT($G$13:$CY$13,G81:CY81),3) -> 402307 | S81: 1 | U81: 1
B82: M102.0104 | C82: 6 t | D82: 1x1/4+1x3/4 lái xe nhóm 1 | E82: =+ROUND(SUMPRODUCT($G$13:$CY$13,G82:CY82),3) -> 402307 | S82: 1 | U82: 1
B83: M102.0105 | C83: 10 t | D83: 1x1/4+1x3/4 lái xe nhóm 2 | E83: =+ROUND(SUMPRODUCT($G$13:$CY$13,G83:CY83),3) -> 457692 | W83: 1 | Y83: 1
B84: M102.0106 | C84: 16 t | D84: 1x1/4+1x3/4 lái xe nhóm 2 | E84: =+ROUND(SUMPRODUCT($G$13:$CY$13,G84:CY84),3) -> 457692 | W84: 1 | Y84: 1
B85: M102.0107 | C85: 20 t | D85: 1x1/4+1x3/4 lái xe nhóm 2 | E85: =+ROUND(SUMPRODUCT($G$13:$CY$13,G85:CY85),3) -> 457692 | W85: 1 | Y85: 1
B86: M102.0108 | C86: 25 t | D86: 1x1/4+1x3/4 lái xe nhóm 3 | E86: =+ROUND(SUMPRODUCT($G$13:$CY$13,G86:CY86),3) -> 546154 | AA86: 1 | AC86: 1
B87: M102.0109 | C87: 30 t | D87: 1x1/4+1x3/4 lái xe nhóm 3 | E87: =+ROUND(SUMPRODUCT($G$13:$CY$13,G87:CY87),3) -> 546154 | AA87: 1 | AC87: 1
B88: M102.0110 | C88: 40 t | D88: 1x1/4+1x3/4 lái xe nhóm 3 | E88: =+ROUND(SUMPRODUCT($G$13:$CY$13,G88:CY88),3) -> 546154 | AA88: 1 | AC88: 1
B89: M102.0111 | C89: 50 t | D89: 1x1/4+1x3/4 lái xe nhóm 3 | E89: =+ROUND(SUMPRODUCT($G$13:$CY$13,G89:CY89),3) -> 546154 | AA89: 1 | AC89: 1
B90: M102.0200 | C90: Cần trục bánh hơi - sức nâng: | E90: =+ROUND(SUMPRODUCT($G$13:$CY$13,G90:CY90),3) -> 0
B91: M102.0201 | C91: 16 t | D91: 1x3/7+1x5/7 | E91: =+ROUND(SUMPRODUCT($G$13:$CY$13,G91:CY91),3) -> 397692 | H91: 1 | J91: 1
B92: M102.0202 | C92: 25 t | D92: 1x4/7+1x6/7 | E92: =+ROUND(SUMPRODUCT($G$13:$CY$13,G92:CY92),3) -> 470000 | I92: 1 | K92: 1
B93: M102.0203 | C93: 40 t | D93: 1x4/7+1x6/7 | E93: =+ROUND(SUMPRODUCT($G$13:$CY$13,G93:CY93),3) -> 470000 | I93: 1 | K93: 1
B94: M102.0204 | C94: 63 t | D94: 1x4/7+1x6/7 | E94: =+ROUND(SUMPRODUCT($G$13:$CY$13,G94:CY94),3) -> 470000 | I94: 1 | K94: 1
B95: M102.0205 | C95: 90 t | D95: 1x4/7+1x7/7 | E95: =+ROUND(SUMPRODUCT($G$13:$CY$13,G95:CY95),3) -> 519231 | I95: 1 | L95: 1
B96: M102.0206 | C96: 100 t | D96: 2x4/7+1x7/7 | E96: =+ROUND(SUMPRODUCT($G$13:$CY$13,G96:CY96),3) -> 715385 | I96: 2 | L96: 1
B97: M102.0207 | C97: 110 t | D97: 2x4/7+1x7/7 | E97: =+ROUND(SUMPRODUCT($G$13:$CY$13,G97:CY97),3) -> 715385 | I97: 2 | L97: 1
B98: M102.0208 | C98: 130 t | D98: 2x4/7+1x7/7 | E98: =+ROUND(SUMPRODUCT($G$13:$CY$13,G98:CY98),3) -> 715385 | I98: 2 | L98: 1
B99: M102.0300 | C99: Cần trục bánh xích - sức nâng: | E99: =+ROUND(SUMPRODUCT($G$13:$CY$13,G99:CY99),3) -> 0
B100: M102.0301 | C100: 5 t | D100: 1x3/7+1x5/7 | E100: =+ROUND(SUMPRODUCT($G$13:$CY$13,G100:CY100),3) -> 397692 | H100: 1 | J100: 1
B101: M102.0302 | C101: 10 t | D101: 1x3/7+1x5/7 | E101: =+ROUND(SUMPRODUCT($G$13:$CY$13,G101:CY101),3) -> 397692 | H101: 1 | J101: 1
...
