Workbook
Name \p: #N/A
Name _0: {"Thuxm2.xls","Sheet1"}
Name _1: #REF!
Name _1: #REF!
Name _1: #REF!
Name _1: #REF!
Name _1000A01: #N/A
Name _2: #REF!
Name _2: #REF!
Name _2: #REF!
Name _2: #REF!
Name _bac1: #REF!
Name _bac1: #REF!
Name _bac1: #REF!
Name _bac1: #REF!
Name _bac2: #REF!
Name _bac2: #REF!
Name _bac2: #REF!
Name _bac2: #REF!
Name _bac3: #REF!
Name _bac3: #REF!
Name _bac3: #REF!
Name _bac3: #REF!
Name _bac4: #REF!
Name _bac4: #REF!
Name _bac4: #REF!
Name _bac4: #REF!
Name _bac5: #REF!
Name _bac5: #REF!
Name _bac5: #REF!
Name _bac5: #REF!
Name _bac6: #REF!
Name _bac6: #REF!
Name _bac6: #REF!
Name _bac6: #REF!
Name _bac7: #REF!
Name _bac7: #REF!
Name _bac7: #REF!
Name _bac7: #REF!
Name _BCT8: '[1]BAO CAO TUAN'!#REF!
Name _BCT8: '[1]BAO CAO TUAN'!#REF!
Name _BCT8: '[1]BAO CAO TUAN'!#REF!
Name _BCT8: '[1]BAO CAO TUAN'!#REF!
Name _CON1: #REF!
Name _CON1: #REF!
Name _CON1: #REF!
Name _CON1: #REF!
Name _CON2: #REF!
Name _CON2: #REF!
Name _CON2: #REF!
Name _CON2: #REF!
Name _ddn400: #REF!
Name _ddn400: #REF!
Name _ddn400: #REF!
Name _ddn400: #REF!
Name _ddn600: #REF!
Name _ddn600: #REF!
Name _ddn600: #REF!
Name _ddn600: #REF!
Name _EXC1: #REF!

Sheet 2. NK TN
A1: ='[5]Du lieu'!C4 -> KHU HỖN HỢP CHUNG CƯ, VĂN PHÒNG, TRUNG TÂM THƯƠNG MẠI VÀ NHÀ Ở KẾT HỢP KHU MUA SẮM | H1: Cộng hoà xã hội chủ nghĩa Việt Nam
H2: Độc lập - Tự do - Hạnh phúc | P2: Số hiệu cọc | R2: ='2. NK'!R2 -> B1
H3: - - - o0o - - - | P3: Đường kính | R3: =VLOOKUP($R$2,'Thong tin'!$A:$R,13,0) -> 800
A4: NHẬT KÝ CỌC KHOAN NHỒI | P4: Cao độ cắt cọc | R4: =VLOOKUP($R$2,'Thong tin'!$A:$R,6,0) -> -8
A5: ='1. Bia'!B10 -> DỰ ÁN: | D5: ='1. Bia'!E10 -> KHU HỖN HỢP CHUNG CƯ, VĂN PHÒNG, TRUNG TÂM THƯƠNG MẠI VÀ NHÀ Ở KẾT HỢP KHU MUA SẮM | K5: Chữ ký | P5: Cốt thép | Q5: ĐK
K6: BAN QLDA | L6: TVGS | M6: NTTC
A7: ='1. Bia'!B11 -> CÔNG TRÌNH: | D7: ='1. Bia'!E11 -> KHU HỖN HỢP CHUNG CƯ, VĂN PHÒNG, TTTM
A8: ='1. Bia'!B12 -> GÓI THẦU: | D8: ='1. Bia'!E12 -> THI CÔNG CỌC KHOAN NHỒI | Q8: SL | R8: =VLOOKUP($R$2,'Thong tin'!$A:$R,15,0) -> 16
A9: ='1. Bia'!B13 -> ĐỊA ĐIỂM: | D9: ='1. Bia'!E13 -> ĐƯỜNG 25/4, P BẠCH ĐẰNG, TP HẠ LONG, TỈNH QUẢNG NINH | Q9: ĐK | R9: =VLOOKUP($R$2,'Thong tin'!$A:$R,14,0) -> 20
A10: Số hiệu cọc: | D10: =R2 -> B1 | F10: đường kính: | H10: =R3 -> 800 | I10: (mm)
A11: 1. | B11: Khoan tạo lỗ : | E11: Bắt đầu : | F11: =VLOOKUP($D$10,DT.NK!$B:$AZ,2,0) -> 0.375 | G11: Kết thúc: | H11: =VLOOKUP($D$10,DT.NK!$B:$AZ,3,0) -> 0.39583333 | I11: Ngày | J11: =VLOOKUP($D$10,DT.NK!$B:$AZ,4,0) -> 42466 | P11: Loại bê tông | R11: B25
P12: Vị trí cọc | R12: Tại công trình
A13: 2. | B13: Nghiệm thu định vị ống Casing: | E13: Bắt đầu : | F13: =VLOOKUP($D$10,DT.NK!$B:$AZ,5,0) -> 0.40277778 | G13: Kết thúc: | H13: =VLOOKUP($D$10,DT.NK!$B:$AZ,6,0) -> 0.40625 | I13: Ngày | J13: =VLOOKUP($D$10,DT.NK!$B:$AZ,7,0) -> 42466 | P13: Tọa độ | Q13: x | R13: =VLOOKUP($R$2,'Thong tin'!$A:$R,2,0) -> 2317790.7
B14: * Xtk = | C14: =R13 -> 2317790.7 | D14: (m) | E14: Xtt = | F14: =I14+C14 -> 2317790.7 | H14: DX = | I14: =VLOOKUP($D$10,DT.NK!$B:$AZ,8,0) -> 0.001 | J14: (m) | Q14: y | R14: =VLOOKUP($R$2,'Thong tin'!$A:$R,3,0) -> 430397.96
B15: * Ytk = | C15: =R14 -> 430397.96 | D15: (m) | E15: Ytt = | F15: =I15+C15 -> 430397.98 | H15: DY = | I15: =VLOOKUP($D$10,DT.NK!$B:$AZ,9,0) -> 0.02 | J15: (m) | P15: SL ống 60 | R15: =VLOOKUP($R$2,'Thong tin'!$A:$R,11,0) -> 2
B16: Cao độ đỉnh casing so với cos ± 0.00 công trình (m): | F16: =VLOOKUP($D$10,DT.NK!$B:$AZ,10,0) -> -0.353 | G16: Cao độ nền TN so với cos ± 0.00 công trình (m): | J16: =VLOOKUP($D$10,DT.NK!$B:$AZ,11,0) -> -0.717 | P16: SL ống 113,5 | R16: =VLOOKUP($R$2,'Thong tin'!$A:$R,12,0) -> 1
P17: Mối nối | R17: 900
A18: 3 | B18: Kiểm tra Polymer lần1: | E18: Bắt đầu : | F18: =VLOOKUP($D$10,DT.NK!$B:$AZ,12,0) -> 0.40972222 | G18: Kết thúc: | H18: =VLOOKUP($D$10,DT.NK!$B:$AZ,13,0) -> 0.42013889 | I18: Ngày | J18: =VLOOKUP($D$10,DT.NK!$B:$AZ,14,0) -> 42466 | P18: Tổng chiều dài lồng thép | R18: =R4-H30+1-0.1 -> 22.603 | S18: dài
B19: * Tỷ trọng:(g/cm3) | D19: =VLOOKUP($D$10,DT.NK!$B:$AZ,15,0) -> 1.08 | E19: * Độ PH: | H19: =VLOOKUP($D$10,DT.NK!$B:$AZ,16,0) -> 9 | P19: Lồng 1 | R19: =R20 -> 16F20 | S19: =F16-R4 -> 7.647 | T19: 0.1
B20: * Độ nhớt:(s) | D20: =VLOOKUP($D$10,DT.NK!$B:$AZ,17,0) -> 19 | E20: * Hàm lượng cát: | H20: =VLOOKUP($D$10,DT.NK!$B:$AZ,18,0) -> 0 | P20: Lồng 2 | R20: =$R$8&"F"&$R$9 -> 16F20 | S20: 11.7 | V20: 11.7
B21: lần Kiểm tra : | S21: =11.7-S20 -> 0
A22: 4 | B22: Khoan gặp đá: | D22: Gặp đá: | G22: Bắt đầu | H22: =VLOOKUP($D$10,DT.NK!$B:$AZ,19,0) -> 0.54513889 | I22: Ngày | J22: =VLOOKUP($D$10,DT.NK!$B:$AZ,20,0) -> 42466 | P22: Lồng 3 | R22: =$R$8&"F"&$R$9 -> 16F20 | S22: =IF(R18-V20+0.9>11.7,11.7,R18-V20+0.9) -> 11.7 | T22: =IF(S22<11.7,0.1,"")
B23: * Chiều sâu từ đỉnh casing:(m) | H23: =VLOOKUP($D$10,DT.NK!$B:$AZ,21,0) -> 22.3 | P23: Lồng 4 | R23: =IF(S23="","",($R$8&"F"&$R$9)) -> 16F20 | S23: =IF(S22<11.7,"",IF(R18-V20-S22+2*0.9>11.7,11.7,R18-V20-S22+2*0.9)) -> 1.003 | T23: =IF(S23<11.7,0.1,"") -> 0.1
B24: * Cao độ từ cốt +0.00:(m) | H24: =-(H23-$F$16) -> -22.653 | P24: Lồng 5 | R24: =IF(S24="","",($R$8&"F"&$R$9)) | S24: =IF(S23="","",IF(S23<11.7,"",IF(R18-V20-S22-S23+3*0.9>11.7,11.7,R18-V20-S22-S23+3*0.9))) | T24: =IF(S24<11.7,0.1,"")
A25: 5 | B25: Kết thúc khoan hồi : | H25: =VLOOKUP($D$10,DT.NK!$B:$AZ,22,0) -> 0.67013889 | I25: Ngày | J25: =VLOOKUP($D$10,DT.NK!$B:$AZ,23,0) -> 42466
B26: * Chiều sâu từ mặt casing:(m) | H26: =VLOOKUP($D$10,DT.NK!$B:$AZ,24,0) -> 29.35 | P26: Bê tông | Q26: =Q31 -> Công ty TNHH kinh doanh và phát triển Vượng Phát
B27: * Cao độ từ cốt +0.00:(m) | H27: =-(H26-$F$16) -> -29.703 | P27: Thời tiết | Q27: Bình thường
A28: 6. | B28: Vét lắng | E28: Bắt đầu | F28: =VLOOKUP($D$10,DT.NK!$B:$AZ,25,0) -> 0.71180556 | G28: Kết thúc | H28: =VLOOKUP($D$10,DT.NK!$B:$AZ,26,0) -> 0.73263889 | I28: Ngày | J28: =VLOOKUP($D$10,DT.NK!$B:$AZ,27,0) -> 42466
B29: * Chiều sâu từ mặt casing sau khi Vét lắng (m) | H29: =VLOOKUP($D$10,DT.NK!$B:$AZ,28,0) -> 29.35
B30: * Cao độ từ cốt +0.00:(m) | H30: =-(H29-$F$16) -> -29.703
A31: 7. | B31: Nghiệm thu lồng thép: | E31: Bắt đầu : | F31: =VLOOKUP($D$10,DT.NK!$B:$AZ,29,0) -> 0.73958333 | G31: Kết thúc: | H31: =VLOOKUP($D$10,DT.NK!$B:$AZ,30,0) -> 0.75 | I31: Ngày | J31: =VLOOKUP($D$10,DT.NK!$B:$AZ,31,0) -> 42466 | Q31: Công ty TNHH kinh doanh và phát triển Vượng Phát
B32: Lồng | C32: Thép chủ | E32: Thép đai | G32: Thép giá | I32: Chiều dài lồng (m)
B33: 1 | C33: =R19 -> 16F20 | G33: f18 a2000 | I33: 1 | J33: 0.1 | Q33: Công ty Cổ phần Đầu tư và Xây dựng số 18.1
C34: =C33 -> 16F20 | E34: f10 a100 | G34: f18 a2000 | I34: 2
C35: =C33 -> 16F20 | E35: f10 a200 | G35: f18 a2000 | I35: =S19-I34-I33 -> 4.647
B36: 2 | C36: =R20 -> 16F20 | E36: f10 a100 | G36: f18 a2000 | I36: =IF(R3=1200,2.4,1.6) -> 1.6
C37: =C36 -> 16F20 | E37: f10 a200 | G37: f18 a2000 | I37: =11.7-I36 -> 10.1
B38: 3 | C38: =R22 -> 16F20 | E38: f10 a200 | G38: f18 a2000 | I38: =S22 -> 11.7 | J38: =T22
B39: 4 | C39: =R23 -> 16F20 | E39: =IF(C39="","",E38) -> f10 a200 | G39: =IF(E39="","",G38) -> f18 a2000 | I39: =S23 -> 1.003 | J39: =T23 -> 0.1
B40: 5 | C40: =R24 | E40: =IF(C40="","",E39) | G40: =IF(E40="","",G39) | I40: =S24 | J40: =T24
A41: * | B41: Ống siêu âm D59.9mm, số lượng (ống): | E41: =R15 -> 2 | G41: Chiều dài (m): | I41: =IF(E41=0,0,(J16-H30-0.1-0.5)) -> 28.386
A42: * | B42: Ống siêu âm D113,5mm, số lượng (ống): | E42: =R16 -> 1 | G42: Chiều dài (m): | I42: =IF(E42=0,0,I41-0.9) -> 27.486
A43: * | B43: Đường kính lồng thép (mm): | E43: =H10-140 -> 660 | G43: Con kê BT | I43: =ROUND((R4+1-H30)/2,0)*4 -> 44
A44: 8. | B44: Hạ lồng thép, ống đổ, ống thổi : | E44: Bắt đầu | F44: =VLOOKUP($D$10,DT.NK!$B:$AZ,32,0) -> 0.75694444 | G44: Kết thúc | H44: =VLOOKUP($D$10,DT.NK!$B:$AZ,33,0) -> 0.79861111 | I44: Ngày | J44: =VLOOKUP($D$10,DT.NK!$B:$AZ,34,0) -> 42466
A46: 9. | B46: Kiểm tra Polymer lần 2: | E46: Bắt đầu | F46: =VLOOKUP($D$10,DT.NK!$B:$AZ,35,0) -> 0.81944444 | G46: Kết thúc | H46: =VLOOKUP($D$10,DT.NK!$B:$AZ,36,0) -> 0.82638889 | I46: Ngày | J46: =VLOOKUP($D$10,DT.NK!$B:$AZ,37,0) -> 42466
B47: * Tỷ trọng:(g/cm3) | D47: =VLOOKUP($D$10,DT.NK!$B:$AZ,38,0) -> 1.09 | E47: * Độ PH: | H47: =VLOOKUP($D$10,DT.NK!$B:$AZ,39,0) -> 9
B48: * Độ nhớt:(s) | D48: =VLOOKUP($D$10,DT.NK!$B:$AZ,40,0) -> 28 | E48: * Hàm lượng cát:(%) | H48: =VLOOKUP($D$10,DT.NK!$B:$AZ,41,0) -> 0
A50: 10. | B50: Kiểm tra chiều sâu hố khoan trước khi đổ bê tông
E51: Bắt đầu | F51: =VLOOKUP($D$10,DT.NK!$B:$AZ,42,0) -> 0.82638889 | G51: Kết thúc | H51: =VLOOKUP($D$10,DT.NK!$B:$AZ,43,0) -> 0.83333333 | I51: Ngày | J51: =VLOOKUP($D$10,DT.NK!$B:$AZ,44,0) -> 42466
B52: * Chiều sâu từ mặt Casing sau: (m) | H52: =VLOOKUP($D$10,DT.NK!$B:$AZ,45,0) -> 29.35
B53: * Cao độ từ cốt +0.00:(m) | H53: =-(H52-$F$16) -> -29.703
A54: 11. | B54: TVGS đồng ý cho đổ bê tông | E54: Bắt đầu | F54: =VLOOKUP($D$10,DT.NK!$B:$AZ,46,0) -> 0.83333333 | G54: =VLOOKUP($D$10,DT.NK!$B:$AZ,47,0) -> 42466 | H54: Kết thúc | I54: =VLOOKUP($D$10,DT.NK!$B:$AZ,48,0) -> 0.875 | J54: =VLOOKUP($D$10,DT.NK!$B:$AZ,49,0) -> 42466
B55: Chiều sâu dừng đổ bê tông tính từ đỉnh Casing (m): | F55: =VLOOKUP($D$10,DT.NK!$B:$AZ,50,0) -> 0 | G55: Cao độ dừng đổ bê tông so với Cos ± 0.00: | J55: =-(F55-$F$16) -> -0.353
B57: Khối lượng bê tông đã đổ (m3): | F57: =VLOOKUP($D$10,DT.NK!$B:$AZ,51,0) -> 18 | G57: Khối lượng BT theo lý thuyết (m3): | J57: =(R4+1-H53)*3.14*(R3/2000)^2 -> 11.405987
B60: BAN QUẢN LÝ DỰ ÁN | F60: TƯ VẤN GIÁM SÁT | J60: NHÀ THẦU THI CÔNG
K62: =(R4-H53)*3.14*(R3/2000)^2+3.14*((R3+100)/2000)^2 -> 11.539437

Sheet 2. NK KP
A1: ='[5]Du lieu'!C4 -> KHU HỖN HỢP CHUNG CƯ, VĂN PHÒNG, TRUNG TÂM THƯƠNG MẠI VÀ NHÀ Ở KẾT HỢP KHU MUA SẮM | H1: Cộng hoà xã hội chủ nghĩa Việt Nam
H2: Độc lập - Tự do - Hạnh phúc | P2: Số hiệu cọc | R2: ='2. NK'!R2 -> B1
H3: - - - o0o - - - | P3: Đường kính | R3: =VLOOKUP($R$2,'Thong tin'!$A:$R,13,0) -> 800
A4: NHẬT KÝ CỌC KHOAN NHỒI | P4: Cao độ cắt cọc | R4: =VLOOKUP($R$2,'Thong tin'!$A:$R,6,0) -> -8
A5: ='1. Bia'!B10 -> DỰ ÁN: | D5: ='1. Bia'!E10 -> KHU HỖN HỢP CHUNG CƯ, VĂN PHÒNG, TRUNG TÂM THƯƠNG MẠI VÀ NHÀ Ở KẾT HỢP KHU MUA SẮM | K5: Chữ ký | P5: Cốt thép | Q5: ĐK
K6: BAN QLDA | L6: TVGS | M6: NTTC
A7: ='1. Bia'!B11 -> CÔNG TRÌNH: | D7: ='1. Bia'!E11 -> KHU HỖN HỢP CHUNG CƯ, VĂN PHÒNG, TTTM
A8: ='1. Bia'!B12 -> GÓI THẦU: | D8: ='1. Bia'!E12 -> THI CÔNG CỌC KHOAN NHỒI | Q8: SL | R8: =VLOOKUP($R$2,'Thong tin'!$A:$R,15,0) -> 16
A9: ='1. Bia'!B13 -> ĐỊA ĐIỂM: | D9: ='1. Bia'!E13 -> ĐƯỜNG 25/4, P BẠCH ĐẰNG, TP HẠ LONG, TỈNH QUẢNG NINH | Q9: ĐK | R9: =VLOOKUP($R$2,'Thong tin'!$A:$R,14,0) -> 20
A10: Số hiệu cọc: | D10: =R2 -> B1 | F10: đường kính: | H10: =R3 -> 800 | I10: (mm)
A11: 1. | B11: Khoan tạo lỗ : | E11: Bắt đầu : | F11: =VLOOKUP($D$10,DT.NK!$B:$AZ,2,0) -> 0.375 | G11: Kết thúc: | H11: =VLOOKUP($D$10,DT.NK!$B:$AZ,3,0) -> 0.39583333 | I11: Ngày | J11: =VLOOKUP($D$10,DT.NK!$B:$AZ,4,0) -> 42466 | P11: Loại bê tông | R11: B25
P12: Vị trí cọc | R12: Tại công trình
A13: 2. | B13: Nghiệm thu định vị ống Casing: | E13: Bắt đầu : | F13: =VLOOKUP($D$10,DT.NK!$B:$AZ,5,0) -> 0.40277778 | G13: Kết thúc: | H13: =VLOOKUP($D$10,DT.NK!$B:$AZ,6,0) -> 0.40625 | I13: Ngày | J13: =VLOOKUP($D$10,DT.NK!$B:$AZ,7,0) -> 42466 | P13: Tọa độ | Q13: x | R13: =VLOOKUP($R$2,'Thong tin'!$A:$R,2,0) -> 2317790.7
B14: * Xtk = | C14: =R13 -> 2317790.7 | D14: (m) | E14: Xtt = | F14: =I14+C14 -> 2317790.7 | H14: DX = | I14: =VLOOKUP($D$10,DT.NK!$B:$AZ,8,0) -> 0.001 | J14: (m) | Q14: y | R14: =VLOOKUP($R$2,'Thong tin'!$A:$R,3,0) -> 430397.96
B15: * Ytk = | C15: =R14 -> 430397.96 | D15: (m) | E15: Ytt = | F15: =I15+C15 -> 430397.98 | H15: DY = | I15: =VLOOKUP($D$10,DT.NK!$B:$AZ,9,0) -> 0.02 | J15: (m) | P15: SL ống 60 | R15: =VLOOKUP($R$2,'Thong tin'!$A:$R,11,0) -> 2
B16: Cao độ đỉnh casing so với cos ± 0.00 công trình (m): | F16: =VLOOKUP($D$10,DT.NK!$B:$AZ,10,0) -> -0.353 | G16: Cao độ nền TN so với cos ± 0.00 công trình (m): | J16: =VLOOKUP($D$10,DT.NK!$B:$AZ,11,0) -> -0.717 | P16: SL ống 113,5 | R16: =VLOOKUP($R$2,'Thong tin'!$A:$R,12,0) -> 1
P17: Mối nối | R17: 900
A18: 3 | B18: Kiểm tra Polymer lần1: | E18: Bắt đầu : | F18: =VLOOKUP($D$10,DT.NK!$B:$AZ,12,0) -> 0.40972222 | G18: Kết thúc: | H18: =VLOOKUP($D$10,DT.NK!$B:$AZ,13,0) -> 0.42013889 | I18: Ngày | J18: =VLOOKUP($D$10,DT.NK!$B:$AZ,14,0) -> 42466 | P18: Tổng chiều dài lồng thép | R18: =R4-H30+1-0.1 -> 22.603 | S18: dài
B19: * Tỷ trọng:(g/cm3) | D19: =VLOOKUP($D$10,DT.NK!$B:$AZ,15,0) -> 1.08 | E19: * Độ PH: | H19: =VLOOKUP($D$10,DT.NK!$B:$AZ,16,0) -> 9 | P19: Lồng 1 | R19: 6F14 | S19: =F16-R4 -> 7.647 | T19: 0.1
B20: * Độ nhớt:(s) | D20: =VLOOKUP($D$10,DT.NK!$B:$AZ,17,0) -> 19 | E20: * Hàm lượng cát: | H20: =VLOOKUP($D$10,DT.NK!$B:$AZ,18,0) -> 0 | P20: Lồng 2 | R20: =$R$8*2&"F"&$R$9 -> 32F20 | S20: =IF(R3=1200,3.4,2.6) -> 2.6 | V20: 11.7
B21: lần Kiểm tra : | S21: =11.7-S20 -> 9.1
A22: 4 | B22: Khoan gặp đá: | D22: Gặp đá: | G22: Bắt đầu | H22: =VLOOKUP($D$10,DT.NK!$B:$AZ,19,0) -> 0.54513889 | I22: Ngày | J22: =VLOOKUP($D$10,DT.NK!$B:$AZ,20,0) -> 42466 | P22: Lồng 3 | R22: =$R$8&"F"&$R$9 -> 16F20 | S22: =IF(R18-V20+0.9>11.7,11.7,R18-V20+0.9) -> 11.7 | T22: =IF(S22<11.7,0.1,"")
B23: * Chiều sâu từ đỉnh casing:(m) | H23: =VLOOKUP($D$10,DT.NK!$B:$AZ,21,0) -> 22.3 | P23: Lồng 4 | R23: =IF(S23="","",($R$8&"F"&$R$9)) -> 16F20 | S23: =IF(S22<11.7,"",IF(R18-V20-S22+2*0.9>11.7,11.7,R18-V20-S22+2*0.9)) -> 1.003 | T23: =IF(S23<11.7,0.1,"") -> 0.1
B24: * Cao độ từ cốt +0.00:(m) | H24: =-(H23-$F$16) -> -22.653 | P24: Lồng 5 | R24: =IF(S24="","",($R$8&"F"&$R$9)) | S24: =IF(S23="","",IF(S23<11.7,"",IF(R18-V20-S22-S23+3*0.9>11.7,11.7,R18-V20-S22-S23+3*0.9))) | T24: =IF(S24<11.7,0.1,"")
A25: 5 | B25: Kết thúc khoan hồi : | H25: =VLOOKUP($D$10,DT.NK!$B:$AZ,22,0) -> 0.67013889 | I25: Ngày | J25: =VLOOKUP($D$10,DT.NK!$B:$AZ,23,0) -> 42466
B26: * Chiều sâu từ mặt casing:(m) | H26: =VLOOKUP($D$10,DT.NK!$B:$AZ,24,0) -> 29.35 | P26: Bê tông | Q26: =Q31 -> Công ty TNHH kinh doanh và phát triển Vượng Phát
B27: * Cao độ từ cốt +0.00:(m) | H27: =-(H26-$F$16) -> -29.703 | P27: Thời tiết | Q27: Bình thường
A28: 6. | B28: Vét lắng | E28: Bắt đầu | F28: =VLOOKUP($D$10,DT.NK!$B:$AZ,25,0) -> 0.71180556 | G28: Kết thúc | H28: =VLOOKUP($D$10,DT.NK!$B:$AZ,26,0) -> 0.73263889 | I28: Ngày | J28: =VLOOKUP($D$10,DT.NK!$B:$AZ,27,0) -> 42466
B29: * Chiều sâu từ mặt casing sau khi Vét lắng (m) | H29: =VLOOKUP($D$10,DT.NK!$B:$AZ,28,0) -> 29.35
B30: * Cao độ từ cốt +0.00:(m) | H30: =-(H29-$F$16) -> -29.703
A31: 7. | B31: Nghiệm thu lồng thép: | E31: Bắt đầu : | F31: =VLOOKUP($D$10,DT.NK!$B:$AZ,29,0) -> 0.73958333 | G31: Kết thúc: | H31: =VLOOKUP($D$10,DT.NK!$B:$AZ,30,0) -> 0.75 | I31: Ngày | J31: =VLOOKUP($D$10,DT.NK!$B:$AZ,31,0) -> 42466 | Q31: Công ty TNHH kinh doanh và phát triển Vượng Phát
B32: Lồng | C32: Thép chủ | E32: Thép đai | G32: Thép giá | I32: Chiều dài lồng (m)
B33: 1 | C33: =R19 -> 6F14 | G33: f18 a2000 | I33: =S19 -> 7.647 | J33: 0.1 | Q33: Công ty Cổ phần Đầu tư và Xây dựng số 18.1
B34: 2 | C34: =R20 -> 32F20 | E34: f10 a100 | G34: f18 a2000 | I34: =S20 -> 2.6
C35: =R22 -> 16F20 | E35: f10 a200 | I35: =11.7-I34 -> 9.1
B36: 3 | C36: =R22 -> 16F20 | E36: f10 a200 | G36: f18 a2000 | I36: =S22 -> 11.7 | J36: =T22
B37: 4 | C37: =R23 -> 16F20 | E37: =IF(C37="","",E36) -> f10 a200 | G37: =IF(E37="","",G36) -> f18 a2000 | I37: =S23 -> 1.003 | J37: =T23 -> 0.1
B38: 5 | C38: =R24 | E38: =IF(C38="","",E37) | G38: =IF(E38="","",G37) | I38: =S24 | J38: =T24
A39: * | B39: Ống siêu âm D59.9mm, số lượng (ống): | E39: =R15 -> 2 | G39: Chiều dài (m): | I39: =IF(E39=0,0,(J16-H30-0.1-0.5)) -> 28.386
A40: * | B40: Ống siêu âm D113,5mm, số lượng (ống): | E40: =R16 -> 1 | G40: Chiều dài (m): | I40: =IF(E40=0,0,I39-0.9) -> 27.486
A41: * | B41: Đường kính lồng thép (mm): | E41: =H10-140 -> 660 | G41: Con kê BT | I41: =ROUND((R4+1-H30)/2,0)*4 -> 44
A42: 8. | B42: Hạ lồng thép, ống đổ, ống thổi : | E42: Bắt đầu | F42: =VLOOKUP($D$10,DT.NK!$B:$AZ,32,0) -> 0.75694444 | G42: Kết thúc | H42: =VLOOKUP($D$10,DT.NK!$B:$AZ,33,0) -> 0.79861111 | I42: Ngày | J42: =VLOOKUP($D$10,DT.NK!$B:$AZ,34,0) -> 42466
A44: 9. | B44: Kiểm tra Polymer lần 2: | E44: Bắt đầu | F44: =VLOOKUP($D$10,DT.NK!$B:$AZ,35,0) -> 0.81944444 | G44: Kết thúc | H44: =VLOOKUP($D$10,DT.NK!$B:$AZ,36,0) -> 0.82638889 | I44: Ngày | J44: =VLOOKUP($D$10,DT.NK!$B:$AZ,37,0) -> 42466
B45: * Tỷ trọng:(g/cm3) | D45: =VLOOKUP($D$10,DT.NK!$B:$AZ,38,0) -> 1.09 | E45: * Độ PH: | H45: =VLOOKUP($D$10,DT.NK!$B:$AZ,39,0) -> 9
B46: * Độ nhớt:(s) | D46: =VLOOKUP($D$10,DT.NK!$B:$AZ,40,0) -> 28 | E46: * Hàm lượng cát:(%) | H46: =VLOOKUP($D$10,DT.NK!$B:$AZ,41,0) -> 0
A48: 10. | B48: Kiểm tra chiều sâu hố khoan trước khi đổ bê tông
E49: Bắt đầu | F49: =VLOOKUP($D$10,DT.NK!$B:$AZ,42,0) -> 0.82638889 | G49: Kết thúc | H49: =VLOOKUP($D$10,DT.NK!$B:$AZ,43,0) -> 0.83333333 | I49: Ngày | J49: =VLOOKUP($D$10,DT.NK!$B:$AZ,44,0) -> 42466
B50: * Chiều sâu từ mặt Casing sau: (m) | H50: =VLOOKUP($D$10,DT.NK!$B:$AZ,45,0) -> 29.35
B51: * Cao độ từ cốt +0.00:(m) | H51: =-(H50-$F$16) -> -29.703
A52: 11. | B52: Tvgs đồng ý cho đổ bê tông | E52: Bắt đầu | F52: =VLOOKUP($D$10,DT.NK!$B:$AZ,46,0) -> 0.83333333 | G52: =VLOOKUP($D$10,DT.NK!$B:$AZ,47,0) -> 42466 | H52: Kết thúc | I52: =VLOOKUP($D$10,DT.NK!$B:$AZ,48,0) -> 0.875 | J52: =VLOOKUP($D$10,DT.NK!$B:$AZ,49,0) -> 42466
B53: Chiều sâu dừng đổ bê tông tính từ đỉnh Casing (m): | F53: =VLOOKUP($D$10,DT.NK!$B:$AZ,50,0) -> 0 | G53: Cao độ dừng đổ bê tông so với Cos ± 0.00: | J53: =-(F53-$F$16) -> -0.353
B55: Khối lượng bê tông đã đổ (m3): | F55: =VLOOKUP($D$10,DT.NK!$B:$AZ,51,0) -> 18 | G55: Khối lượng BT theo lý thuyết (m3): | J55: =(R4+1-H51)*3.14*(R3/2000)^2 -> 11.405987
A56: 12. | B56: Hạ Kingpost | E56: =E52 -> Bắt đầu | F56: =VLOOKUP($D$10,DTKP!$B$12:$Q$34,2,0) -> #N/A | G56: =VLOOKUP($D$10,DTKP!$B$12:$Q$34,3,0) -> #N/A | H56: =H52 -> Kết thúc | I56: =VLOOKUP($D$10,DTKP!$B$12:$Q$34,4,0) -> #N/A | J56: =VLOOKUP($D$10,DTKP!$B$12:$Q$34,5,0) -> #N/A
B57: Cao độ đỉnh Kingpost so với cos ± 0.00 công trình (m): | F57: =VLOOKUP($D$10,DTKP!$B$12:$Q$34,6,0) -> #N/A | G57: Cao độ đỉnh Kingpost so với đỉnh casing: | J57: =VLOOKUP($D$10,DTKP!$B$12:$Q$34,7,0) -> #N/A
B58: Tọa độ 4 điểm để định vị tim đỉnh Kingpost
B59: Điểm | C59: X | D59: Y | G59: Chiều dài Kingpost (m): | J59: =VLOOKUP($D$10,DTKP!$B$12:$Q$34,8,0) -> #N/A
B60: A | C60: =VLOOKUP($D$10,DTKP!$B$12:$Q$34,9,0) -> #N/A | D60: =VLOOKUP($D$10,DTKP!$B$12:$Q$34,10,0) -> #N/A | E60: =VLOOKUP($D$10,DTKP!$B$12:$Q$34,9,0) -> #N/A | F60: =VLOOKUP($D$10,DTKP!$B$12:$Q$34,9,0) -> #N/A
B61: B | C61: =VLOOKUP($D$10,DTKP!$B$12:$Q$34,11,0) -> #N/A | D61: =VLOOKUP($D$10,DTKP!$B$12:$Q$34,12,0) -> #N/A | E61: =VLOOKUP($D$10,DTKP!$B$12:$Q$34,9,0) -> #N/A | F61: =VLOOKUP($D$10,DTKP!$B$12:$Q$34,9,0) -> #N/A
B62: C | C62: =VLOOKUP($D$10,DTKP!$B$12:$Q$34,13,0) -> #N/A | D62: =VLOOKUP($D$10,DTKP!$B$12:$Q$34,14,0) -> #N/A | E62: =VLOOKUP($D$10,DTKP!$B$12:$Q$34,9,0) -> #N/A | F62: =VLOOKUP($D$10,DTKP!$B$12:$Q$34,9,0) -> #N/A
B63: D | C63: =VLOOKUP($D$10,DTKP!$B$12:$Q$34,15,0) -> #N/A | D63: =VLOOKUP($D$10,DTKP!$B$12:$Q$34,16,0) -> #N/A | E63: =VLOOKUP($D$10,DTKP!$B$12:$Q$34,9,0) -> #N/A | F63: =VLOOKUP($D$10,DTKP!$B$12:$Q$34,9,0) -> #N/A
B65: BAN QUẢN LÝ DỰ ÁN | F65: TƯ VẤN GIÁM SÁT | J65: NHÀ THẦU THI CÔNG
K67: =(R4-H51)*3.14*(R3/2000)^2+3.14*((R3+100)/2000)^2 -> 11.539437

Sheet DTKP
A1: Hạ Kingpost
A2: Cao độ đỉnh Kingpost so với cos ± 0.00 công trình (m): | H2: Cao độ đỉnh Kingpost so với đỉnh casing:
A3: Tọa độ 4 điểm để định vị tim đỉnh Kingpost
A4: Điểm | B4: X | C4: Y | H4: Chiều dài Kingpost (m):
A5: A
A6: B
A7: C
A8: D
A10: STT | B10: Tên cọc | C10: Thời gian | G10: Cao độ | I10: Chiều dai | J10: A | L10: B | N10: C | P10: D
C11: Bắt đầu | E11: Kết thúc | G11: 0.00 | H11: casing | J11: X | K11: Y | L11: X | M11: Y | N11: X | O11: Y | P11: X | Q11: Y
A12: 1 | B12: A17 | C12: 0.87152778 | D12: 42727 | E12: 0.88888889 | F12: 42727 | G12: -1.1 | H12: -1.058 | I12: 9.4 | J12: 2317790.8 | K12: 430363.22 | L12: 1317789.6 | M12: 430363.28 | N12: 2317790.2 | O12: 430362.65 | P12: 2317790.2 | Q12: 430363.85
A13: 2 | B13: B25 | D13: 42714 | F13: 42714 | G13: -1.1 | H13: -1.365 | I13: 7.6 | J13: 2317745.9 | K13: 430348.15 | L13: 2317745.1 | M13: 430348.18 | N13: 2317745.5 | O13: 430347.77 | P13: 2317745.5 | Q13: 430348.56
A14: 3 | B14: A13 | C14: 0.83680556 | D14: 42714 | E14: 0.85416667 | F14: 42714 | G14: -1.1 | H14: -1.193 | I14: 9.4 | J14: 2317790.3 | K14: 430351.44 | L14: 2317789.1 | M14: 430351.49 | N14: 2317789.6 | O14: 430350.86 | P14: 2317789.7 | Q14: 430352.06
A15: 4 | B15: B43 | C15: 0.58333333 | D15: 42715 | E15: 0.60069444 | F15: 42715 | G15: -1.1 | H15: -1.303 | I15: 7.6 | J15: 2317794.9 | K15: 430352.73 | L15: 2317794.1 | M15: 430352.76 | N15: 2317794.5 | O15: 430352.35 | P15: 2317794.5 | Q15: 430353.15
A16: 5 | B16: B24 | C16: 0.14930556 | D16: 42717 | E16: 0.16666667 | F16: 42717 | G16: -1.1 | H16: -1.194 | I16: 7.6 | J16: 2317746.2 | K16: 430355.09 | L16: 2317745.4 | M16: 430355.12 | N16: 2317745.8 | O16: 430354.71 | P16: 2317745.9 | Q16: 430355.57
A17: 6 | B17: A154 | C17: 0.99652778 | D17: 42717 | E17: 0.013888889 | F17: 42718 | G17: -1.1 | H17: -0.925 | I17: 9.4 | J17: 2317752.4 | K17: 430346.3 | L17: 2317751.2 | M17: 430346.35 | N17: 2317752 | O17: 430345.74 | P17: 2317752 | Q17: 430346.89
A18: 7 | B18: BP4 | C18: 0.11805556 | D18: 42718 | E18: 0.13541667 | F18: 42718 | G18: -1.1 | H18: -1.322 | I18: 7.6 | J18: 2317795.1 | K18: 430357.13 | L18: 2317794.3 | M18: 430357.16 | N18: 2317794.7 | O18: 430356.75 | P18: 2317794.7 | Q18: 430357.55
A19: 8 | B19: B44 | C19: 0.065972222 | D19: 42719 | E19: 0.083333333 | F19: 42719 | G19: -1.1 | H19: -1.053 | I19: 7.6 | J19: 2317795.3 | K19: 430361.67 | L19: 2317794.5 | M19: 430361.29 | N19: 2317794.9 | O19: 430363.29 | P19: 2317794.9 | Q19: 430363.09
A20: 9 | B20: A14 | C20: 0.097222222 | D20: 42720 | E20: 0.13194444 | F20: 42720 | G20: -1.1 | H20: -1.11 | I20: 9.4 | J20: 2317790.4 | K20: 430354.43 | L20: 2317789.2 | M20: 430354.49 | N20: 2317789.8 | O20: 430353.86 | P20: 2317789.8 | Q20: 430355.06
A21: 10 | B21: BP3 | C21: 0.25694444 | D21: 42720 | E21: 0.28125 | F21: 42720 | G21: -1.1 | H21: -1.375 | I21: 7.6 | J21: 2317746.1 | K21: 430351.67 | L21: 2317745.3 | M21: 430351.7 | N21: 237745.66 | O21: 430351.28 | P21: 2317745.7 | Q21: 430352.09
A22: 11 | B22: A157 | C22: 0.59027778 | D22: 42723 | E22: 0.60416667 | F22: 42723 | G22: -1.1 | H22: 0.718 | I22: 9.4 | J22: 2317753.1 | K22: 430353.43 | L22: 2317751.9 | M22: 430353.48 | N22: 2317752.3 | O22: 430352.88 | P22: 2317752.4 | Q22: 430354.04
A23: 12 | B23: A16 | C23: 0.27083333 | D23: 42725 | E23: 0.29166667 | F23: 42725 | G23: -1.1 | H23: -1.088 | I23: 9.4 | J23: 2317790.7 | K23: 430360.23 | L23: 2317789.5 | M23: 430360.28 | N23: 2317790 | O23: 430359.65 | P23: 2317790.1 | Q23: 430360.85
A24: 13 | B24: A159 | C24: 0.125 | D24: 42725 | E24: 0.14583333 | F24: 42725 | G24: -1.1 | H24: -0.868 | I24: 9.4 | J24: 2317753.2 | K24: 430356.42 | L24: 2317752 | M24: 430356.48 | N24: 2317752.4 | O24: 430355.88 | P24: 2317752.5 | Q24: 430357.03

Sheet Dia chat
E1: Lỗ khoan | F1: Lớp 1 | H1: Lớp 2 | J1: Lớp 3 | L1: Lớp 4 | N1: Lớp 5 | P1: Lớp 6 | R1: Lớp 7 | T1: Lớp 8 | V1: Lớp 9 | X1: Lớp 10 | Z1: Lớp 11 | AB1: Lớp 12 | AD1: Lớp 13
A2: Số hiệu | B2: Tên đất | C2: Ký hiệu | F2: Số hiệu | G2: Cao độ đỉnh | H2: Số hiệu | I2: Cao độ đỉnh | J2: Số hiệu | K2: Cao độ đỉnh | L2: Số hiệu | M2: Cao độ đỉnh | N2: Số hiệu | O2: Cao độ đỉnh | P2: Số hiệu | Q2: Cao độ đỉnh | R2: Số hiệu | S2: Cao độ đỉnh | T2: Số hiệu | U2: Cao độ đỉnh | V2: Số hiệu | W2: Cao độ đỉnh | X2: Số hiệu | Y2: Cao độ đỉnh | Z2: Số hiệu | AA2: Cao độ đỉnh | AB2: Số hiệu | AC2: Cao độ đỉnh | AD2: Số hiệu | AE2: Cao độ đỉnh
A3: 1 | B3: Đất lấp: Sét pha, lẫn gạch vụn, đá tảng. | C3: =A3 -> 1 | E3: HK1 | F3: 1 | H3: 2 | I3: -1.86 | J3: 4b | K3: -16.66 | L3: 4c | M3: -32.26
A4: 2 | B4: Sét pha lẫn sạn, màu nâu đỏ, xám vàng, trạng thái dẻo cứng | C4: =A4 -> 2 | E4: HK2 | F4: 1 | H4: 2 | I4: -2.33 | J4: 4a | K4: -19.23 | L4: H | M4: -21.13 | N4: 4b | O4: -21.43 | P4: 4c | Q4: -33.63
A5: 3 | B5: Đá dăm lẫn sét pha (Đá vôi phong hóa mạnh đến hoàn toàn) | C5: =A5 -> 3 | E5: HK3 | F5: 1 | H5: 2 | I5: -2.04 | J5: 4a | K5: -18.74 | L5: H | M5: -26.74 | N5: 4a | O5: -27.54 | P5: H | Q5: -33.84 | R5: 4a | S5: -34.54 | T5: 4c | U5: -35.24
A6: 4a | B6: Đá vôi màu xám nâu, xám xanh, phong hóa nứt nẻ, dập vỡ mạnh, háng hốc Karst | C6: =A6 -> 4a | E6: HK4 | F6: 1 | H6: 2
A7: H | B7: Hạng Karst chứa sét pha | C7: =A7 -> H | E7: HK5 | F7: 1 | H7: 2 | I7: -2.37 | J7: 4b | K7: -19.27 | L7: 4c | M7: -21.47
A8: 4b | B8: Đá vôi màu xám xanh, xám đen, nâu hồng, phong hóa nứt nẻ, dập vỡ mạnh, khe nứt lấp nhét, sét pha, đá cứng chắc. | C8: =A8 -> 4b | E8: HK6 | F8: 1 | H8: 2 | I8: -1.94 | J8: 4b | K8: -20.54 | L8: 4c | M8: -20.94
A9: 4c | B9: Đá vôi màu xám xanh, xám đen, nâu hồng, phong hóa trung bình đến nhẹ, khe nứt lấp nhét pha, đá cứng chắc. | C9: =A9 -> 4c | E9: HK7 | F9: 1 | H9: 2 | I9: -2.33 | J9: 4a | K9: -20.63 | L9: H | M9: -23.13 | N9: 4c | O9: -26.63
E10: HK8 | F10: 1 | H10: 2 | I10: -2.05 | J10: 4a | K10: -19.05 | L10: H | M10: -20.55 | N10: 4a | O10: -22.55 | P10: H | Q10: -23.95 | R10: 4a | S10: -24.55 | T10: H | U10: -25.05 | V10: 4a | W10: -26.25 | X10: H | Y10: -28.75 | Z10: 4c | AA10: -29.25
E11: HK9 | F11: 1 | H11: 2 | I11: -2.38 | J11: 4a | K11: -17.68 | L11: H | M11: -19.08 | N11: 4a | O11: -19.58 | P11: H | Q11: -19.78 | R11: 4c | S11: -20.68 | T11: 4c | U11: -21.88
E12: HK10 | F12: 1 | H12: 2 | I12: -2.32 | J12: 4a | K12: -18.62 | L12: H | M12: -20.32 | N12: 4a | O12: -20.92 | P12: H | Q12: -23.42 | R12: 4c | S12: -25.52
E13: HK11 | F13: 1 | H13: 2 | I13: -2.16 | J13: 4b | K13: -17.46 | L13: 4c | M13: -17.96
E14: HK12 | F14: 1 | H14: 2 | I14: -1.5 | J14: 4c | K14: -15.8
E15: HK13 | F15: 1 | H15: 2 | I15: -2.56 | J15: 4a | K15: -17.16 | L15: H | M15: -20.06 | N15: 4a | O15: -20.36 | P15: H | Q15: -21.06 | R15: 4c | S15: -21.46
E16: HK14 | F16: 1 | H16: 2 | I16: -3.02 | J16: 4a | K16: -17.32 | L16: H | M16: -19.32 | N16: 4a | O16: -19.62 | P16: H | Q16: -24.52 | R16: 4c | S16: -32.22
E17: HK15 | F17: 1 | H17: 2 | I17: -2 | J17: 4a | K17: -20.3 | L17: H | M17: -21.1 | N17: 4a | O17: -21.5 | P17: H | Q17: -21.7 | R17: 4b | S17: -22 | T17: 4c | U17: -28.5
E18: HK16 | F18: 1 | H18: 2 | I18: -3.02 | J18: 4b | K18: -17.12 | L18: 4c | M18: -18.72
E19: HK17 | F19: 1 | H19: 2 | I19: -2.14 | J19: 4c | K19: -15.94
E20: HK18 | F20: 1 | H20: 2 | I20: -2.46 | J20: 4a | K20: -20.94 | L20: H | M20: -23.86 | N20: 4a | O20: -24.66 | P20: H | Q20: -31.66 | R20: 4a | S20: -32.36 | T20: H | U20: -33.96 | V20: 4b | W20: -34.26 | X20: 4c | Y20: -42.86
E21: HK19 | F21: 1 | H21: 2 | I21: -1.74 | J21: 4a | K21: -17.74 | L21: H | M21: -19.94 | N21: 4a | O21: -22.74 | P21: H | Q21: -28.14 | R21: 4a | S21: -28.44 | T21: H | U21: -32.04 | V21: 4c | W21: -33.44
E22: HK20 | F22: 1 | H22: 2 | I22: -3.13 | J22: 4a | K22: -19.73 | L22: H | M22: -23.23 | N22: 4a | O22: -25.88 | P22: H | Q22: -31.03 | R22: 4a | S22: -33.03 | T22: H | U22: -36.73 | V22: 4c | W22: -37.03
E23: HK21 | F23: 1 | H23: 2 | I23: -2.99 | J23: 4a | K23: -20.39 | L23: H | M23: -21.09 | N23: 4a | O23: -21.69 | P23: H | Q23: -23.7 | R23: 4a | S23: -25.49 | T23: H | U23: -27.09 | V23: 4a | W23: -28.59 | X23: H | Y23: -31.59 | Z23: 4a | AA23: -32.79 | AB23: H | AC23: -41.89 | AD23: 4c | AE23: -52.99
E24: HK22 | F24: 1 | H24: 2 | I24: -2.57 | J24: 4c | K24: -16.87
E25: HK23 | F25: 1 | H25: 2 | I25: -2.53 | J25: 4a | K25: -19.07 | L25: H | M25: -22.12 | N25: 4a | O25: -22.52 | P25: H | Q25: -24.12 | R25: 4c | S25: -25.92
E26: HK24 | F26: 1 | H26: 2 | I26: -1.68 | J26: 4c | K26: -21.88
E27: HK25 | F27: 1 | H27: 2 | I27: -2.24 | J27: 4b | K27: -21.94 | L27: H | M27: -22.94 | N27: 4b | O27: -25.04 | P27: 4c | Q27: -27.64
E28: HK26 | F28: 1 | H28: 2
E29: HK27 | F29: 1 | H29: 2 | I29: -2.54 | J29: 4a | K29: -18.84 | L29: H | M29: -24.84 | N29: 4a | O29: -25.14 | P29: H | Q29: -25.84 | R29: 4a | S29: -26.94 | T29: H | U29: -29.24 | V29: 4a | W29: -30.54 | X29: H | Y29: -33.94 | Z29: 4a | AA29: -34.44 | AB29: H | AC29: -36.34 | AD29: 4c | AE29: -37.74
E30: HK28 | F30: 1 | H30: 2
E31: HK29 | F31: 1 | H31: 2
E32: HK30 | F32: 1 | H32: 2
E33: HK31 | F33: 1 | H33: 2
E34: HK32 | F34: 1 | H34: 2
E35: HK33 | F35: 1 | H35: 2
E36: HK34 | F36: 1 | H36: 2 | I36: -0.43 | J36: 3 | K36: -20.88 | L36: 4a | M36: -23.71 | N36: H | O36: -24.11 | P36: 4a | Q36: -24.51 | R36: H | S36: -27.18 | T36: 4b | U36: -27.88
E37: HK35 | F37: 1 | H37: 2
E38: HK36 | F38: 1 | H38: 2 | I38: -1.75 | J38: 3 | K38: -14.25 | L38: 4a | M38: -17.85 | N38: H | O38: -20.05 | P38: 4a | Q38: -20.55 | R38: 4b | S38: -23.56
E39: HK37 | F39: 1 | H39: 2 | I39: -1.79 | J39: 4a | K39: -19.59 | L39: H | M39: -19.89 | N39: 4a | O39: -20.29 | P39: H | Q39: -21.19 | R39: 4b | S39: -22.69 | T39: 4c | U39: -22.89
E40: HK38 | F40: 1 | H40: 2
E41: HK39 | F41: 1 | H41: 2
E42: HK40 | F42: 1 | H42: 2 | I42: -2.55 | J42: 4b | K42: -24.55 | L42: 4c | M42: -25.75
E43: HK41 | F43: 1 | H43: 2 | I43: -2.74 | J43: 4a | K43: -19.44 | L43: H | M43: -20.14 | N43: 4a | O43: -20.54 | P43: H | Q43: -21.44 | R43: 4a | S43: -21.64 | T43: H | U43: -24.24 | V43: 4a | W43: -24.54 | X43: H | Y43: -31.84 | Z43: 4a | AA43: -32.54 | AB43: H | AC43: -35.64 | AD43: 4a | AE43: -36.04
E44: HK42 | F44: 1 | H44: 2
E45: HK43 | F45: 1 | H45: 2
E46: HK44 | F46: 1 | H46: 2
E47: HK45 | F47: 1 | H47: 2
E48: HK46 | F48: 1 | H48: 2
E49: HK47 | F49: 1 | H49: 2
E50: HK48 | F50: 1 | H50: 2
E51: HK49 | F51: 1 | H51: 2
E52: HK50 | F52: 1 | H52: 2
E53: HK51 | F53: 1 | H53: 2
E54: HK2* | F54: 1 | H54: 2
E55: HK4* | F55: 1 | H55: 2
... E57: HK8* | F57: 1 | H57: 2

Sheet Thong tin
A1: 1 | B1: 2 | C1: 3 | D1: 4 | E1: 5 | F1: 6 | G1: 7 | H1: 8 | I1: 9 | J1: 10 | K1: 11 | L1: 12 | M1: 13 | N1: 14 | O1: 15 | P1: 16 | Q1: 17 | R1: 18 | S1: 19
A2: Tên cọc | B2: Xi | C2: Yi | D2: Chiều dài(m) | E2: Tên đài | F2: Cao độ cắt cọc | G2: Cao độ dừng đổ BT | H2: Cọc đặt 4 ống siêu âm | I2: Cọc đặt ống khoan lõi | J2: Cọc đặt loại ống gì | K2: Ống D60 | L2: Ống D113,5 | M2: Đường kính cọc | N2: Thép chủ | O2: Số lượng | P2: Địa chất | Q2: Chiều sâu chạm đá thiết kế | R2: Cọc loại
A3: A1 | B3: 2317786.6 | C3: 430304.55 | D3: 21.6 | E3: DC6 | F3: -8.7 | G3: =F3+1 -> -7.7 | J3: =IF(H3="",IF(I3="","","L"),"SA") | K3: =IF(J3="",0,IF(J3="SA",4,3)) -> 0 | L3: =IF(K3=3,1,0) -> 0 | M3: 1200 | N3: 20 | O3: 18 | P3: HK1 | Q3: =VLOOKUP(P3,'Dia chat'!$E:$AE,7,0) -> -16.66 | R3: D1200 loại 1
A4: A2 | B4: 2317786.7 | C4: 430307.55 | D4: 21.6 | E4: DC6 | F4: -8.7 | G4: =F4+1 -> -7.7 | H4: X | J4: =IF(H4="",IF(I4="","","L"),"SA") -> SA | K4: =IF(J4="",0,IF(J4="SA",4,3)) -> 4 | L4: =IF(K4=3,1,0) -> 0 | M4: 1200 | N4: 20 | O4: 18 | P4: HK1 | Q4: =VLOOKUP(P4,'Dia chat'!$E:$AE,7,0) -> -16.66 | R4: D1200 loại 1
A5: A3 | B5: 2317788 | C5: 430313.5 | D5: 25.8 | E5: DC5 | F5: -8.7 | G5: =F5+1 -> -7.7 | J5: =IF(H5="",IF(I5="","","L"),"SA") | K5: =IF(J5="",0,IF(J5="SA",4,3)) -> 0 | L5: =IF(K5=3,1,0) -> 0 | M5: 1200 | N5: 20 | O5: 18 | P5: HK2 | Q5: =VLOOKUP(P5,'Dia chat'!$E:$AE,7,0) -> -19.23 | R5: D1200 loại 1
A6: A4 | B6: 2317788.2 | C6: 430316.49 | D6: 25.8 | E6: DC5 | F6: -8.7 | G6: =F6+1 -> -7.7 | J6: =IF(H6="",IF(I6="","","L"),"SA") | K6: =IF(J6="",0,IF(J6="SA",4,3)) -> 0 | L6: =IF(K6=3,1,0) -> 0 | M6: 1200 | N6: 20 | O6: 18 | P6: HK2 | Q6: =VLOOKUP(P6,'Dia chat'!$E:$AE,7,0) -> -19.23 | R6: D1200 loại 1
A7: A5 | B7: 2317785.4 | C7: 430315.12 | D7: 25.8 | E7: DC5 | F7: -8.7 | G7: =F7+1 -> -7.7 | H7: X | J7: =IF(H7="",IF(I7="","","L"),"SA") -> SA | K7: =IF(J7="",0,IF(J7="SA",4,3)) -> 4 | L7: =IF(K7=3,1,0) -> 0 | M7: 1200 | N7: 20 | O7: 18 | P7: HK2 | Q7: =VLOOKUP(P7,'Dia chat'!$E:$AE,7,0) -> -19.23 | R7: D1200 loại 1
A8: A6 | B8: 2317788.5 | C8: 430322.49 | D8: 23.5 | E8: DC5 | F8: -8.7 | G8: =F8+1 -> -7.7 | J8: =IF(H8="",IF(I8="","","L"),"SA") | K8: =IF(J8="",0,IF(J8="SA",4,3)) -> 0 | L8: =IF(K8=3,1,0) -> 0 | M8: 1200 | N8: 20 | O8: 18 | P8: HK3 | Q8: =VLOOKUP(P8,'Dia chat'!$E:$AE,7,0) -> -18.74 | R8: D1200 loại 1
A9: A7 | B9: 2317788.6 | C9: 430325.48 | D9: 23.5 | E9: DC5 | F9: -8.7 | G9: =F9+1 -> -7.7 | H9: X | J9: =IF(H9="",IF(I9="","","L"),"SA") -> SA | K9: =IF(J9="",0,IF(J9="SA",4,3)) -> 4 | L9: =IF(K9=3,1,0) -> 0 | M9: 1200 | N9: 20 | O9: 18 | P9: HK3 | Q9: =VLOOKUP(P9,'Dia chat'!$E:$AE,7,0) -> -18.74 | R9: D1200 loại 1
A10: A8 | B10: 2317785.8 | C10: 430324.11 | D10: 23.5 | E10: DC5 | F10: -8.7 | G10: =F10+1 -> -7.7 | J10: =IF(H10="",IF(I10="","","L"),"SA") | K10: =IF(J10="",0,IF(J10="SA",4,3)) -> 0 | L10: =IF(K10=3,1,0) -> 0 | M10: 1200 | N10: 20 | O10: 18 | P10: HK3 | Q10: =VLOOKUP(P10,'Dia chat'!$E:$AE,7,0) -> -18.74 | R10: D1200 loại 1
A11: A9 | B11: 2317787.8 | C11: 430331.53 | D11: 23.5 | E11: DC6 | F11: -8.7 | G11: =F11+1 -> -7.7 | J11: =IF(H11="",IF(I11="","","L"),"SA") | K11: =IF(J11="",0,IF(J11="SA",4,3)) -> 0 | L11: =IF(K11=3,1,0) -> 0 | M11: 1200 | N11: 20 | O11: 18 | P11: HK4* | Q11: -22 | R11: D1200 loại 1
A12: A10 | B12: 2317788 | C12: 430334.52 | D12: 23.5 | E12: DC6 | F12: -8.7 | G12: =F12+1 -> -7.7 | H12: X | J12: =IF(H12="",IF(I12="","","L"),"SA") -> SA | K12: =IF(J12="",0,IF(J12="SA",4,3)) -> 4 | L12: =IF(K12=3,1,0) -> 0 | M12: 1200 | N12: 20 | O12: 18 | P12: HK4* | Q12: -22 | R12: D1200 loại 1
A13: A11 | B13: 2317788.3 | C13: 430342.92 | D13: 22.7 | E13: DC6 | F13: -8.7 | G13: =F13+1 -> -7.7 | J13: =IF(H13="",IF(I13="","","L"),"SA") | K13: =IF(J13="",0,IF(J13="SA",4,3)) -> 0 | L13: =IF(K13=3,1,0) -> 0 | M13: 1200 | N13: 20 | O13: 18 | P13: HK3 | Q13: =VLOOKUP(P13,'Dia chat'!$E:$AE,7,0) -> -18.74 | R13: D1200 loại 1
A14: A12 | B14: 2317788.4 | C14: 430345.91 | D14: 22.7 | E14: DC6 | F14: -8.7 | G14: =F14+1 -> -7.7 | I14: X | J14: =IF(H14="",IF(I14="","","L"),"SA") -> L | K14: =IF(J14="",0,IF(J14="SA",4,3)) -> 3 | L14: =IF(K14=3,1,0) -> 1 | M14: 1200 | N14: 20 | O14: 18 | P14: HK3 | Q14: =VLOOKUP(P14,'Dia chat'!$E:$AE,7,0) -> -18.74 | R14: D1200 loại 1
A15: A13 | B15: 2317789.7 | C15: 430351.46 | D15: 23.2 | E15: DC5 | F15: -8.7 | G15: =F15+1 -> -7.7 | J15: =IF(H15="",IF(I15="","","L"),"SA") | K15: =IF(J15="",0,IF(J15="SA",4,3)) -> 0 | L15: =IF(K15=3,1,0) -> 0 | M15: 1200 | N15: 20 | O15: 18 | P15: HK5 | Q15: =VLOOKUP(P15,'Dia chat'!$E:$AE,7,0) -> -19.27 | R15: D1200 loại 1
A16: A14 | B16: 2317789.8 | C16: 430354.46 | D16: 23.2 | E16: DC5 | F16: -8.7 | G16: =F16+1 -> -7.7 | H16: X | J16: =IF(H16="",IF(I16="","","L"),"SA") -> SA | K16: =IF(J16="",0,IF(J16="SA",4,3)) -> 4 | L16: =IF(K16=3,1,0) -> 0 | M16: 1200 | N16: 20 | O16: 18 | P16: HK5 | Q16: =VLOOKUP(P16,'Dia chat'!$E:$AE,7,0) -> -19.27 | R16: D1200 loại 1
A17: A15 | B17: 2317787 | C17: 430353.08 | D17: 23.2 | E17: DC5 | F17: -8.7 | G17: =F17+1 -> -7.7 | J17: =IF(H17="",IF(I17="","","L"),"SA") | K17: =IF(J17="",0,IF(J17="SA",4,3)) -> 0 | L17: =IF(K17=3,1,0) -> 0 | M17: 1200 | N17: 20 | O17: 18 | P17: HK5 | Q17: =VLOOKUP(P17,'Dia chat'!$E:$AE,7,0) -> -19.27 | R17: D1200 loại 1
A18: A16 | B18: 2317790.1 | C18: 430360.25 | D18: 39.6 | E18: DC5 | F18: -8.7 | G18: =F18+1 -> -7.7 | H18: X | J18: =IF(H18="",IF(I18="","","L"),"SA") -> SA | K18: =IF(J18="",0,IF(J18="SA",4,3)) -> 4 | L18: =IF(K18=3,1,0) -> 0 | M18: 1200 | N18: 20 | O18: 18 | P18: HK26 | Q18: -22 | R18: D1200 loại 1
A19: A17 | B19: 2317790.2 | C19: 430363.25 | D19: 39.6 | E19: DC5 | F19: -8.7 | G19: =F19+1 -> -7.7 | J19: =IF(H19="",IF(I19="","","L"),"SA") | K19: =IF(J19="",0,IF(J19="SA",4,3)) -> 0 | L19: =IF(K19=3,1,0) -> 0 | M19: 1200 | N19: 20 | O19: 18 | P19: HK26 | Q19: -22 | R19: D1200 loại 1
A20: A18 | B20: 2317787.4 | C20: 430361.88 | D20: 39.6 | E20: DC5 | F20: -8.7 | G20: =F20+1 -> -7.7 | H20: X | J20: =IF(H20="",IF(I20="","","L"),"SA") -> SA | K20: =IF(J20="",0,IF(J20="SA",4,3)) -> 4 | L20: =IF(K20=3,1,0) -> 0 | M20: 1200 | N20: 20 | O20: 18 | P20: HK26 | Q20: -22 | R20: D1200 loại 1
A21: A19 | B21: 2317790.5 | C21: 430369.44 | D21: 39.6 | E21: DC5A | F21: -7.7 | G21: =F21+1 -> -6.7 | H21: X | J21: =IF(H21="",IF(I21="","","L"),"SA") -> SA | K21: =IF(J21="",0,IF(J21="SA",4,3)) -> 4 | L21: =IF(K21=3,1,0) -> 0 | M21: 1200 | N21: 20 | O21: 36 | P21: HK26 | Q21: -22 | R21: D1200 loại 2
A22: A20 | B22: 2317787.9 | C22: 430371.07 | D22: 39.6 | E22: DC5A | F22: -7.7 | G22: =F22+1 -> -6.7 | J22: =IF(H22="",IF(I22="","","L"),"SA") | K22: =IF(J22="",0,IF(J22="SA",4,3)) -> 0 | L22: =IF(K22=3,1,0) -> 0 | M22: 1200 | N22: 20 | O22: 18 | P22: HK34 | Q22: =VLOOKUP(P22,'Dia chat'!$E:$AE,7,0) -> -20.88 | R22: D1200 loại 2
A23: A21 | B23: 2317790.6 | C23: 430372.44 | D23: 31.8 | E23: DC5A | F23: -7.7 | G23: =F23+1 -> -6.7 | H23: X | J23: =IF(H23="",IF(I23="","","L"),"SA") -> SA | K23: =IF(J23="",0,IF(J23="SA",4,3)) -> 4 | L23: =IF(K23=3,1,0) -> 0 | M23: 1200 | N23: 20 | O23: 18 | P23: HK34 | Q23: =VLOOKUP(P23,'Dia chat'!$E:$AE,7,0) -> -20.88 | R23: D1200 loại 2
A24: A22 | B24: 2317790.9 | C24: 430378.43 | D24: 26.9 | E24: DC5A | F24: -7.7 | G24: =F24+1 -> -6.7 | H24: X | J24: =IF(H24="",IF(I24="","","L"),"SA") -> SA | K24: =IF(J24="",0,IF(J24="SA",4,3)) -> 4 | L24: =IF(K24=3,1,0) -> 0 | M24: 1200 | N24: 20 | O24: 18 | P24: HK34 | Q24: =VLOOKUP(P24,'Dia chat'!$E:$AE,7,0) -> -20.88 | R24: D1200 loại 2
A25: A23 | B25: 2317788.3 | C25: 430380.06 | D25: 26.9 | E25: DC5A | F25: -7.7 | G25: =F25+1 -> -6.7 | I25: X | J25: =IF(H25="",IF(I25="","","L"),"SA") -> L | K25: =IF(J25="",0,IF(J25="SA",4,3)) -> 3 | L25: =IF(K25=3,1,0) -> 1 | M25: 1200 | N25: 20 | O25: 18 | P25: HK35 | Q25: -22 | R25: D1200 loại 2
A26: A24 | B26: 2317791 | C26: 430381.43 | D26: 26.9 | E26: DC5A | F26: -7.7 | G26: =F26+1 -> -6.7 | H26: X | J26: =IF(H26="",IF(I26="","","L"),"SA") -> SA | K26: =IF(J26="",0,IF(J26="SA",4,3)) -> 4 | L26: =IF(K26=3,1,0) -> 0 | M26: 1200 | N26: 20 | O26: 18 | P26: HK35 | Q26: -22 | R26: D1200 loại 2
A27: A25 | B27: 2317790.3 | C27: 430387.08 | D27: 26.9 | E27: DC6A | F27: -7.7 | G27: =F27+1 -> -6.7 | H27: X | J27: =IF(H27="",IF(I27="","","L"),"SA") -> SA | K27: =IF(J27="",0,IF(J27="SA",4,3)) -> 4 | L27: =IF(K27=3,1,0) -> 0 | M27: 1200 | N27: 20 | O27: 18 | P27: HK35 | Q27: -22 | R27: D1200 loại 2
A28: A26 | B28: 2317790.4 | C28: 430390.08 | D28: 26.9 | E28: DC6A | F28: -7.7 | G28: =F28+1 -> -6.7 | H28: X | J28: =IF(H28="",IF(I28="","","L"),"SA") -> SA | K28: =IF(J28="",0,IF(J28="SA",4,3)) -> 4 | L28: =IF(K28=3,1,0) -> 0 | M28: 1200 | N28: 20 | O28: 18 | P28: HK35 | Q28: -22 | R28: D1200 loại 2
A29: A27 | B29: 2317779.5 | C29: 430305.29 | D29: 26 | E29: DC5 | F29: -8.7 | G29: =F29+1 -> -7.7 | I29: X | J29: =IF(H29="",IF(I29="","","L"),"SA") -> L | K29: =IF(J29="",0,IF(J29="SA",4,3)) -> 3 | L29: =IF(K29=3,1,0) -> 1 | M29: 1200 | N29: 20 | O29: 18 | P29: HK6 | Q29: =VLOOKUP(P29,'Dia chat'!$E:$AE,7,0) -> -20.54 | R29: D1200 loại 1
A30: A28 | B30: 2317776.5 | C30: 430305.42 | D30: 26 | E30: DC5 | F30: -8.7 | G30: =F30+1 -> -7.7 | J30: =IF(H30="",IF(I30="","","L"),"SA") | K30: =IF(J30="",0,IF(J30="SA",4,3)) -> 0 | L30: =IF(K30=3,1,0) -> 0 | M30: 1200 | N30: 20 | O30: 18 | P30: HK6 | Q30: =VLOOKUP(P30,'Dia chat'!$E:$AE,7,0) -> -20.54 | R30: D1200 loại 1
A31: A29 | B31: 2317778.1 | C31: 430308.05 | D31: 26 | E31: DC5 | F31: -8.7 | G31: =F31+1 -> -7.7 | J31: =IF(H31="",IF(I31="","","L"),"SA") | K31: =IF(J31="",0,IF(J31="SA",4,3)) -> 0 | L31: =IF(K31=3,1,0) -> 0 | M31: 1200 | N31: 20 | O31: 18 | P31: HK6 | Q31: =VLOOKUP(P31,'Dia chat'!$E:$AE,7,0) -> -20.54 | R31: D1200 loại 1
A32: A30 | B32: 2317770.8 | C32: 430305.68 | D32: 31.5 | E32: DC5 | F32: -8.7 | G32: =F32+1 -> -7.7 | J32: =IF(H32="",IF(I32="","","L"),"SA") | K32: =IF(J32="",0,IF(J32="SA",4,3)) -> 0 | L32: =IF(K32=3,1,0) -> 0 | M32: 1200 | N32: 20 | O32: 18 | P32: HK7 | Q32: =VLOOKUP(P32,'Dia chat'!$E:$AE,7,0) -> -20.63 | R32: D1200 loại 1
A33: A31 | B33: 2317767.8 | C33: 430305.82 | D33: 31.5 | E33: DC5 | F33: -8.7 | G33: =F33+1 -> -7.7 | J33: =IF(H33="",IF(I33="","","L"),"SA") | K33: =IF(J33="",0,IF(J33="SA",4,3)) -> 0 | L33: =IF(K33=3,1,0) -> 0 | M33: 1200 | N33: 20 | O33: 18 | P33: HK7 | Q33: =VLOOKUP(P33,'Dia chat'!$E:$AE,7,0) -> -20.63 | R33: D1200 loại 1
A34: A32 | B34: 2317769.4 | C34: 430308.45 | D34: 31.5 | E34: DC5 | F34: -8.7 | G34: =F34+1 -> -7.7 | H34: X | J34: =IF(H34="",IF(I34="","","L"),"SA") -> SA | K34: =IF(J34="",0,IF(J34="SA",4,3)) -> 4 | L34: =IF(K34=3,1,0) -> 0 | M34: 1200 | N34: 20 | O34: 18 | P34: HK7 | Q34: =VLOOKUP(P34,'Dia chat'!$E:$AE,7,0) -> -20.63 | R34: D1200 loại 1
A35: A33 | B35: 2317778.7 | C35: 430313.92 | D35: 34.3 | E35: DC2 | F35: -8.7 | G35: =F35+1 -> -7.7 | J35: =IF(H35="",IF(I35="","","L"),"SA") | K35: =IF(J35="",0,IF(J35="SA",4,3)) -> 0 | L35: =IF(K35=3,1,0) -> 0 | M35: 1200 | N35: 20 | O35: 18 | P35: HK8 | Q35: =VLOOKUP(P35,'Dia chat'!$E:$AE,7,0) -> -19.05 | R35: D1200 loại 1
A36: A34 | B36: 2317774.7 | C36: 430314.11 | D36: 34.3 | E36: DC2 | F36: -8.7 | G36: =F36+1 -> -7.7 | H36: X | J36: =IF(H36="",IF(I36="","","L"),"SA") -> SA | K36: =IF(J36="",0,IF(J36="SA",4,3)) -> 4 | L36: =IF(K36=3,1,0) -> 0 | M36: 1200 | N36: 20 | O36: 18 | P36: HK41 | Q36: =VLOOKUP(P36,'Dia chat'!$E:$AE,7,0) -> -19.44 | R36: D1200 loại 1
A37: A35 | B37: 2317771.7 | C37: 430314.24 | D37: 23 | E37: DC2 | F37: -8.7 | G37: =F37+1 -> -7.7 | J37: =IF(H37="",IF(I37="","","L"),"SA") | K37: =IF(J37="",0,IF(J37="SA",4,3)) -> 0 | L37: =IF(K37=3,1,0) -> 0 | M37: 1200 | N37: 20 | O37: 18 | P37: HK41 | Q37: =VLOOKUP(P37,'Dia chat'!$E:$AE,7,0) -> -19.44 | R37: D1200 loại 1
A38: A36 | B38: 2317768.7 | C38: 430314.38 | D38: 23 | E38: DC2 | F38: -8.7 | G38: =F38+1 -> -7.7 | J38: =IF(H38="",IF(I38="","","L"),"SA") | K38: =IF(J38="",0,IF(J38="SA",4,3)) -> 0 | L38: =IF(K38=3,1,0) -> 0 | M38: 1200 | N38: 20 | O38: 18 | P38: HK11 | Q38: =VLOOKUP(P38,'Dia chat'!$E:$AE,7,0) -> -17.46 | R38: D1200 loại 1
A39: A37 | B39: 2317768.8 | C39: 430317.38 | D39: 23 | E39: DC2 | F39: -8.7 | G39: =F39+1 -> -7.7 | H39: X | J39: =IF(H39="",IF(I39="","","L"),"SA") -> SA | K39: =IF(J39="",0,IF(J39="SA",4,3)) -> 4 | L39: =IF(K39=3,1,0) -> 0 | M39: 1200 | N39: 20 | O39: 18 | P39: HK11 | Q39: =VLOOKUP(P39,'Dia chat'!$E:$AE,7,0) -> -17.46 | R39: D1200 loại 1 | Y39: Bảng tọa độ mốc gửi trong công trình
A40: A38 | B40: 2317771.8 | C40: 430317.24 | D40: 23 | E40: DC2 | F40: -9.7 | G40: =F40+1 -> -8.7 | J40: =IF(H40="",IF(I40="","","L"),"SA") | K40: =IF(J40="",0,IF(J40="SA",4,3)) -> 0 | L40: =IF(K40=3,1,0) -> 0 | M40: 1200 | N40: 20 | O40: 18 | P40: HK41 | Q40: =VLOOKUP(P40,'Dia chat'!$E:$AE,7,0) -> -19.44 | R40: D1200 loại 1 | Y40: Tên mốc | Z40: X | AA40: Y | AB40: Z
A41: A39 | B41: 2317774.8 | C41: 430317.1 | D41: 34.3 | E41: DC2 | F41: -9.7 | G41: =F41+1 -> -8.7 | J41: =IF(H41="",IF(I41="","","L"),"SA") | K41: =IF(J41="",0,IF(J41="SA",4,3)) -> 0 | L41: =IF(K41=3,1,0) -> 0 | M41: 1200 | N41: 20 | O41: 18 | P41: HK41 | Q41: =VLOOKUP(P41,'Dia chat'!$E:$AE,7,0) -> -19.44 | R41: D1200 loại 1 | Y41: P1 | Z41: 2317739.8 | AA41: 430333.92 | AB41: 3.381
A42: A40 | B42: 2317778.8 | C42: 430316.92 | D42: 34.3 | E42: DC2 | F42: -8.7 | G42: =F42+1 -> -7.7 | J42: =IF(H42="",IF(I42="","","L"),"SA") | K42: =IF(J42="",0,IF(J42="SA",4,3)) -> 0 | L42: =IF(K42=3,1,0) -> 0 | M42: 1200 | N42: 20 | O42: 18 | P42: HK8 | Q42: =VLOOKUP(P42,'Dia chat'!$E:$AE,7,0) -> -19.05 | R42: D1200 loại 1 | Y42: P2 | Z42: 2317765.6 | AA42: 430295.65 | AB42: 4.152
A43: A41 | B43: 2317779 | C43: 430320.52 | D43: 30.7 | E43: DC2 | F43: -8.7 | G43: =F43+1 -> -7.7 | I43: X | J43: =IF(H43="",IF(I43="","","L"),"SA") -> L | K43: =IF(J43="",0,IF(J43="SA",4,3)) -> 3 | L43: =IF(K43=3,1,0) -> 1 | M43: 1200 | N43: 20 | O43: 18 | P43: HK45 | Q43: -22 | R43: D1200 loại 1 | Y43: P3 | Z43: 2317799.9 | AA43: 430340.96 | AB43: 3.93
A44: A42 | B44: 2317775 | C44: 430320.7 | D44: 30.7 | E44: DC2 | F44: -9.7 | G44: =F44+1 -> -8.7 | J44: =IF(H44="",IF(I44="","","L"),"SA") | K44: =IF(J44="",0,IF(J44="SA",4,3)) -> 0 | L44: =IF(K44=3,1,0) -> 0 | M44: 1200 | N44: 20 | O44: 18 | P44: HK45 | Q44: -22 | R44: D1200 loại 1
A45: A43 | B45: 2317772 | C45: 430320.84 | D45: 30.7 | E45: DC2 | F45: -9.7 | G45: =F45+1 -> -8.7 | J45: =IF(H45="",IF(I45="","","L"),"SA") | K45: =IF(J45="",0,IF(J45="SA",4,3)) -> 0 | L45: =IF(K45=3,1,0) -> 0 | M45: 1200 | N45: 20 | O45: 18 | P45: HK43 | Q45: -22 | R45: D1200 loại 1
A46: A44 | B46: 2317769 | C46: 430320.97 | D46: 23.4 | E46: DC2 | F46: -8.7 | G46: =F46+1 -> -7.7 | J46: =IF(H46="",IF(I46="","","L"),"SA") | K46: =IF(J46="",0,IF(J46="SA",4,3)) -> 0 | L46: =IF(K46=3,1,0) -> 0 | M46: 1200 | N46: 20 | O46: 18 | P46: HK43 | Q46: -22 | R46: D1200 loại 1
A47: A45 | B47: 2317769.1 | C47: 430324.57 | D47: 23.4 | E47: DC2 | F47: -8.7 | G47: =F47+1 -> -7.7 | J47: =IF(H47="",IF(I47="","","L"),"SA") | K47: =IF(J47="",0,IF(J47="SA",4,3)) -> 0 | L47: =IF(K47=3,1,0) -> 0 | M47: 1200 | N47: 20 | O47: 18 | P47: HK10 | Q47: =VLOOKUP(P47,'Dia chat'!$E:$AE,7,0) -> -18.62 | R47: D1200 loại 1
A48: A46 | B48: 2317772.1 | C48: 430324.43 | D48: 30.7 | E48: DC2 | F48: -9.7 | G48: =F48+1 -> -8.7 | H48: X | J48: =IF(H48="",IF(I48="","","L"),"SA") -> SA | K48: =IF(J48="",0,IF(J48="SA",4,3)) -> 4 | L48: =IF(K48=3,1,0) -> 0 | M48: 1200 | N48: 20 | O48: 18 | P48: HK10 | Q48: =VLOOKUP(P48,'Dia chat'!$E:$AE,7,0) -> -18.62 | R48: D1200 loại 1
A49: A47 | B49: 2317775.1 | C49: 430324.3 | D49: 30.7 | E49: DC2 | F49: -9.7 | G49: =F49+1 -> -8.7 | H49: X | J49: =IF(H49="",IF(I49="","","L"),"SA") -> SA | K49: =IF(J49="",0,IF(J49="SA",4,3)) -> 4 | L49: =IF(K49=3,1,0) -> 0 | M49: 1200 | N49: 20 | O49: 18 | P49: HK45 | Q49: -22 | R49: D1200 loại 1
A50: A48 | B50: 2317779.1 | C50: 430324.11 | D50: 30.7 | E50: DC2 | F50: -8.7 | G50: =F50+1 -> -7.7 | J50: =IF(H50="",IF(I50="","","L"),"SA") | K50: =IF(J50="",0,IF(J50="SA",4,3)) -> 0 | L50: =IF(K50=3,1,0) -> 0 | M50: 1200 | N50: 20 | O50: 18 | P50: HK42 | Q50: -22 | R50: D1200 loại 1
A51: A49 | B51: 2317779.3 | C51: 430327.71 | D51: 30.7 | E51: DC2 | F51: -8.7 | G51: =F51+1 -> -7.7 | H51: X | J51: =IF(H51="",IF(I51="","","L"),"SA") -> SA | K51: =IF(J51="",0,IF(J51="SA",4,3)) -> 4 | L51: =IF(K51=3,1,0) -> 0 | M51: 1200 | N51: 20 | O51: 18 | P51: HK42 | Q51: -22 | R51: D1200 loại 1
A52: A50 | B52: 2317775.3 | C52: 430327.89 | D52: 29.5 | E52: DC2 | F52: -8.7 | G52: =F52+1 -> -7.7 | J52: =IF(H52="",IF(I52="","","L"),"SA") | K52: =IF(J52="",0,IF(J52="SA",4,3)) -> 0 | L52: =IF(K52=3,1,0) -> 0 | M52: 1200 | N52: 20 | O52: 18 | P52: HK42 | Q52: -22 | R52: D1200 loại 1
A53: A51 | B53: 2317772.3 | C53: 430328.03 | D53: 30.7 | E53: DC2 | F53: -8.7 | G53: =F53+1 -> -7.7 | J53: =IF(H53="",IF(I53="","","L"),"SA") | K53: =IF(J53="",0,IF(J53="SA",4,3)) -> 0 | L53: =IF(K53=3,1,0) -> 0 | M53: 1200 | N53: 20 | O53: 18 | P53: HK44 | Q53: -22 | R53: D1200 loại 1
A54: A52 | B54: 2317769.3 | C54: 430328.16 | D54: 23.4 | E54: DC2 | F54: -8.7 | G54: =F54+1 -> -7.7 | I54: X | J54: =IF(H54="",IF(I54="","","L"),"SA") -> L | K54: =IF(J54="",0,IF(J54="SA",4,3)) -> 3 | L54: =IF(K54=3,1,0) -> 1 | M54: 1200 | N54: 20 | O54: 18 | P54: HK44 | Q54: -22 | R54: D1200 loại 1
A55: A53 | B55: 2317769.5 | C55: 430331.76 | D55: 23.4 | E55: DC2 | F55: -8.7 | G55: =F55+1 -> -7.7 | J55: =IF(H55="",IF(I55="","","L"),"SA") | K55: =IF(J55="",0,IF(J55="SA",4,3)) -> 0 | L55: =IF(K55=3,1,0) -> 0 | M55: 1200 | N55: 20 | O55: 18 | P55: HK44 | Q55: -22 | R55: D1200 loại 1
A56: A54 | B56: 2317772.5 | C56: 430331.62 | D56: 19.7 | E56: DC2 | F56: -8.7 | G56: =F56+1 -> -7.7 | J56: =IF(H56="",IF(I56="","","L"),"SA") | K56: =IF(J56="",0,IF(J56="SA",4,3)) -> 0 | L56: =IF(K56=3,1,0) -> 0 | M56: 1200 | N56: 20 | O56: 18 | P56: HK42 | Q56: -22 | R56: D1200 loại 1
A57: A55 | B57: 2317775.4 | C57: 430331.49 | D57: 25.8 | E57: DC2 | F57: -8.7 | G57: =F57+1 -> -7.7 | H57: X | J57: =IF(H57="",IF(I57="","","L"),"SA") -> SA | K57: =IF(J57="",0,IF(J57="SA",4,3)) -> 4 | L57: =IF(K57=3,1,0) -> 0 | M57: 1200 | N57: 20 | O57: 18 | P57: HK42 | Q57: -22 | R57: D1200 loại 1
A58: A56 | B58: 2317779.4 | C58: 430331.31 | D58: 25.8 | E58: DC2 | F58: -8.7 | G58: =F58+1 -> -7.7 | J58: =IF(H58="",IF(I58="","","L"),"SA") | K58: =IF(J58="",0,IF(J58="SA",4,3)) -> 0 | L58: =IF(K58=3,1,0) -> 0 | M58: 1200 | N58: 20 | O58: 18 | P58: HK42 | Q58: -22 | R58: D1200 loại 1
A59: A57 | B59: 2317779.6 | C59: 430334.9 | D59: 25.8 | E59: DC2 | F59: -8.7 | G59: =F59+1 -> -7.7 | H59: X | J59: =IF(H59="",IF(I59="","","L"),"SA") -> SA | K59: =IF(J59="",0,IF(J59="SA",4,3)) -> 4 | L59: =IF(K59=3,1,0) -> 0 | M59: 1200 | N59: 20 | O59: 18 | P59: HK9 | Q59: =VLOOKUP(P59,'Dia chat'!$E:$AE,7,0) -> -17.68 | R59: D1200 loại 1
A60: A58 | B60: 2317775.6 | C60: 430335.08 | D60: 25.8 | E60: DC2 | F60: -8.7 | G60: =F60+1 -> -7.7 | J60: =IF(H60="",IF(I60="","","L"),"SA") | K60: =IF(J60="",0,IF(J60="SA",4,3)) -> 0 | L60: =IF(K60=3,1,0) -> 0 | M60: 1200 | N60: 20 | O60: 18 | P60: HK9 | Q60: =VLOOKUP(P60,'Dia chat'!$E:$AE,7,0) -> -17.68 | R60: D1200 loại 1
A61: A59 | B61: 2317772.6 | C61: 430335.22 | D61: 19.7 | E61: DC2 | F61: -8.7 | G61: =F61+1 -> -7.7 | J61: =IF(H61="",IF(I61="","","L"),"SA") | K61: =IF(J61="",0,IF(J61="SA",4,3)) -> 0 | L61: =IF(K61=3,1,0) -> 0 | M61: 1200 | N61: 20 | O61: 18 | P61: HK12 | Q61: =VLOOKUP(P61,'Dia chat'!$E:$AE,7,0) -> -15.8 | R61: D1200 loại 1
A62: A60 | B62: 2317769.6 | C62: 430335.36 | D62: 23.4 | E62: DC2 | F62: -8.7 | G62: =F62+1 -> -7.7 | J62: =IF(H62="",IF(I62="","","L"),"SA") | K62: =IF(J62="",0,IF(J62="SA",4,3)) -> 0 | L62: =IF(K62=3,1,0) -> 0 | M62: 1200 | N62: 20 | O62: 18 | P62: HK12 | Q62: =VLOOKUP(P62,'Dia chat'!$E:$AE,7,0) -> -15.8 | R62: D1200 loại 1
A63: A61 | B63: 2317768.2 | C63: 430337.92 | D63: 23.4 | E63: DC6 | F63: -8.7 | G63: =F63+1 -> -7.7 | J63: =IF(H63="",IF(I63="","","L"),"SA") | K63: =IF(J63="",0,IF(J63="SA",4,3)) -> 0 | L63: =IF(K63=3,1,0) -> 0 | M63: 1200 | N63: 20 | O63: 18 | P63: HK12 | Q63: =VLOOKUP(P63,'Dia chat'!$E:$AE,7,0) -> -15.8 | R63: D1200 loại 1
A64: A62 | B64: 2317768.3 | C64: 430340.92 | D64: 23.4 | E64: DC6 | F64: -8.7 | G64: =F64+1 -> -7.7 | H64: X | J64: =IF(H64="",IF(I64="","","L"),"SA") -> SA | K64: =IF(J64="",0,IF(J64="SA",4,3)) -> 4 | L64: =IF(K64=3,1,0) -> 0 | M64: 1200 | N64: 20 | O64: 18 | P64: HK51 | Q64: -22 | R64: D1200 loại 1
A65: A63 | B65: 2317770.2 | C65: 430344.64 | D65: 37.4 | E65: DC1 | F65: -8.7 | G65: =F65+1 -> -7.7 | J65: =IF(H65="",IF(I65="","","L"),"SA") | K65: =IF(J65="",0,IF(J65="SA",4,3)) -> 0 | L65: =IF(K65=3,1,0) -> 0 | M65: 1200 | N65: 20 | O65: 18 | P65: HK51 | Q65: -22 | R65: D1200 loại 1
A66: A64 | B66: 2317773.3 | C66: 430346.6 | D66: 36.2 | E66: DC1 | F66: -8.7 | G66: =F66+1 -> -7.7 | H66: X | J66: =IF(H66="",IF(I66="","","L"),"SA") -> SA | K66: =IF(J66="",0,IF(J66="SA",4,3)) -> 4 | L66: =IF(K66=3,1,0) -> 0 | M66: 1200 | N66: 20 | O66: 18 | P66: HK46 | Q66: -22 | R66: D1200 loại 1
A67: A65 | B67: 2317776.2 | C67: 430344.37 | D67: 36.2 | E67: DC1 | F67: -9.7 | G67: =F67+1 -> -8.7 | H67: X | J67: =IF(H67="",IF(I67="","","L"),"SA") -> SA | K67: =IF(J67="",0,IF(J67="SA",4,3)) -> 4 | L67: =IF(K67=3,1,0) -> 0 | M67: 1200 | N67: 20 | O67: 18 | P67: HK46 | Q67: -22 | R67: D1200 loại 1
A68: A66 | B68: 2317779.3 | C68: 430346.33 | D68: 25.4 | E68: DC1 | F68: -9.7 | G68: =F68+1 -> -8.7 | J68: =IF(H68="",IF(I68="","","L"),"SA") | K68: =IF(J68="",0,IF(J68="SA",4,3)) -> 0 | L68: =IF(K68=3,1,0) -> 0 | M68: 1200 | N68: 20 | O68: 18 | P68: HK13 | Q68: =VLOOKUP(P68,'Dia chat'!$E:$AE,7,0) -> -17.16 | R68: D1200 loại 1
A69: A67 | B69: 2317782.2 | C69: 430344.09 | D69: 26.5 | E69: DC1 | F69: -9.7 | G69: =F69+1 -> -8.7 | J69: =IF(H69="",IF(I69="","","L"),"SA") | K69: =IF(J69="",0,IF(J69="SA",4,3)) -> 0 | L69: =IF(K69=3,1,0) -> 0 | M69: 1200 | N69: 20 | O69: 18 | P69: HK13 | Q69: =VLOOKUP(P69,'Dia chat'!$E:$AE,7,0) -> -17.16 | R69: D1200 loại 1
A70: A68 | B70: 2317782.4 | C70: 430347.69 | D70: 25.4 | E70: DC1 | F70: -9.7 | G70: =F70+1 -> -8.7 | H70: X | J70: =IF(H70="",IF(I70="","","L"),"SA") -> SA | K70: =IF(J70="",0,IF(J70="SA",4,3)) -> 4 | L70: =IF(K70=3,1,0) -> 0 | M70: 1200 | N70: 20 | O70: 18 | P70: HK13 | Q70: =VLOOKUP(P70,'Dia chat'!$E:$AE,7,0) -> -17.16 | R70: D1200 loại 1
A71: A69 | B71: 2317779.5 | C71: 430349.32 | D71: 25.4 | E71: DC1 | F71: -9.7 | G71: =F71+1 -> -8.7 | J71: =IF(H71="",IF(I71="","","L"),"SA") | K71: =IF(J71="",0,IF(J71="SA",4,3)) -> 0 | L71: =IF(K71=3,1,0) -> 0 | M71: 1200 | N71: 20 | O71: 18 | P71: HK47 | Q71: -22 | R71: D1200 loại 1
A72: A70 | B72: 2317776.4 | C72: 430347.96 | D72: 26.8 | E72: DC1 | F72: -9.7 | G72: =F72+1 -> -8.7 | J72: =IF(H72="",IF(I72="","","L"),"SA") | K72: =IF(J72="",0,IF(J72="SA",4,3)) -> 0 | L72: =IF(K72=3,1,0) -> 0 | M72: 1200 | N72: 20 | O72: 18 | P72: HK47 | Q72: -22 | R72: D1200 loại 1
A73: A71 | B73: 2317773.5 | C73: 430349.6 | D73: 26.8 | E73: DC1 | F73: -8.7 | G73: =F73+1 -> -7.7 | J73: =IF(H73="",IF(I73="","","L"),"SA") | K73: =IF(J73="",0,IF(J73="SA",4,3)) -> 0 | L73: =IF(K73=3,1,0) -> 0 | M73: 1200 | N73: 20 | O73: 18 | P73: HK46 | Q73: -22 | R73: D1200 loại 1
A74: A72 | B74: 2317770.4 | C74: 430348.23 | D74: 26.8 | E74: DC1 | F74: -8.7 | G74: =F74+1 -> -7.7 | I74: X | J74: =IF(H74="",IF(I74="","","L"),"SA") -> L | K74: =IF(J74="",0,IF(J74="SA",4,3)) -> 3 | L74: =IF(K74=3,1,0) -> 1 | M74: 1200 | N74: 20 | O74: 18 | P74: HK14 | Q74: =VLOOKUP(P74,'Dia chat'!$E:$AE,7,0) -> -17.32 | R74: D1200 loại 1
A75: A73 | B75: 2317770.5 | C75: 430351.23 | D75: 26.8 | E75: DC1 | F75: -8.7 | G75: =F75+1 -> -7.7 | J75: =IF(H75="",IF(I75="","","L"),"SA") | K75: =IF(J75="",0,IF(J75="SA",4,3)) -> 0 | L75: =IF(K75=3,1,0) -> 0 | M75: 1200 | N75: 20 | O75: 18 | P75: HK14 | Q75: =VLOOKUP(P75,'Dia chat'!$E:$AE,7,0) -> -17.32 | R75: D1200 loại 1
A76: A74 | B76: 2317773.6 | C76: 430352.59 | D76: 26.8 | E76: DC1 | F76: -8.7 | G76: =F76+1 -> -7.7 | J76: =IF(H76="",IF(I76="","","L"),"SA") | K76: =IF(J76="",0,IF(J76="SA",4,3)) -> 0 | L76: =IF(K76=3,1,0) -> 0 | M76: 1200 | N76: 20 | O76: 18 | P76: HK15 | Q76: =VLOOKUP(P76,'Dia chat'!$E:$AE,7,0) -> -20.3 | R76: D1200 loại 1
A77: A75 | B77: 2317776.5 | C77: 430350.96 | D77: 26.8 | E77: DC1 | F77: -9.7 | G77: =F77+1 -> -8.7 | H77: X | J77: =IF(H77="",IF(I77="","","L"),"SA") -> SA | K77: =IF(J77="",0,IF(J77="SA",4,3)) -> 4 | L77: =IF(K77=3,1,0) -> 0 | M77: 1200 | N77: 20 | O77: 18 | P77: HK15 | Q77: =VLOOKUP(P77,'Dia chat'!$E:$AE,7,0) -> -20.3 | R77: D1200 loại 1
A78: A76 | B78: 2317779.6 | C78: 430352.32 | D78: 25.4 | E78: DC1 | F78: -9.7 | G78: =F78+1 -> -8.7 | J78: =IF(H78="",IF(I78="","","L"),"SA") | K78: =IF(J78="",0,IF(J78="SA",4,3)) -> 0 | L78: =IF(K78=3,1,0) -> 0 | M78: 1200 | N78: 20 | O78: 18 | P78: HK14 | Q78: -22 | R78: D1200 loại 1
A79: A77 | B79: 2317782.5 | C79: 430350.69 | D79: 25.4 | E79: DC1 | F79: -9.7 | G79: =F79+1 -> -8.7 | J79: =IF(H79="",IF(I79="","","L"),"SA") | K79: =IF(J79="",0,IF(J79="SA",4,3)) -> 0 | L79: =IF(K79=3,1,0) -> 0 | M79: 1200 | N79: 20 | O79: 18 | P79: HK13 | Q79: =VLOOKUP(P79,'Dia chat'!$E:$AE,7,0) -> -17.16 | R79: D1200 loại 1
A80: A78 | B80: 2317782.7 | C80: 430353.68 | D80: 25.4 | E80: DC1 | F80: -9.7 | G80: =F80+1 -> -8.7 | H80: X | J80: =IF(H80="",IF(I80="","","L"),"SA") -> SA | K80: =IF(J80="",0,IF(J80="SA",4,3)) -> 4 | L80: =IF(K80=3,1,0) -> 0 | M80: 1200 | N80: 20 | O80: 18 | P80: HK49 | Q80: -22 | R80: D1200 loại 1
A81: A79 | B81: 2317779.7 | C81: 430355.32 | D81: 26.8 | E81: DC1 | F81: -9.7 | G81: =F81+1 -> -8.7 | J81: =IF(H81="",IF(I81="","","L"),"SA") | K81: =IF(J81="",0,IF(J81="SA",4,3)) -> 0 | L81: =IF(K81=3,1,0) -> 0 | M81: 1200 | N81: 20 | O81: 18 | P81: HK49 | Q81: -22 | R81: D1200 loại 1
A82: A80 | B82: 2317776.7 | C82: 430353.96 | D82: 26.8 | E82: DC1 | F82: -9.7 | G82: =F82+1 -> -8.7 | J82: =IF(H82="",IF(I82="","","L"),"SA") | K82: =IF(J82="",0,IF(J82="SA",4,3)) -> 0 | L82: =IF(K82=3,1,0) -> 0 | M82: 1200 | N82: 20 | O82: 18 | P82: HK15 | Q82: =VLOOKUP(P82,'Dia chat'!$E:$AE,7,0) -> -20.3 | R82: D1200 loại 1
A83: A81 | B83: 2317773.7 | C83: 430355.59 | D83: 26.8 | E83: DC1 | F83: -8.7 | G83: =F83+1 -> -7.7 | J83: =IF(H83="",IF(I83="","","L"),"SA") | K83: =IF(J83="",0,IF(J83="SA",4,3)) -> 0 | L83: =IF(K83=3,1,0) -> 0 | M83: 1200 | N83: 20 | O83: 18 | P83: HK15 | Q83: =VLOOKUP(P83,'Dia chat'!$E:$AE,7,0) -> -20.3 | R83: D1200 loại 1
A84: A82 | B84: 2317770.7 | C84: 430354.23 | D84: 26.8 | E84: DC1 | F84: -8.7 | G84: =F84+1 -> -7.7 | J84: =IF(H84="",IF(I84="","","L"),"SA") | K84: =IF(J84="",0,IF(J84="SA",4,3)) -> 0 | L84: =IF(K84=3,1,0) -> 0 | M84: 1200 | N84: 20 | O84: 18 | P84: HK14 | Q84: =VLOOKUP(P84,'Dia chat'!$E:$AE,7,0) -> -17.32 | R84: D1200 loại 1
A85: A83 | B85: 2317770.8 | C85: 430357.22 | D85: 26.8 | E85: DC1 | F85: -8.7 | G85: =F85+1 -> -7.7 | J85: =IF(H85="",IF(I85="","","L"),"SA") | K85: =IF(J85="",0,IF(J85="SA",4,3)) -> 0 | L85: =IF(K85=3,1,0) -> 0 | M85: 1200 | N85: 20 | O85: 18 | P85: HK14 | Q85: =VLOOKUP(P85,'Dia chat'!$E:$AE,7,0) -> -17.32 | R85: D1200 loại 1
A86: A84 | B86: 2317773.9 | C86: 430358.59 | D86: 26.8 | E86: DC1 | F86: -8.7 | G86: =F86+1 -> -7.7 | J86: =IF(H86="",IF(I86="","","L"),"SA") | K86: =IF(J86="",0,IF(J86="SA",4,3)) -> 0 | L86: =IF(K86=3,1,0) -> 0 | M86: 1200 | N86: 20 | O86: 18 | P86: HK48 | Q86: -22 | R86: D1200 loại 1
A87: A85 | B87: 2317776.8 | C87: 430356.95 | D87: 26.8 | E87: DC1 | F87: -9.7 | G87: =F87+1 -> -8.7 | I87: X | J87: =IF(H87="",IF(I87="","","L"),"SA") -> L | K87: =IF(J87="",0,IF(J87="SA",4,3)) -> 3 | L87: =IF(K87=3,1,0) -> 1 | M87: 1200 | N87: 20 | O87: 18 | P87: HK48 | Q87: -22 | R87: D1200 loại 1
A88: A86 | B88: 2317779.9 | C88: 430358.32 | D88: 41.7 | E88: DC1 | F88: -9.7 | G88: =F88+1 -> -8.7 | H88: X | J88: =IF(H88="",IF(I88="","","L"),"SA") -> SA | K88: =IF(J88="",0,IF(J88="SA",4,3)) -> 4 | L88: =IF(K88=3,1,0) -> 0 | M88: 1200 | N88: 20 | O88: 18 | P88: HK48 | Q88: -22 | R88: D1200 loại 1
A89: A87 | B89: 2317782.8 | C89: 430356.68 | D89: 41.7 | E89: DC1 | F89: -9.7 | G89: =F89+1 -> -8.7 | J89: =IF(H89="",IF(I89="","","L"),"SA") | K89: =IF(J89="",0,IF(J89="SA",4,3)) -> 0 | L89: =IF(K89=3,1,0) -> 0 | M89: 1200 | N89: 20 | O89: 18 | P89: HK49 | Q89: -22 | R89: D1200 loại 1
A90: A88 | B90: 2317782.9 | C90: 430359.68 | D90: 41.7 | E90: DC1 | F90: -9.7 | G90: =F90+1 -> -8.7 | H90: X | J90: =IF(H90="",IF(I90="","","L"),"SA") -> SA | K90: =IF(J90="",0,IF(J90="SA",4,3)) -> 4 | L90: =IF(K90=3,1,0) -> 0 | M90: 1200 | N90: 20 | O90: 18 | P90: HK27 | Q90: =VLOOKUP(P90,'Dia chat'!$E:$AE,7,0) -> -18.84 | R90: D1200 loại 1
A91: A89 | B91: 2317780 | C91: 430361.31 | D91: 41.7 | E91: DC1 | F91: -9.7 | G91: =F91+1 -> -8.7 | J91: =IF(H91="",IF(I91="","","L"),"SA") | K91: =IF(J91="",0,IF(J91="SA",4,3)) -> 0 | L91: =IF(K91=3,1,0) -> 0 | M91: 1200 | N91: 20 | O91: 18 | P91: HK27 | Q91: =VLOOKUP(P91,'Dia chat'!$E:$AE,7,0) -> -18.84 | R91: D1200 loại 1
A92: A90 | B92: 2317776.9 | C92: 430359.95 | D92: 26.8 | E92: DC1 | F92: -9.7 | G92: =F92+1 -> -8.7 | J92: =IF(H92="",IF(I92="","","L"),"SA") | K92: =IF(J92="",0,IF(J92="SA",4,3)) -> 0 | L92: =IF(K92=3,1,0) -> 0 | M92: 1200 | N92: 20 | O92: 18 | P92: HK48 | Q92: -22 | R92: D1200 loại 1
A93: A91 | B93: 2317774 | C93: 430361.58 | D93: 24.9 | E93: DC1 | F93: -8.7 | G93: =F93+1 -> -7.7 | H93: X | J93: =IF(H93="",IF(I93="","","L"),"SA") -> SA | K93: =IF(J93="",0,IF(J93="SA",4,3)) -> 4 | L93: =IF(K93=3,1,0) -> 0 | M93: 1200 | N93: 20 | O93: 18 | P93: HK48 | Q93: -22 | R93: D1200 loại 1
A94: A92 | B94: 2317770.9 | C94: 430360.22 | D94: 24.9 | E94: DC1 | F94: -8.7 | G94: =F94+1 -> -7.7 | H94: X | J94: =IF(H94="",IF(I94="","","L"),"SA") -> SA | K94: =IF(J94="",0,IF(J94="SA",4,3)) -> 4 | L94: =IF(K94=3,1,0) -> 0 | M94: 1200 | N94: 20 | O94: 18 | P94: HK50 | Q94: -22 | R94: D1200 loại 1
A95: A93 | B95: 2317771.1 | C95: 430363.22 | D95: 24.9 | E95: DC1 | F95: -8.7 | G95: =F95+1 -> -7.7 | J95: =IF(H95="",IF(I95="","","L"),"SA") | K95: =IF(J95="",0,IF(J95="SA",4,3)) -> 0 | L95: =IF(K95=3,1,0) -> 0 | M95: 1200 | N95: 20 | O95: 18 | P95: HK50 | Q95: -22 | R95: D1200 loại 1
A96: A94 | B96: 2317777.1 | C96: 430362.95 | D96: 24.9 | E96: DC1 | F96: -9.7 | G96: =F96+1 -> -8.7 | H96: X | J96: =IF(H96="",IF(I96="","","L"),"SA") -> SA | K96: =IF(J96="",0,IF(J96="SA",4,3)) -> 4 | L96: =IF(K96=3,1,0) -> 0 | M96: 1200 | N96: 20 | O96: 18 | P96: HK48 | Q96: -22 | R96: D1200 loại 1
A97: A95 | B97: 2317783.1 | C97: 430362.67 | D97: 41.7 | E97: DC1 | F97: -9.7 | G97: =F97+1 -> -8.7 | J97: =IF(H97="",IF(I97="","","L"),"SA") | K97: =IF(J97="",0,IF(J97="SA",4,3)) -> 0 | L97: =IF(K97=3,1,0) -> 0 | M97: 1200 | N97: 20 | O97: 18 | P97: HK27 | Q97: =VLOOKUP(P97,'Dia chat'!$E:$AE,7,0) -> -18.84 | R97: D1200 loại 1
A98: A96 | B98: 2317783 | C98: 430369.28 | D98: 22.3 | E98: DC3 | F98: -7.7 | G98: =F98+1 -> -6.7 | H98: X | J98: =IF(H98="",IF(I98="","","L"),"SA") -> SA | K98: =IF(J98="",0,IF(J98="SA",4,3)) -> 4 | L98: =IF(K98=3,1,0) -> 0 | M98: 1200 | N98: 20 | O98: 18 | P98: HK38 | Q98: -22 | R98: D1200 loại 2
A99: A97 | B99: 2317779 | C99: 430369.47 | D99: 22.3 | E99: DC3 | F99: -7.7 | G99: =F99+1 -> -6.7 | J99: =IF(H99="",IF(I99="","","L"),"SA") | K99: =IF(J99="",0,IF(J99="SA",4,3)) -> 0 | L99: =IF(K99=3,1,0) -> 0 | M99: 1200 | N99: 20 | O99: 18 | P99: HK38 | Q99: -22 | R99: D1200 loại 2
A100: A98 | B100: 2317781.1 | C100: 430371.37 | D100: 22.3 | E100: DC3 | F100: -7.7 | G100: =F100+1 -> -6.7 | J100: =IF(H100="",IF(I100="","","L"),"SA") | K100: =IF(J100="",0,IF(J100="SA",4,3)) -> 0 | L100: =IF(K100=3,1,0) -> 0 | M100: 1200 | N100: 20 | O100: 18 | P100: HK38 | Q100: -22 | R100: D1200 loại 2
...

Sheet Du lieu
A1: NỘI DUNG YÊU CẦU DỮ LIỆU CẬP NHẬT DỮ LIỆU CHUNG
A3: Stt | B3: Nội dung | C3: Trực thuộc | D3: Ghi chú
A4: 1 | B4: Tên công trình: | C4: KHU HỖN HỢP CHUNG CƯ, VĂN PHÒNG, TRUNG TÂM THƯƠNG MẠI VÀ NHÀ Ở KẾT HỢP KHU MUA SẮM | E4: Khu hỗn hợp chung cư, văn phòng, trung tâm thương mại và nhà ở kết hợp khu mua sắm
A5: 2 | B5: Gói thầu | C5: CỌC KHOAN NHỒI
A6: 3 | B6: Địa điểm xây dựng: | C6: P. BẠCH ĐẰNG, TP. HẠ LONG, TỈNH QUẢNG NINH | E6: P. Bạch Đằng, TP Hạ Long, Tỉnh Quảng Ninh
A7: 4 | B7: Đơn vị chủ đầu tư | C7: CÔNG TY CỔ PHẦN ĐẦU TƯ VÀ KHÁCH SẠN MYWAY HẠ LONG | D7: Công ty Cổ phần đầu tư và Khách sạn MyWay Hạ Long
B8: Ông: | C8: Nguyễn Thanh Tân | D8: GĐ BQLDA
B9: Ông: | C9: Phạm Tiến Dũng | D9: Cán bộ BQLDA | E9: Chức vụ
B10: Ông: | C10: ……………….. | D10: Cán bộ BQLDA
A11: 5 | B11: Tư vấn giám sát | C11: CÔNG TY CỔ PHẦN TƯ VẤN KIỂM ĐỊNH VÀ THƯƠNG MẠI XÂY DỰNG GOLDSUN | D11: Công ty Cổ phần tư vấn kiểm định và thương mại xây dựng Goldsun
B12: Ông: | C12: ..................................... | D12: .....................................
B13: Ông: | C13: ..................................... | D13: ..................................... | E13: Chức vụ
B14: Ông: | C14: ..................................... | D14: .....................................
A15: 6 | B15: Đơn vị thi công | C15: CÔNG TY TNHH MTV HANTECH | D15: Công ty TNHH MTV HANTECH
B16: Ông: | C16: ..................................... | D16: .....................................
B17: Ông: | C17: Ngô Văn Khánh | D17: Chỉ huy trưởng công trường | E17: Chức vụ
B18: Ông: | C18: Nguyễn Mạnh Hùng | D18: Chỉ huy phó công trường
A19: 6 | B19: Ký nội bộ
B20: Ông: | C20: ......................... | D20: .....................................
B21: Ông: | C21: ......................... | D21: ..................................... | E21: Chức vụ
C22: Nguyễn Văn Long | D22: Cán bộ trắc địa
B23: Ông: | C23: Nguyễn Văn Tĩnh | D23: Tổ trưởng công nhân
A24: 7 | B24: Tư vấn thiết kế | C24: …………………………….
B25: Ông: | C25: ................................ | D25: ................................
B26: Ông: | C26: ................................ | D26: Chủ nhiệm dự án | E26: Chức vụ
B27: Ông: | C27: ................................ | D27: Cán bộ TVTK
A28: 8 | B28: Thầu phụ
B29: Thép
B30: Ông: | E30: Chức vụ
B31: Bê tông | C31: ='2. NK'!Q26 -> Công ty TNHH kinh doanh và phát triển Vượng Phát | D31: =C31 -> Công ty TNHH kinh doanh và phát triển Vượng Phát | F31: Công ty TNHH SX & TM KDVL XD An Phúc
B32: Ông: | C32: ................................ | D32: ................................ | E32: Chức vụ
B33: Bentonite
B34: Ông: | C34: .......................... | D34: ............................. | E34: Chức vụ

Sheet DT.NK
A1: CÔNG TY MỘT THÀNH VIÊN HANTECH
E2: BẢNG TRÌNH NGÀY THÁNG THI CÔNG LÝ LỊCH CÁC CỌC
A3: ĐẠI DIỆN NHÀ THẦU THI CÔNG | H3: TƯ VẤN GIÁM SÁT | N3: BAN QUẢN LÝ DỰ ÁN
A10: STT | B10: Tên cọc | C10: 1.Khoan tạo lỗ : | F10: 2.Nghiệm thu định vị ống Casing: | M10: 3.Kiểm tra Polymer lần1: | T10: 4.Khoan gặp đá: | W10: 5.Kết thúc khoan hồi : | Z10: 6.Vét lắng | AD10: 7.Nghiệm thu lồng thép: | AG10: 8.Hạ lồng thép, ống đổ, ống thổi : | AJ10: 9.Kiểm tra Polymer lần 2: | AQ10: 10.Kiểm tra chiều sâu hố khoan trước khi đổ bê tông | AU10: 11.Tvgs đồng ý cho đổ bê tông
C11: Bắt đầu | D11: Kết thúc | E11: Ngày: | F11: Bắt đầu | G11: Kết thúc | H11: Ngày: | I11: DX | J11: DY | K11: CĐ sing | L11: CĐ TN | M11: Bắt đầu | N11: Kết thúc | O11: Ngày: | P11: Tỷ trọng | Q11: PH | R11: Độ nhớt | S11: HL cát | T11: Bắt đầu | U11: Ngày: | V11: chiều sâu | W11: Bắt đầu | X11: Ngày | Y11: chiều sâu | Z11: Bắt đầu | AA11: Kết thúc | AB11: Ngày: | AC11: chiều sâu | AD11: Bắt đầu | AE11: Kết thúc | AF11: Ngày: | AG11: Bắt đầu | AH11: Kết thúc | AI11: Ngày: | AJ11: Bắt đầu | AK11: Kết thúc | AL11: Ngày: | AM11: Tỷ trọng | AN11: PH | AO11: Độ nhớt | AP11: HL cát | AQ11: Bắt đầu | AR11: Kết thúc | AS11: Ngày: | AT11: chiều sâu | AU11: Bắt đầu | AV11: Ngày | AW11: Kết thúc | AX11: Ngày | AY11: Chiều sâu dừng đổ | AZ11: BT thực tế | BJ11: Đặt ống SA
B12: 1 | C12: 2 | D12: 3 | E12: 4 | F12: 5 | G12: 6 | H12: 7 | I12: 8 | J12: 9 | K12: 10 | L12: 11 | M12: 12 | N12: 13 | O12: 14 | P12: 15 | Q12: 16 | R12: 17 | S12: 18 | T12: 19 | U12: 20 | V12: 21 | W12: 22 | X12: 23 | Y12: 24 | Z12: 25 | AA12: 26 | AB12: 27 | AC12: 28 | AD12: 29 | AE12: 30 | AF12: 31 | AG12: 32 | AH12: 33 | AI12: 34 | AJ12: 35 | AK12: 36 | AL12: 37 | AM12: 38 | AN12: 39 | AO12: 40 | AP12: 41 | AQ12: 42 | AR12: 43 | AS12: 44 | AT12: 45 | AU12: 46 | AV12: 47 | AW12: 48 | AX12: 49 | AY12: 50 | AZ12: 51
A13: 1 | B13: B1 | C13: 0.375 | D13: =C13+$D$319 -> 0.39583333 | E13: 42466 | F13: =D13+$D$315 -> 0.40277778 | G13: =F13+$D$314 -> 0.40625 | H13: =IF(G13>2,E13+2,IF(G13>1,E13+1,E13)) -> 42466 | I13: 0.001 | J13: 0.02 | K13: -0.353 | L13: -0.717 | M13: =G13+$D$314 -> 0.40972222 | N13: =M13+$D$316 -> 0.42013889 | O13: =IF(N13>2,E13+2,IF(N13>1,E13+1,E13)) -> 42466 | P13: 1.08 | Q13: 9 | R13: 19 | S13: 0 | T13: =N13+$D$344 -> 0.54513889 | U13: =IF(T13>2,E13+2,IF(T13>1,E13+1,E13)) -> 42466 | V13: 22.3 | W13: =T13+$D$344 -> 0.67013889 | X13: =IF(W13>2,E13+2,IF(W13>1,E13+1,E13)) -> 42466 | Y13: 29.35 | Z13: =W13+$D$325 -> 0.71180556 | AA13: =Z13+$D$319 -> 0.73263889 | AB13: =IF(AA13>2,E13+2,IF(AA13>1,E13+1,E13)) -> 42466 | AC13: 29.35 | AD13: =AA13+$D$315 -> 0.73958333 | AE13: =AD13+$D$316 -> 0.75 | AF13: =IF(AE13>2,E13+2,IF(AE13>1,E13+1,E13)) -> 42466 | AG13: =AE13+$D$315 -> 0.75694444 | AH13: =IF(BJ13>0,AG13+$D$325,AG13+$D$322) -> 0.79861111 | AI13: =IF(AH13>2,E13+2,IF(AH13>1,E13+1,E13)) -> 42466 | AJ13: =AH13+$D$319 -> 0.81944444 | AK13: =AJ13+$D$315 -> 0.82638889 | AL13: =IF(AK13>2,E13+2,IF(AK13>1,E13+1,E13)) -> 42466 | AM13: 1.09 | AN13: 9 | AO13: 28 | AP13: 0 | AQ13: =AK13 -> 0.82638889 | AR13: =AQ13+$D$315 -> 0.83333333 | AS13: =IF(AR13>2,E13+2,IF(AR13>1,E13+1,E13)) -> 42466 | AT13: 29.35 | AU13: =AR13 -> 0.83333333 | AV13: =IF(AU13>2,E13+2,IF(AU13>1,E13+1,E13)) -> 42466 | AW13: =AU13+$BC$13*BA13 -> 0.875 | AX13: =IF(AW13>2,E13+2,IF(AW13>1,E13+1,E13)) -> 42466 | AY13: 0 | AZ13: 18 | BA13: =VLOOKUP(B13,ĐTBT!$V:$W,2,0) -> 3 | BB13: 0.013888889 | BC13: 0.013888889 | BI13: =AX13-E13 -> 0 | BJ13: =VLOOKUP(B13,'Thong tin'!A:R,11,0) -> 2
A14: =IF(C14="","",COUNTA($C$13:C14)) -> 2 | B14: A19 | C14: 0.29166667 | D14: =C14+$D$319 -> 0.3125 | E14: 42468 | F14: =D14+$D$315 -> 0.31944444 | G14: =F14+$D$314 -> 0.32291667 | H14: =IF(G14>2,E14+2,IF(G14>1,E14+1,E14)) -> 42468 | I14: 0.025 | J14: 0.006 | K14: -0.156 | L14: -0.784 | M14: =G14+$D$314 -> 0.32638889 | N14: =M14+$D$316 -> 0.33680556 | O14: =IF(N14>2,E14+2,IF(N14>1,E14+1,E14)) -> 42468 | P14: 1.05 | Q14: 9 | R14: 24 | S14: 0 | T14: =N14+$D$344 -> 0.46180556 | U14: =IF(T14>2,E14+2,IF(T14>1,E14+1,E14)) -> 42468 | V14: 29 | W14: =T14+$D$344 -> 0.58680556 | X14: =IF(W14>2,E14+2,IF(W14>1,E14+1,E14)) -> 42468 | Y14: 39.6 | Z14: =W14+$D$325 -> 0.62847222 | AA14: =Z14+$D$319 -> 0.64930556 | AB14: =IF(AA14>2,E14+2,IF(AA14>1,E14+1,E14)) -> 42468 | AC14: 39.8 | AD14: =AA14+$D$315 -> 0.65625 | AE14: =AD14+$D$316 -> 0.66666667 | AF14: =IF(AE14>2,E14+2,IF(AE14>1,E14+1,E14)) -> 42468 | AG14: =AE14+$D$315 -> 0.67361111 | AH14: =IF(BJ14>0,AG14+$D$325,AG14+$D$322) -> 0.71527778 | AI14: =IF(AH14>2,E14+2,IF(AH14>1,E14+1,E14)) -> 42468 | AJ14: =AH14+$D$319 -> 0.73611111 | AK14: =AJ14+$D$315 -> 0.74305556 | AL14: =IF(AK14>2,E14+2,IF(AK14>1,E14+1,E14)) -> 42468 | AM14: 1.06 | AN14: 8 | AO14: 27 | AP14: 0 | AQ14: =AK14 -> 0.74305556 | AR14: =AQ14+$D$315 -> 0.75 | AS14: =IF(AR14>2,E14+2,IF(AR14>1,E14+1,E14)) -> 42468 | AT14: 39.8 | AU14: =AR14 -> 0.75 | AV14: =IF(AU14>2,E14+2,IF(AU14>1,E14+1,E14)) -> 42468 | AW14: =AU14+$BC$13*BA14 -> 0.86111111 | AX14: =IF(AW14>2,E14+2,IF(AW14>1,E14+1,E14)) -> 42468 | AY14: 0 | AZ14: 54 | BA14: =VLOOKUP(B14,ĐTBT!$V:$W,2,0) -> 8 | BI14: =AX14-E14 -> 0 | BJ14: =VLOOKUP(B14,'Thong tin'!A:R,11,0) -> 4
A15: =IF(C15="","",COUNTA($C$13:C15)) -> 3 | B15: A126 | C15: 0.3125 | D15: =C15+$D$319 -> 0.33333333 | E15: 42472 | F15: =D15+$D$315 -> 0.34027778 | G15: =F15+$D$314 -> 0.34375 | H15: =IF(G15>2,E15+2,IF(G15>1,E15+1,E15)) -> 42472 | I15: 0.018 | J15: 0.006 | K15: -0.267 | L15: -0.72 | M15: =G15+$D$314 -> 0.34722222 | N15: =M15+$D$316 -> 0.35763889 | O15: =IF(N15>2,E15+2,IF(N15>1,E15+1,E15)) -> 42472 | P15: 1.06 | Q15: 8 | R15: 22 | S15: 0 | T15: =N15+$D$344 -> 0.48263889 | U15: =IF(T15>2,E15+2,IF(T15>1,E15+1,E15)) -> 42472 | V15: 22.3 | W15: =T15+$D$344 -> 0.60763889 | X15: =IF(W15>2,E15+2,IF(W15>1,E15+1,E15)) -> 42472 | Y15: 23.4 | Z15: =W15+$D$325 -> 0.64930556 | AA15: =Z15+$D$319 -> 0.67013889 | AB15: =IF(AA15>2,E15+2,IF(AA15>1,E15+1,E15)) -> 42472 | AC15: 23.6 | AD15: =AA15+$D$315 -> 0.67708333 | AE15: =AD15+$D$316 -> 0.6875 | AF15: =IF(AE15>2,E15+2,IF(AE15>1,E15+1,E15)) -> 42472 | AG15: =AE15+$D$315 -> 0.69444444 | AH15: =IF(BJ15>0,AG15+$D$325,AG15+$D$322) -> 0.73611111 | AI15: =IF(AH15>2,E15+2,IF(AH15>1,E15+1,E15)) -> 42472 | AJ15: =AH15+$D$319 -> 0.75694444 | AK15: =AJ15+$D$315 -> 0.76388889 | AL15: =IF(AK15>2,E15+2,IF(AK15>1,E15+1,E15)) -> 42472 | AM15: 1.07 | AN15: 9 | AO15: 23 | AP15: 0 | AQ15: =AK15 -> 0.76388889 | AR15: =AQ15+$D$315 -> 0.77083333 | AS15: =IF(AR15>2,E15+2,IF(AR15>1,E15+1,E15)) -> 42472 | AT15: 23.6 | AU15: =AR15 -> 0.77083333 | AV15: =IF(AU15>2,E15+2,IF(AU15>1,E15+1,E15)) -> 42472 | AW15: =AU15+$BC$13*BA15 -> 0.84027778 | AX15: =IF(AW15>2,E15+2,IF(AW15>1,E15+1,E15)) -> 42472 | AY15: 0 | AZ15: 30 | BA15: =VLOOKUP(B15,ĐTBT!$V:$W,2,0) -> 5 | BI15: =AX15-E15 -> 0 | BJ15: =VLOOKUP(B15,'Thong tin'!A:R,11,0) -> 4
A16: =IF(C16="","",COUNTA($C$13:C16)) -> 4 | B16: B2 | C16: 0.33333333 | D16: =C16+$D$319 -> 0.35416667 | E16: 42495 | F16: =D16+$D$315 -> 0.36111111 | G16: =F16+$D$314 -> 0.36458333 | H16: =IF(G16>2,E16+2,IF(G16>1,E16+1,E16)) -> 42495 | I16: -0.017 | J16: -0.019 | K16: -0.252 | L16: -0.562 | M16: =G16+$D$314 -> 0.36805556 | N16: =M16+$D$316 -> 0.37847222 | O16: =IF(N16>2,E16+2,IF(N16>1,E16+1,E16)) -> 42495 | P16: 1.06 | Q16: 9 | R16: 25 | S16: 0 | T16: =N16+$D$344 -> 0.50347222 | U16: =IF(T16>2,E16+2,IF(T16>1,E16+1,E16)) -> 42495 | V16: 19.52 | W16: =T16+$D$344 -> 0.62847222 | X16: =IF(W16>2,E16+2,IF(W16>1,E16+1,E16)) -> 42495 | Y16: 29.75 | Z16: =W16+$D$325 -> 0.67013889 | AA16: =Z16+$D$319 -> 0.69097222 | AB16: =IF(AA16>2,E16+2,IF(AA16>1,E16+1,E16)) -> 42495 | AC16: 29.78 | AD16: =AA16+$D$315 -> 0.69791667 | AE16: =AD16+$D$316 -> 0.70833333 | AF16: =IF(AE16>2,E16+2,IF(AE16>1,E16+1,E16)) -> 42495 | AG16: =AE16+$D$315 -> 0.71527778 | AH16: =IF(BJ16>0,AG16+$D$325,AG16+$D$322) -> 0.74652778 | AI16: =IF(AH16>2,E16+2,IF(AH16>1,E16+1,E16)) -> 42495 | AJ16: =AH16+$D$319 -> 0.76736111 | AK16: =AJ16+$D$315 -> 0.77430556 | AL16: =IF(AK16>2,E16+2,IF(AK16>1,E16+1,E16)) -> 42495 | AM16: 1.06 | AN16: 9 | AO16: 25 | AP16: 0 | AQ16: =AK16 -> 0.77430556 | AR16: =AQ16+$D$315 -> 0.78125 | AS16: =IF(AR16>2,E16+2,IF(AR16>1,E16+1,E16)) -> 42495 | AT16: 29.78 | AU16: =AR16 -> 0.78125 | AV16: =IF(AU16>2,E16+2,IF(AU16>1,E16+1,E16)) -> 42495 | AW16: =AU16+$BC$13*BA16 -> 0.80902778 | AX16: =IF(AW16>2,E16+2,IF(AW16>1,E16+1,E16)) -> 42495 | AY16: 6.6 | AZ16: 15 | BA16: =VLOOKUP(B16,ĐTBT!$V:$W,2,0) -> 2
A17: =IF(C17="","",COUNTA($C$13:C17)) -> 5 | B17: B9 | C17: 0.41666667 | D17: =C17+$D$319 -> 0.4375 | E17: =E16 -> 42495 | F17: =D17+$D$315 -> 0.44444444 | G17: =F17+$D$314 -> 0.44791667 | H17: =IF(G17>2,E17+2,IF(G17>1,E17+1,E17)) -> 42495 | I17: -0.018 | J17: -0.01 | K17: -0.022 | L17: -0.4 | M17: =G17+$D$314 -> 0.45138889 | N17: =M17+$D$316 -> 0.46180556 | O17: =IF(N17>2,E17+2,IF(N17>1,E17+1,E17)) -> 42495 | P17: 1.06 | Q17: 9 | R17: 24 | S17: 0 | T17: =N17+$D$344 -> 0.58680556 | U17: =IF(T17>2,E17+2,IF(T17>1,E17+1,E17)) -> 42495 | V17: 20.41 | W17: =T17+$D$344 -> 0.71180556 | X17: =IF(W17>2,E17+2,IF(W17>1,E17+1,E17)) -> 42495 | Y17: 30.02 | Z17: =W17+$D$325 -> 0.75347222 | AA17: =Z17+$D$319 -> 0.77430556 | AB17: =IF(AA17>2,E17+2,IF(AA17>1,E17+1,E17)) -> 42495 | AC17: 30.05 | AD17: =AA17+$D$315 -> 0.78125 | AE17: =AD17+$D$316 -> 0.79166667 | AF17: =IF(AE17>2,E17+2,IF(AE17>1,E17+1,E17)) -> 42495 | AG17: =AE17+$D$315 -> 0.79861111 | AH17: =IF(BJ17>0,AG17+$D$325,AG17+$D$322) -> 0.82986111 | AI17: =IF(AH17>2,E17+2,IF(AH17>1,E17+1,E17)) -> 42495 | AJ17: =AH17+$D$319 -> 0.85069444 | AK17: =AJ17+$D$315 -> 0.85763889 | AL17: =IF(AK17>2,E17+2,IF(AK17>1,E17+1,E17)) -> 42495 | AM17: 1.06 | AN17: 9 | AO17: 24 | AP17: 0 | AQ17: =AK17 -> 0.85763889 | AR17: =AQ17+$D$315 -> 0.86458333 | AS17: =IF(AR17>2,E17+2,IF(AR17>1,E17+1,E17)) -> 42495 | AT17: 30.05 | AU17: =AR17 -> 0.86458333 | AV17: =IF(AU17>2,E17+2,IF(AU17>1,E17+1,E17)) -> 42495 | AW17: =AU17+$BC$13*BA17 -> 0.89236111 | AX17: =IF(AW17>2,E17+2,IF(AW17>1,E17+1,E17)) -> 42495 | AY17: 6.9 | AZ17: 16 | BA17: =VLOOKUP(B17,ĐTBT!$V:$W,2,0) -> 2
A18: =IF(C18="","",COUNTA($C$13:C18)) -> 6 | B18: B13 | C18: 0.29166667 | D18: =C18+$D$319 -> 0.3125 | E18: 42496 | F18: =D18+$D$315 -> 0.31944444 | G18: =F18+$D$314 -> 0.32291667 | H18: =IF(G18>2,E18+2,IF(G18>1,E18+1,E18)) -> 42496 | I18: -0.02 | J18: -0.014 | K18: -0.01 | L18: -0.4 | M18: =G18+$D$314 -> 0.32638889 | N18: =M18+$D$316 -> 0.33680556 | O18: =IF(N18>2,E18+2,IF(N18>1,E18+1,E18)) -> 42496 | P18: 1.06 | Q18: 9 | R18: 23 | S18: 0 | T18: =N18+$D$344 -> 0.46180556 | U18: =IF(T18>2,E18+2,IF(T18>1,E18+1,E18)) -> 42496 | V18: 20.62 | W18: =T18+$D$344 -> 0.58680556 | X18: =IF(W18>2,E18+2,IF(W18>1,E18+1,E18)) -> 42496 | Y18: 30.23 | Z18: =W18+$D$325 -> 0.62847222 | AA18: =Z18+$D$319 -> 0.64930556 | AB18: =IF(AA18>2,E18+2,IF(AA18>1,E18+1,E18)) -> 42496 | AC18: 30.27 | AD18: =AA18+$D$315 -> 0.65625 | AE18: =AD18+$D$316 -> 0.66666667 | AF18: =IF(AE18>2,E18+2,IF(AE18>1,E18+1,E18)) -> 42496 | AG18: =AE18+$D$315 -> 0.67361111 | AH18: =IF(BJ18>0,AG18+$D$325,AG18+$D$322) -> 0.70486111 | AI18: =IF(AH18>2,E18+2,IF(AH18>1,E18+1,E18)) -> 42496 | AJ18: =AH18+$D$319 -> 0.72569444 | AK18: =AJ18+$D$315 -> 0.73263889 | AL18: =IF(AK18>2,E18+2,IF(AK18>1,E18+1,E18)) -> 42496 | AM18: 1.06 | AN18: 9 | AO18: 23 | AP18: 0 | AQ18: =AK18 -> 0.73263889 | AR18: =AQ18+$D$315 -> 0.73958333 | AS18: =IF(AR18>2,E18+2,IF(AR18>1,E18+1,E18)) -> 42496 | AT18: 30.27 | AU18: =AR18 -> 0.73958333 | AV18: =IF(AU18>2,E18+2,IF(AU18>1,E18+1,E18)) -> 42496 | AW18: =AU18+$BC$13*BA18 -> 0.76736111 | AX18: =IF(AW18>2,E18+2,IF(AW18>1,E18+1,E18)) -> 42496 | AY18: 4.8 | AZ18: 17 | BA18: =VLOOKUP(B18,ĐTBT!$V:$W,2,0) -> 2
A19: =IF(C19="","",COUNTA($C$13:C19)) -> 7 | B19: B12 | C19: 0.375 | D19: =C19+$D$319 -> 0.39583333 | E19: =E18 -> 42496 | F19: =D19+$D$315 -> 0.40277778 | G19: =F19+$D$314 -> 0.40625 | H19: =IF(G19>2,E19+2,IF(G19>1,E19+1,E19)) -> 42496 | I19: 0.016 | J19: -0.023 | K19: 0.118 | L19: -0.3 | M19: =G19+$D$314 -> 0.40972222 | N19: =M19+$D$316 -> 0.42013889 | O19: =IF(N19>2,E19+2,IF(N19>1,E19+1,E19)) -> 42496 | P19: 1.06 | Q19: 9 | R19: 25 | S19: 0 | T19: =N19+$D$344 -> 0.54513889 | U19: =IF(T19>2,E19+2,IF(T19>1,E19+1,E19)) -> 42496 | V19: 21.22 | W19: =T19+$D$344 -> 0.67013889 | X19: =IF(W19>2,E19+2,IF(W19>1,E19+1,E19)) -> 42496 | Y19: 27.25 | Z19: =W19+$D$325 -> 0.71180556 | AA19: =Z19+$D$319 -> 0.73263889 | AB19: =IF(AA19>2,E19+2,IF(AA19>1,E19+1,E19)) -> 42496 | AC19: 27.25 | AD19: =AA19+$D$315 -> 0.73958333 | AE19: =AD19+$D$316 -> 0.75 | AF19: =IF(AE19>2,E19+2,IF(AE19>1,E19+1,E19)) -> 42496 | AG19: =AE19+$D$315 -> 0.75694444 | AH19: =IF(BJ19>0,AG19+$D$325,AG19+$D$322) -> 0.78819444 | AI19: =IF(AH19>2,E19+2,IF(AH19>1,E19+1,E19)) -> 42496 | AJ19: =AH19+$D$319 -> 0.80902778 | AK19: =AJ19+$D$315 -> 0.81597222 | AL19: =IF(AK19>2,E19+2,IF(AK19>1,E19+1,E19)) -> 42496 | AM19: 1.05 | AN19: 9 | AO19: 22 | AP19: 0 | AQ19: =AK19 -> 0.81597222 | AR19: =AQ19+$D$315 -> 0.82291667 | AS19: =IF(AR19>2,E19+2,IF(AR19>1,E19+1,E19)) -> 42496 | AT19: 27.25 | AU19: =AR19 -> 0.82291667 | AV19: =IF(AU19>2,E19+2,IF(AU19>1,E19+1,E19)) -> 42496 | AW19: =AU19+$BC$13*BA19 -> 0.85069444 | AX19: =IF(AW19>2,E19+2,IF(AW19>1,E19+1,E19)) -> 42496 | AY19: 4.6 | AZ19: 16 | BA19: =VLOOKUP(B19,ĐTBT!$V:$W,2,0) -> 2
A20: =IF(C20="","",COUNTA($C$13:C20)) -> 8 | B20: B11 | C20: 0.3125 | D20: =C20+$D$319 -> 0.33333333 | E20: 42497 | F20: =D20+$D$315 -> 0.34027778 | G20: =F20+$D$314 -> 0.34375 | H20: =IF(G20>2,E20+2,IF(G20>1,E20+1,E20)) -> 42497 | I20: -0.02 | J20: -0.008 | K20: 0.168 | L20: -0.198 | M20: =G20+$D$314 -> 0.34722222 | N20: =M20+$D$316 -> 0.35763889 | O20: =IF(N20>2,E20+2,IF(N20>1,E20+1,E20)) -> 42497 | P20: 1.06 | Q20: 9 | R20: 25 | S20: 0 | T20: =N20+$D$344 -> 0.48263889 | U20: =IF(T20>2,E20+2,IF(T20>1,E20+1,E20)) -> 42497 | V20: 21.05 | W20: =T20+$D$344 -> 0.60763889 | X20: =IF(W20>2,E20+2,IF(W20>1,E20+1,E20)) -> 42497 | Y20: 27.25 | Z20: =W20+$D$325 -> 0.64930556 | AA20: =Z20+$D$319 -> 0.67013889 | AB20: =IF(AA20>2,E20+2,IF(AA20>1,E20+1,E20)) -> 42497 | AC20: 27.3 | AD20: =AA20+$D$315 -> 0.67708333 | AE20: =AD20+$D$316 -> 0.6875 | AF20: =IF(AE20>2,E20+2,IF(AE20>1,E20+1,E20)) -> 42497 | AG20: =AE20+$D$315 -> 0.69444444 | AH20: =IF(BJ20>0,AG20+$D$325,AG20+$D$322) -> 0.72569444 | AI20: =IF(AH20>2,E20+2,IF(AH20>1,E20+1,E20)) -> 42497 | AJ20: =AH20+$D$319 -> 0.74652778 | AK20: =AJ20+$D$315 -> 0.75347222 | AL20: =IF(AK20>2,E20+2,IF(AK20>1,E20+1,E20)) -> 42497 | AM20: 1.06 | AN20: 9 | AO20: 25 | AP20: 0 | AQ20: =AK20 -> 0.75347222 | AR20: =AQ20+$D$315 -> 0.76041667 | AS20: =IF(AR20>2,E20+2,IF(AR20>1,E20+1,E20)) -> 42497 | AT20: 27.3 | AU20: =AR20 -> 0.76041667 | AV20: =IF(AU20>2,E20+2,IF(AU20>1,E20+1,E20)) -> 42497 | AW20: =AU20+$BC$13*BA20 -> 0.78819444 | AX20: =IF(AW20>2,E20+2,IF(AW20>1,E20+1,E20)) -> 42497 | AY20: 4.9 | AZ20: 15 | BA20: =VLOOKUP(B20,ĐTBT!$V:$W,2,0) -> 2
A21: =IF(C21="","",COUNTA($C$13:C21)) -> 9 | B21: B48 | C21: 0.35416667 | D21: =C21+$D$319 -> 0.375 | E21: =E20 -> 42497 | F21: =D21+$D$315 -> 0.38194444 | G21: =F21+$D$314 -> 0.38541667 | H21: =IF(G21>2,E21+2,IF(G21>1,E21+1,E21)) -> 42497 | I21: -0.027 | J21: 0.003 | K21: 0.168 | L21: -0.4 | M21: =G21+$D$314 -> 0.38888889 | N21: =M21+$D$316 -> 0.39930556 | O21: =IF(N21>2,E21+2,IF(N21>1,E21+1,E21)) -> 42497 | P21: 1.06 | Q21: 9 | R21: 24 | S21: 0 | T21: =N21+$D$344 -> 0.52430556 | U21: =IF(T21>2,E21+2,IF(T21>1,E21+1,E21)) -> 42497 | V21: 22.52 | W21: =T21+$D$344 -> 0.64930556 | X21: =IF(W21>2,E21+2,IF(W21>1,E21+1,E21)) -> 42497 | Y21: 26.15 | Z21: =W21+$D$325 -> 0.69097222 | AA21: =Z21+$D$319 -> 0.71180556 | AB21: =IF(AA21>2,E21+2,IF(AA21>1,E21+1,E21)) -> 42497 | AC21: 26.17 | AD21: =AA21+$D$315 -> 0.71875 | AE21: =AD21+$D$316 -> 0.72916667 | AF21: =IF(AE21>2,E21+2,IF(AE21>1,E21+1,E21)) -> 42497 | AG21: =AE21+$D$315 -> 0.73611111 | AH21: =IF(BJ21>0,AG21+$D$325,AG21+$D$322) -> 0.76736111 | AI21: =IF(AH21>2,E21+2,IF(AH21>1,E21+1,E21)) -> 42497 | AJ21: =AH21+$D$319 -> 0.78819444 | AK21: =AJ21+$D$315 -> 0.79513889 | AL21: =IF(AK21>2,E21+2,IF(AK21>1,E21+1,E21)) -> 42497 | AM21: 1.06 | AN21: 9 | AO21: 24 | AP21: 0 | AQ21: =AK21 -> 0.79513889 | AR21: =AQ21+$D$315 -> 0.80208333 | AS21: =IF(AR21>2,E21+2,IF(AR21>1,E21+1,E21)) -> 42497 | AT21: 26.17 | AU21: =AR21 -> 0.80208333 | AV21: =IF(AU21>2,E21+2,IF(AU21>1,E21+1,E21)) -> 42497 | AW21: =AU21+$BC$13*BA21 -> 0.81597222 | AX21: =IF(AW21>2,E21+2,IF(AW21>1,E21+1,E21)) -> 42497 | AY21: 5 | AZ21: 13 | BA21: =VLOOKUP(B21,ĐTBT!$V:$W,2,0) -> 1
A22: =IF(C22="","",COUNTA($C$13:C22)) -> 10 | B22: B10 | C22: 0.375 | D22: =C22+$D$319 -> 0.39583333 | E22: 42498 | F22: =D22+$D$315 -> 0.40277778 | G22: =F22+$D$314 -> 0.40625 | H22: =IF(G22>2,E22+2,IF(G22>1,E22+1,E22)) -> 42498 | I22: -0.02 | J22: 0.009 | K22: 0.079 | L22: -0.2 | M22: =G22+$D$314 -> 0.40972222 | N22: =M22+$D$316 -> 0.42013889 | O22: =IF(N22>2,E22+2,IF(N22>1,E22+1,E22)) -> 42498 | P22: 1.06 | Q22: 9 | R22: 26 | S22: 0 | T22: =N22+$D$344 -> 0.54513889 | U22: =IF(T22>2,E22+2,IF(T22>1,E22+1,E22)) -> 42498 | V22: 20.85 | W22: =T22+$D$344 -> 0.67013889 | X22: =IF(W22>2,E22+2,IF(W22>1,E22+1,E22)) -> 42498 | Y22: 27.18 | Z22: =W22+$D$325 -> 0.71180556 | AA22: =Z22+$D$319 -> 0.73263889 | AB22: =IF(AA22>2,E22+2,IF(AA22>1,E22+1,E22)) -> 42498 | AC22: 27.18 | AD22: =AA22+$D$315 -> 0.73958333 | AE22: =AD22+$D$316 -> 0.75 | AF22: =IF(AE22>2,E22+2,IF(AE22>1,E22+1,E22)) -> 42498 | AG22: =AE22+$D$315 -> 0.75694444 | AH22: =IF(BJ22>0,AG22+$D$325,AG22+$D$322) -> 0.78819444 | AI22: =IF(AH22>2,E22+2,IF(AH22>1,E22+1,E22)) -> 42498 | AJ22: =AH22+$D$319 -> 0.80902778 | AK22: =AJ22+$D$315 -> 0.81597222 | AL22: =IF(AK22>2,E22+2,IF(AK22>1,E22+1,E22)) -> 42498 | AM22: 1.06 | AN22: 9 | AO22: 25 | AP22: 0 | AQ22: =AK22 -> 0.81597222 | AR22: =AQ22+$D$315 -> 0.82291667 | AS22: =IF(AR22>2,E22+2,IF(AR22>1,E22+1,E22)) -> 42498 | AT22: 27.18 | AU22: =AR22 -> 0.82291667 | AV22: =IF(AU22>2,E22+2,IF(AU22>1,E22+1,E22)) -> 42498 | AW22: =AU22+$BC$13*BA22 -> 0.83680556 | AX22: =IF(AW22>2,E22+2,IF(AW22>1,E22+1,E22)) -> 42498 | AY22: 6.8 | AZ22: 13 | BA22: =VLOOKUP(B22,ĐTBT!$V:$W,2,0) -> 1
A23: =IF(C23="","",COUNTA($C$13:C23)) -> 11 | B23: B49 | C23: 0.38194444 | D23: =C23+$D$319 -> 0.40277778 | E23: =E22 -> 42498 | F23: =D23+$D$315 -> 0.40972222 | G23: =F23+$D$314 -> 0.41319444 | H23: =IF(G23>2,E23+2,IF(G23>1,E23+1,E23)) -> 42498 | I23: -0.011 | J23: -0.004 | K23: 0.158 | L23: -0.2 | M23: =G23+$D$314 -> 0.41666667 | N23: =M23+$D$316 -> 0.42708333 | O23: =IF(N23>2,E23+2,IF(N23>1,E23+1,E23)) -> 42498 | P23: 1.06 | Q23: 9 | R23: 25 | S23: 0 | T23: =N23+$D$344 -> 0.55208333 | U23: =IF(T23>2,E23+2,IF(T23>1,E23+1,E23)) -> 42498 | V23: 20.51 | W23: =T23+$D$344 -> 0.67708333 | X23: =IF(W23>2,E23+2,IF(W23>1,E23+1,E23)) -> 42498 | Y23: 27.25 | Z23: =W23+$D$325 -> 0.71875 | AA23: =Z23+$D$319 -> 0.73958333 | AB23: =IF(AA23>2,E23+2,IF(AA23>1,E23+1,E23)) -> 42498 | AC23: 27.31 | AD23: =AA23+$D$315 -> 0.74652778 | AE23: =AD23+$D$316 -> 0.75694444 | AF23: =IF(AE23>2,E23+2,IF(AE23>1,E23+1,E23)) -> 42498 | AG23: =AE23+$D$315 -> 0.76388889 | AH23: =IF(BJ23>0,AG23+$D$325,AG23+$D$322) -> 0.79513889 | AI23: =IF(AH23>2,E23+2,IF(AH23>1,E23+1,E23)) -> 42498 | AJ23: =AH23+$D$319 -> 0.81597222 | AK23: =AJ23+$D$315 -> 0.82291667 | AL23: =IF(AK23>2,E23+2,IF(AK23>1,E23+1,E23)) -> 42498 | AM23: 1.06 | AN23: 9 | AO23: 23 | AP23: 0 | AQ23: =AK23 -> 0.82291667 | AR23: =AQ23+$D$315 -> 0.82986111 | AS23: =IF(AR23>2,E23+2,IF(AR23>1,E23+1,E23)) -> 42498 | AT23: 27.31 | AU23: =AR23 -> 0.82986111 | AV23: =IF(AU23>2,E23+2,IF(AU23>1,E23+1,E23)) -> 42498 | AW23: =AU23+$BC$13*BA23 -> 0.85763889 | AX23: =IF(AW23>2,E23+2,IF(AW23>1,E23+1,E23)) -> 42498 | AY23: 4.5 | AZ23: 15 | BA23: =VLOOKUP(B23,ĐTBT!$V:$W,2,0) -> 2
A24: =IF(C24="","",COUNTA($C$13:C24)) -> 12 | B24: A26 | C24: 0.33680556 | D24: =C24+$D$319 -> 0.35763889 | E24: 42499 | F24: =D24+$D$315 -> 0.36458333 | G24: =F24+$D$314 -> 0.36805556 | H24: =IF(G24>2,E24+2,IF(G24>1,E24+1,E24)) -> 42499 | I24: 0.014 | J24: -0.006 | K24: -0.077 | L24: -0.425 | M24: =G24+$D$314 -> 0.37152778 | N24: =M24+$D$316 -> 0.38194444 | O24: =IF(N24>2,E24+2,IF(N24>1,E24+1,E24)) -> 42499 | P24: 1.06 | Q24: 9 | R24: 26 | S24: 0 | T24: =N24+$D$344 -> 0.50694444 | U24: =IF(T24>2,E24+2,IF(T24>1,E24+1,E24)) -> 42499 | V24: 17.22 | W24: =T24+$D$344 -> 0.63194444 | X24: =IF(W24>2,E24+2,IF(W24>1,E24+1,E24)) -> 42499 | Y24: 28.3 | Z24: =W24+$D$325 -> 0.67361111 | AA24: =Z24+$D$319 -> 0.69444444 | AB24: =IF(AA24>2,E24+2,IF(AA24>1,E24+1,E24)) -> 42499 | AC24: 28.3 | AD24: =AA24+$D$315 -> 0.70138889 | AE24: =AD24+$D$316 -> 0.71180556 | AF24: =IF(AE24>2,E24+2,IF(AE24>1,E24+1,E24)) -> 42499 | AG24: =AE24+$D$315 -> 0.71875 | AH24: =IF(BJ24>0,AG24+$D$325,AG24+$D$322) -> 0.76041667 | AI24: =IF(AH24>2,E24+2,IF(AH24>1,E24+1,E24)) -> 42499 | AJ24: =AH24+$D$319 -> 0.78125 | AK24: =AJ24+$D$315 -> 0.78819444 | AL24: =IF(AK24>2,E24+2,IF(AK24>1,E24+1,E24)) -> 42499 | AM24: 1.05 | AN24: 9 | AO24: 23 | AP24: 0 | AQ24: =AK24 -> 0.78819444 | AR24: =AQ24+$D$315 -> 0.79513889 | AS24: =IF(AR24>2,E24+2,IF(AR24>1,E24+1,E24)) -> 42499 | AT24: 28.3 | AU24: =AR24 -> 0.79513889 | AV24: =IF(AU24>2,E24+2,IF(AU24>1,E24+1,E24)) -> 42499 | AW24: =AU24+$BC$13*BA24 -> 0.85069444 | AX24: =IF(AW24>2,E24+2,IF(AW24>1,E24+1,E24)) -> 42499 | AY24: 6.1 | AZ24: 34 | BA24: =VLOOKUP(B24,ĐTBT!$V:$W,2,0) -> 4 | BC24: 42782 | BD24: 42782 | BE24: =BC24-AX24 -> 283 | BF24: =BD24+BE24 -> 43065 | BG24: =BC24-1 -> 42781 | BH24: =BG24+BE24 -> 43064 | BJ24: =VLOOKUP(B24,'Thong tin'!A:R,11,0) -> 4 | BL24: 42782
A25: =IF(C25="","",COUNTA($C$13:C25)) -> 13 | B25: A108 | C25: 0.38194444 | D25: =C25+$D$319 -> 0.40277778 | E25: =E24 -> 42499 | F25: =D25+$D$315 -> 0.40972222 | G25: =F25+$D$314 -> 0.41319444 | H25: =IF(G25>2,E25+2,IF(G25>1,E25+1,E25)) -> 42499 | I25: 0.004 | J25: 0.028 | K25: -0.302 | L25: -0.605 | M25: =G25+$D$314 -> 0.41666667 | N25: =M25+$D$316 -> 0.42708333 | O25: =IF(N25>2,E25+2,IF(N25>1,E25+1,E25)) -> 42499 | P25: 1.06 | Q25: 9 | R25: 24 | S25: 0 | T25: =N25+$D$344 -> 0.55208333 | U25: =IF(T25>2,E25+2,IF(T25>1,E25+1,E25)) -> 42499 | V25: 21.05 | W25: =T25+$D$344 -> 0.67708333 | X25: =IF(W25>2,E25+2,IF(W25>1,E25+1,E25)) -> 42499 | Y25: 34.41 | Z25: =W25+$D$325 -> 0.71875 | AA25: =Z25+$D$319 -> 0.73958333 | AB25: =IF(AA25>2,E25+2,IF(AA25>1,E25+1,E25)) -> 42499 | AC25: 34.43 | AD25: =AA25+$D$315 -> 0.74652778 | AE25: =AD25+$D$316 -> 0.75694444 | AF25: =IF(AE25>2,E25+2,IF(AE25>1,E25+1,E25)) -> 42499 | AG25: =AE25+$D$315 -> 0.76388889 | AH25: =IF(BJ25>0,AG25+$D$325,AG25+$D$322) -> 0.79513889 | AI25: =IF(AH25>2,E25+2,IF(AH25>1,E25+1,E25)) -> 42499 | AJ25: =AH25+$D$319 -> 0.81597222 | AK25: =AJ25+$D$315 -> 0.82291667 | AL25: =IF(AK25>2,E25+2,IF(AK25>1,E25+1,E25)) -> 42499 | AM25: 1.06 | AN25: 9 | AO25: 24 | AP25: 0 | AQ25: =AK25 -> 0.82291667 | AR25: =AQ25+$D$315 -> 0.82986111 | AS25: =IF(AR25>2,E25+2,IF(AR25>1,E25+1,E25)) -> 42499 | AT25: 34.43 | AU25: =AR25 -> 0.82986111 | AV25: =IF(AU25>2,E25+2,IF(AU25>1,E25+1,E25)) -> 42499 | AW25: =AU25+$BC$13*BA25 -> 0.87152778 | AX25: =IF(AW25>2,E25+2,IF(AW25>1,E25+1,E25)) -> 42499 | AY25: 6.4 | AZ25: 39 | BA25: =VLOOKUP(B25,ĐTBT!$V:$W,2,0) -> 3
A26: =IF(C26="","",COUNTA($C$13:C26)) -> 14 | B26: A24 | C26: 0.38541667 | D26: =C26+$D$319 -> 0.40625 | E26: 42500 | F26: =D26+$D$315 -> 0.41319444 | G26: =F26+$D$314 -> 0.41666667 | H26: =IF(G26>2,E26+2,IF(G26>1,E26+1,E26)) -> 42500 | I26: -0.02 | J26: -0.008 | K26: 0.124 | L26: -0.435 | M26: =G26+$D$314 -> 0.42013889 | N26: =M26+$D$316 -> 0.43055556 | O26: =IF(N26>2,E26+2,IF(N26>1,E26+1,E26)) -> 42500 | P26: 1.06 | Q26: 9 | R26: 26 | S26: 0 | T26: =N26+$D$344 -> 0.55555556 | U26: =IF(T26>2,E26+2,IF(T26>1,E26+1,E26)) -> 42500 | V26: 20.32 | W26: =T26+$D$344 -> 0.68055556 | X26: =IF(W26>2,E26+2,IF(W26>1,E26+1,E26)) -> 42500 | Y26: 28.61 | Z26: =W26+$D$325 -> 0.72222222 | AA26: =Z26+$D$319 -> 0.74305556 | AB26: =IF(AA26>2,E26+2,IF(AA26>1,E26+1,E26)) -> 42500 | AC26: 28.84 | AD26: =AA26+$D$315 -> 0.75 | AE26: =AD26+$D$316 -> 0.76041667 | AF26: =IF(AE26>2,E26+2,IF(AE26>1,E26+1,E26)) -> 42500 | AG26: =AE26+$D$315 -> 0.76736111 | AH26: =IF(BJ26>0,AG26+$D$325,AG26+$D$322) -> 0.80902778 | AI26: =IF(AH26>2,E26+2,IF(AH26>1,E26+1,E26)) -> 42500 | AJ26: =AH26+$D$319 -> 0.82986111 | AK26: =AJ26+$D$315 -> 0.83680556 | AL26: =IF(AK26>2,E26+2,IF(AK26>1,E26+1,E26)) -> 42500 | AM26: 1.06 | AN26: 9 | AO26: 24 | AP26: 0 | AQ26: =AK26 -> 0.83680556 | AR26: =AQ26+$D$315 -> 0.84375 | AS26: =IF(AR26>2,E26+2,IF(AR26>1,E26+1,E26)) -> 42500 | AT26: 28.84 | AU26: =AR26 -> 0.84375 | AV26: =IF(AU26>2,E26+2,IF(AU26>1,E26+1,E26)) -> 42500 | AW26: =AU26+$BC$13*BA26 -> 0.88541667 | AX26: =IF(AW26>2,E26+2,IF(AW26>1,E26+1,E26)) -> 42500 | AY26: 6.5 | AZ26: 31 | BA26: =VLOOKUP(B26,ĐTBT!$V:$W,2,0) -> 3 | BC26: 42782 | BD26: 42782 | BE26: =BC26-AX26 -> 282 | BF26: =BD26+BE26 -> 43064 | BG26: =BC26-1 -> 42781 | BH26: =BG26+BE26 -> 43063 | BJ26: =VLOOKUP(B26,'Thong tin'!A:R,11,0) -> 4 | BL26: 42782
A27: =IF(C27="","",COUNTA($C$13:C27)) -> 15 | B27: A105 | C27: 0.39583333 | D27: =C27+$D$319 -> 0.41666667 | E27: =E26 -> 42500 | F27: =D27+$D$315 -> 0.42361111 | G27: =F27+$D$314 -> 0.42708333 | H27: =IF(G27>2,E27+2,IF(G27>1,E27+1,E27)) -> 42500 | I27: -0.026 | J27: 0.006 | K27: -0.472 | L27: -0.732 | M27: =G27+$D$314 -> 0.43055556 | N27: =M27+$D$316 -> 0.44097222 | O27: =IF(N27>2,E27+2,IF(N27>1,E27+1,E27)) -> 42500 | P27: 1.06 | Q27: 9 | R27: 24 | S27: 0 | T27: =N27+$D$344 -> 0.56597222 | U27: =IF(T27>2,E27+2,IF(T27>1,E27+1,E27)) -> 42500 | V27: 20.15 | W27: =T27+$D$344 -> 0.69097222 | X27: =IF(W27>2,E27+2,IF(W27>1,E27+1,E27)) -> 42500 | Y27: 34.05 | Z27: =W27+$D$325 -> 0.73263889 | AA27: =Z27+$D$319 -> 0.75347222 | AB27: =IF(AA27>2,E27+2,IF(AA27>1,E27+1,E27)) -> 42500 | AC27: 34.05 | AD27: =AA27+$D$315 -> 0.76041667 | AE27: =AD27+$D$316 -> 0.77083333 | AF27: =IF(AE27>2,E27+2,IF(AE27>1,E27+1,E27)) -> 42500 | AG27: =AE27+$D$315 -> 0.77777778 | AH27: =IF(BJ27>0,AG27+$D$325,AG27+$D$322) -> 0.80902778 | AI27: =IF(AH27>2,E27+2,IF(AH27>1,E27+1,E27)) -> 42500 | AJ27: =AH27+$D$319 -> 0.82986111 | AK27: =AJ27+$D$315 -> 0.83680556 | AL27: =IF(AK27>2,E27+2,IF(AK27>1,E27+1,E27)) -> 42500 | AM27: 1.06 | AN27: 9 | AO27: 24 | AP27: 0 | AQ27: =AK27 -> 0.83680556 | AR27: =AQ27+$D$315 -> 0.84375 | AS27: =IF(AR27>2,E27+2,IF(AR27>1,E27+1,E27)) -> 42500 | AT27: 34.05 | AU27: =AR27 -> 0.84375 | AV27: =IF(AU27>2,E27+2,IF(AU27>1,E27+1,E27)) -> 42500 | AW27: =AU27+$BC$13*BA27 -> 0.89930556 | AX27: =IF(AW27>2,E27+2,IF(AW27>1,E27+1,E27)) -> 42500 | AY27: 6.1 | AZ27: 38 | BA27: =VLOOKUP(B27,ĐTBT!$V:$W,2,0) -> 4
A28: =IF(C28="","",COUNTA($C$13:C28)) -> 16 | B28: A25 | C28: 0.29166667 | D28: =C28+$D$319 -> 0.3125 | E28: 42501 | F28: =D28+$D$315 -> 0.31944444 | G28: =F28+$D$314 -> 0.32291667 | H28: =IF(G28>2,E28+2,IF(G28>1,E28+1,E28)) -> 42501 | I28: -0.018 | J28: -0.002 | K28: -0.052 | L28: -0.3 | M28: =G28+$D$314 -> 0.32638889 | N28: =M28+$D$316 -> 0.33680556 | O28: =IF(N28>2,E28+2,IF(N28>1,E28+1,E28)) -> 42501 | P28: 1.06 | Q28: 9 | R28: 25 | S28: 0 | T28: =N28+$D$344 -> 0.46180556 | U28: =IF(T28>2,E28+2,IF(T28>1,E28+1,E28)) -> 42501 | V28: 19.32 | W28: =T28+$D$344 -> 0.58680556 | X28: =IF(W28>2,E28+2,IF(W28>1,E28+1,E28)) -> 42501 | Y28: 28.36 | Z28: =W28+$D$325 -> 0.62847222 | AA28: =Z28+$D$319 -> 0.64930556 | AB28: =IF(AA28>2,E28+2,IF(AA28>1,E28+1,E28)) -> 42501 | AC28: 28.36 | AD28: =AA28+$D$315 -> 0.65625 | AE28: =AD28+$D$316 -> 0.66666667 | AF28: =IF(AE28>2,E28+2,IF(AE28>1,E28+1,E28)) -> 42501 | AG28: =AE28+$D$315 -> 0.67361111 | AH28: =IF(BJ28>0,AG28+$D$325,AG28+$D$322) -> 0.71527778 | AI28: =IF(AH28>2,E28+2,IF(AH28>1,E28+1,E28)) -> 42501 | AJ28: =AH28+$D$319 -> 0.73611111 | AK28: =AJ28+$D$315 -> 0.74305556 | AL28: =IF(AK28>2,E28+2,IF(AK28>1,E28+1,E28)) -> 42501 | AM28: 1.05 | AN28: 9 | AO28: 25 | AP28: 0 | AQ28: =AK28 -> 0.74305556 | AR28: =AQ28+$D$315 -> 0.75 | AS28: =IF(AR28>2,E28+2,IF(AR28>1,E28+1,E28)) -> 42501 | AT28: 28.36 | AU28: =AR28 -> 0.75 | AV28: =IF(AU28>2,E28+2,IF(AU28>1,E28+1,E28)) -> 42501 | AW28: =AU28+$BC$13*BA28 -> 0.79166667 | AX28: =IF(AW28>2,E28+2,IF(AW28>1,E28+1,E28)) -> 42501 | AY28: 6.3 | AZ28: 32 | BA28: =VLOOKUP(B28,ĐTBT!$V:$W,2,0) -> 3 | BC28: 42786 | BD28: 42786 | BE28: =BC28-AX28 -> 285 | BF28: =BD28+BE28 -> 43071 | BG28: =BC28-1 -> 42785 | BH28: =BG28+BE28 -> 43070 | BJ28: =VLOOKUP(B28,'Thong tin'!A:R,11,0) -> 4 | BL28: 42786
A29: =IF(C29="","",COUNTA($C$13:C29)) -> 17 | B29: A107 | C29: 0.3125 | D29: =C29+$D$319 -> 0.33333333 | E29: =E28 -> 42501 | F29: =D29+$D$315 -> 0.34027778 | G29: =F29+$D$314 -> 0.34375 | H29: =IF(G29>2,E29+2,IF(G29>1,E29+1,E29)) -> 42501 | I29: 0.016 | J29: 0.013 | K29: -0.042 | L29: -0.4 | M29: =G29+$D$314 -> 0.34722222 | N29: =M29+$D$316 -> 0.35763889 | O29: =IF(N29>2,E29+2,IF(N29>1,E29+1,E29)) -> 42501 | P29: 1.07 | Q29: 9 | R29: 26 | S29: 0 | T29: =N29+$D$344 -> 0.48263889 | U29: =IF(T29>2,E29+2,IF(T29>1,E29+1,E29)) -> 42501 | V29: 20.51 | W29: =T29+$D$344 -> 0.60763889 | X29: =IF(W29>2,E29+2,IF(W29>1,E29+1,E29)) -> 42501 | Y29: 34.67 | Z29: =W29+$D$325 -> 0.64930556 | AA29: =Z29+$D$319 -> 0.67013889 | AB29: =IF(AA29>2,E29+2,IF(AA29>1,E29+1,E29)) -> 42501 | AC29: 34.67 | AD29: =AA29+$D$315 -> 0.67708333 | AE29: =AD29+$D$316 -> 0.6875 | AF29: =IF(AE29>2,E29+2,IF(AE29>1,E29+1,E29)) -> 42501 | AG29: =AE29+$D$315 -> 0.69444444 | AH29: =IF(BJ29>0,AG29+$D$325,AG29+$D$322) -> 0.73611111 | AI29: =IF(AH29>2,E29+2,IF(AH29>1,E29+1,E29)) -> 42501 | AJ29: =AH29+$D$319 -> 0.75694444 | AK29: =AJ29+$D$315 -> 0.76388889 | AL29: =IF(AK29>2,E29+2,IF(AK29>1,E29+1,E29)) -> 42501 | AM29: 1.06 | AN29: 9 | AO29: 26 | AP29: 0 | AQ29: =AK29 -> 0.76388889 | AR29: =AQ29+$D$315 -> 0.77083333 | AS29: =IF(AR29>2,E29+2,IF(AR29>1,E29+1,E29)) -> 42501 | AT29: 34.67 | AU29: =AR29 -> 0.77083333 | AV29: =IF(AU29>2,E29+2,IF(AU29>1,E29+1,E29)) -> 42501 | AW29: =AU29+$BC$13*BA29 -> 0.8125 | AX29: =IF(AW29>2,E29+2,IF(AW29>1,E29+1,E29)) -> 42501 | AY29: 6.5 | AZ29: 34 | BA29: =VLOOKUP(B29,ĐTBT!$V:$W,2,0) -> 3 | BC29: 42783 | BD29: 42783 | BE29: =BC29-AX29 -> 282 | BF29: =BD29+BE29 -> 43065 | BG29: =BC29-1 -> 42782 | BH29: =BG29+BE29 -> 43064 | BJ29: =VLOOKUP(B29,'Thong tin'!A:R,11,0) -> 4 | BL29: 42783
A30: =IF(C30="","",COUNTA($C$13:C30)) -> 18 | B30: A104 | C30: 0.31597222 | D30: =C30+$D$319 -> 0.33680556 | E30: 42502 | F30: =D30+$D$315 -> 0.34375 | G30: =F30+$D$314 -> 0.34722222 | H30: =IF(G30>2,E30+2,IF(G30>1,E30+1,E30)) -> 42502 | I30: -0.023 | J30: 0.017 | K30: -0.382 | L30: -0.632 | M30: =G30+$D$314 -> 0.35069444 | N30: =M30+$D$316 -> 0.36111111 | O30: =IF(N30>2,E30+2,IF(N30>1,E30+1,E30)) -> 42502 | P30: 1.06 | Q30: 9 | R30: 24 | S30: 0 | T30: =N30+$D$344 -> 0.48611111 | U30: =IF(T30>2,E30+2,IF(T30>1,E30+1,E30)) -> 42502 | V30: 21.52 | W30: =T30+$D$344 -> 0.61111111 | X30: =IF(W30>2,E30+2,IF(W30>1,E30+1,E30)) -> 42502 | Y30: 34.05 | Z30: =W30+$D$325 -> 0.65277778 | AA30: =Z30+$D$319 -> 0.67361111 | AB30: =IF(AA30>2,E30+2,IF(AA30>1,E30+1,E30)) -> 42502 | AC30: 34.05 | AD30: =AA30+$D$315 -> 0.68055556 | AE30: =AD30+$D$316 -> 0.69097222 | AF30: =IF(AE30>2,E30+2,IF(AE30>1,E30+1,E30)) -> 42502 | AG30: =AE30+$D$315 -> 0.69791667 | AH30: =IF(BJ30>0,AG30+$D$325,AG30+$D$322) -> 0.72916667 | AI30: =IF(AH30>2,E30+2,IF(AH30>1,E30+1,E30)) -> 42502 | AJ30: =AH30+$D$319 -> 0.75 | AK30: =AJ30+$D$315 -> 0.75694444 | AL30: =IF(AK30>2,E30+2,IF(AK30>1,E30+1,E30)) -> 42502 | AM30: 1.06 | AN30: 9 | AO30: 24 | AP30: 0 | AQ30: =AK30 -> 0.75694444 | AR30: =AQ30+$D$315 -> 0.76388889 | AS30: =IF(AR30>2,E30+2,IF(AR30>1,E30+1,E30)) -> 42502 | AT30: 34.05 | AU30: =AR30 -> 0.76388889 | AV30: =IF(AU30>2,E30+2,IF(AU30>1,E30+1,E30)) -> 42502 | AW30: =AU30+$BC$13*BA30 -> 0.81944444 | AX30: =IF(AW30>2,E30+2,IF(AW30>1,E30+1,E30)) -> 42502 | AY30: 6.3 | AZ30: 38.5 | BA30: =VLOOKUP(B30,ĐTBT!$V:$W,2,0) -> 4
A31: =IF(C31="","",COUNTA($C$13:C31)) -> 19 | B31: A23 | C31: 0.31944444 | D31: =C31+$D$319 -> 0.34027778 | E31: =E30 -> 42502 | F31: =D31+$D$315 -> 0.34722222 | G31: =F31+$D$314 -> 0.35069444 | H31: =IF(G31>2,E31+2,IF(G31>1,E31+1,E31)) -> 42502 | I31: 0.003 | J31: -0.014 | K31: -0.197 | L31: -0.54 | M31: =G31+$D$314 -> 0.35416667 | N31: =M31+$D$316 -> 0.36458333 | O31: =IF(N31>2,E31+2,IF(N31>1,E31+1,E31)) -> 42502 | P31: 1.05 | Q31: 9 | R31: 24 | S31: 0 | T31: =N31+$D$344 -> 0.48958333 | U31: =IF(T31>2,E31+2,IF(T31>1,E31+1,E31)) -> 42502 | V31: 20.52 | W31: =T31+$D$344 -> 0.61458333 | X31: =IF(W31>2,E31+2,IF(W31>1,E31+1,E31)) -> 42502 | Y31: 28.25 | Z31: =W31+$D$325 -> 0.65625 | AA31: =Z31+$D$319 -> 0.67708333 | AB31: =IF(AA31>2,E31+2,IF(AA31>1,E31+1,E31)) -> 42502 | AC31: 28.31 | AD31: =AA31+$D$315 -> 0.68402778 | AE31: =AD31+$D$316 -> 0.69444444 | AF31: =IF(AE31>2,E31+2,IF(AE31>1,E31+1,E31)) -> 42502 | AG31: =AE31+$D$315 -> 0.70138889 | AH31: =IF(BJ31>0,AG31+$D$325,AG31+$D$322) -> 0.74305556 | AI31: =IF(AH31>2,E31+2,IF(AH31>1,E31+1,E31)) -> 42502 | AJ31: =AH31+$D$319 -> 0.76388889 | AK31: =AJ31+$D$315 -> 0.77083333 | AL31: =IF(AK31>2,E31+2,IF(AK31>1,E31+1,E31)) -> 42502 | AM31: 1.05 | AN31: 9 | AO31: 24 | AP31: 0 | AQ31: =AK31 -> 0.77083333 | AR31: =AQ31+$D$315 -> 0.77777778 | AS31: =IF(AR31>2,E31+2,IF(AR31>1,E31+1,E31)) -> 42502 | AT31: 28.31 | AU31: =AR31 -> 0.77777778 | AV31: =IF(AU31>2,E31+2,IF(AU31>1,E31+1,E31)) -> 42502 | AW31: =AU31+$BC$13*BA31 -> 0.81944444 | AX31: =IF(AW31>2,E31+2,IF(AW31>1,E31+1,E31)) -> 42502 | AY31: 6.4 | AZ31: 27 | BA31: =VLOOKUP(B31,ĐTBT!$V:$W,2,0) -> 3 | BC31: 42784 | BD31: 42784 | BE31: =BC31-AX31 -> 282 | BF31: =BD31+BE31 -> 43066 | BG31: =BC31-1 -> 42783 | BH31: =BG31+BE31 -> 43065 | BJ31: =VLOOKUP(B31,'Thong tin'!A:R,11,0) -> 3 | BL31: 42784
A32: =IF(C32="","",COUNTA($C$13:C32)) -> 20 | B32: B47 | C32: 0.38888889 | D32: =C32+$D$319 -> 0.40972222 | E32: 42503 | F32: =D32+$D$315 -> 0.41666667 | G32: =F32+$D$314 -> 0.42013889 | H32: =IF(G32>2,E32+2,IF(G32>1,E32+1,E32)) -> 42503 | I32: 0.024 | J32: 0.01 | K32: 0.152 | L32: -0.35 | M32: =G32+$D$314 -> 0.42361111 | N32: =M32+$D$316 -> 0.43402778 | O32: =IF(N32>2,E32+2,IF(N32>1,E32+1,E32)) -> 42503 | P32: 1.06 | Q32: 9 | R32: 25 | S32: 0 | T32: =N32+$D$344 -> 0.55902778 | U32: =IF(T32>2,E32+2,IF(T32>1,E32+1,E32)) -> 42503 | V32: 20.06 | W32: =T32+$D$344 -> 0.68402778 | X32: =IF(W32>2,E32+2,IF(W32>1,E32+1,E32)) -> 42503 | Y32: 28.58 | Z32: =W32+$D$325 -> 0.72569444 | AA32: =Z32+$D$319 -> 0.74652778 | AB32: =IF(AA32>2,E32+2,IF(AA32>1,E32+1,E32)) -> 42503 | AC32: 28.63 | AD32: =AA32+$D$315 -> 0.75347222 | AE32: =AD32+$D$316 -> 0.76388889 | AF32: =IF(AE32>2,E32+2,IF(AE32>1,E32+1,E32)) -> 42503 | AG32: =AE32+$D$315 -> 0.77083333 | AH32: =IF(BJ32>0,AG32+$D$325,AG32+$D$322) -> 0.80208333 | AI32: =IF(AH32>2,E32+2,IF(AH32>1,E32+1,E32)) -> 42503 | AJ32: =AH32+$D$319 -> 0.82291667 | AK32: =AJ32+$D$315 -> 0.82986111 | AL32: =IF(AK32>2,E32+2,IF(AK32>1,E32+1,E32)) -> 42503 | AM32: 1.06 | AN32: 9 | AO32: 25 | AP32: 0 | AQ32: =AK32 -> 0.82986111 | AR32: =AQ32+$D$315 -> 0.83680556 | AS32: =IF(AR32>2,E32+2,IF(AR32>1,E32+1,E32)) -> 42503 | AT32: 28.63 | AU32: =AR32 -> 0.83680556 | AV32: =IF(AU32>2,E32+2,IF(AU32>1,E32+1,E32)) -> 42503 | AW32: =AU32+$BC$13*BA32 -> 0.87847222 | AX32: =IF(AW32>2,E32+2,IF(AW32>1,E32+1,E32)) -> 42503 | AY32: 5 | AZ32: 29 | BA32: =VLOOKUP(B32,ĐTBT!$V:$W,2,0) -> 3
A33: =IF(C33="","",COUNTA($C$13:C33)) -> 21 | B33: A106 | C33: 0.39583333 | D33: =C33+$D$319 -> 0.41666667 | E33: =E32 -> 42503 | F33: =D33+$D$315 -> 0.42361111 | G33: =F33+$D$314 -> 0.42708333 | H33: =IF(G33>2,E33+2,IF(G33>1,E33+1,E33)) -> 42503 | I33: 0.021 | J33: 0.003 | K33: -0.333 | L33: -0.663 | M33: =G33+$D$314 -> 0.43055556 | N33: =M33+$D$316 -> 0.44097222 | O33: =IF(N33>2,E33+2,IF(N33>1,E33+1,E33)) -> 42503 | P33: 1.06 | Q33: 9 | R33: 27 | S33: 0 | T33: =N33+$D$344 -> 0.56597222 | U33: =IF(T33>2,E33+2,IF(T33>1,E33+1,E33)) -> 42503 | V33: 21.22 | W33: =T33+$D$344 -> 0.69097222 | X33: =IF(W33>2,E33+2,IF(W33>1,E33+1,E33)) -> 42503 | Y33: 34.42 | Z33: =W33+$D$325 -> 0.73263889 | AA33: =Z33+$D$319 -> 0.75347222 | AB33: =IF(AA33>2,E33+2,IF(AA33>1,E33+1,E33)) -> 42503 | AC33: 34.42 | AD33: =AA33+$D$315 -> 0.76041667 | AE33: =AD33+$D$316 -> 0.77083333 | AF33: =IF(AE33>2,E33+2,IF(AE33>1,E33+1,E33)) -> 42503 | AG33: =AE33+$D$315 -> 0.77777778 | AH33: =IF(BJ33>0,AG33+$D$325,AG33+$D$322) -> 0.80902778 | AI33: =IF(AH33>2,E33+2,IF(AH33>1,E33+1,E33)) -> 42503 | AJ33: =AH33+$D$319 -> 0.82986111 | AK33: =AJ33+$D$315 -> 0.83680556 | AL33: =IF(AK33>2,E33+2,IF(AK33>1,E33+1,E33)) -> 42503 | AM33: 1.05 | AN33: 9 | AO33: 22 | AP33: 0 | AQ33: =AK33 -> 0.83680556 | AR33: =AQ33+$D$315 -> 0.84375 | AS33: =IF(AR33>2,E33+2,IF(AR33>1,E33+1,E33)) -> 42503 | AT33: 34.42 | AU33: =AR33 -> 0.84375 | AV33: =IF(AU33>2,E33+2,IF(AU33>1,E33+1,E33)) -> 42503 | AW33: =AU33+$BC$13*BA33 -> 0.88541667 | AX33: =IF(AW33>2,E33+2,IF(AW33>1,E33+1,E33)) -> 42503 | AY33: 6.2 | AZ33: 35 | BA33: =VLOOKUP(B33,ĐTBT!$V:$W,2,0) -> 3
A34: =IF(C34="","",COUNTA($C$13:C34)) -> 22 | B34: A103 | C34: 0.34722222 | D34: =C34+$D$319 -> 0.36805556 | E34: 42504 | F34: =D34+$D$315 -> 0.375 | G34: =F34+$D$314 -> 0.37847222 | H34: =IF(G34>2,E34+2,IF(G34>1,E34+1,E34)) -> 42504 | I34: 0.003 | J34: -0.01 | K34: -0.532 | L34: -0.877 | M34: =G34+$D$314 -> 0.38194444 | N34: =M34+$D$316 -> 0.39236111 | O34: =IF(N34>2,E34+2,IF(N34>1,E34+1,E34)) -> 42504 | P34: 1.06 | Q34: 9 | R34: 25 | S34: 0 | T34: =N34+$D$344 -> 0.51736111 | U34: =IF(T34>2,E34+2,IF(T34>1,E34+1,E34)) -> 42504 | V34: 22.12 | W34: =T34+$D$344 -> 0.64236111 | X34: =IF(W34>2,E34+2,IF(W34>1,E34+1,E34)) -> 42504 | Y34: 33.87 | Z34: =W34+$D$325 -> 0.68402778 | AA34: =Z34+$D$319 -> 0.70486111 | AB34: =IF(AA34>2,E34+2,IF(AA34>1,E34+1,E34)) -> 42504 | AC34: 33.87 | AD34: =AA34+$D$315 -> 0.71180556 | AE34: =AD34+$D$316 -> 0.72222222 | AF34: =IF(AE34>2,E34+2,IF(AE34>1,E34+1,E34)) -> 42504 | AG34: =AE34+$D$315 -> 0.72916667 | AH34: =IF(BJ34>0,AG34+$D$325,AG34+$D$322) -> 0.76041667 | AI34: =IF(AH34>2,E34+2,IF(AH34>1,E34+1,E34)) -> 42504 | AJ34: =AH34+$D$319 -> 0.78125 | AK34: =AJ34+$D$315 -> 0.78819444 | AL34: =IF(AK34>2,E34+2,IF(AK34>1,E34+1,E34)) -> 42504 | AM34: 1.06 | AN34: 9 | AO34: 24 | AP34: 0 | AQ34: =AK34 -> 0.78819444 | AR34: =AQ34+$D$315 -> 0.79513889 | AS34: =IF(AR34>2,E34+2,IF(AR34>1,E34+1,E34)) -> 42504 | AT34: 33.87 | AU34: =AR34 -> 0.79513889 | AV34: =IF(AU34>2,E34+2,IF(AU34>1,E34+1,E34)) -> 42504 | AW34: =AU34+$BC$13*BA34 -> 0.85069444 | AX34: =IF(AW34>2,E34+2,IF(AW34>1,E34+1,E34)) -> 42504 | AY34: 6 | AZ34: 37 | BA34: =VLOOKUP(B34,ĐTBT!$V:$W,2,0) -> 4
A35: =IF(C35="","",COUNTA($C$13:C35)) -> 23 | B35: A98 | C35: 0.35416667 | D35: =C35+$D$319 -> 0.375 | E35: =E34 -> 42504 | F35: =D35+$D$315 -> 0.38194444 | G35: =F35+$D$314 -> 0.38541667 | H35: =IF(G35>2,E35+2,IF(G35>1,E35+1,E35)) -> 42504 | I35: -0.022 | J35: 0.007 | K35: -0.202 | L35: -0.402 | M35: =G35+$D$314 -> 0.38888889 | N35: =M35+$D$316 -> 0.39930556 | O35: =IF(N35>2,E35+2,IF(N35>1,E35+1,E35)) -> 42504 | P35: 1.06 | Q35: 9 | R35: 26 | S35: 0 | T35: =N35+$D$344 -> 0.52430556 | U35: =IF(T35>2,E35+2,IF(T35>1,E35+1,E35)) -> 42504 | V35: 20.41 | W35: =T35+$D$344 -> 0.64930556 | X35: =IF(W35>2,E35+2,IF(W35>1,E35+1,E35)) -> 42504 | Y35: 23.65 | Z35: =W35+$D$325 -> 0.69097222 | AA35: =Z35+$D$319 -> 0.71180556 | AB35: =IF(AA35>2,E35+2,IF(AA35>1,E35+1,E35)) -> 42504 | AC35: 23.65 | AD35: =AA35+$D$315 -> 0.71875 | AE35: =AD35+$D$316 -> 0.72916667 | AF35: =IF(AE35>2,E35+2,IF(AE35>1,E35+1,E35)) -> 42504 | AG35: =AE35+$D$315 -> 0.73611111 | AH35: =IF(BJ35>0,AG35+$D$325,AG35+$D$322) -> 0.76736111 | AI35: =IF(AH35>2,E35+2,IF(AH35>1,E35+1,E35)) -> 42504 | AJ35: =AH35+$D$319 -> 0.78819444 | AK35: =AJ35+$D$315 -> 0.79513889 | AL35: =IF(AK35>2,E35+2,IF(AK35>1,E35+1,E35)) -> 42504 | AM35: 1.06 | AN35: 9 | AO35: 26 | AP35: 0 | AQ35: =AK35 -> 0.79513889 | AR35: =AQ35+$D$315 -> 0.80208333 | AS35: =IF(AR35>2,E35+2,IF(AR35>1,E35+1,E35)) -> 42504 | AT35: 23.65 | AU35: =AR35 -> 0.80208333 | AV35: =IF(AU35>2,E35+2,IF(AU35>1,E35+1,E35)) -> 42504 | AW35: =AU35+$BC$13*BA35 -> 0.82986111 | AX35: =IF(AW35>2,E35+2,IF(AW35>1,E35+1,E35)) -> 42504 | AY35: 6.4 | AZ35: 24 | BA35: =VLOOKUP(B35,ĐTBT!$V:$W,2,0) -> 2 | BC35: 42756 | BD35: 42756 | BE35: =BC35-AX35 -> 252 | BF35: =BD35+BE35 -> 43008 | BG35: =BC35-1 -> 42755 | BH35: =BG35+BE35 -> 43007 | BI35: =AX35-E35 -> 0 | BJ35: =VLOOKUP(B35,'Thong tin'!A:R,11,0) -> 0 | BL35: 42756 | BU35: 42692 | BX35: 42763
A36: =IF(C36="","",COUNTA($C$13:C36)) -> 24 | B36: A22 | C36: 0.38888889 | D36: =C36+$D$319 -> 0.40972222 | E36: 42505 | F36: =D36+$D$315 -> 0.41666667 | G36: =F36+$D$314 -> 0.42013889 | H36: =IF(G36>2,E36+2,IF(G36>1,E36+1,E36)) -> 42505 | I36: -0.017 | J36: 0.023 | K36: 0.01 | L36: -0.259 | M36: =G36+$D$314 -> 0.42361111 | N36: =M36+$D$316 -> 0.43402778 | O36: =IF(N36>2,E36+2,IF(N36>1,E36+1,E36)) -> 42505 | P36: 1.06 | Q36: 9 | R36: 24 | S36: 0 | T36: =N36+$D$344 -> 0.55902778 | U36: =IF(T36>2,E36+2,IF(T36>1,E36+1,E36)) -> 42505 | V36: 20.62 | W36: =T36+$D$344 -> 0.68402778 | X36: =IF(W36>2,E36+2,IF(W36>1,E36+1,E36)) -> 42505 | Y36: 28.45 | Z36: =W36+$D$325 -> 0.72569444 | AA36: =Z36+$D$319 -> 0.74652778 | AB36: =IF(AA36>2,E36+2,IF(AA36>1,E36+1,E36)) -> 42505 | AC36: 28.45 | AD36: =AA36+$D$315 -> 0.75347222 | AE36: =AD36+$D$316 -> 0.76388889 | AF36: =IF(AE36>2,E36+2,IF(AE36>1,E36+1,E36)) -> 42505 | AG36: =AE36+$D$315 -> 0.77083333 | AH36: =IF(BJ36>0,AG36+$D$325,AG36+$D$322) -> 0.8125 | AI36: =IF(AH36>2,E36+2,IF(AH36>1,E36+1,E36)) -> 42505 | AJ36: =AH36+$D$319 -> 0.83333333 | AK36: =AJ36+$D$315 -> 0.84027778 | AL36: =IF(AK36>2,E36+2,IF(AK36>1,E36+1,E36)) -> 42505 | AM36: 1.06 | AN36: 9 | AO36: 24 | AP36: 0 | AQ36: =AK36 -> 0.84027778 | AR36: =AQ36+$D$315 -> 0.84722222 | AS36: =IF(AR36>2,E36+2,IF(AR36>1,E36+1,E36)) -> 42505 | AT36: 28.45 | AU36: =AR36 -> 0.84722222 | AV36: =IF(AU36>2,E36+2,IF(AU36>1,E36+1,E36)) -> 42505 | AW36: =AU36+$BC$13*BA36 -> 0.88888889 | AX36: =IF(AW36>2,E36+2,IF(AW36>1,E36+1,E36)) -> 42505 | AY36: 6.4 | AZ36: 30 | BA36: =VLOOKUP(B36,ĐTBT!$V:$W,2,0) -> 3 | BC36: 42747 | BD36: 42747 | BE36: =BC36-AX36 -> 242 | BF36: =BD36+BE36 -> 42989 | BG36: =BC36-1 -> 42746 | BH36: =BG36+BE36 -> 42988 | BI36: =AX36-E36 -> 0 | BJ36: =VLOOKUP(B36,'Thong tin'!A:R,11,0) -> 4 | BL36: 42747 | BU36: 43056 | BX36: 42760
A37: =IF(C37="","",COUNTA($C$13:C37)) -> 25 | B37: B46 | C37: 0.32291667 | D37: =C37+$D$319 -> 0.34375 | E37: =E36 -> 42505 | F37: =D37+$D$315 -> 0.35069444 | G37: =F37+$D$314 -> 0.35416667 | H37: =IF(G37>2,E37+2,IF(G37>1,E37+1,E37)) -> 42505 | I37: 0.718 | J37: 0.743 | K37: -0.14 | L37: -0.59 | M37: =G37+$D$314 -> 0.35763889 | N37: =M37+$D$316 -> 0.36805556 | O37: =IF(N37>2,E37+2,IF(N37>1,E37+1,E37)) -> 42505 | P37: 1.06 | Q37: 9 | R37: 25 | S37: 0 | T37: =N37+$D$344 -> 0.49305556 | U37: =IF(T37>2,E37+2,IF(T37>1,E37+1,E37)) -> 42505 | V37: 20.15 | W37: =T37+$D$344 -> 0.61805556 | X37: =IF(W37>2,E37+2,IF(W37>1,E37+1,E37)) -> 42505 | Y37: 28.25 | Z37: =W37+$D$325 -> 0.65972222 | AA37: =Z37+$D$319 -> 0.68055556 | AB37: =IF(AA37>2,E37+2,IF(AA37>1,E37+1,E37)) -> 42505 | AC37: 28.27 | AD37: =AA37+$D$315 -> 0.6875 | AE37: =AD37+$D$316 -> 0.69791667 | AF37: =IF(AE37>2,E37+2,IF(AE37>1,E37+1,E37)) -> 42505 | AG37: =AE37+$D$315 -> 0.70486111 | AH37: =IF(BJ37>0,AG37+$D$325,AG37+$D$322) -> 0.73611111 | AI37: =IF(AH37>2,E37+2,IF(AH37>1,E37+1,E37)) -> 42505 | AJ37: =AH37+$D$319 -> 0.75694444 | AK37: =AJ37+$D$315 -> 0.76388889 | AL37: =IF(AK37>2,E37+2,IF(AK37>1,E37+1,E37)) -> 42505 | AM37: 1.06 | AN37: 9 | AO37: 25 | AP37: 0 | AQ37: =AK37 -> 0.76388889 | AR37: =AQ37+$D$315 -> 0.77083333 | AS37: =IF(AR37>2,E37+2,IF(AR37>1,E37+1,E37)) -> 42505 | AT37: 28.27 | AU37: =AR37 -> 0.77083333 | AV37: =IF(AU37>2,E37+2,IF(AU37>1,E37+1,E37)) -> 42505 | AW37: =AU37+$BC$13*BA37 -> 0.79861111 | AX37: =IF(AW37>2,E37+2,IF(AW37>1,E37+1,E37)) -> 42505 | AY37: 4.76 | AZ37: 15 | BA37: =VLOOKUP(B37,ĐTBT!$V:$W,2,0) -> 2
A38: =IF(C38="","",COUNTA($C$13:C38)) -> 26 | B38: A102 | C38: 0.34027778 | D38: =C38+$D$319 -> 0.36111111 | E38: 42506 | F38: =D38+$D$315 -> 0.36805556 | G38: =F38+$D$314 -> 0.37152778 | H38: =IF(G38>2,E38+2,IF(G38>1,E38+1,E38)) -> 42506 | I38: -0.012 | J38: -0.022 | K38: -0.352 | L38: -0.526 | M38: =G38+$D$314 -> 0.375 | N38: =M38+$D$316 -> 0.38541667 | O38: =IF(N38>2,E38+2,IF(N38>1,E38+1,E38)) -> 42506 | P38: 1.06 | Q38: 9 | R38: 25 | S38: 0 | T38: =N38+$D$344 -> 0.51041667 | U38: =IF(T38>2,E38+2,IF(T38>1,E38+1,E38)) -> 42506 | V38: 21.15 | W38: =T38+$D$344 -> 0.63541667 | X38: =IF(W38>2,E38+2,IF(W38>1,E38+1,E38)) -> 42506 | Y38: 34.05 | Z38: =W38+$D$325 -> 0.67708333 | AA38: =Z38+$D$319 -> 0.69791667 | AB38: =IF(AA38>2,E38+2,IF(AA38>1,E38+1,E38)) -> 42506 | AC38: 34.05 | AD38: =AA38+$D$315 -> 0.70486111 | AE38: =AD38+$D$316 -> 0.71527778 | AF38: =IF(AE38>2,E38+2,IF(AE38>1,E38+1,E38)) -> 42506 | AG38: =AE38+$D$315 -> 0.72222222 | AH38: =IF(BJ38>0,AG38+$D$325,AG38+$D$322) -> 0.75347222 | AI38: =IF(AH38>2,E38+2,IF(AH38>1,E38+1,E38)) -> 42506 | AJ38: =AH38+$D$319 -> 0.77430556 | AK38: =AJ38+$D$315 -> 0.78125 | AL38: =IF(AK38>2,E38+2,IF(AK38>1,E38+1,E38)) -> 42506 | AM38: 1.06 | AN38: 9 | AO38: 25 | AP38: 0 | AQ38: =AK38 -> 0.78125 | AR38: =AQ38+$D$315 -> 0.78819444 | AS38: =IF(AR38>2,E38+2,IF(AR38>1,E38+1,E38)) -> 42506 | AT38: 34.05 | AU38: =AR38 -> 0.78819444 | AV38: =IF(AU38>2,E38+2,IF(AU38>1,E38+1,E38)) -> 42506 | AW38: =AU38+$BC$13*BA38 -> 0.82986111 | AX38: =IF(AW38>2,E38+2,IF(AW38>1,E38+1,E38)) -> 42506 | AY38: 6.1 | AZ38: 36 | BA38: =VLOOKUP(B38,ĐTBT!$V:$W,2,0) -> 3
A39: =IF(C39="","",COUNTA($C$13:C39)) -> 27 | B39: A100 | C39: 0.33333333 | D39: =C39+$D$319 -> 0.35416667 | E39: =E38 -> 42506 | F39: =D39+$D$315 -> 0.36111111 | G39: =F39+$D$314 -> 0.36458333 | H39: =IF(G39>2,E39+2,IF(G39>1,E39+1,E39)) -> 42506 | I39: 0.012 | J39: 0.009 | K39: -0.222 | L39: -0.468 | M39: =G39+$D$314 -> 0.36805556 | N39: =M39+$D$316 -> 0.37847222 | O39: =IF(N39>2,E39+2,IF(N39>1,E39+1,E39)) -> 42506 | P39: 1.06 | Q39: 9 | R39: 27 | S39: 0 | T39: =N39+$D$344 -> 0.50347222 | U39: =IF(T39>2,E39+2,IF(T39>1,E39+1,E39)) -> 42506 | V39: 19.72 | W39: =T39+$D$344 -> 0.62847222 | X39: =IF(W39>2,E39+2,IF(W39>1,E39+1,E39)) -> 42506 | Y39: 23.61 | Z39: =W39+$D$325 -> 0.67013889 | AA39: =Z39+$D$319 -> 0.69097222 | AB39: =IF(AA39>2,E39+2,IF(AA39>1,E39+1,E39)) -> 42506 | AC39: 23.62 | AD39: =AA39+$D$315 -> 0.69791667 | AE39: =AD39+$D$316 -> 0.70833333 | AF39: =IF(AE39>2,E39+2,IF(AE39>1,E39+1,E39)) -> 42506 | AG39: =AE39+$D$315 -> 0.71527778 | AH39: =IF(BJ39>0,AG39+$D$325,AG39+$D$322) -> 0.75694444 | AI39: =IF(AH39>2,E39+2,IF(AH39>1,E39+1,E39)) -> 42506 | AJ39: =AH39+$D$319 -> 0.77777778 | AK39: =AJ39+$D$315 -> 0.78472222 | AL39: =IF(AK39>2,E39+2,IF(AK39>1,E39+1,E39)) -> 42506 | AM39: 1.06 | AN39: 9 | AO39: 25 | AP39: 0 | AQ39: =AK39 -> 0.78472222 | AR39: =AQ39+$D$315 -> 0.79166667 | AS39: =IF(AR39>2,E39+2,IF(AR39>1,E39+1,E39)) -> 42506 | AT39: 23.62 | AU39: =AR39 -> 0.79166667 | AV39: =IF(AU39>2,E39+2,IF(AU39>1,E39+1,E39)) -> 42506 | AW39: =AU39+$BC$13*BA39 -> 0.83333333 | AX39: =IF(AW39>2,E39+2,IF(AW39>1,E39+1,E39)) -> 42506 | AY39: 6.2 | AZ39: 25 | BA39: =VLOOKUP(B39,ĐTBT!$V:$W,2,0) -> 3 | BC39: 42744 | BD39: 42744 | BE39: =BC39-AX39 -> 238 | BF39: =BD39+BE39 -> 42982 | BG39: =BC39-1 -> 42743 | BH39: =BG39+BE39 -> 42981 | BI39: =AX39-E39 -> 0 | BJ39: =VLOOKUP(B39,'Thong tin'!A:R,11,0) -> 4 | BL39: 42744 | BU39: 42688 | BX39: 42754
A40: =IF(C40="","",COUNTA($C$13:C40)) -> 28 | B40: A21 | C40: 0.41666667 | D40: =C40+$D$319 -> 0.4375 | E40: 42507 | F40: =D40+$D$315 -> 0.44444444 | G40: =F40+$D$314 -> 0.44791667 | H40: =IF(G40>2,E40+2,IF(G40>1,E40+1,E40)) -> 42507 | I40: -0.004 | J40: 0.027 | K40: 0.164 | L40: -0.232 | M40: =G40+$D$314 -> 0.45138889 | N40: =M40+$D$316 -> 0.46180556 | O40: =IF(N40>2,E40+2,IF(N40>1,E40+1,E40)) -> 42507 | P40: 1.06 | Q40: 9 | R40: 27 | S40: 0 | T40: =N40+$D$344 -> 0.58680556 | U40: =IF(T40>2,E40+2,IF(T40>1,E40+1,E40)) -> 42507 | V40: 23.81 | W40: =T40+$D$344 -> 0.71180556 | X40: =IF(W40>2,E40+2,IF(W40>1,E40+1,E40)) -> 42507 | Y40: 33.53 | Z40: =W40+$D$325 -> 0.75347222 | AA40: =Z40+$D$319 -> 0.77430556 | AB40: =IF(AA40>2,E40+2,IF(AA40>1,E40+1,E40)) -> 42507 | AC40: 33.61 | AD40: =AA40+$D$315 -> 0.78125 | AE40: =AD40+$D$316 -> 0.79166667 | AF40: =IF(AE40>2,E40+2,IF(AE40>1,E40+1,E40)) -> 42507 | AG40: =AE40+$D$315 -> 0.79861111 | AH40: =IF(BJ40>0,AG40+$D$325,AG40+$D$322) -> 0.84027778 | AI40: =IF(AH40>2,E40+2,IF(AH40>1,E40+1,E40)) -> 42507 | AJ40: =AH40+$D$319 -> 0.86111111 | AK40: =AJ40+$D$315 -> 0.86805556 | AL40: =IF(AK40>2,E40+2,IF(AK40>1,E40+1,E40)) -> 42507 | AM40: 1.06 | AN40: 9 | AO40: 27 | AP40: 0 | AQ40: =AK40 -> 0.86805556 | AR40: =AQ40+$D$315 -> 0.875 | AS40: =IF(AR40>2,E40+2,IF(AR40>1,E40+1,E40)) -> 42507 | AT40: 33.61 | AU40: =AR40 -> 0.875 | AV40: =IF(AU40>2,E40+2,IF(AU40>1,E40+1,E40)) -> 42507 | AW40: =AU40+$BC$13*BA40 -> 0.94444444 | AX40: =IF(AW40>2,E40+2,IF(AW40>1,E40+1,E40)) -> 42507 | AY40: 6.7 | AZ40: 42.5 | BA40: =VLOOKUP(B40,ĐTBT!$V:$W,2,0) -> 5 | BC40: 42741 | BD40: 42741 | BE40: =BC40-AX40 -> 234 | BF40: =BD40+BE40 -> 42975 | BG40: =BC40-1 -> 42740 | BH40: =BG40+BE40 -> 42974 | BI40: =AX40-E40 -> 0 | BJ40: =VLOOKUP(B40,'Thong tin'!A:R,11,0) -> 4 | BL40: 42741 | BU40: 42686 | BX40: 42751
A41: =IF(C41="","",COUNTA($C$13:C41)) -> 29 | B41: A101 | C41: 0.29166667 | D41: =C41+$D$319 -> 0.3125 | E41: =E40 -> 42507 | F41: =D41+$D$315 -> 0.31944444 | G41: =F41+$D$314 -> 0.32291667 | H41: =IF(G41>2,E41+2,IF(G41>1,E41+1,E41)) -> 42507 | I41: -0.005 | J41: -0.012 | K41: -0.242 | L41: -0.548 | M41: =G41+$D$314 -> 0.32638889 | N41: =M41+$D$316 -> 0.33680556 | O41: =IF(N41>2,E41+2,IF(N41>1,E41+1,E41)) -> 42507 | P41: 1.05 | Q41: 9 | R41: 26 | S41: 0 | T41: =N41+$D$344 -> 0.46180556 | U41: =IF(T41>2,E41+2,IF(T41>1,E41+1,E41)) -> 42507 | V41: 20.91 | W41: =T41+$D$344 -> 0.58680556 | X41: =IF(W41>2,E41+2,IF(W41>1,E41+1,E41)) -> 42507 | Y41: 34.22 | Z41: =W41+$D$325 -> 0.62847222 | AA41: =Z41+$D$319 -> 0.64930556 | AB41: =IF(AA41>2,E41+2,IF(AA41>1,E41+1,E41)) -> 42507 | AC41: 34.22 | AD41: =AA41+$D$315 -> 0.65625 | AE41: =AD41+$D$316 -> 0.66666667 | AF41: =IF(AE41>2,E41+2,IF(AE41>1,E41+1,E41)) -> 42507 | AG41: =AE41+$D$315 -> 0.67361111 | AH41: =IF(BJ41>0,AG41+$D$325,AG41+$D$322) -> 0.70486111 | AI41: =IF(AH41>2,E41+2,IF(AH41>1,E41+1,E41)) -> 42507 | AJ41: =AH41+$D$319 -> 0.72569444 | AK41: =AJ41+$D$315 -> 0.73263889 | AL41: =IF(AK41>2,E41+2,IF(AK41>1,E41+1,E41)) -> 42507 | AM41: 1.05 | AN41: 9 | AO41: 26 | AP41: 0 | AQ41: =AK41 -> 0.73263889 | AR41: =AQ41+$D$315 -> 0.73958333 | AS41: =IF(AR41>2,E41+2,IF(AR41>1,E41+1,E41)) -> 42507 | AT41: 34.22 | AU41: =AR41 -> 0.73958333 | AV41: =IF(AU41>2,E41+2,IF(AU41>1,E41+1,E41)) -> 42507 | AW41: =AU41+$BC$13*BA41 -> 0.78125 | AX41: =IF(AW41>2,E41+2,IF(AW41>1,E41+1,E41)) -> 42507 | AY41: 6.4 | AZ41: 35 | BA41: =VLOOKUP(B41,ĐTBT!$V:$W,2,0) -> 3
A42: =IF(C42="","",COUNTA($C$13:C42)) -> 30 | B42: A99 | C42: 0.375 | D42: =C42+$D$319 -> 0.39583333 | E42: 42508 | F42: =D42+$D$315 -> 0.40277778 | G42: =F42+$D$314 -> 0.40625 | H42: =IF(G42>2,E42+2,IF(G42>1,E42+1,E42)) -> 42508 | I42: -0.01 | J42: -0.006 | K42: -0.258 | L42: -0.744 | M42: =G42+$D$314 -> 0.40972222 | N42: =M42+$D$316 -> 0.42013889 | O42: =IF(N42>2,E42+2,IF(N42>1,E42+1,E42)) -> 42508 | P42: 1.05 | Q42: 9 | R42: 26 | S42: 0 | T42: =N42+$D$344 -> 0.54513889 | U42: =IF(T42>2,E42+2,IF(T42>1,E42+1,E42)) -> 42508 | V42: 20.62 | W42: =T42+$D$344 -> 0.67013889 | X42: =IF(W42>2,E42+2,IF(W42>1,E42+1,E42)) -> 42508 | Y42: 23.83 | Z42: =W42+$D$325 -> 0.71180556 | AA42: =Z42+$D$319 -> 0.73263889 | AB42: =IF(AA42>2,E42+2,IF(AA42>1,E42+1,E42)) -> 42508 | AC42: 23.85 | AD42: =AA42+$D$315 -> 0.73958333 | AE42: =AD42+$D$316 -> 0.75 | AF42: =IF(AE42>2,E42+2,IF(AE42>1,E42+1,E42)) -> 42508 | AG42: =AE42+$D$315 -> 0.75694444 | AH42: =IF(BJ42>0,AG42+$D$325,AG42+$D$322) -> 0.79861111 | AI42: =IF(AH42>2,E42+2,IF(AH42>1,E42+1,E42)) -> 42508 | AJ42: =AH42+$D$319 -> 0.81944444 | AK42: =AJ42+$D$315 -> 0.82638889 | AL42: =IF(AK42>2,E42+2,IF(AK42>1,E42+1,E42)) -> 42508 | AM42: 1.05 | AN42: 9 | AO42: 23 | AP42: 0 | AQ42: =AK42 -> 0.82638889 | AR42: =AQ42+$D$315 -> 0.83333333 | AS42: =IF(AR42>2,E42+2,IF(AR42>1,E42+1,E42)) -> 42508 | AT42: 23.85 | AU42: =AR42 -> 0.83333333 | AV42: =IF(AU42>2,E42+2,IF(AU42>1,E42+1,E42)) -> 42508 | AW42: =AU42+$BC$13*BA42 -> 0.86111111 | AX42: =IF(AW42>2,E42+2,IF(AW42>1,E42+1,E42)) -> 42508 | AY42: 6 | AZ42: 24 | BA42: =VLOOKUP(B42,ĐTBT!$V:$W,2,0) -> 2 | BC42: 42778 | BD42: 42778 | BE42: =BC42-AX42 -> 270 | BF42: =BD42+BE42 -> 43048 | BG42: =BC42-1 -> 42777 | BH42: =BG42+BE42 -> 43047 | BI42: =AX42-E42 -> 0 | BJ42: =VLOOKUP(B42,'Thong tin'!A:R,11,0) -> 4 | BK42: Sửa = 21 | BL42: 42778 | BU42: 42694 | BX42: 42766
A43: =IF(C43="","",COUNTA($C$13:C43)) -> 31 | B43: B45 | C43: 0.3125 | D43: =C43+$D$319 -> 0.33333333 | E43: =E42 -> 42508 | F43: =D43+$D$315 -> 0.34027778 | G43: =F43+$D$314 -> 0.34375 | H43: =IF(G43>2,E43+2,IF(G43>1,E43+1,E43)) -> 42508 | I43: 0.01 | J43: -0.005 | K43: -0.141 | L43: -0.437 | M43: =G43+$D$314 -> 0.34722222 | N43: =M43+$D$316 -> 0.35763889 | O43: =IF(N43>2,E43+2,IF(N43>1,E43+1,E43)) -> 42508 | P43: 1.05 | Q43: 9 | R43: 27 | S43: 0 | T43: =N43+$D$344 -> 0.48263889 | U43: =IF(T43>2,E43+2,IF(T43>1,E43+1,E43)) -> 42508 | V43: 19 | W43: =T43+$D$344 -> 0.60763889 | X43: =IF(W43>2,E43+2,IF(W43>1,E43+1,E43)) -> 42508 | Y43: 33.21 | Z43: =W43+$D$325 -> 0.64930556 | AA43: =Z43+$D$319 -> 0.67013889 | AB43: =IF(AA43>2,E43+2,IF(AA43>1,E43+1,E43)) -> 42508 | AC43: 33.25 | AD43: =AA43+$D$315 -> 0.67708333 | AE43: =AD43+$D$316 -> 0.6875 | AF43: =IF(AE43>2,E43+2,IF(AE43>1,E43+1,E43)) -> 42508 | AG43: =AE43+$D$315 -> 0.69444444 | AH43: =IF(BJ43>0,AG43+$D$325,AG43+$D$322) -> 0.73611111 | AI43: =IF(AH43>2,E43+2,IF(AH43>1,E43+1,E43)) -> 42508 | AJ43: =AH43+$D$319 -> 0.75694444 | AK43: =AJ43+$D$315 -> 0.76388889 | AL43: =IF(AK43>2,E43+2,IF(AK43>1,E43+1,E43)) -> 42508 | AM43: 1.06 | AN43: 9 | AO43: 23 | AP43: 0 | AQ43: =AK43 -> 0.76388889 | AR43: =AQ43+$D$315 -> 0.77083333 | AS43: =IF(AR43>2,E43+2,IF(AR43>1,E43+1,E43)) -> 42508 | AT43: 33.25 | AU43: =AR43 -> 0.77083333 | AV43: =IF(AU43>2,E43+2,IF(AU43>1,E43+1,E43)) -> 42508 | AW43: =AU43+$BC$13*BA43 -> 0.8125 | AX43: =IF(AW43>2,E43+2,IF(AW43>1,E43+1,E43)) -> 42508 | AY43: 5.7 | AZ43: 24 | BA43: =VLOOKUP(B43,ĐTBT!$V:$W,2,0) -> 3 | BC43: 42739 | BD43: 42739 | BE43: =BC43-AX43 -> 231 | BF43: =BD43+BE43 -> 42970 | BG43: =BC43-1 -> 42738 | BH43: =BG43+BE43 -> 42969 | BI43: =AX43-E43 -> 0 | BJ43: =VLOOKUP(B43,'Thong tin'!A:R,11,0) -> 3 | BL43: 42739 | BU43: 42685 | BX43: 42748
A44: =IF(C44="","",COUNTA($C$13:C44)) -> 32 | B44: A111 | C44: 0.35416667 | D44: =C44+$D$319 -> 0.375 | E44: 42509 | F44: =D44+$D$315 -> 0.38194444 | G44: =F44+$D$314 -> 0.38541667 | H44: =IF(G44>2,E44+2,IF(G44>1,E44+1,E44)) -> 42509 | I44: 0.008 | J44: -0.002 | K44: -0.156 | L44: -0.422 | M44: =G44+$D$314 -> 0.38888889 | N44: =M44+$D$316 -> 0.39930556 | O44: =IF(N44>2,E44+2,IF(N44>1,E44+1,E44)) -> 42509 | P44: 1.06 | Q44: 9 | R44: 26 | S44: 0 | T44: =N44+$D$344 -> 0.52430556 | U44: =IF(T44>2,E44+2,IF(T44>1,E44+1,E44)) -> 42509 | V44: 21.81 | W44: =T44+$D$344 -> 0.64930556 | X44: =IF(W44>2,E44+2,IF(W44>1,E44+1,E44)) -> 42509 | Y44: 32.75 | Z44: =W44+$D$325 -> 0.69097222 | AA44: =Z44+$D$319 -> 0.71180556 | AB44: =IF(AA44>2,E44+2,IF(AA44>1,E44+1,E44)) -> 42509 | AC44: 32.75 | AD44: =AA44+$D$315 -> 0.71875 | AE44: =AD44+$D$316 -> 0.72916667 | AF44: =IF(AE44>2,E44+2,IF(AE44>1,E44+1,E44)) -> 42509 | AG44: =AE44+$D$315 -> 0.73611111 | AH44: =IF(BJ44>0,AG44+$D$325,AG44+$D$322) -> 0.77777778 | AI44: =IF(AH44>2,E44+2,IF(AH44>1,E44+1,E44)) -> 42509 | AJ44: =AH44+$D$319 -> 0.79861111 | AK44: =AJ44+$D$315 -> 0.80555556 | AL44: =IF(AK44>2,E44+2,IF(AK44>1,E44+1,E44)) -> 42509 | AM44: 1.06 | AN44: 9 | AO44: 23 | AP44: 0 | AQ44: =AK44 -> 0.80555556 | AR44: =AQ44+$D$315 -> 0.8125 | AS44: =IF(AR44>2,E44+2,IF(AR44>1,E44+1,E44)) -> 42509 | AT44: 32.75 | AU44: =AR44 -> 0.8125 | AV44: =IF(AU44>2,E44+2,IF(AU44>1,E44+1,E44)) -> 42509 | AW44: =AU44+$BC$13*BA44 -> 0.85416667 | AX44: =IF(AW44>2,E44+2,IF(AW44>1,E44+1,E44)) -> 42509 | AY44: 6.5 | AZ44: 30 | BA44: =VLOOKUP(B44,ĐTBT!$V:$W,2,0) -> 3 | BC44: 42784 | BD44: 42784 | BE44: =BC44-AX44 -> 275 | BF44: =BD44+BE44 -> 43059 | BG44: =BC44-1 -> 42783 | BH44: =BG44+BE44 -> 43058 | BJ44: =VLOOKUP(B44,'Thong tin'!A:R,11,0) -> 4 | BL44: 42784
A45: =IF(C45="","",COUNTA($C$13:C45)) -> 33 | B45: A115 | C45: 0.38888889 | D45: =C45+$D$319 -> 0.40972222 | E45: 42510 | F45: =D45+$D$315 -> 0.41666667 | G45: =F45+$D$314 -> 0.42013889 | H45: =IF(G45>2,E45+2,IF(G45>1,E45+1,E45)) -> 42510 | I45: -0.028 | J45: -0.003 | K45: -0.422 | L45: -0.684 | M45: =G45+$D$314 -> 0.42361111 | N45: =M45+$D$316 -> 0.43402778 | O45: =IF(N45>2,E45+2,IF(N45>1,E45+1,E45)) -> 42510 | P45: 1.06 | Q45: 9 | R45: 25 | S45: 0 | T45: =N45+$D$344 -> 0.55902778 | U45: =IF(T45>2,E45+2,IF(T45>1,E45+1,E45)) -> 42510 | V45: 22.12 | W45: =T45+$D$344 -> 0.68402778 | X45: =IF(W45>2,E45+2,IF(W45>1,E45+1,E45)) -> 42510 | Y45: 44.61 | Z45: =W45+$D$325 -> 0.72569444 | AA45: =Z45+$D$319 -> 0.74652778 | AB45: =IF(AA45>2,E45+2,IF(AA45>1,E45+1,E45)) -> 42510 | AC45: 44.61 | AD45: =AA45+$D$315 -> 0.75347222 | AE45: =AD45+$D$316 -> 0.76388889 | AF45: =IF(AE45>2,E45+2,IF(AE45>1,E45+1,E45)) -> 42510 | AG45: =AE45+$D$315 -> 0.77083333 | AH45: =IF(BJ45>0,AG45+$D$325,AG45+$D$322) -> 0.80208333 | AI45: =IF(AH45>2,E45+2,IF(AH45>1,E45+1,E45)) -> 42510 | AJ45: =AH45+$D$319 -> 0.82291667 | AK45: =AJ45+$D$315 -> 0.82986111 | AL45: =IF(AK45>2,E45+2,IF(AK45>1,E45+1,E45)) -> 42510 | AM45: 1.06 | AN45: 9 | AO45: 25 | AP45: 0 | AQ45: =AK45 -> 0.82986111 | AR45: =AQ45+$D$315 -> 0.83680556 | AS45: =IF(AR45>2,E45+2,IF(AR45>1,E45+1,E45)) -> 42510 | AT45: 44.61 | AU45: =AR45 -> 0.83680556 | AV45: =IF(AU45>2,E45+2,IF(AU45>1,E45+1,E45)) -> 42510 | AW45: =AU45+$BC$13*BA45 -> 0.92013889 | AX45: =IF(AW45>2,E45+2,IF(AW45>1,E45+1,E45)) -> 42510 | AY45: 6.3 | AZ45: 52 | BA45: =VLOOKUP(B45,ĐTBT!$V:$W,2,0) -> 6
A46: =IF(C46="","",COUNTA($C$13:C46)) -> 34 | B46: B3 | C46: 0.35416667 | D46: =C46+$D$319 -> 0.375 | E46: 42511 | F46: =D46+$D$315 -> 0.38194444 | G46: =F46+$D$314 -> 0.38541667 | H46: =IF(G46>2,E46+2,IF(G46>1,E46+1,E46)) -> 42511 | I46: -0.002 | J46: 0.019 | K46: -0.452 | L46: -0.692 | M46: =G46+$D$314 -> 0.38888889 | N46: =M46+$D$316 -> 0.39930556 | O46: =IF(N46>2,E46+2,IF(N46>1,E46+1,E46)) -> 42511 | P46: 1.06 | Q46: 9 | R46: 24 | S46: 0 | T46: =N46+$D$344 -> 0.52430556 | U46: =IF(T46>2,E46+2,IF(T46>1,E46+1,E46)) -> 42511 | V46: 21.07 | W46: =T46+$D$344 -> 0.64930556 | X46: =IF(W46>2,E46+2,IF(W46>1,E46+1,E46)) -> 42511 | Y46: 28.57 | Z46: =W46+$D$325 -> 0.69097222 | AA46: =Z46+$D$319 -> 0.71180556 | AB46: =IF(AA46>2,E46+2,IF(AA46>1,E46+1,E46)) -> 42511 | AC46: 28.61 | AD46: =AA46+$D$315 -> 0.71875 | AE46: =AD46+$D$316 -> 0.72916667 | AF46: =IF(AE46>2,E46+2,IF(AE46>1,E46+1,E46)) -> 42511 | AG46: =AE46+$D$315 -> 0.73611111 | AH46: =IF(BJ46>0,AG46+$D$325,AG46+$D$322) -> 0.76736111 | AI46: =IF(AH46>2,E46+2,IF(AH46>1,E46+1,E46)) -> 42511 | AJ46: =AH46+$D$319 -> 0.78819444 | AK46: =AJ46+$D$315 -> 0.79513889 | AL46: =IF(AK46>2,E46+2,IF(AK46>1,E46+1,E46)) -> 42511 | AM46: 1.06 | AN46: 9 | AO46: 24 | AP46: 0 | AQ46: =AK46 -> 0.79513889 | AR46: =AQ46+$D$315 -> 0.80208333 | AS46: =IF(AR46>2,E46+2,IF(AR46>1,E46+1,E46)) -> 42511 | AT46: 28.61 | AU46: =AR46 -> 0.80208333 | AV46: =IF(AU46>2,E46+2,IF(AU46>1,E46+1,E46)) -> 42511 | AW46: =AU46+$BC$13*BA46 -> 0.81597222 | AX46: =IF(AW46>2,E46+2,IF(AW46>1,E46+1,E46)) -> 42511 | AY46: 6.5 | AZ46: 14 | BA46: =VLOOKUP(B46,ĐTBT!$V:$W,2,0) -> 1
A47: =IF(C47="","",COUNTA($C$13:C47)) -> 35 | B47: A20 | C47: 0.35416667 | D47: =C47+$D$319 -> 0.375 | E47: =E46 -> 42511 | F47: =D47+$D$315 -> 0.38194444 | G47: =F47+$D$314 -> 0.38541667 | H47: =IF(G47>2,E47+2,IF(G47>1,E47+1,E47)) -> 42511 | I47: 0.002 | J47: 0.015 | K47: -0.4 | L47: -0.815 | M47: =G47+$D$314 -> 0.38888889 | N47: =M47+$D$316 -> 0.39930556 | O47: =IF(N47>2,E47+2,IF(N47>1,E47+1,E47)) -> 42511 | P47: 1.07 | Q47: 9 | R47: 21 | S47: 1 | T47: =N47+$D$344 -> 0.52430556 | U47: =IF(T47>2,E47+2,IF(T47>1,E47+1,E47)) -> 42511 | V47: 25.9 | W47: =T47+$D$344 -> 0.64930556 | X47: =IF(W47>2,E47+2,IF(W47>1,E47+1,E47)) -> 42511 | Y47: 39.45 | Z47: =W47+$D$325 -> 0.69097222 | AA47: =Z47+$D$319 -> 0.71180556 | AB47: =IF(AA47>2,E47+2,IF(AA47>1,E47+1,E47)) -> 42511 | AC47: 39.55 | AD47: =AA47+$D$315 -> 0.71875 | AE47: =AD47+$D$316 -> 0.72916667 | AF47: =IF(AE47>2,E47+2,IF(AE47>1,E47+1,E47)) -> 42511 | AG47: =AE47+$D$315 -> 0.73611111 | AH47: =IF(BJ47>0,AG47+$D$325,AG47+$D$322) -> 0.76736111 | AI47: =IF(AH47>2,E47+2,IF(AH47>1,E47+1,E47)) -> 42511 | AJ47: =AH47+$D$319 -> 0.78819444 | AK47: =AJ47+$D$315 -> 0.79513889 | AL47: =IF(AK47>2,E47+2,IF(AK47>1,E47+1,E47)) -> 42511 | AM47: 1.08 | AN47: 9 | AO47: 28 | AP47: 0 | AQ47: =AK47 -> 0.79513889 | AR47: =AQ47+$D$315 -> 0.80208333 | AS47: =IF(AR47>2,E47+2,IF(AR47>1,E47+1,E47)) -> 42511 | AT47: 39.6 | AU47: =AR47 -> 0.80208333 | AV47: =IF(AU47>2,E47+2,IF(AU47>1,E47+1,E47)) -> 42511 | AW47: =AU47+$BC$13*BA47 -> 0.89930556 | AX47: =IF(AW47>2,E47+2,IF(AW47>1,E47+1,E47)) -> 42511 | AY47: 5.5 | AZ47: 49 | BA47: =VLOOKUP(B47,ĐTBT!$V:$W,2,0) -> 7 | BI47: =AX47-E47 -> 0 | BJ47: =VLOOKUP(B47,'Thong tin'!A:R,11,0) -> 0
A48: =IF(C48="","",COUNTA($C$13:C48)) -> 36 | B48: A96 | C48: 0.375 | D48: =C48+$D$319 -> 0.39583333 | E48: 42512 | F48: =D48+$D$315 -> 0.40277778 | G48: =F48+$D$314 -> 0.40625 | H48: =IF(G48>2,E48+2,IF(G48>1,E48+1,E48)) -> 42512 | I48: -0.02 | J48: 0.012 | K48: -0.325 | L48: -0.577 | M48: =G48+$D$314 -> 0.40972222 | N48: =M48+$D$316 -> 0.42013889 | O48: =IF(N48>2,E48+2,IF(N48>1,E48+1,E48)) -> 42512 | P48: 1.06 | Q48: 9 | R48: 23 | S48: 0 | T48: =N48+$D$344 -> 0.54513889 | U48: =IF(T48>2,E48+2,IF(T48>1,E48+1,E48)) -> 42512 | V48: 19.22 | W48: =T48+$D$344 -> 0.67013889 | X48: =IF(W48>2,E48+2,IF(W48>1,E48+1,E48)) -> 42512 | Y48: 23.48 | Z48: =W48+$D$325 -> 0.71180556 | AA48: =Z48+$D$319 -> 0.73263889 | AB48: =IF(AA48>2,E48+2,IF(AA48>1,E48+1,E48)) -> 42512 | AC48: 23.53 | AD48: =AA48+$D$315 -> 0.73958333 | AE48: =AD48+$D$316 -> 0.75 | AF48: =IF(AE48>2,E48+2,IF(AE48>1,E48+1,E48)) -> 42512 | AG48: =AE48+$D$315 -> 0.75694444 | AH48: =IF(BJ48>0,AG48+$D$325,AG48+$D$322) -> 0.79861111 | AI48: =IF(AH48>2,E48+2,IF(AH48>1,E48+1,E48)) -> 42512 | AJ48: =AH48+$D$319 -> 0.81944444 | AK48: =AJ48+$D$315 -> 0.82638889 | AL48: =IF(AK48>2,E48+2,IF(AK48>1,E48+1,E48)) -> 42512 | AM48: 1.06 | AN48: 9 | AO48: 24 | AP48: 0 | AQ48: =AK48 -> 0.82638889 | AR48: =AQ48+$D$315 -> 0.83333333 | AS48: =IF(AR48>2,E48+2,IF(AR48>1,E48+1,E48)) -> 42512 | AT48: 23.53 | AU48: =AR48 -> 0.83333333 | AV48: =IF(AU48>2,E48+2,IF(AU48>1,E48+1,E48)) -> 42512 | AW48: =AU48+$BC$13*BA48 -> 0.86111111 | AX48: =IF(AW48>2,E48+2,IF(AW48>1,E48+1,E48)) -> 42512 | AY48: 6.2 | AZ48: 26 | BA48: =VLOOKUP(B48,ĐTBT!$V:$W,2,0) -> 2 | BC48: 42747 | BD48: 42747 | BE48: =BC48-AX48 -> 235 | BF48: =BD48+BE48 -> 42982 | BG48: =BC48-1 -> 42746 | BH48: =BG48+BE48 -> 42981 | BI48: =AX48-E48 -> 0 | BJ48: =VLOOKUP(B48,'Thong tin'!A:R,11,0) -> 4 | BL48: 42747 | BU48: 42690 | BX48: 42759
A49: =IF(C49="","",COUNTA($C$13:C49)) -> 37 | B49: A97 | C49: 0.38194444 | D49: =C49+$D$319 -> 0.40277778 | E49: =E48 -> 42512 | F49: =D49+$D$315 -> 0.40972222 | G49: =F49+$D$314 -> 0.41319444 | H49: =IF(G49>2,E49+2,IF(G49>1,E49+1,E49)) -> 42512 | I49: -0.018 | J49: 0.02 | K49: -0.122 | L49: -0.507 | M49: =G49+$D$314 -> 0.41666667 | N49: =M49+$D$316 -> 0.42708333 | O49: =IF(N49>2,E49+2,IF(N49>1,E49+1,E49)) -> 42512 | P49: 1.06 | Q49: 9 | R49: 25 | S49: 0 | T49: =N49+$D$344 -> 0.55208333 | U49: =IF(T49>2,E49+2,IF(T49>1,E49+1,E49)) -> 42512 | V49: 21.1 | W49: =T49+$D$344 -> 0.67708333 | X49: =IF(W49>2,E49+2,IF(W49>1,E49+1,E49)) -> 42512 | Y49: 23.75 | Z49: =W49+$D$325 -> 0.71875 | AA49: =Z49+$D$319 -> 0.73958333 | AB49: =IF(AA49>2,E49+2,IF(AA49>1,E49+1,E49)) -> 42512 | AC49: 23.75 | AD49: =AA49+$D$315 -> 0.74652778 | AE49: =AD49+$D$316 -> 0.75694444 | AF49: =IF(AE49>2,E49+2,IF(AE49>1,E49+1,E49)) -> 42512 | AG49: =AE49+$D$315 -> 0.76388889 | AH49: =IF(BJ49>0,AG49+$D$325,AG49+$D$322) -> 0.79513889 | AI49: =IF(AH49>2,E49+2,IF(AH49>1,E49+1,E49)) -> 42512 | AJ49: =AH49+$D$319 -> 0.81597222 | AK49: =AJ49+$D$315 -> 0.82291667 | AL49: =IF(AK49>2,E49+2,IF(AK49>1,E49+1,E49)) -> 42512 | AM49: 1.06 | AN49: 9 | AO49: 23 | AP49: 0 | AQ49: =AK49 -> 0.82291667 | AR49: =AQ49+$D$315 -> 0.82986111 | AS49: =IF(AR49>2,E49+2,IF(AR49>1,E49+1,E49)) -> 42512 | AT49: 23.75 | AU49: =AR49 -> 0.82986111 | AV49: =IF(AU49>2,E49+2,IF(AU49>1,E49+1,E49)) -> 42512 | AW49: =AU49+$BC$13*BA49 -> 0.85763889 | AX49: =IF(AW49>2,E49+2,IF(AW49>1,E49+1,E49)) -> 42512 | AY49: 6.3 | AZ49: 25 | BA49: =VLOOKUP(B49,ĐTBT!$V:$W,2,0) -> 2 | BC49: 42757 | BD49: 42757 | BE49: =BC49-AX49 -> 245 | BF49: =BD49+BE49 -> 43002 | BG49: =BC49-1 -> 42756 | BH49: =BG49+BE49 -> 43001 | BI49: =AX49-E49 -> 0 | BJ49: =VLOOKUP(B49,'Thong tin'!A:R,11,0) -> 0 | BL49: 42757 | BU49: 42693 | BX49: 42764
A50: =IF(C50="","",COUNTA($C$13:C50)) -> 38 | B50: A110 | C50: 0.34027778 | D50: =C50+$D$319 -> 0.36111111 | E50: 42513 | F50: =D50+$D$315 -> 0.36805556 | G50: =F50+$D$314 -> 0.37152778 | H50: =IF(G50>2,E50+2,IF(G50>1,E50+1,E50)) -> 42513 | I50: 0.002 | J50: 0.02 | K50: -0.343 | L50: -0.63 | M50: =G50+$D$314 -> 0.375 | N50: =M50+$D$316 -> 0.38541667 | O50: =IF(N50>2,E50+2,IF(N50>1,E50+1,E50)) -> 42513 | P50: 1.06 | Q50: 9 | R50: 24 | S50: 0 | T50: =N50+$D$344 -> 0.51041667 | U50: =IF(T50>2,E50+2,IF(T50>1,E50+1,E50)) -> 42513 | V50: 22.05 | W50: =T50+$D$344 -> 0.63541667 | X50: =IF(W50>2,E50+2,IF(W50>1,E50+1,E50)) -> 42513 | Y50: 32.67 | Z50: =W50+$D$325 -> 0.67708333 | AA50: =Z50+$D$319 -> 0.69791667 | AB50: =IF(AA50>2,E50+2,IF(AA50>1,E50+1,E50)) -> 42513 | AC50: 32.8 | AD50: =AA50+$D$315 -> 0.70486111 | AE50: =AD50+$D$316 -> 0.71527778 | AF50: =IF(AE50>2,E50+2,IF(AE50>1,E50+1,E50)) -> 42513 | AG50: =AE50+$D$315 -> 0.72222222 | AH50: =IF(BJ50>0,AG50+$D$325,AG50+$D$322) -> 0.75347222 | AI50: =IF(AH50>2,E50+2,IF(AH50>1,E50+1,E50)) -> 42513 | AJ50: =AH50+$D$319 -> 0.77430556 | AK50: =AJ50+$D$315 -> 0.78125 | AL50: =IF(AK50>2,E50+2,IF(AK50>1,E50+1,E50)) -> 42513 | AM50: 1.06 | AN50: 9 | AO50: 23 | AP50: 0 | AQ50: =AK50 -> 0.78125 | AR50: =AQ50+$D$315 -> 0.78819444 | AS50: =IF(AR50>2,E50+2,IF(AR50>1,E50+1,E50)) -> 42513 | AT50: 32.8 | AU50: =AR50 -> 0.78819444 | AV50: =IF(AU50>2,E50+2,IF(AU50>1,E50+1,E50)) -> 42513 | AW50: =AU50+$BC$13*BA50 -> 0.84375 | AX50: =IF(AW50>2,E50+2,IF(AW50>1,E50+1,E50)) -> 42513 | AY50: 6.1 | AZ50: 40 | BA50: =VLOOKUP(B50,ĐTBT!$V:$W,2,0) -> 4 | BC50: 42757 | BD50: 42757 | BE50: =BC50-AX50 -> 244 | BF50: =BD50+BE50 -> 43001 | BG50: =BC50-1 -> 42756 | BH50: =BG50+BE50 -> 43000 | BI50: =AX50-E50 -> 0 | BJ50: =VLOOKUP(B50,'Thong tin'!A:R,11,0) -> 0 | BL50: 42757 | BU50: 42693 | BX50: 42765
A51: =IF(C51="","",COUNTA($C$13:C51)) -> 39 | B51: A114 | C51: 0.38194444 | D51: =C51+$D$319 -> 0.40277778 | E51: 42514 | F51: =D51+$D$315 -> 0.40972222 | G51: =F51+$D$314 -> 0.41319444 | H51: =IF(G51>2,E51+2,IF(G51>1,E51+1,E51)) -> 42514 | I51: -0.025 | J51: 0.008 | K51: -0.07 | L51: -0.528 | M51: =G51+$D$314 -> 0.41666667 | N51: =M51+$D$316 -> 0.42708333 | O51: =IF(N51>2,E51+2,IF(N51>1,E51+1,E51)) -> 42514 | P51: 1.06 | Q51: 9 | R51: 26 | S51: 0 | T51: =N51+$D$344 -> 0.55208333 | U51: =IF(T51>2,E51+2,IF(T51>1,E51+1,E51)) -> 42514 | V51: 20.43 | W51: =T51+$D$344 -> 0.67708333 | X51: =IF(W51>2,E51+2,IF(W51>1,E51+1,E51)) -> 42514 | Y51: 44.95 | Z51: =W51+$D$325 -> 0.71875 | AA51: =Z51+$D$319 -> 0.73958333 | AB51: =IF(AA51>2,E51+2,IF(AA51>1,E51+1,E51)) -> 42514 | AC51: 44.95 | AD51: =AA51+$D$315 -> 0.74652778 | AE51: =AD51+$D$316 -> 0.75694444 | AF51: =IF(AE51>2,E51+2,IF(AE51>1,E51+1,E51)) -> 42514 | AG51: =AE51+$D$315 -> 0.76388889 | AH51: =IF(BJ51>0,AG51+$D$325,AG51+$D$322) -> 0.80555556 | AI51: =IF(AH51>2,E51+2,IF(AH51>1,E51+1,E51)) -> 42514 | AJ51: =AH51+$D$319 -> 0.82638889 | AK51: =AJ51+$D$315 -> 0.83333333 | AL51: =IF(AK51>2,E51+2,IF(AK51>1,E51+1,E51)) -> 42514 | AM51: 1.05 | AN51: 9 | AO51: 23 | AP51: 0 | AQ51: =AK51 -> 0.83333333 | AR51: =AQ51+$D$315 -> 0.84027778 | AS51: =IF(AR51>2,E51+2,IF(AR51>1,E51+1,E51)) -> 42514 | AT51: 44.95 | AU51: =AR51 -> 0.84027778 | AV51: =IF(AU51>2,E51+2,IF(AU51>1,E51+1,E51)) -> 42514 | AW51: =AU51+$BC$13*BA51 -> 0.90972222 | AX51: =IF(AW51>2,E51+2,IF(AW51>1,E51+1,E51)) -> 42514 | AY51: 6.5 | AZ51: 53.5 | BA51: =VLOOKUP(B51,ĐTBT!$V:$W,2,0) -> 5 | BC51: 42786 | BD51: 42786 | BE51: =BC51-AX51 -> 272 | BF51: =BD51+BE51 -> 43058 | BG51: =BC51-1 -> 42785 | BH51: =BG51+BE51 -> 43057 | BJ51: =VLOOKUP(B51,'Thong tin'!A:R,11,0) -> 4 | BL51: 42786
A52: =IF(C52="","",COUNTA($C$13:C52)) -> 40 | B52: A119 | C52: 0.3125 | D52: =C52+$D$319 -> 0.33333333 | E52: 42515 | F52: =D52+$D$315 -> 0.34027778 | G52: =F52+$D$314 -> 0.34375 | H52: =IF(G52>2,E52+2,IF(G52>1,E52+1,E52)) -> 42515 | I52: -0.02 | J52: -0.022 | K52: -0.264 | L52: -0.592 | M52: =G52+$D$314 -> 0.34722222 | N52: =M52+$D$316 -> 0.35763889 | O52: =IF(N52>2,E52+2,IF(N52>1,E52+1,E52)) -> 42515 | P52: 1.06 | Q52: 9 | R52: 24 | S52: 0 | T52: =N52+$D$344 -> 0.48263889 | U52: =IF(T52>2,E52+2,IF(T52>1,E52+1,E52)) -> 42515 | V52: 22.52 | W52: =T52+$D$344 -> 0.60763889 | X52: =IF(W52>2,E52+2,IF(W52>1,E52+1,E52)) -> 42515 | Y52: 41.65 | Z52: =W52+$D$325 -> 0.64930556 | AA52: =Z52+$D$319 -> 0.67013889 | AB52: =IF(AA52>2,E52+2,IF(AA52>1,E52+1,E52)) -> 42515 | AC52: 41.68 | AD52: =AA52+$D$315 -> 0.67708333 | AE52: =AD52+$D$316 -> 0.6875 | AF52: =IF(AE52>2,E52+2,IF(AE52>1,E52+1,E52)) -> 42515 | AG52: =AE52+$D$315 -> 0.69444444 | AH52: =IF(BJ52>0,AG52+$D$325,AG52+$D$322) -> 0.72569444 | AI52: =IF(AH52>2,E52+2,IF(AH52>1,E52+1,E52)) -> 42515 | AJ52: =AH52+$D$319 -> 0.74652778 | AK52: =AJ52+$D$315 -> 0.75347222 | AL52: =IF(AK52>2,E52+2,IF(AK52>1,E52+1,E52)) -> 42515 | AM52: 1.06 | AN52: 9 | AO52: 24 | AP52: 0 | AQ52: =AK52 -> 0.75347222 | AR52: =AQ52+$D$315 -> 0.76041667 | AS52: =IF(AR52>2,E52+2,IF(AR52>1,E52+1,E52)) -> 42515 | AT52: 41.68 | AU52: =AR52 -> 0.76041667 | AV52: =IF(AU52>2,E52+2,IF(AU52>1,E52+1,E52)) -> 42515 | AW52: =AU52+$BC$13*BA52 -> 0.81597222 | AX52: =IF(AW52>2,E52+2,IF(AW52>1,E52+1,E52)) -> 42515 | AY52: 6.3 | AZ52: 43 | BA52: =VLOOKUP(B52,ĐTBT!$V:$W,2,0) -> 4
A53: =IF(C53="","",COUNTA($C$13:C53)) -> 41 | B53: A151 | C53: 0.33680556 | D53: =C53+$D$319 -> 0.35763889 | E53: 42677 | F53: =D53+$D$315 -> 0.36458333 | G53: =F53+$D$314 -> 0.36805556 | H53: =IF(G53>2,E53+2,IF(G53>1,E53+1,E53)) -> 42677 | I53: 0.02 | J53: 0.006 | K53: -0.578 | L53: -0.935 | M53: =G53+$D$314 -> 0.37152778 | N53: =M53+$D$316 -> 0.38194444 | O53: =IF(N53>2,E53+2,IF(N53>1,E53+1,E53)) -> 42677 | P53: 1.01 | Q53: 9 | R53: 23 | S53: 0 | T53: =N53+$D$344 -> 0.50694444 | U53: =IF(T53>2,E53+2,IF(T53>1,E53+1,E53)) -> 42677 | V53: 24.8 | W53: =T53+$D$344 -> 0.63194444 | X53: =IF(W53>2,E53+2,IF(W53>1,E53+1,E53)) -> 42677 | Y53: 32 | Z53: =W53+$D$325 -> 0.67361111 | AA53: =Z53+$D$319 -> 0.69444444 | AB53: =IF(AA53>2,E53+2,IF(AA53>1,E53+1,E53)) -> 42677 | AC53: 32.2 | AD53: =AA53+$D$315 -> 0.70138889 | AE53: =AD53+$D$316 -> 0.71180556 | AF53: =IF(AE53>2,E53+2,IF(AE53>1,E53+1,E53)) -> 42677 | AG53: =AE53+$D$315 -> 0.71875 | AH53: =IF(BJ53>0,AG53+$D$325,AG53+$D$322) -> 0.76041667 | AI53: =IF(AH53>2,E53+2,IF(AH53>1,E53+1,E53)) -> 42677 | AJ53: =AH53+$D$319 -> 0.78125 | AK53: =AJ53+$D$315 -> 0.78819444 | AL53: =IF(AK53>2,E53+2,IF(AK53>1,E53+1,E53)) -> 42677 | AM53: 1.06 | AN53: 8 | AO53: 21.5 | AP53: 0 | AQ53: =AK53 -> 0.78819444 | AR53: =AQ53+$D$315 -> 0.79513889 | AS53: =IF(AR53>2,E53+2,IF(AR53>1,E53+1,E53)) -> 42677 | AT53: 32.2 | AU53: =AR53 -> 0.79513889 | AV53: =IF(AU53>2,E53+2,IF(AU53>1,E53+1,E53)) -> 42677 | AW53: =AU53+$BC$13*BA53 -> 0.86458333 | AX53: =IF(AW53>2,E53+2,IF(AW53>1,E53+1,E53)) -> 42677 | AY53: 6.5 | AZ53: 33 | BA53: =VLOOKUP(B53,ĐTBT!$V:$W,2,0) -> 5 | BI53: =AX53-E53 -> 0 | BJ53: =VLOOKUP(B53,'Thong tin'!A:R,11,0) -> 4
A54: =IF(C54="","",COUNTA($C$13:C54)) -> 42 | B54: B28 | C54: 0.38194444 | D54: =C54+$D$319 -> 0.40277778 | E54: 42677 | F54: =D54+$D$315 -> 0.40972222 | G54: =F54+$D$314 -> 0.41319444 | H54: =IF(G54>2,E54+2,IF(G54>1,E54+1,E54)) -> 42677 | I54: -0.001 | J54: 0.026 | K54: -1.016 | L54: -1.288 | M54: =G54+$D$314 -> 0.41666667 | N54: =M54+$D$316 -> 0.42708333 | O54: =IF(N54>2,E54+2,IF(N54>1,E54+1,E54)) -> 42677 | P54: 1.06 | Q54: 9 | R54: 27 | S54: 0 | T54: =N54+$D$344 -> 0.55208333 | U54: =IF(T54>2,E54+2,IF(T54>1,E54+1,E54)) -> 42677 | V54: 20.8 | W54: =T54+$D$344 -> 0.67708333 | X54: =IF(W54>2,E54+2,IF(W54>1,E54+1,E54)) -> 42677 | Y54: 21.95 | Z54: =W54+$D$325 -> 0.71875 | AA54: =Z54+$D$319 -> 0.73958333 | AB54: =IF(AA54>2,E54+2,IF(AA54>1,E54+1,E54)) -> 42677 | AC54: 22.08 | AD54: =AA54+$D$315 -> 0.74652778 | AE54: =AD54+$D$316 -> 0.75694444 | AF54: =IF(AE54>2,E54+2,IF(AE54>1,E54+1,E54)) -> 42677 | AG54: =AE54+$D$315 -> 0.76388889 | AH54: =IF(BJ54>0,AG54+$D$325,AG54+$D$322) -> 0.80555556 | AI54: =IF(AH54>2,E54+2,IF(AH54>1,E54+1,E54)) -> 42677 | AJ54: =AH54+$D$319 -> 0.82638889 | AK54: =AJ54+$D$315 -> 0.83333333 | AL54: =IF(AK54>2,E54+2,IF(AK54>1,E54+1,E54)) -> 42677 | AM54: 1.07 | AN54: 9 | AO54: 28 | AP54: 0 | AQ54: =AK54 -> 0.83333333 | AR54: =AQ54+$D$315 -> 0.84027778 | AS54: =IF(AR54>2,E54+2,IF(AR54>1,E54+1,E54)) -> 42677 | AT54: 22.08 | AU54: =AR54 -> 0.84027778 | AV54: =IF(AU54>2,E54+2,IF(AU54>1,E54+1,E54)) -> 42677 | AW54: =AU54+$BC$13*BA54 -> 0.85416667 | AX54: =IF(AW54>2,E54+2,IF(AW54>1,E54+1,E54)) -> 42677 | AY54: 3.8 | AZ54: 9.5 | BA54: =VLOOKUP(B54,ĐTBT!$V:$W,2,0) -> 1 | BI54: =AX54-E54 -> 0 | BJ54: =VLOOKUP(B54,'Thong tin'!A:R,11,0) -> 2
A55: =IF(C55="","",COUNTA($C$13:C55)) -> 43 | B55: A1 | C55: 0.38541667 | D55: =C55+$D$319 -> 0.40625 | E55: 42678 | F55: =D55+$D$315 -> 0.41319444 | G55: =F55+$D$314 -> 0.41666667 | H55: =IF(G55>2,E55+2,IF(G55>1,E55+1,E55)) -> 42678 | I55: 0.015 | J55: 0.001 | K55: -0.555 | L55: -0.955 | M55: =G55+$D$314 -> 0.42013889 | N55: =M55+$D$316 -> 0.43055556 | O55: =IF(N55>2,E55+2,IF(N55>1,E55+1,E55)) -> 42678 | P55: 1.05 | Q55: 9 | R55: 23 | S55: 0 | T55: =N55+$D$344 -> 0.55555556 | U55: =IF(T55>2,E55+2,IF(T55>1,E55+1,E55)) -> 42678 | V55: 20.9 | W55: =T55+$D$344 -> 0.68055556 | X55: =IF(W55>2,E55+2,IF(W55>1,E55+1,E55)) -> 42678 | Y55: 22.6 | Z55: =W55+$D$325 -> 0.72222222 | AA55: =Z55+$D$319 -> 0.74305556 | AB55: =IF(AA55>2,E55+2,IF(AA55>1,E55+1,E55)) -> 42678 | AC55: 22.82 | AD55: =AA55+$D$315 -> 0.75 | AE55: =AD55+$D$316 -> 0.76041667 | AF55: =IF(AE55>2,E55+2,IF(AE55>1,E55+1,E55)) -> 42678 | AG55: =AE55+$D$315 -> 0.76736111 | AH55: =IF(BJ55>0,AG55+$D$325,AG55+$D$322) -> 0.79861111 | AI55: =IF(AH55>2,E55+2,IF(AH55>1,E55+1,E55)) -> 42678 | AJ55: =AH55+$D$319 -> 0.81944444 | AK55: =AJ55+$D$315 -> 0.82638889 | AL55: =IF(AK55>2,E55+2,IF(AK55>1,E55+1,E55)) -> 42678 | AM55: 1.01 | AN55: 9 | AO55: 22 | AP55: 0 | AQ55: =AK55 -> 0.82638889 | AR55: =AQ55+$D$315 -> 0.83333333 | AS55: =IF(AR55>2,E55+2,IF(AR55>1,E55+1,E55)) -> 42678 | AT55: 22.82 | AU55: =AR55 -> 0.83333333 | AV55: =IF(AU55>2,E55+2,IF(AU55>1,E55+1,E55)) -> 42678 | AW55: =AU55+$BC$13*BA55 -> 0.875 | AX55: =IF(AW55>2,E55+2,IF(AW55>1,E55+1,E55)) -> 42678 | AY55: 5.5 | AZ55: 19.5 | BA55: =VLOOKUP(B55,ĐTBT!$V:$W,2,0) -> 3 | BI55: =AX55-E55 -> 0 | BJ55: =VLOOKUP(B55,'Thong tin'!A:R,11,0) -> 0
A56: =IF(C56="","",COUNTA($C$13:C56)) -> 44 | B56: A27 | C56: 0.39583333 | D56: =C56+$D$319 -> 0.41666667 | E56: 42678 | F56: =D56+$D$315 -> 0.42361111 | G56: =F56+$D$314 -> 0.42708333 | H56: =IF(G56>2,E56+2,IF(G56>1,E56+1,E56)) -> 42678 | I56: 0.019 | J56: 0.022 | K56: -0.859 | L56: -1.295 | M56: =G56+$D$314 -> 0.43055556 | N56: =M56+$D$316 -> 0.44097222 | O56: =IF(N56>2,E56+2,IF(N56>1,E56+1,E56)) -> 42678 | P56: 1.05 | Q56: 9 | R56: 23 | S56: 0 | T56: =N56+$D$344 -> 0.56597222 | U56: =IF(T56>2,E56+2,IF(T56>1,E56+1,E56)) -> 42678 | V56: 24.8 | W56: =T56+$D$344 -> 0.69097222 | X56: =IF(W56>2,E56+2,IF(W56>1,E56+1,E56)) -> 42678 | Y56: 26.7 | Z56: =W56+$D$325 -> 0.73263889 | AA56: =Z56+$D$319 -> 0.75347222 | AB56: =IF(AA56>2,E56+2,IF(AA56>1,E56+1,E56)) -> 42678 | AC56: 27.23 | AD56: =AA56+$D$315 -> 0.76041667 | AE56: =AD56+$D$316 -> 0.77083333 | AF56: =IF(AE56>2,E56+2,IF(AE56>1,E56+1,E56)) -> 42678 | AG56: =AE56+$D$315 -> 0.77777778 | AH56: =IF(BJ56>0,AG56+$D$325,AG56+$D$322) -> 0.81944444 | AI56: =IF(AH56>2,E56+2,IF(AH56>1,E56+1,E56)) -> 42678 | AJ56: =AH56+$D$319 -> 0.84027778 | AK56: =AJ56+$D$315 -> 0.84722222 | AL56: =IF(AK56>2,E56+2,IF(AK56>1,E56+1,E56)) -> 42678 | AM56: 1.05 | AN56: 9 | AO56: 22 | AP56: 0 | AQ56: =AK56 -> 0.84722222 | AR56: =AQ56+$D$315 -> 0.85416667 | AS56: =IF(AR56>2,E56+2,IF(AR56>1,E56+1,E56)) -> 42678 | AT56: 27.23 | AU56: =AR56 -> 0.85416667 | AV56: =IF(AU56>2,E56+2,IF(AU56>1,E56+1,E56)) -> 42678 | AW56: =AU56+$BC$13*BA56 -> 0.90972222 | AX56: =IF(AW56>2,E56+2,IF(AW56>1,E56+1,E56)) -> 42678 | AY56: 6.4 | AZ56: 23 | BA56: =VLOOKUP(B56,ĐTBT!$V:$W,2,0) -> 4 | BI56: =AX56-E56 -> 0 | BJ56: =VLOOKUP(B56,'Thong tin'!A:R,11,0) -> 3
A57: =IF(C57="","",COUNTA($C$13:C57)) -> 45 | B57: A3 | C57: 0.29166667 | D57: =C57+$D$319 -> 0.3125 | E57: 42678 | F57: =D57+$D$315 -> 0.31944444 | G57: =F57+$D$314 -> 0.32291667 | H57: =IF(G57>2,E57+2,IF(G57>1,E57+1,E57)) -> 42678 | I57: 0.019 | J57: 0.01 | K57: -0.605 | L57: -1.05 | M57: =G57+$D$314 -> 0.32638889 | N57: =M57+$D$316 -> 0.33680556 | O57: =IF(N57>2,E57+2,IF(N57>1,E57+1,E57)) -> 42678 | P57: 1.05 | Q57: 9 | R57: 23 | S57: 0 | T57: =N57+$D$344 -> 0.46180556 | U57: =IF(T57>2,E57+2,IF(T57>1,E57+1,E57)) -> 42678 | V57: 22.8 | W57: =T57+$D$344 -> 0.58680556 | X57: =IF(W57>2,E57+2,IF(W57>1,E57+1,E57)) -> 42678 | Y57: 27.6 | Z57: =W57+$D$325 -> 0.62847222 | AA57: =Z57+$D$319 -> 0.64930556 | AB57: =IF(AA57>2,E57+2,IF(AA57>1,E57+1,E57)) -> 42678 | AC57: 27.6 | AD57: =AA57+$D$315 -> 0.65625 | AE57: =AD57+$D$316 -> 0.66666667 | AF57: =IF(AE57>2,E57+2,IF(AE57>1,E57+1,E57)) -> 42678 | AG57: =AE57+$D$315 -> 0.67361111 | AH57: =IF(BJ57>0,AG57+$D$325,AG57+$D$322) -> 0.70486111 | AI57: =IF(AH57>2,E57+2,IF(AH57>1,E57+1,E57)) -> 42678 | AJ57: =AH57+$D$319 -> 0.72569444 | AK57: =AJ57+$D$315 -> 0.73263889 | AL57: =IF(AK57>2,E57+2,IF(AK57>1,E57+1,E57)) -> 42678 | AM57: 1.05 | AN57: 9 | AO57: 22 | AP57: 0 | AQ57: =AK57 -> 0.73263889 | AR57: =AQ57+$D$315 -> 0.73958333 | AS57: =IF(AR57>2,E57+2,IF(AR57>1,E57+1,E57)) -> 42678 | AT57: 27.6 | AU57: =AR57 -> 0.73958333 | AV57: =IF(AU57>2,E57+2,IF(AU57>1,E57+1,E57)) -> 42678 | AW57: =AU57+$BC$13*BA57 -> 0.79513889 | AX57: =IF(AW57>2,E57+2,IF(AW57>1,E57+1,E57)) -> 42678 | AY57: 6.8 | AZ57: 28 | BA57: =VLOOKUP(B57,ĐTBT!$V:$W,2,0) -> 4 | BI57: =AX57-E57 -> 0 | BJ57: =VLOOKUP(B57,'Thong tin'!A:R,11,0) -> 0
A58: =IF(C58="","",COUNTA($C$13:C58)) -> 46 | B58: A121 | C58: 0.3125 | D58: =C58+$D$319 -> 0.33333333 | E58: =E53+2 -> 42679 | F58: =D58+$D$315 -> 0.34027778 | G58: =F58+$D$314 -> 0.34375 | H58: =IF(G58>2,E58+2,IF(G58>1,E58+1,E58)) -> 42679 | I58: 0.005 | J58: 0.016 | K58: -0.875 | L58: -1.315 | M58: =G58+$D$314 -> 0.34722222 | N58: =M58+$D$316 -> 0.35763889 | O58: =IF(N58>2,E58+2,IF(N58>1,E58+1,E58)) -> 42679 | P58: 1.05 | Q58: 9 | R58: 24 | S58: 0 | T58: =N58+$D$344 -> 0.48263889 | U58: =IF(T58>2,E58+2,IF(T58>1,E58+1,E58)) -> 42679 | V58: 22.3 | W58: =T58+$D$344 -> 0.60763889 | X58: =IF(W58>2,E58+2,IF(W58>1,E58+1,E58)) -> 42679 | Y58: 23.8 | Z58: =W58+$D$325 -> 0.64930556 | AA58: =Z58+$D$319 -> 0.67013889 | AB58: =IF(AA58>2,E58+2,IF(AA58>1,E58+1,E58)) -> 42679 | AC58: 23.8 | AD58: =AA58+$D$315 -> 0.67708333 | AE58: =AD58+$D$316 -> 0.6875 | AF58: =IF(AE58>2,E58+2,IF(AE58>1,E58+1,E58)) -> 42679 | AG58: =AE58+$D$315 -> 0.69444444 | AH58: =IF(BJ58>0,AG58+$D$325,AG58+$D$322) -> 0.72569444 | AI58: =IF(AH58>2,E58+2,IF(AH58>1,E58+1,E58)) -> 42679 | AJ58: =AH58+$D$319 -> 0.74652778 | AK58: =AJ58+$D$315 -> 0.75347222 | AL58: =IF(AK58>2,E58+2,IF(AK58>1,E58+1,E58)) -> 42679 | AM58: 1.05 | AN58: 9 | AO58: 23 | AP58: 0 | AQ58: =AK58 -> 0.75347222 | AR58: =AQ58+$D$315 -> 0.76041667 | AS58: =IF(AR58>2,E58+2,IF(AR58>1,E58+1,E58)) -> 42679 | AT58: 23.8 | AU58: =AR58 -> 0.76041667 | AV58: =IF(AU58>2,E58+2,IF(AU58>1,E58+1,E58)) -> 42679 | AW58: =AU58+$BC$13*BA58 -> 0.81597222 | AX58: =IF(AW58>2,E58+2,IF(AW58>1,E58+1,E58)) -> 42679 | AY58: 7 | AZ58: 24 | BA58: =VLOOKUP(B58,ĐTBT!$V:$W,2,0) -> 4 | BI58: =AX58-E58 -> 0 | BJ58: =VLOOKUP(B58,'Thong tin'!A:R,11,0) -> 0
A59: =IF(C59="","",COUNTA($C$13:C59)) -> 47 | B59: B30 | C59: 0.31597222 | D59: =C59+$D$319 -> 0.33680556 | E59: =E54+2 -> 42679 | F59: =D59+$D$315 -> 0.34375 | G59: =F59+$D$314 -> 0.34722222 | H59: =IF(G59>2,E59+2,IF(G59>1,E59+1,E59)) -> 42679 | I59: 0.017 | J59: 0.001 | K59: -1.333 | L59: -1.56 | M59: =G59+$D$314 -> 0.35069444 | N59: =M59+$D$316 -> 0.36111111 | O59: =IF(N59>2,E59+2,IF(N59>1,E59+1,E59)) -> 42679 | P59: 1.06 | Q59: 9 | R59: 22 | S59: 0 | T59: =N59+$D$344 -> 0.48611111 | U59: =IF(T59>2,E59+2,IF(T59>1,E59+1,E59)) -> 42679 | V59: 23.7 | W59: =T59+$D$344 -> 0.61111111 | X59: =IF(W59>2,E59+2,IF(W59>1,E59+1,E59)) -> 42679 | Y59: 33.82 | Z59: =W59+$D$325 -> 0.65277778 | AA59: =Z59+$D$319 -> 0.67361111 | AB59: =IF(AA59>2,E59+2,IF(AA59>1,E59+1,E59)) -> 42679 | AC59: 33.87 | AD59: =AA59+$D$315 -> 0.68055556 | AE59: =AD59+$D$316 -> 0.69097222 | AF59: =IF(AE59>2,E59+2,IF(AE59>1,E59+1,E59)) -> 42679 | AG59: =AE59+$D$315 -> 0.69791667 | AH59: =IF(BJ59>0,AG59+$D$325,AG59+$D$322) -> 0.73958333 | AI59: =IF(AH59>2,E59+2,IF(AH59>1,E59+1,E59)) -> 42679 | AJ59: =AH59+$D$319 -> 0.76041667 | AK59: =AJ59+$D$315 -> 0.76736111 | AL59: =IF(AK59>2,E59+2,IF(AK59>1,E59+1,E59)) -> 42679 | AM59: 1.06 | AN59: 9 | AO59: 21 | AP59: 0 | AQ59: =AK59 -> 0.76736111 | AR59: =AQ59+$D$315 -> 0.77430556 | AS59: =IF(AR59>2,E59+2,IF(AR59>1,E59+1,E59)) -> 42679 | AT59: 33.87 | AU59: =AR59 -> 0.77430556 | AV59: =IF(AU59>2,E59+2,IF(AU59>1,E59+1,E59)) -> 42679 | AW59: =AU59+$BC$13*BA59 -> 0.81597222 | AX59: =IF(AW59>2,E59+2,IF(AW59>1,E59+1,E59)) -> 42679 | AY59: 4.5 | AZ59: 16 | BA59: =VLOOKUP(B59,ĐTBT!$V:$W,2,0) -> 3 | BI59: =AX59-E59 -> 0 | BJ59: =VLOOKUP(B59,'Thong tin'!A:R,11,0) -> 3
A60: =IF(C60="","",COUNTA($C$13:C60)) -> 48 | B60: A33 | C60: 0.31944444 | D60: =C60+$D$319 -> 0.34027778 | E60: =E55+2 -> 42680 | F60: =D60+$D$315 -> 0.34722222 | G60: =F60+$D$314 -> 0.35069444 | H60: =IF(G60>2,E60+2,IF(G60>1,E60+1,E60)) -> 42680 | I60: 0.026 | J60: 0.013 | K60: -0.61 | L60: -1.038 | M60: =G60+$D$314 -> 0.35416667 | N60: =M60+$D$316 -> 0.36458333 | O60: =IF(N60>2,E60+2,IF(N60>1,E60+1,E60)) -> 42680 | P60: 1.05 | Q60: 9 | R60: 23 | S60: 0 | T60: =N60+$D$344 -> 0.48958333 | U60: =IF(T60>2,E60+2,IF(T60>1,E60+1,E60)) -> 42680 | V60: 22.8 | W60: =T60+$D$344 -> 0.61458333 | X60: =IF(W60>2,E60+2,IF(W60>1,E60+1,E60)) -> 42680 | Y60: 35.2 | Z60: =W60+$D$325 -> 0.65625 | AA60: =Z60+$D$319 -> 0.67708333 | AB60: =IF(AA60>2,E60+2,IF(AA60>1,E60+1,E60)) -> 42680 | AC60: 35.4 | AD60: =AA60+$D$315 -> 0.68402778 | AE60: =AD60+$D$316 -> 0.69444444 | AF60: =IF(AE60>2,E60+2,IF(AE60>1,E60+1,E60)) -> 42680 | AG60: =AE60+$D$315 -> 0.70138889 | AH60: =IF(BJ60>0,AG60+$D$325,AG60+$D$322) -> 0.73263889 | AI60: =IF(AH60>2,E60+2,IF(AH60>1,E60+1,E60)) -> 42680 | AJ60: =AH60+$D$319 -> 0.75347222 | AK60: =AJ60+$D$315 -> 0.76041667 | AL60: =IF(AK60>2,E60+2,IF(AK60>1,E60+1,E60)) -> 42680 | AM60: 1.05 | AN60: 9 | AO60: 23 | AP60: 0 | AQ60: =AK60 -> 0.76041667 | AR60: =AQ60+$D$315 -> 0.76736111 | AS60: =IF(AR60>2,E60+2,IF(AR60>1,E60+1,E60)) -> 42680 | AT60: 35.4 | AU60: =AR60 -> 0.76736111 | AV60: =IF(AU60>2,E60+2,IF(AU60>1,E60+1,E60)) -> 42680 | AW60: =AU60+$BC$13*BA60 -> 0.83680556 | AX60: =IF(AW60>2,E60+2,IF(AW60>1,E60+1,E60)) -> 42680 | AY60: 6 | AZ60: 38.5 | BA60: =VLOOKUP(B60,ĐTBT!$V:$W,2,0) -> 5 | BI60: =AX60-E60 -> 0 | BJ60: =VLOOKUP(B60,'Thong tin'!A:R,11,0) -> 0
A61: =IF(C61="","",COUNTA($C$13:C61)) -> 49 | B61: A2 | C61: 0.38888889 | D61: =C61+$D$319 -> 0.40972222 | E61: =E56+2 -> 42680 | F61: =D61+$D$315 -> 0.41666667 | G61: =F61+$D$314 -> 0.42013889 | H61: =IF(G61>2,E61+2,IF(G61>1,E61+1,E61)) -> 42680 | I61: 0.015 | J61: 0.001 | K61: -0.745 | L61: -1.156 | M61: =G61+$D$314 -> 0.42361111 | N61: =M61+$D$316 -> 0.43402778 | O61: =IF(N61>2,E61+2,IF(N61>1,E61+1,E61)) -> 42680 | P61: 1.05 | Q61: 9 | R61: 22 | S61: 0 | T61: =N61+$D$344 -> 0.55902778 | U61: =IF(T61>2,E61+2,IF(T61>1,E61+1,E61)) -> 42680 | V61: 19.82 | W61: =T61+$D$344 -> 0.68402778 | X61: =IF(W61>2,E61+2,IF(W61>1,E61+1,E61)) -> 42680 | Y61: 22.45 | Z61: =W61+$D$325 -> 0.72569444 | AA61: =Z61+$D$319 -> 0.74652778 | AB61: =IF(AA61>2,E61+2,IF(AA61>1,E61+1,E61)) -> 42680 | AC61: 22.5 | AD61: =AA61+$D$315 -> 0.75347222 | AE61: =AD61+$D$316 -> 0.76388889 | AF61: =IF(AE61>2,E61+2,IF(AE61>1,E61+1,E61)) -> 42680 | AG61: =AE61+$D$315 -> 0.77083333 | AH61: =IF(BJ61>0,AG61+$D$325,AG61+$D$322) -> 0.8125 | AI61: =IF(AH61>2,E61+2,IF(AH61>1,E61+1,E61)) -> 42680 | AJ61: =AH61+$D$319 -> 0.83333333 | AK61: =AJ61+$D$315 -> 0.84027778 | AL61: =IF(AK61>2,E61+2,IF(AK61>1,E61+1,E61)) -> 42680 | AM61: 1.06 | AN61: 9 | AO61: 23 | AP61: 0 | AQ61: =AK61 -> 0.84027778 | AR61: =AQ61+$D$315 -> 0.84722222 | AS61: =IF(AR61>2,E61+2,IF(AR61>1,E61+1,E61)) -> 42680 | AT61: 22.5 | AU61: =AR61 -> 0.84722222 | AV61: =IF(AU61>2,E61+2,IF(AU61>1,E61+1,E61)) -> 42680 | AW61: =AU61+$BC$13*BA61 -> 0.88888889 | AX61: =IF(AW61>2,E61+2,IF(AW61>1,E61+1,E61)) -> 42680 | AY61: 5.5 | AZ61: 18.5 | BA61: =VLOOKUP(B61,ĐTBT!$V:$W,2,0) -> 3 | BI61: =AX61-E61 -> 0 | BJ61: =VLOOKUP(B61,'Thong tin'!A:R,11,0) -> 4
A62: =IF(C62="","",COUNTA($C$13:C62)) -> 50 | B62: A4 | C62: 0.39583333 | D62: =C62+$D$319 -> 0.41666667 | E62: =E57+2 -> 42680 | F62: =D62+$D$315 -> 0.42361111 | G62: =F62+$D$314 -> 0.42708333 | H62: =IF(G62>2,E62+2,IF(G62>1,E62+1,E62)) -> 42680 | I62: 0.026 | J62: 0.005 | K62: -0.565 | L62: -1.11 | M62: =G62+$D$314 -> 0.43055556 | N62: =M62+$D$316 -> 0.44097222 | O62: =IF(N62>2,E62+2,IF(N62>1,E62+1,E62)) -> 42680 | P62: 1.05 | Q62: 9 | R62: 24 | S62: 0 | T62: =N62+$D$344 -> 0.56597222 | U62: =IF(T62>2,E62+2,IF(T62>1,E62+1,E62)) -> 42680 | V62: 22.5 | W62: =T62+$D$344 -> 0.69097222 | X62: =IF(W62>2,E62+2,IF(W62>1,E62+1,E62)) -> 42680 | Y62: 26.73 | Z62: =W62+$D$325 -> 0.73263889 | AA62: =Z62+$D$319 -> 0.75347222 | AB62: =IF(AA62>2,E62+2,IF(AA62>1,E62+1,E62)) -> 42680 | AC62: 26.8 | AD62: =AA62+$D$315 -> 0.76041667 | AE62: =AD62+$D$316 -> 0.77083333 | AF62: =IF(AE62>2,E62+2,IF(AE62>1,E62+1,E62)) -> 42680 | AG62: =AE62+$D$315 -> 0.77777778 | AH62: =IF(BJ62>0,AG62+$D$325,AG62+$D$322) -> 0.80902778 | AI62: =IF(AH62>2,E62+2,IF(AH62>1,E62+1,E62)) -> 42680 | AJ62: =AH62+$D$319 -> 0.82986111 | AK62: =AJ62+$D$315 -> 0.83680556 | AL62: =IF(AK62>2,E62+2,IF(AK62>1,E62+1,E62)) -> 42680 | AM62: 1.06 | AN62: 9 | AO62: 25 | AP62: 0 | AQ62: =AK62 -> 0.83680556 | AR62: =AQ62+$D$315 -> 0.84375 | AS62: =IF(AR62>2,E62+2,IF(AR62>1,E62+1,E62)) -> 42680 | AT62: 26.8 | AU62: =AR62 -> 0.84375 | AV62: =IF(AU62>2,E62+2,IF(AU62>1,E62+1,E62)) -> 42680 | AW62: =AU62+$BC$13*BA62 -> 0.88541667 | AX62: =IF(AW62>2,E62+2,IF(AW62>1,E62+1,E62)) -> 42680 | AY62: 7.2 | AZ62: 23 | BA62: =VLOOKUP(B62,ĐTBT!$V:$W,2,0) -> 3 | BI62: =AX62-E62 -> 0 | BJ62: =VLOOKUP(B62,'Thong tin'!A:R,11,0) -> 0
A63: =IF(C63="","",COUNTA($C$13:C63)) -> 51 | B63: A29 | C63: 0.34722222 | D63: =C63+$D$319 -> 0.36805556 | E63: =E58+2 -> 42681 | F63: =D63+$D$315 -> 0.375 | G63: =F63+$D$314 -> 0.37847222 | H63: =IF(G63>2,E63+2,IF(G63>1,E63+1,E63)) -> 42681 | I63: 0.001 | J63: 0.021 | K63: -0.645 | L63: -1.1 | M63: =G63+$D$314 -> 0.38194444 | N63: =M63+$D$316 -> 0.39236111 | O63: =IF(N63>2,E63+2,IF(N63>1,E63+1,E63)) -> 42681 | P63: 1.05 | Q63: 9 | R63: 24 | S63: 0 | T63: =N63+$D$344 -> 0.51736111 | U63: =IF(T63>2,E63+2,IF(T63>1,E63+1,E63)) -> 42681 | V63: 25 | W63: =T63+$D$344 -> 0.64236111 | X63: =IF(W63>2,E63+2,IF(W63>1,E63+1,E63)) -> 42681 | Y63: 26.88 | Z63: =W63+$D$325 -> 0.68402778 | AA63: =Z63+$D$319 -> 0.70486111 | AB63: =IF(AA63>2,E63+2,IF(AA63>1,E63+1,E63)) -> 42681 | AC63: 26.9 | AD63: =AA63+$D$315 -> 0.71180556 | AE63: =AD63+$D$316 -> 0.72222222 | AF63: =IF(AE63>2,E63+2,IF(AE63>1,E63+1,E63)) -> 42681 | AG63: =AE63+$D$315 -> 0.72916667 | AH63: =IF(BJ63>0,AG63+$D$325,AG63+$D$322) -> 0.76041667 | AI63: =IF(AH63>2,E63+2,IF(AH63>1,E63+1,E63)) -> 42681 | AJ63: =AH63+$D$319 -> 0.78125 | AK63: =AJ63+$D$315 -> 0.78819444 | AL63: =IF(AK63>2,E63+2,IF(AK63>1,E63+1,E63)) -> 42681 | AM63: 1.05 | AN63: 8 | AO63: 22 | AP63: 0 | AQ63: =AK63 -> 0.78819444 | AR63: =AQ63+$D$315 -> 0.79513889 | AS63: =IF(AR63>2,E63+2,IF(AR63>1,E63+1,E63)) -> 42681 | AT63: 26.9 | AU63: =AR63 -> 0.79513889 | AV63: =IF(AU63>2,E63+2,IF(AU63>1,E63+1,E63)) -> 42681 | AW63: =AU63+$BC$13*BA63 -> 0.83680556 | AX63: =IF(AW63>2,E63+2,IF(AW63>1,E63+1,E63)) -> 42681 | AY63: 5.7 | AZ63: 24 | BA63: =VLOOKUP(B63,ĐTBT!$V:$W,2,0) -> 3 | BI63: =AX63-E63 -> 0 | BJ63: =VLOOKUP(B63,'Thong tin'!A:R,11,0) -> 0
A64: =IF(C64="","",COUNTA($C$13:C64)) -> 52 | B64: A120 | C64: 0.35416667 | D64: =C64+$D$319 -> 0.375 | E64: =E59+2 -> 42681 | F64: =D64+$D$315 -> 0.38194444 | G64: =F64+$D$314 -> 0.38541667 | H64: =IF(G64>2,E64+2,IF(G64>1,E64+1,E64)) -> 42681 | I64: 0.026 | J64: 0.014 | K64: -0.5 | L64: -0.985 | M64: =G64+$D$314 -> 0.38888889 | N64: =M64+$D$316 -> 0.39930556 | O64: =IF(N64>2,E64+2,IF(N64>1,E64+1,E64)) -> 42681 | P64: 1.05 | Q64: 9 | R64: 23 | S64: 0 | T64: =N64+$D$344 -> 0.52430556 | U64: =IF(T64>2,E64+2,IF(T64>1,E64+1,E64)) -> 42681 | V64: 21.3 | W64: =T64+$D$344 -> 0.64930556 | X64: =IF(W64>2,E64+2,IF(W64>1,E64+1,E64)) -> 42681 | Y64: 25.2 | Z64: =W64+$D$325 -> 0.69097222 | AA64: =Z64+$D$319 -> 0.71180556 | AB64: =IF(AA64>2,E64+2,IF(AA64>1,E64+1,E64)) -> 42681 | AC64: 25.25 | AD64: =AA64+$D$315 -> 0.71875 | AE64: =AD64+$D$316 -> 0.72916667 | AF64: =IF(AE64>2,E64+2,IF(AE64>1,E64+1,E64)) -> 42681 | AG64: =AE64+$D$315 -> 0.73611111 | AH64: =IF(BJ64>0,AG64+$D$325,AG64+$D$322) -> 0.77777778 | AI64: =IF(AH64>2,E64+2,IF(AH64>1,E64+1,E64)) -> 42681 | AJ64: =AH64+$D$319 -> 0.79861111 | AK64: =AJ64+$D$315 -> 0.80555556 | AL64: =IF(AK64>2,E64+2,IF(AK64>1,E64+1,E64)) -> 42681 | AM64: 1.05 | AN64: 9 | AO64: 27 | AP64: 0 | AQ64: =AK64 -> 0.80555556 | AR64: =AQ64+$D$315 -> 0.8125 | AS64: =IF(AR64>2,E64+2,IF(AR64>1,E64+1,E64)) -> 42681 | AT64: 25.25 | AU64: =AR64 -> 0.8125 | AV64: =IF(AU64>2,E64+2,IF(AU64>1,E64+1,E64)) -> 42681 | AW64: =AU64+$BC$13*BA64 -> 0.86805556 | AX64: =IF(AW64>2,E64+2,IF(AW64>1,E64+1,E64)) -> 42681 | AY64: 6.8 | AZ64: 28 | BA64: =VLOOKUP(B64,ĐTBT!$V:$W,2,0) -> 4 | BI64: =AX64-E64 -> 0 | BJ64: =VLOOKUP(B64,'Thong tin'!A:R,11,0) -> 4
A65: =IF(C65="","",COUNTA($C$13:C65)) -> 53 | B65: A144 | C65: 0.38888889 | D65: =C65+$D$319 -> 0.40972222 | E65: =E60+2 -> 42682 | F65: =D65+$D$315 -> 0.41666667 | G65: =F65+$D$314 -> 0.42013889 | H65: =IF(G65>2,E65+2,IF(G65>1,E65+1,E65)) -> 42682 | I65: 0.015 | J65: 0.015 | K65: -0.8 | L65: -1.205 | M65: =G65+$D$314 -> 0.42361111 | N65: =M65+$D$316 -> 0.43402778 | O65: =IF(N65>2,E65+2,IF(N65>1,E65+1,E65)) -> 42682 | P65: 1.05 | Q65: 9 | R65: 23 | S65: 0 | T65: =N65+$D$344 -> 0.55902778 | U65: =IF(T65>2,E65+2,IF(T65>1,E65+1,E65)) -> 42682 | V65: 23.1 | W65: =T65+$D$344 -> 0.68402778 | X65: =IF(W65>2,E65+2,IF(W65>1,E65+1,E65)) -> 42682 | Y65: 33 | Z65: =W65+$D$325 -> 0.72569444 | AA65: =Z65+$D$319 -> 0.74652778 | AB65: =IF(AA65>2,E65+2,IF(AA65>1,E65+1,E65)) -> 42682 | AC65: 33 | AD65: =AA65+$D$315 -> 0.75347222 | AE65: =AD65+$D$316 -> 0.76388889 | AF65: =IF(AE65>2,E65+2,IF(AE65>1,E65+1,E65)) -> 42682 | AG65: =AE65+$D$315 -> 0.77083333 | AH65: =IF(BJ65>0,AG65+$D$325,AG65+$D$322) -> 0.80208333 | AI65: =IF(AH65>2,E65+2,IF(AH65>1,E65+1,E65)) -> 42682 | AJ65: =AH65+$D$319 -> 0.82291667 | AK65: =AJ65+$D$315 -> 0.82986111 | AL65: =IF(AK65>2,E65+2,IF(AK65>1,E65+1,E65)) -> 42682 | AM65: 1.06 | AN65: 9 | AO65: 23 | AP65: 0 | AQ65: =AK65 -> 0.82986111 | AR65: =AQ65+$D$315 -> 0.83680556 | AS65: =IF(AR65>2,E65+2,IF(AR65>1,E65+1,E65)) -> 42682 | AT65: 33 | AU65: =AR65 -> 0.83680556 | AV65: =IF(AU65>2,E65+2,IF(AU65>1,E65+1,E65)) -> 42682 | AW65: =AU65+$BC$13*BA65 -> 0.89236111 | AX65: =IF(AW65>2,E65+2,IF(AW65>1,E65+1,E65)) -> 42682 | AY65: 6.7 | AZ65: 32 | BA65: =VLOOKUP(B65,ĐTBT!$V:$W,2,0) -> 4 | BI65: =AX65-E65 -> 0 | BJ65: =VLOOKUP(B65,'Thong tin'!A:R,11,0) -> 0
A66: =IF(C66="","",COUNTA($C$13:C66)) -> 54 | B66: A30 | C66: 0.32291667 | D66: =C66+$D$319 -> 0.34375 | E66: =E61+2 -> 42682 | F66: =D66+$D$315 -> 0.35069444 | G66: =F66+$D$314 -> 0.35416667 | H66: =IF(G66>2,E66+2,IF(G66>1,E66+1,E66)) -> 42682 | I66: 0.007 | J66: 0.004 | K66: -0.745 | L66: -0.945 | M66: =G66+$D$314 -> 0.35763889 | N66: =M66+$D$316 -> 0.36805556 | O66: =IF(N66>2,E66+2,IF(N66>1,E66+1,E66)) -> 42682 | P66: 1.05 | Q66: 9 | R66: 23 | S66: 0 | T66: =N66+$D$344 -> 0.49305556 | U66: =IF(T66>2,E66+2,IF(T66>1,E66+1,E66)) -> 42682 | V66: 23.9 | W66: =T66+$D$344 -> 0.61805556 | X66: =IF(W66>2,E66+2,IF(W66>1,E66+1,E66)) -> 42682 | Y66: 32.3 | Z66: =W66+$D$325 -> 0.65972222 | AA66: =Z66+$D$319 -> 0.68055556 | AB66: =IF(AA66>2,E66+2,IF(AA66>1,E66+1,E66)) -> 42682 | AC66: 32.4 | AD66: =AA66+$D$315 -> 0.6875 | AE66: =AD66+$D$316 -> 0.69791667 | AF66: =IF(AE66>2,E66+2,IF(AE66>1,E66+1,E66)) -> 42682 | AG66: =AE66+$D$315 -> 0.70486111 | AH66: =IF(BJ66>0,AG66+$D$325,AG66+$D$322) -> 0.73611111 | AI66: =IF(AH66>2,E66+2,IF(AH66>1,E66+1,E66)) -> 42682 | AJ66: =AH66+$D$319 -> 0.75694444 | AK66: =AJ66+$D$315 -> 0.76388889 | AL66: =IF(AK66>2,E66+2,IF(AK66>1,E66+1,E66)) -> 42682 | AM66: 1.06 | AN66: 9 | AO66: 23 | AP66: 0 | AQ66: =AK66 -> 0.76388889 | AR66: =AQ66+$D$315 -> 0.77083333 | AS66: =IF(AR66>2,E66+2,IF(AR66>1,E66+1,E66)) -> 42682 | AT66: 32.4 | AU66: =AR66 -> 0.77083333 | AV66: =IF(AU66>2,E66+2,IF(AU66>1,E66+1,E66)) -> 42682 | AW66: =AU66+$BC$13*BA66 -> 0.86805556 | AX66: =IF(AW66>2,E66+2,IF(AW66>1,E66+1,E66)) -> 42682 | AY66: 7 | AZ66: 44.5 | BA66: =VLOOKUP(B66,ĐTBT!$V:$W,2,0) -> 7 | BI66: =AX66-E66 -> 0 | BJ66: =VLOOKUP(B66,'Thong tin'!A:R,11,0) -> 0
A67: =IF(C67="","",COUNTA($C$13:C67)) -> 55 | B67: A5 | C67: 0.34027778 | D67: =C67+$D$319 -> 0.36111111 | E67: =E62+2 -> 42682 | F67: =D67+$D$315 -> 0.36805556 | G67: =F67+$D$314 -> 0.37152778 | H67: =IF(G67>2,E67+2,IF(G67>1,E67+1,E67)) -> 42682 | I67: 0.021 | J67: 0.019 | K67: -0.785 | L67: -1.1 | M67: =G67+$D$314 -> 0.375 | N67: =M67+$D$316 -> 0.38541667 | O67: =IF(N67>2,E67+2,IF(N67>1,E67+1,E67)) -> 42682 | P67: 1.05 | Q67: 9 | R67: 24 | S67: 0 | T67: =N67+$D$344 -> 0.51041667 | U67: =IF(T67>2,E67+2,IF(T67>1,E67+1,E67)) -> 42682 | V67: 20.7 | W67: =T67+$D$344 -> 0.63541667 | X67: =IF(W67>2,E67+2,IF(W67>1,E67+1,E67)) -> 42682 | Y67: 26.5 | Z67: =W67+$D$325 -> 0.67708333 | AA67: =Z67+$D$319 -> 0.69791667 | AB67: =IF(AA67>2,E67+2,IF(AA67>1,E67+1,E67)) -> 42682 | AC67: 26.55 | AD67: =AA67+$D$315 -> 0.70486111 | AE67: =AD67+$D$316 -> 0.71527778 | AF67: =IF(AE67>2,E67+2,IF(AE67>1,E67+1,E67)) -> 42682 | AG67: =AE67+$D$315 -> 0.72222222 | AH67: =IF(BJ67>0,AG67+$D$325,AG67+$D$322) -> 0.76388889 | AI67: =IF(AH67>2,E67+2,IF(AH67>1,E67+1,E67)) -> 42682 | AJ67: =AH67+$D$319 -> 0.78472222 | AK67: =AJ67+$D$315 -> 0.79166667 | AL67: =IF(AK67>2,E67+2,IF(AK67>1,E67+1,E67)) -> 42682 | AM67: 1.05 | AN67: 9 | AO67: 24 | AP67: 0 | AQ67: =AK67 -> 0.79166667 | AR67: =AQ67+$D$315 -> 0.79861111 | AS67: =IF(AR67>2,E67+2,IF(AR67>1,E67+1,E67)) -> 42682 | AT67: 26.55 | AU67: =AR67 -> 0.79861111 | AV67: =IF(AU67>2,E67+2,IF(AU67>1,E67+1,E67)) -> 42682 | AW67: =AU67+$BC$13*BA67 -> 0.85416667 | AX67: =IF(AW67>2,E67+2,IF(AW67>1,E67+1,E67)) -> 42682 | AY67: 7 | AZ67: 25 | BA67: =VLOOKUP(B67,ĐTBT!$V:$W,2,0) -> 4 | BI67: =AX67-E67 -> 0 | BJ67: =VLOOKUP(B67,'Thong tin'!A:R,11,0) -> 4
A68: =IF(C68="","",COUNTA($C$13:C68)) -> 56 | B68: B29 | C68: 0.33333333 | D68: =C68+$D$319 -> 0.35416667 | E68: =E63+2 -> 42683 | F68: =D68+$D$315 -> 0.36111111 | G68: =F68+$D$314 -> 0.36458333 | H68: =IF(G68>2,E68+2,IF(G68>1,E68+1,E68)) -> 42683 | I68: 0.009 | J68: 0.002 | K68: -0.795 | L68: -1.135 | M68: =G68+$D$314 -> 0.36805556 | N68: =M68+$D$316 -> 0.37847222 | O68: =IF(N68>2,E68+2,IF(N68>1,E68+1,E68)) -> 42683 | P68: 1.05 | Q68: 9 | R68: 24 | S68: 0 | T68: =N68+$D$344 -> 0.50347222 | U68: =IF(T68>2,E68+2,IF(T68>1,E68+1,E68)) -> 42683 | V68: 22.9 | W68: =T68+$D$344 -> 0.62847222 | X68: =IF(W68>2,E68+2,IF(W68>1,E68+1,E68)) -> 42683 | Y68: 26.75 | Z68: =W68+$D$325 -> 0.67013889 | AA68: =Z68+$D$319 -> 0.69097222 | AB68: =IF(AA68>2,E68+2,IF(AA68>1,E68+1,E68)) -> 42683 | AC68: 26.75 | AD68: =AA68+$D$315 -> 0.69791667 | AE68: =AD68+$D$316 -> 0.70833333 | AF68: =IF(AE68>2,E68+2,IF(AE68>1,E68+1,E68)) -> 42683 | AG68: =AE68+$D$315 -> 0.71527778 | AH68: =IF(BJ68>0,AG68+$D$325,AG68+$D$322) -> 0.74652778 | AI68: =IF(AH68>2,E68+2,IF(AH68>1,E68+1,E68)) -> 42683 | AJ68: =AH68+$D$319 -> 0.76736111 | AK68: =AJ68+$D$315 -> 0.77430556 | AL68: =IF(AK68>2,E68+2,IF(AK68>1,E68+1,E68)) -> 42683 | AM68: 1.06 | AN68: 9 | AO68: 23 | AP68: 0 | AQ68: =AK68 -> 0.77430556 | AR68: =AQ68+$D$315 -> 0.78125 | AS68: =IF(AR68>2,E68+2,IF(AR68>1,E68+1,E68)) -> 42683 | AT68: 26.75 | AU68: =AR68 -> 0.78125 | AV68: =IF(AU68>2,E68+2,IF(AU68>1,E68+1,E68)) -> 42683 | AW68: =AU68+$BC$13*BA68 -> 0.80902778 | AX68: =IF(AW68>2,E68+2,IF(AW68>1,E68+1,E68)) -> 42683 | AY68: 5.3 | AZ68: 11.5 | BA68: =VLOOKUP(B68,ĐTBT!$V:$W,2,0) -> 2 | BI68: =AX68-E68 -> 0 | BJ68: =VLOOKUP(B68,'Thong tin'!A:R,11,0) -> 0
A69: =IF(C69="","",COUNTA($C$13:C69)) -> 57 | B69: A156 | C69: 0.41666667 | D69: =C69+$D$319 -> 0.4375 | E69: =E64+2 -> 42683 | F69: =D69+$D$315 -> 0.44444444 | G69: =F69+$D$314 -> 0.44791667 | H69: =IF(G69>2,E69+2,IF(G69>1,E69+1,E69)) -> 42683 | I69: 0.028 | J69: 0.004 | K69: -0.9 | L69: -0.952 | M69: =G69+$D$314 -> 0.45138889 | N69: =M69+$D$316 -> 0.46180556 | O69: =IF(N69>2,E69+2,IF(N69>1,E69+1,E69)) -> 42683 | P69: 1.05 | Q69: 9 | R69: 23 | S69: 0 | T69: =N69+$D$344 -> 0.58680556 | U69: =IF(T69>2,E69+2,IF(T69>1,E69+1,E69)) -> 42683 | V69: 26.45 | W69: =T69+$D$344 -> 0.71180556 | X69: =IF(W69>2,E69+2,IF(W69>1,E69+1,E69)) -> 42683 | Y69: 27.45 | Z69: =W69+$D$325 -> 0.75347222 | AA69: =Z69+$D$319 -> 0.77430556 | AB69: =IF(AA69>2,E69+2,IF(AA69>1,E69+1,E69)) -> 42683 | AC69: 27.5 | AD69: =AA69+$D$315 -> 0.78125 | AE69: =AD69+$D$316 -> 0.79166667 | AF69: =IF(AE69>2,E69+2,IF(AE69>1,E69+1,E69)) -> 42683 | AG69: =AE69+$D$315 -> 0.79861111 | AH69: =IF(BJ69>0,AG69+$D$325,AG69+$D$322) -> 0.82986111 | AI69: =IF(AH69>2,E69+2,IF(AH69>1,E69+1,E69)) -> 42683 | AJ69: =AH69+$D$319 -> 0.85069444 | AK69: =AJ69+$D$315 -> 0.85763889 | AL69: =IF(AK69>2,E69+2,IF(AK69>1,E69+1,E69)) -> 42683 | AM69: 1.05 | AN69: 9 | AO69: 23 | AP69: 0 | AQ69: =AK69 -> 0.85763889 | AR69: =AQ69+$D$315 -> 0.86458333 | AS69: =IF(AR69>2,E69+2,IF(AR69>1,E69+1,E69)) -> 42683 | AT69: 27.5 | AU69: =AR69 -> 0.86458333 | AV69: =IF(AU69>2,E69+2,IF(AU69>1,E69+1,E69)) -> 42683 | AW69: =AU69+$BC$13*BA69 -> 0.92013889 | AX69: =IF(AW69>2,E69+2,IF(AW69>1,E69+1,E69)) -> 42683 | AY69: 6.8 | AZ69: 26 | BA69: =VLOOKUP(B69,ĐTBT!$V:$W,2,0) -> 4 | BI69: =AX69-E69 -> 0 | BJ69: =VLOOKUP(B69,'Thong tin'!A:R,11,0) -> 0
... A108: =IF(C108="","",COUNTA($C$13:C108)) -> 96 | B108: A39 | C108: 0.375 | D108: =C108+$D$319 -> 0.39583333 | E108: =E103+2 -> 42699 | F108: =D108+$D$315 -> 0.40277778 | G108: =F108+$D$314 -> 0.40625 | H108: =IF(G108>2,E108+2,IF(G108>1,E108+1,E108)) -> 42699 | I108: -0.016 | J108: -0.021 | K108: -0.683 | L108: -1.081 | M108: =G108+$D$314 -> 0.40972222 | N108: =M108+$D$316 -> 0.42013889 | O108: =IF(N108>2,E108+2,IF(N108>1,E108+1,E108)) -> 42699 | P108: 1.05 | Q108: 9 | R108: 24 | S108: 0 | T108: =N108+$D$344 -> 0.54513889 | U108: =IF(T108>2,E108+2,IF(T108>1,E108+1,E108)) -> 42699 | V108: 22.25 | W108: =T108+$D$344 -> 0.67013889 | X108: =IF(W108>2,E108+2,IF(W108>1,E108+1,E108)) -> 42699 | Y108: 35.6 | Z108: =W108+$D$325 -> 0.71180556 | AA108: =Z108+$D$319 -> 0.73263889 | AB108: =IF(AA108>2,E108+2,IF(AA108>1,E108+1,E108)) -> 42699 | AC108: 35.65 | AD108: =AA108+$D$315 -> 0.73958333 | AE108: =AD108+$D$316 -> 0.75 | AF108: =IF(AE108>2,E108+2,IF(AE108>1,E108+1,E108)) -> 42699 | AG108: =AE108+$D$315 -> 0.75694444 | AH108: =IF(BJ108>0,AG108+$D$325,AG108+$D$322) -> 0.78819444 | AI108: =IF(AH108>2,E108+2,IF(AH108>1,E108+1,E108)) -> 42699 | AJ108: =AH108+$D$319 -> 0.80902778 | AK108: =AJ108+$D$315 -> 0.81597222 | AL108: =IF(AK108>2,E108+2,IF(AK108>1,E108+1,E108)) -> 42699 | AM108: 1.06 | AN108: 9 | AO108: 22 | AP108: 0 | AQ108: =AK108 -> 0.81597222 | AR108: =AQ108+$D$315 -> 0.82291667 | AS108: =IF(AR108>2,E108+2,IF(AR108>1,E108+1,E108)) -> 42699 | AT108: 35.65 | AU108: =AR108 -> 0.82291667 | AV108: =IF(AU108>2,E108+2,IF(AU108>1,E108+1,E108)) -> 42699 | AW108: =AU108+$BC$13*BA108 -> 0.89236111 | AX108: =IF(AW108>2,E108+2,IF(AW108>1,E108+1,E108)) -> 42699 | AY108: 7.9 | AZ108: 43.5 | BA108: =VLOOKUP(B108,ĐTBT!$V:$W,2,0) -> 5 | BI108: =AX108-E108 -> 0 | BJ108: =VLOOKUP(B108,'Thong tin'!A:R,11,0) -> 0
A109: =IF(C109="","",COUNTA($C$13:C109)) -> 97 | B109: A60 | C109: 0.38194444 | D109: =C109+$D$319 -> 0.40277778 | E109: =E104+2 -> 42699 | F109: =D109+$D$315 -> 0.40972222 | G109: =F109+$D$314 -> 0.41319444 | H109: =IF(G109>2,E109+2,IF(G109>1,E109+1,E109)) -> 42699 | I109: -0.025 | J109: -0.008 | K109: -0.38 | L109: -0.768 | M109: =G109+$D$314 -> 0.41666667 | N109: =M109+$D$316 -> 0.42708333 | O109: =IF(N109>2,E109+2,IF(N109>1,E109+1,E109)) -> 42699 | P109: 1.05 | Q109: 9 | R109: 24 | S109: 0 | T109: =N109+$D$344 -> 0.55208333 | U109: =IF(T109>2,E109+2,IF(T109>1,E109+1,E109)) -> 42699 | V109: 20.4 | W109: =T109+$D$344 -> 0.67708333 | X109: =IF(W109>2,E109+2,IF(W109>1,E109+1,E109)) -> 42699 | Y109: 25.15 | Z109: =W109+$D$325 -> 0.71875 | AA109: =Z109+$D$319 -> 0.73958333 | AB109: =IF(AA109>2,E109+2,IF(AA109>1,E109+1,E109)) -> 42699 | AC109: 25.2 | AD109: =AA109+$D$315 -> 0.74652778 | AE109: =AD109+$D$316 -> 0.75694444 | AF109: =IF(AE109>2,E109+2,IF(AE109>1,E109+1,E109)) -> 42699 | AG109: =AE109+$D$315 -> 0.76388889 | AH109: =IF(BJ109>0,AG109+$D$325,AG109+$D$322) -> 0.79513889 | AI109: =IF(AH109>2,E109+2,IF(AH109>1,E109+1,E109)) -> 42699 | AJ109: =AH109+$D$319 -> 0.81597222 | AK109: =AJ109+$D$315 -> 0.82291667 | AL109: =IF(AK109>2,E109+2,IF(AK109>1,E109+1,E109)) -> 42699 | AM109: 1.05 | AN109: 9 | AO109: 24 | AP109: 0 | AQ109: =AK109 -> 0.82291667 | AR109: =AQ109+$D$315 -> 0.82986111 | AS109: =IF(AR109>2,E109+2,IF(AR109>1,E109+1,E109)) -> 42699 | AT109: 25.2 | AU109: =AR109 -> 0.82986111 | AV109: =IF(AU109>2,E109+2,IF(AU109>1,E109+1,E109)) -> 42699 | AW109: =AU109+$BC$13*BA109 -> 0.87152778 | AX109: =IF(AW109>2,E109+2,IF(AW109>1,E109+1,E109)) -> 42699 | AY109: 7.32 | AZ109: 23.5 | BA109: =VLOOKUP(B109,ĐTBT!$V:$W,2,0) -> 3 | BI109: =AX109-E109 -> 0 | BJ109: =VLOOKUP(B109,'Thong tin'!A:R,11,0) -> 0 | BK109: Khoan quá 68 cm
A110: =IF(C110="","",COUNTA($C$13:C110)) -> 98 | B110: B39 | C110: 0.33680556 | D110: =C110+$D$319 -> 0.35763889 | E110: =E105+2 -> 42700 | F110: =D110+$D$315 -> 0.36458333 | G110: =F110+$D$314 -> 0.36805556 | H110: =IF(G110>2,E110+2,IF(G110>1,E110+1,E110)) -> 42700 | I110: -0.019 | J110: 0.001 | K110: -0.643 | L110: -0.834 | M110: =G110+$D$314 -> 0.37152778 | N110: =M110+$D$316 -> 0.38194444 | O110: =IF(N110>2,E110+2,IF(N110>1,E110+1,E110)) -> 42700 | P110: 1.05 | Q110: 9 | R110: 22 | S110: 0 | T110: =N110+$D$344 -> 0.50694444 | U110: =IF(T110>2,E110+2,IF(T110>1,E110+1,E110)) -> 42700 | V110: 25 | W110: =T110+$D$344 -> 0.63194444 | X110: =IF(W110>2,E110+2,IF(W110>1,E110+1,E110)) -> 42700 | Y110: 26.85 | Z110: =W110+$D$325 -> 0.67361111 | AA110: =Z110+$D$319 -> 0.69444444 | AB110: =IF(AA110>2,E110+2,IF(AA110>1,E110+1,E110)) -> 42700 | AC110: 27.14 | AD110: =AA110+$D$315 -> 0.70138889 | AE110: =AD110+$D$316 -> 0.71180556 | AF110: =IF(AE110>2,E110+2,IF(AE110>1,E110+1,E110)) -> 42700 | AG110: =AE110+$D$315 -> 0.71875 | AH110: =IF(BJ110>0,AG110+$D$325,AG110+$D$322) -> 0.76041667 | AI110: =IF(AH110>2,E110+2,IF(AH110>1,E110+1,E110)) -> 42700 | AJ110: =AH110+$D$319 -> 0.78125 | AK110: =AJ110+$D$315 -> 0.78819444 | AL110: =IF(AK110>2,E110+2,IF(AK110>1,E110+1,E110)) -> 42700 | AM110: 1.06 | AN110: 9 | AO110: 23 | AP110: 0 | AQ110: =AK110 -> 0.78819444 | AR110: =AQ110+$D$315 -> 0.79513889 | AS110: =IF(AR110>2,E110+2,IF(AR110>1,E110+1,E110)) -> 42700 | AT110: 27.14 | AU110: =AR110 -> 0.79513889 | AV110: =IF(AU110>2,E110+2,IF(AU110>1,E110+1,E110)) -> 42700 | AW110: =AU110+$BC$13*BA110 -> 0.80902778 | AX110: =IF(AW110>2,E110+2,IF(AW110>1,E110+1,E110)) -> 42700 | AY110: 5.2 | AZ110: 12 | BA110: =VLOOKUP(B110,ĐTBT!$V:$W,2,0) -> 1 | BI110: =AX110-E110 -> 0 | BJ110: =VLOOKUP(B110,'Thong tin'!A:R,11,0) -> 3
A111: =IF(C111="","",COUNTA($C$13:C111)) -> 99 | B111: B33 | C111: 0.38194444 | D111: =C111+$D$319 -> 0.40277778 | E111: =E106+2 -> 42700 | F111: =D111+$D$315 -> 0.40972222 | G111: =F111+$D$314 -> 0.41319444 | H111: =IF(G111>2,E111+2,IF(G111>1,E111+1,E111)) -> 42700 | I111: -0.004 | J111: -0.019 | K111: -0.795 | L111: -1.185 | M111: =G111+$D$314 -> 0.41666667 | N111: =M111+$D$316 -> 0.42708333 | O111: =IF(N111>2,E111+2,IF(N111>1,E111+1,E111)) -> 42700 | P111: 1.06 | Q111: 9 | R111: 22 | S111: 0 | T111: =N111+$D$344 -> 0.55208333 | U111: =IF(T111>2,E111+2,IF(T111>1,E111+1,E111)) -> 42700 | V111: 22.3 | W111: =T111+$D$344 -> 0.67708333 | X111: =IF(W111>2,E111+2,IF(W111>1,E111+1,E111)) -> 42700 | Y111: 26.7 | Z111: =W111+$D$325 -> 0.71875 | AA111: =Z111+$D$319 -> 0.73958333 | AB111: =IF(AA111>2,E111+2,IF(AA111>1,E111+1,E111)) -> 42700 | AC111: 26.85 | AD111: =AA111+$D$315 -> 0.74652778 | AE111: =AD111+$D$316 -> 0.75694444 | AF111: =IF(AE111>2,E111+2,IF(AE111>1,E111+1,E111)) -> 42700 | AG111: =AE111+$D$315 -> 0.76388889 | AH111: =IF(BJ111>0,AG111+$D$325,AG111+$D$322) -> 0.79513889 | AI111: =IF(AH111>2,E111+2,IF(AH111>1,E111+1,E111)) -> 42700 | AJ111: =AH111+$D$319 -> 0.81597222 | AK111: =AJ111+$D$315 -> 0.82291667 | AL111: =IF(AK111>2,E111+2,IF(AK111>1,E111+1,E111)) -> 42700 | AM111: 1.06 | AN111: 9 | AO111: 22 | AP111: 0 | AQ111: =AK111 -> 0.82291667 | AR111: =AQ111+$D$315 -> 0.82986111 | AS111: =IF(AR111>2,E111+2,IF(AR111>1,E111+1,E111)) -> 42700 | AT111: 26.85 | AU111: =AR111 -> 0.82986111 | AV111: =IF(AU111>2,E111+2,IF(AU111>1,E111+1,E111)) -> 42700 | AW111: =AU111+$BC$13*BA111 -> 0.85763889 | AX111: =IF(AW111>2,E111+2,IF(AW111>1,E111+1,E111)) -> 42700 | AY111: 4.3 | AZ111: 13.5 | BA111: =VLOOKUP(B111,ĐTBT!$V:$W,2,0) -> 2 | BI111: =AX111-E111 -> 0 | BJ111: =VLOOKUP(B111,'Thong tin'!A:R,11,0) -> 0
A112: =IF(C112="","",COUNTA($C$13:C112)) -> 100 | B112: A43 | C112: 0.38541667 | D112: =C112+$D$319 -> 0.40625 | E112: =E107+2 -> 42700 | F112: =D112+$D$315 -> 0.41319444 | G112: =F112+$D$314 -> 0.41666667 | H112: =IF(G112>2,E112+2,IF(G112>1,E112+1,E112)) -> 42700 | I112: 0.006 | J112: -0.012 | K112: -0.77 | L112: -1.012 | M112: =G112+$D$314 -> 0.42013889 | N112: =M112+$D$316 -> 0.43055556 | O112: =IF(N112>2,E112+2,IF(N112>1,E112+1,E112)) -> 42700 | P112: 1.05 | Q112: 9 | R112: 23 | S112: 0 | T112: =N112+$D$344 -> 0.55555556 | U112: =IF(T112>2,E112+2,IF(T112>1,E112+1,E112)) -> 42700 | V112: 22.45 | W112: =T112+$D$344 -> 0.68055556 | X112: =IF(W112>2,E112+2,IF(W112>1,E112+1,E112)) -> 42700 | Y112: 31.45 | Z112: =W112+$D$325 -> 0.72222222 | AA112: =Z112+$D$319 -> 0.74305556 | AB112: =IF(AA112>2,E112+2,IF(AA112>1,E112+1,E112)) -> 42700 | AC112: 31.6 | AD112: =AA112+$D$315 -> 0.75 | AE112: =AD112+$D$316 -> 0.76041667 | AF112: =IF(AE112>2,E112+2,IF(AE112>1,E112+1,E112)) -> 42700 | AG112: =AE112+$D$315 -> 0.76736111 | AH112: =IF(BJ112>0,AG112+$D$325,AG112+$D$322) -> 0.79861111 | AI112: =IF(AH112>2,E112+2,IF(AH112>1,E112+1,E112)) -> 42700 | AJ112: =AH112+$D$319 -> 0.81944444 | AK112: =AJ112+$D$315 -> 0.82638889 | AL112: =IF(AK112>2,E112+2,IF(AK112>1,E112+1,E112)) -> 42700 | AM112: 1.05 | AN112: 9 | AO112: 23 | AP112: 0 | AQ112: =AK112 -> 0.82638889 | AR112: =AQ112+$D$315 -> 0.83333333 | AS112: =IF(AR112>2,E112+2,IF(AR112>1,E112+1,E112)) -> 42700 | AT112: 31.6 | AU112: =AR112 -> 0.83333333 | AV112: =IF(AU112>2,E112+2,IF(AU112>1,E112+1,E112)) -> 42700 | AW112: =AU112+$BC$13*BA112 -> 0.88888889 | AX112: =IF(AW112>2,E112+2,IF(AW112>1,E112+1,E112)) -> 42700 | AY112: 7.1 | AZ112: 34 | BA112: =VLOOKUP(B112,ĐTBT!$V:$W,2,0) -> 4 | BI112: =AX112-E112 -> 0 | BJ112: =VLOOKUP(B112,'Thong tin'!A:R,11,0) -> 0
A113: =IF(C113="","",COUNTA($C$13:C113)) -> 101 | B113: B31 | C113: 0.39583333 | D113: =C113+$D$319 -> 0.41666667 | E113: =E108+2 -> 42701 | F113: =D113+$D$315 -> 0.42361111 | G113: =F113+$D$314 -> 0.42708333 | H113: =IF(G113>2,E113+2,IF(G113>1,E113+1,E113)) -> 42701 | I113: 0.026 | J113: 0.015 | K113: -0.843 | L113: -1.037 | M113: =G113+$D$314 -> 0.43055556 | N113: =M113+$D$316 -> 0.44097222 | O113: =IF(N113>2,E113+2,IF(N113>1,E113+1,E113)) -> 42701 | P113: 1.05 | Q113: 9 | R113: 23 | S113: 0 | T113: =N113+$D$344 -> 0.56597222 | U113: =IF(T113>2,E113+2,IF(T113>1,E113+1,E113)) -> 42701 | V113: 23.8 | W113: =T113+$D$344 -> 0.69097222 | X113: =IF(W113>2,E113+2,IF(W113>1,E113+1,E113)) -> 42701 | Y113: 26.65 | Z113: =W113+$D$325 -> 0.73263889 | AA113: =Z113+$D$319 -> 0.75347222 | AB113: =IF(AA113>2,E113+2,IF(AA113>1,E113+1,E113)) -> 42701 | AC113: 26.7 | AD113: =AA113+$D$315 -> 0.76041667 | AE113: =AD113+$D$316 -> 0.77083333 | AF113: =IF(AE113>2,E113+2,IF(AE113>1,E113+1,E113)) -> 42701 | AG113: =AE113+$D$315 -> 0.77777778 | AH113: =IF(BJ113>0,AG113+$D$325,AG113+$D$322) -> 0.81944444 | AI113: =IF(AH113>2,E113+2,IF(AH113>1,E113+1,E113)) -> 42701 | AJ113: =AH113+$D$319 -> 0.84027778 | AK113: =AJ113+$D$315 -> 0.84722222 | AL113: =IF(AK113>2,E113+2,IF(AK113>1,E113+1,E113)) -> 42701 | AM113: 1.05 | AN113: 9 | AO113: 23 | AP113: 0 | AQ113: =AK113 -> 0.84722222 | AR113: =AQ113+$D$315 -> 0.85416667 | AS113: =IF(AR113>2,E113+2,IF(AR113>1,E113+1,E113)) -> 42701 | AT113: 26.7 | AU113: =AR113 -> 0.85416667 | AV113: =IF(AU113>2,E113+2,IF(AU113>1,E113+1,E113)) -> 42701 | AW113: =AU113+$BC$13*BA113 -> 0.88194444 | AX113: =IF(AW113>2,E113+2,IF(AW113>1,E113+1,E113)) -> 42701 | AY113: 4.96 | AZ113: 13 | BA113: =VLOOKUP(B113,ĐTBT!$V:$W,2,0) -> 2 | BI113: =AX113-E113 -> 0 | BJ113: =VLOOKUP(B113,'Thong tin'!A:R,11,0) -> 3
A114: =IF(C114="","",COUNTA($C$13:C114)) -> 102 | B114: A63 | C114: 0.29166667 | D114: =C114+$D$319 -> 0.3125 | E114: =E109+2 -> 42701 | F114: =D114+$D$315 -> 0.31944444 | G114: =F114+$D$314 -> 0.32291667 | H114: =IF(G114>2,E114+2,IF(G114>1,E114+1,E114)) -> 42701 | I114: -0.016 | J114: 0.018 | K114: -0.309 | L114: -0.913 | M114: =G114+$D$314 -> 0.32638889 | N114: =M114+$D$316 -> 0.33680556 | O114: =IF(N114>2,E114+2,IF(N114>1,E114+1,E114)) -> 42701 | P114: 1.05 | Q114: 9 | R114: 23 | S114: 0 | T114: =N114+$D$344 -> 0.46180556 | U114: =IF(T114>2,E114+2,IF(T114>1,E114+1,E114)) -> 42701 | V114: 22.85 | W114: =T114+$D$344 -> 0.58680556 | X114: =IF(W114>2,E114+2,IF(W114>1,E114+1,E114)) -> 42701 | Y114: 38.62 | Z114: =W114+$D$325 -> 0.62847222 | AA114: =Z114+$D$319 -> 0.64930556 | AB114: =IF(AA114>2,E114+2,IF(AA114>1,E114+1,E114)) -> 42701 | AC114: 38.62 | AD114: =AA114+$D$315 -> 0.65625 | AE114: =AD114+$D$316 -> 0.66666667 | AF114: =IF(AE114>2,E114+2,IF(AE114>1,E114+1,E114)) -> 42701 | AG114: =AE114+$D$315 -> 0.67361111 | AH114: =IF(BJ114>0,AG114+$D$325,AG114+$D$322) -> 0.70486111 | AI114: =IF(AH114>2,E114+2,IF(AH114>1,E114+1,E114)) -> 42701 | AJ114: =AH114+$D$319 -> 0.72569444 | AK114: =AJ114+$D$315 -> 0.73263889 | AL114: =IF(AK114>2,E114+2,IF(AK114>1,E114+1,E114)) -> 42701 | AM114: 1.06 | AN114: 9 | AO114: 22 | AP114: 0 | AQ114: =AK114 -> 0.73263889 | AR114: =AQ114+$D$315 -> 0.73958333 | AS114: =IF(AR114>2,E114+2,IF(AR114>1,E114+1,E114)) -> 42701 | AT114: 38.62 | AU114: =AR114 -> 0.73958333 | AV114: =IF(AU114>2,E114+2,IF(AU114>1,E114+1,E114)) -> 42701 | AW114: =AU114+$BC$13*BA114 -> 0.82291667 | AX114: =IF(AW114>2,E114+2,IF(AW114>1,E114+1,E114)) -> 42701 | AY114: 6.5 | AZ114: 54 | BA114: =VLOOKUP(B114,ĐTBT!$V:$W,2,0) -> 6 | BI114: =AX114-E114 -> 0 | BJ114: =VLOOKUP(B114,'Thong tin'!A:R,11,0) -> 0
A115: =IF(C115="","",COUNTA($C$13:C115)) -> 103 | B115: B32 | C115: 0.3125 | D115: =C115+$D$319 -> 0.33333333 | E115: =E110+2 -> 42702 | F115: =D115+$D$315 -> 0.34027778 | G115: =F115+$D$314 -> 0.34375 | H115: =IF(G115>2,E115+2,IF(G115>1,E115+1,E115)) -> 42702 | I115: 0.027 | J115: -0.026 | K115: -0.645 | L115: -0.84 | M115: =G115+$D$314 -> 0.34722222 | N115: =M115+$D$316 -> 0.35763889 | O115: =IF(N115>2,E115+2,IF(N115>1,E115+1,E115)) -> 42702 | P115: 1.06 | Q115: 9 | R115: 23 | S115: 0 | T115: =N115+$D$344 -> 0.48263889 | U115: =IF(T115>2,E115+2,IF(T115>1,E115+1,E115)) -> 42702 | V115: 22 | W115: =T115+$D$344 -> 0.60763889 | X115: =IF(W115>2,E115+2,IF(W115>1,E115+1,E115)) -> 42702 | Y115: 26.86 | Z115: =W115+$D$325 -> 0.64930556 | AA115: =Z115+$D$319 -> 0.67013889 | AB115: =IF(AA115>2,E115+2,IF(AA115>1,E115+1,E115)) -> 42702 | AC115: 27 | AD115: =AA115+$D$315 -> 0.67708333 | AE115: =AD115+$D$316 -> 0.6875 | AF115: =IF(AE115>2,E115+2,IF(AE115>1,E115+1,E115)) -> 42702 | AG115: =AE115+$D$315 -> 0.69444444 | AH115: =IF(BJ115>0,AG115+$D$325,AG115+$D$322) -> 0.73611111 | AI115: =IF(AH115>2,E115+2,IF(AH115>1,E115+1,E115)) -> 42702 | AJ115: =AH115+$D$319 -> 0.75694444 | AK115: =AJ115+$D$315 -> 0.76388889 | AL115: =IF(AK115>2,E115+2,IF(AK115>1,E115+1,E115)) -> 42702 | AM115: 1.06 | AN115: 9 | AO115: 23 | AP115: 0 | AQ115: =AK115 -> 0.76388889 | AR115: =AQ115+$D$315 -> 0.77083333 | AS115: =IF(AR115>2,E115+2,IF(AR115>1,E115+1,E115)) -> 42702 | AT115: 27 | AU115: =AR115 -> 0.77083333 | AV115: =IF(AU115>2,E115+2,IF(AU115>1,E115+1,E115)) -> 42702 | AW115: =AU115+$BC$13*BA115 -> 0.79861111 | AX115: =IF(AW115>2,E115+2,IF(AW115>1,E115+1,E115)) -> 42702 | AY115: 4.3 | AZ115: 13 | BA115: =VLOOKUP(B115,ĐTBT!$V:$W,2,0) -> 2 | BI115: =AX115-E115 -> 0 | BJ115: =VLOOKUP(B115,'Thong tin'!A:R,11,0) -> 3 | BK115: Trồi lông + ống siêu âm thiếu
A116: =IF(C116="","",COUNTA($C$13:C116)) -> 104 | B116: A46 | C116: 0.31597222 | D116: =C116+$D$319 -> 0.33680556 | E116: =E111+2 -> 42702 | F116: =D116+$D$315 -> 0.34375 | G116: =F116+$D$314 -> 0.34722222 | H116: =IF(G116>2,E116+2,IF(G116>1,E116+1,E116)) -> 42702 | I116: 0.03 | J116: -0.018 | K116: -0.805 | L116: -1.158 | M116: =G116+$D$314 -> 0.35069444 | N116: =M116+$D$316 -> 0.36111111 | O116: =IF(N116>2,E116+2,IF(N116>1,E116+1,E116)) -> 42702 | P116: 1.05 | Q116: 9 | R116: 22 | S116: 0 | T116: =N116+$D$344 -> 0.48611111 | U116: =IF(T116>2,E116+2,IF(T116>1,E116+1,E116)) -> 42702 | V116: 21.3 | W116: =T116+$D$344 -> 0.61111111 | X116: =IF(W116>2,E116+2,IF(W116>1,E116+1,E116)) -> 42702 | Y116: 31.55 | Z116: =W116+$D$325 -> 0.65277778 | AA116: =Z116+$D$319 -> 0.67361111 | AB116: =IF(AA116>2,E116+2,IF(AA116>1,E116+1,E116)) -> 42702 | AC116: 31.7 | AD116: =AA116+$D$315 -> 0.68055556 | AE116: =AD116+$D$316 -> 0.69097222 | AF116: =IF(AE116>2,E116+2,IF(AE116>1,E116+1,E116)) -> 42702 | AG116: =AE116+$D$315 -> 0.69791667 | AH116: =IF(BJ116>0,AG116+$D$325,AG116+$D$322) -> 0.73958333 | AI116: =IF(AH116>2,E116+2,IF(AH116>1,E116+1,E116)) -> 42702 | AJ116: =AH116+$D$319 -> 0.76041667 | AK116: =AJ116+$D$315 -> 0.76736111 | AL116: =IF(AK116>2,E116+2,IF(AK116>1,E116+1,E116)) -> 42702 | AM116: 1.06 | AN116: 9 | AO116: 22 | AP116: 0 | AQ116: =AK116 -> 0.76736111 | AR116: =AQ116+$D$315 -> 0.77430556 | AS116: =IF(AR116>2,E116+2,IF(AR116>1,E116+1,E116)) -> 42702 | AT116: 31.7 | AU116: =AR116 -> 0.77430556 | AV116: =IF(AU116>2,E116+2,IF(AU116>1,E116+1,E116)) -> 42702 | AW116: =AU116+$BC$13*BA116 -> 0.82986111 | AX116: =IF(AW116>2,E116+2,IF(AW116>1,E116+1,E116)) -> 42702 | AY116: 7.1 | AZ116: 33 | BA116: =VLOOKUP(B116,ĐTBT!$V:$W,2,0) -> 4 | BI116: =AX116-E116 -> 0 | BJ116: =VLOOKUP(B116,'Thong tin'!A:R,11,0) -> 4
A117: =IF(C117="","",COUNTA($C$13:C117)) -> 105 | B117: A67 | C117: 0.31944444 | D117: =C117+$D$319 -> 0.34027778 | E117: =E112+2 -> 42702 | F117: =D117+$D$315 -> 0.34722222 | G117: =F117+$D$314 -> 0.35069444 | H117: =IF(G117>2,E117+2,IF(G117>1,E117+1,E117)) -> 42702 | I117: 0.01 | J117: 0.013 | K117: -0.205 | L117: -0.814 | M117: =G117+$D$314 -> 0.35416667 | N117: =M117+$D$316 -> 0.36458333 | O117: =IF(N117>2,E117+2,IF(N117>1,E117+1,E117)) -> 42702 | P117: 1.06 | Q117: 9 | R117: 21 | S117: 0 | T117: =N117+$D$344 -> 0.48958333 | U117: =IF(T117>2,E117+2,IF(T117>1,E117+1,E117)) -> 42702 | V117: 21.3 | W117: =T117+$D$344 -> 0.61458333 | X117: =IF(W117>2,E117+2,IF(W117>1,E117+1,E117)) -> 42702 | Y117: 27.8 | Z117: =W117+$D$325 -> 0.65625 | AA117: =Z117+$D$319 -> 0.67708333 | AB117: =IF(AA117>2,E117+2,IF(AA117>1,E117+1,E117)) -> 42702 | AC117: 28 | AD117: =AA117+$D$315 -> 0.68402778 | AE117: =AD117+$D$316 -> 0.69444444 | AF117: =IF(AE117>2,E117+2,IF(AE117>1,E117+1,E117)) -> 42702 | AG117: =AE117+$D$315 -> 0.70138889 | AH117: =IF(BJ117>0,AG117+$D$325,AG117+$D$322) -> 0.73263889 | AI117: =IF(AH117>2,E117+2,IF(AH117>1,E117+1,E117)) -> 42702 | AJ117: =AH117+$D$319 -> 0.75347222 | AK117: =AJ117+$D$315 -> 0.76041667 | AL117: =IF(AK117>2,E117+2,IF(AK117>1,E117+1,E117)) -> 42702 | AM117: 1.05 | AN117: 9 | AO117: 22 | AP117: 0 | AQ117: =AK117 -> 0.76041667 | AR117: =AQ117+$D$315 -> 0.76736111 | AS117: =IF(AR117>2,E117+2,IF(AR117>1,E117+1,E117)) -> 42702 | AT117: 28 | AU117: =AR117 -> 0.76736111 | AV117: =IF(AU117>2,E117+2,IF(AU117>1,E117+1,E117)) -> 42702 | AW117: =AU117+$BC$13*BA117 -> 0.80902778 | AX117: =IF(AW117>2,E117+2,IF(AW117>1,E117+1,E117)) -> 42702 | AY117: 8 | AZ117: 29 | BA117: =VLOOKUP(B117,ĐTBT!$V:$W,2,0) -> 3 | BI117: =AX117-E117 -> 0 | BJ117: =VLOOKUP(B117,'Thong tin'!A:R,11,0) -> 0 | BK117: BT khô
A118: =IF(C118="","",COUNTA($C$13:C118)) -> 106 | B118: B34 | C118: 0.38888889 | D118: =C118+$D$319 -> 0.40972222 | E118: =E113+2 -> 42703 | F118: =D118+$D$315 -> 0.41666667 | G118: =F118+$D$314 -> 0.42013889 | H118: =IF(G118>2,E118+2,IF(G118>1,E118+1,E118)) -> 42703 | I118: 0.005 | J118: 0.018 | K118: -0.638 | L118: -0.81 | M118: =G118+$D$314 -> 0.42361111 | N118: =M118+$D$316 -> 0.43402778 | O118: =IF(N118>2,E118+2,IF(N118>1,E118+1,E118)) -> 42703 | P118: 1.06 | Q118: 9 | R118: 23 | S118: 0 | T118: =N118+$D$344 -> 0.55902778 | U118: =IF(T118>2,E118+2,IF(T118>1,E118+1,E118)) -> 42703 | V118: 22.5 | W118: =T118+$D$344 -> 0.68402778 | X118: =IF(W118>2,E118+2,IF(W118>1,E118+1,E118)) -> 42703 | Y118: 26.87 | Z118: =W118+$D$325 -> 0.72569444 | AA118: =Z118+$D$319 -> 0.74652778 | AB118: =IF(AA118>2,E118+2,IF(AA118>1,E118+1,E118)) -> 42703 | AC118: 27 | AD118: =AA118+$D$315 -> 0.75347222 | AE118: =AD118+$D$316 -> 0.76388889 | AF118: =IF(AE118>2,E118+2,IF(AE118>1,E118+1,E118)) -> 42703 | AG118: =AE118+$D$315 -> 0.77083333 | AH118: =IF(BJ118>0,AG118+$D$325,AG118+$D$322) -> 0.8125 | AI118: =IF(AH118>2,E118+2,IF(AH118>1,E118+1,E118)) -> 42703 | AJ118: =AH118+$D$319 -> 0.83333333 | AK118: =AJ118+$D$315 -> 0.84027778 | AL118: =IF(AK118>2,E118+2,IF(AK118>1,E118+1,E118)) -> 42703 | AM118: 1.06 | AN118: 9 | AO118: 22 | AP118: 0 | AQ118: =AK118 -> 0.84027778 | AR118: =AQ118+$D$315 -> 0.84722222 | AS118: =IF(AR118>2,E118+2,IF(AR118>1,E118+1,E118)) -> 42703 | AT118: 27 | AU118: =AR118 -> 0.84722222 | AV118: =IF(AU118>2,E118+2,IF(AU118>1,E118+1,E118)) -> 42703 | AW118: =AU118+$BC$13*BA118 -> 0.875 | AX118: =IF(AW118>2,E118+2,IF(AW118>1,E118+1,E118)) -> 42703 | AY118: 4.7 | AZ118: 12 | BA118: =VLOOKUP(B118,ĐTBT!$V:$W,2,0) -> 2 | BI118: =AX118-E118 -> 0 | BJ118: =VLOOKUP(B118,'Thong tin'!A:R,11,0) -> 2
A119: =IF(C119="","",COUNTA($C$13:C119)) -> 107 | B119: B35 | C119: 0.39583333 | D119: =C119+$D$319 -> 0.41666667 | E119: =E114+2 -> 42703 | F119: =D119+$D$315 -> 0.42361111 | G119: =F119+$D$314 -> 0.42708333 | H119: =IF(G119>2,E119+2,IF(G119>1,E119+1,E119)) -> 42703 | I119: -0.021 | J119: -0.022 | K119: -0.475 | L119: -1.107 | M119: =G119+$D$314 -> 0.43055556 | N119: =M119+$D$316 -> 0.44097222 | O119: =IF(N119>2,E119+2,IF(N119>1,E119+1,E119)) -> 42703 | P119: 1.06 | Q119: 9 | R119: 23 | S119: 0 | T119: =N119+$D$344 -> 0.56597222 | U119: =IF(T119>2,E119+2,IF(T119>1,E119+1,E119)) -> 42703 | V119: 22.8 | W119: =T119+$D$344 -> 0.69097222 | X119: =IF(W119>2,E119+2,IF(W119>1,E119+1,E119)) -> 42703 | Y119: 27 | Z119: =W119+$D$325 -> 0.73263889 | AA119: =Z119+$D$319 -> 0.75347222 | AB119: =IF(AA119>2,E119+2,IF(AA119>1,E119+1,E119)) -> 42703 | AC119: 27 | AD119: =AA119+$D$315 -> 0.76041667 | AE119: =AD119+$D$316 -> 0.77083333 | AF119: =IF(AE119>2,E119+2,IF(AE119>1,E119+1,E119)) -> 42703 | AG119: =AE119+$D$315 -> 0.77777778 | AH119: =IF(BJ119>0,AG119+$D$325,AG119+$D$322) -> 0.80902778 | AI119: =IF(AH119>2,E119+2,IF(AH119>1,E119+1,E119)) -> 42703 | AJ119: =AH119+$D$319 -> 0.82986111 | AK119: =AJ119+$D$315 -> 0.83680556 | AL119: =IF(AK119>2,E119+2,IF(AK119>1,E119+1,E119)) -> 42703 | AM119: 1.06 | AN119: 9 | AO119: 22 | AP119: 0 | AQ119: =AK119 -> 0.83680556 | AR119: =AQ119+$D$315 -> 0.84375 | AS119: =IF(AR119>2,E119+2,IF(AR119>1,E119+1,E119)) -> 42703 | AT119: 27 | AU119: =AR119 -> 0.84375 | AV119: =IF(AU119>2,E119+2,IF(AU119>1,E119+1,E119)) -> 42703 | AW119: =AU119+$BC$13*BA119 -> 0.87152778 | AX119: =IF(AW119>2,E119+2,IF(AW119>1,E119+1,E119)) -> 42703 | AY119: 4.8 | AZ119: 12 | BA119: =VLOOKUP(B119,ĐTBT!$V:$W,2,0) -> 2 | BI119: =AX119-E119 -> 0 | BJ119: =VLOOKUP(B119,'Thong tin'!A:R,11,0) -> 0
A120: =IF(C120="","",COUNTA($C$13:C120)) -> 108 | B120: B37 | C120: 0.34722222 | D120: =C120+$D$319 -> 0.36805556 | E120: =E115+2 -> 42704 | F120: =D120+$D$315 -> 0.375 | G120: =F120+$D$314 -> 0.37847222 | H120: =IF(G120>2,E120+2,IF(G120>1,E120+1,E120)) -> 42704 | I120: 0.015 | J120: -0.005 | K120: -0.63 | L120: -0.854 | M120: =G120+$D$314 -> 0.38194444 | N120: =M120+$D$316 -> 0.39236111 | O120: =IF(N120>2,E120+2,IF(N120>1,E120+1,E120)) -> 42704 | P120: 1.05 | Q120: 9 | R120: 22 | S120: 0 | T120: =N120+$D$344 -> 0.51736111 | U120: =IF(T120>2,E120+2,IF(T120>1,E120+1,E120)) -> 42704 | V120: 21 | W120: =T120+$D$344 -> 0.64236111 | X120: =IF(W120>2,E120+2,IF(W120>1,E120+1,E120)) -> 42704 | Y120: 27 | Z120: =W120+$D$325 -> 0.68402778 | AA120: =Z120+$D$319 -> 0.70486111 | AB120: =IF(AA120>2,E120+2,IF(AA120>1,E120+1,E120)) -> 42704 | AC120: 27 | AD120: =AA120+$D$315 -> 0.71180556 | AE120: =AD120+$D$316 -> 0.72222222 | AF120: =IF(AE120>2,E120+2,IF(AE120>1,E120+1,E120)) -> 42704 | AG120: =AE120+$D$315 -> 0.72916667 | AH120: =IF(BJ120>0,AG120+$D$325,AG120+$D$322) -> 0.76041667 | AI120: =IF(AH120>2,E120+2,IF(AH120>1,E120+1,E120)) -> 42704 | AJ120: =AH120+$D$319 -> 0.78125 | AK120: =AJ120+$D$315 -> 0.78819444 | AL120: =IF(AK120>2,E120+2,IF(AK120>1,E120+1,E120)) -> 42704 | AM120: 1.06 | AN120: 9 | AO120: 23 | AP120: 0 | AQ120: =AK120 -> 0.78819444 | AR120: =AQ120+$D$315 -> 0.79513889 | AS120: =IF(AR120>2,E120+2,IF(AR120>1,E120+1,E120)) -> 42704 | AT120: 27 | AU120: =AR120 -> 0.79513889 | AV120: =IF(AU120>2,E120+2,IF(AU120>1,E120+1,E120)) -> 42704 | AW120: =AU120+$BC$13*BA120 -> 0.82291667 | AX120: =IF(AW120>2,E120+2,IF(AW120>1,E120+1,E120)) -> 42704 | AY120: 5 | AZ120: 12 | BA120: =VLOOKUP(B120,ĐTBT!$V:$W,2,0) -> 2 | BI120: =AX120-E120 -> 0 | BJ120: =VLOOKUP(B120,'Thong tin'!A:R,11,0) -> 0
A121: =IF(C121="","",COUNTA($C$13:C121)) -> 109 | B121: A129 | C121: 0.35416667 | D121: =C121+$D$319 -> 0.375 | E121: =E116+2 -> 42704 | F121: =D121+$D$315 -> 0.38194444 | G121: =F121+$D$314 -> 0.38541667 | H121: =IF(G121>2,E121+2,IF(G121>1,E121+1,E121)) -> 42704 | I121: 0.003 | J121: -0.006 | K121: -0.831 | L121: -1.177 | M121: =G121+$D$314 -> 0.38888889 | N121: =M121+$D$316 -> 0.39930556 | O121: =IF(N121>2,E121+2,IF(N121>1,E121+1,E121)) -> 42704 | P121: 1.05 | Q121: 9 | R121: 22 | S121: 0 | T121: =N121+$D$344 -> 0.52430556 | U121: =IF(T121>2,E121+2,IF(T121>1,E121+1,E121)) -> 42704 | V121: 19 | W121: =T121+$D$344 -> 0.64930556 | X121: =IF(W121>2,E121+2,IF(W121>1,E121+1,E121)) -> 42704 | Y121: 30.2 | Z121: =W121+$D$325 -> 0.69097222 | AA121: =Z121+$D$319 -> 0.71180556 | AB121: =IF(AA121>2,E121+2,IF(AA121>1,E121+1,E121)) -> 42704 | AC121: 30.2 | AD121: =AA121+$D$315 -> 0.71875 | AE121: =AD121+$D$316 -> 0.72916667 | AF121: =IF(AE121>2,E121+2,IF(AE121>1,E121+1,E121)) -> 42704 | AG121: =AE121+$D$315 -> 0.73611111 | AH121: =IF(BJ121>0,AG121+$D$325,AG121+$D$322) -> 0.76736111 | AI121: =IF(AH121>2,E121+2,IF(AH121>1,E121+1,E121)) -> 42704 | AJ121: =AH121+$D$319 -> 0.78819444 | AK121: =AJ121+$D$315 -> 0.79513889 | AL121: =IF(AK121>2,E121+2,IF(AK121>1,E121+1,E121)) -> 42704 | AM121: 1.06 | AN121: 9 | AO121: 23 | AP121: 0 | AQ121: =AK121 -> 0.79513889 | AR121: =AQ121+$D$315 -> 0.80208333 | AS121: =IF(AR121>2,E121+2,IF(AR121>1,E121+1,E121)) -> 42704 | AT121: 30.2 | AU121: =AR121 -> 0.80208333 | AV121: =IF(AU121>2,E121+2,IF(AU121>1,E121+1,E121)) -> 42704 | AW121: =AU121+$BC$13*BA121 -> 0.87152778 | AX121: =IF(AW121>2,E121+2,IF(AW121>1,E121+1,E121)) -> 42704 | AY121: 6.3 | AZ121: 44 | BA121: =VLOOKUP(B121,ĐTBT!$V:$W,2,0) -> 5 | BI121: =AX121-E121 -> 0 | BJ121: =VLOOKUP(B121,'Thong tin'!A:R,11,0) -> 0
A122: =IF(C122="","",COUNTA($C$13:C122)) -> 110 | B122: B38 | C122: 0.38888889 | D122: =C122+$D$319 -> 0.40972222 | E122: =E117+2 -> 42704 | F122: =D122+$D$315 -> 0.41666667 | G122: =F122+$D$314 -> 0.42013889 | H122: =IF(G122>2,E122+2,IF(G122>1,E122+1,E122)) -> 42704 | I122: -0.018 | J122: 0.012 | K122: -0.445 | L122: -0.875 | M122: =G122+$D$314 -> 0.42361111 | N122: =M122+$D$316 -> 0.43402778 | O122: =IF(N122>2,E122+2,IF(N122>1,E122+1,E122)) -> 42704 | P122: 1.06 | Q122: 9 | R122: 23 | S122: 0 | T122: =N122+$D$344 -> 0.55902778 | U122: =IF(T122>2,E122+2,IF(T122>1,E122+1,E122)) -> 42704 | V122: 21.3 | W122: =T122+$D$344 -> 0.68402778 | X122: =IF(W122>2,E122+2,IF(W122>1,E122+1,E122)) -> 42704 | Y122: 27.1 | Z122: =W122+$D$325 -> 0.72569444 | AA122: =Z122+$D$319 -> 0.74652778 | AB122: =IF(AA122>2,E122+2,IF(AA122>1,E122+1,E122)) -> 42704 | AC122: 27.2 | AD122: =AA122+$D$315 -> 0.75347222 | AE122: =AD122+$D$316 -> 0.76388889 | AF122: =IF(AE122>2,E122+2,IF(AE122>1,E122+1,E122)) -> 42704 | AG122: =AE122+$D$315 -> 0.77083333 | AH122: =IF(BJ122>0,AG122+$D$325,AG122+$D$322) -> 0.80208333 | AI122: =IF(AH122>2,E122+2,IF(AH122>1,E122+1,E122)) -> 42704 | AJ122: =AH122+$D$319 -> 0.82291667 | AK122: =AJ122+$D$315 -> 0.82986111 | AL122: =IF(AK122>2,E122+2,IF(AK122>1,E122+1,E122)) -> 42704 | AM122: 1.06 | AN122: 9 | AO122: 22 | AP122: 0 | AQ122: =AK122 -> 0.82986111 | AR122: =AQ122+$D$315 -> 0.83680556 | AS122: =IF(AR122>2,E122+2,IF(AR122>1,E122+1,E122)) -> 42704 | AT122: 27.2 | AU122: =AR122 -> 0.83680556 | AV122: =IF(AU122>2,E122+2,IF(AU122>1,E122+1,E122)) -> 42704 | AW122: =AU122+$BC$13*BA122 -> 0.86458333 | AX122: =IF(AW122>2,E122+2,IF(AW122>1,E122+1,E122)) -> 42704 | AY122: 4.9 | AZ122: 12 | BA122: =VLOOKUP(B122,ĐTBT!$V:$W,2,0) -> 2 | BI122: =AX122-E122 -> 0 | BJ122: =VLOOKUP(B122,'Thong tin'!A:R,11,0) -> 0
A123: =IF(C123="","",COUNTA($C$13:C123)) -> 111 | B123: A42 | C123: 0.32291667 | D123: =C123+$D$319 -> 0.34375 | E123: =E118+2 -> 42705 | F123: =D123+$D$315 -> 0.35069444 | G123: =F123+$D$314 -> 0.35416667 | H123: =IF(G123>2,E123+2,IF(G123>1,E123+1,E123)) -> 42705 | I123: -0.021 | J123: -0.002 | K123: -0.665 | L123: -1.1 | M123: =G123+$D$314 -> 0.35763889 | N123: =M123+$D$316 -> 0.36805556 | O123: =IF(N123>2,E123+2,IF(N123>1,E123+1,E123)) -> 42705 | P123: 1.06 | Q123: 9 | R123: 22 | S123: 0 | T123: =N123+$D$344 -> 0.49305556 | U123: =IF(T123>2,E123+2,IF(T123>1,E123+1,E123)) -> 42705 | V123: 23 | W123: =T123+$D$344 -> 0.61805556 | X123: =IF(W123>2,E123+2,IF(W123>1,E123+1,E123)) -> 42705 | Y123: 31.7 | Z123: =W123+$D$325 -> 0.65972222 | AA123: =Z123+$D$319 -> 0.68055556 | AB123: =IF(AA123>2,E123+2,IF(AA123>1,E123+1,E123)) -> 42705 | AC123: 31.9 | AD123: =AA123+$D$315 -> 0.6875 | AE123: =AD123+$D$316 -> 0.69791667 | AF123: =IF(AE123>2,E123+2,IF(AE123>1,E123+1,E123)) -> 42705 | AG123: =AE123+$D$315 -> 0.70486111 | AH123: =IF(BJ123>0,AG123+$D$325,AG123+$D$322) -> 0.73611111 | AI123: =IF(AH123>2,E123+2,IF(AH123>1,E123+1,E123)) -> 42705 | AJ123: =AH123+$D$319 -> 0.75694444 | AK123: =AJ123+$D$315 -> 0.76388889 | AL123: =IF(AK123>2,E123+2,IF(AK123>1,E123+1,E123)) -> 42705 | AM123: 1.05 | AN123: 9 | AO123: 24 | AP123: 0 | AQ123: =AK123 -> 0.76388889 | AR123: =AQ123+$D$315 -> 0.77083333 | AS123: =IF(AR123>2,E123+2,IF(AR123>1,E123+1,E123)) -> 42705 | AT123: 31.9 | AU123: =AR123 -> 0.77083333 | AV123: =IF(AU123>2,E123+2,IF(AU123>1,E123+1,E123)) -> 42705 | AW123: =AU123+$BC$13*BA123 -> 0.86805556 | AX123: =IF(AW123>2,E123+2,IF(AW123>1,E123+1,E123)) -> 42705 | AY123: 7.7 | AZ123: 62 | BA123: =VLOOKUP(B123,ĐTBT!$V:$W,2,0) -> 7 | BI123: =AX123-E123 -> 0 | BJ123: =VLOOKUP(B123,'Thong tin'!A:R,11,0) -> 0
A124: =IF(C124="","",COUNTA($C$13:C124)) -> 112 | B124: B36 | C124: 0.34027778 | D124: =C124+$D$319 -> 0.36111111 | E124: =E119+2 -> 42705 | F124: =D124+$D$315 -> 0.36805556 | G124: =F124+$D$314 -> 0.37152778 | H124: =IF(G124>2,E124+2,IF(G124>1,E124+1,E124)) -> 42705 | I124: -0.018 | J124: 0.016 | K124: -0.575 | L124: -0.816 | M124: =G124+$D$314 -> 0.375 | N124: =M124+$D$316 -> 0.38541667 | O124: =IF(N124>2,E124+2,IF(N124>1,E124+1,E124)) -> 42705 | P124: 1.05 | Q124: 9 | R124: 23 | S124: 0 | T124: =N124+$D$344 -> 0.51041667 | U124: =IF(T124>2,E124+2,IF(T124>1,E124+1,E124)) -> 42705 | V124: 19.8 | W124: =T124+$D$344 -> 0.63541667 | X124: =IF(W124>2,E124+2,IF(W124>1,E124+1,E124)) -> 42705 | Y124: 27.15 | Z124: =W124+$D$325 -> 0.67708333 | AA124: =Z124+$D$319 -> 0.69791667 | AB124: =IF(AA124>2,E124+2,IF(AA124>1,E124+1,E124)) -> 42705 | AC124: 27.15 | AD124: =AA124+$D$315 -> 0.70486111 | AE124: =AD124+$D$316 -> 0.71527778 | AF124: =IF(AE124>2,E124+2,IF(AE124>1,E124+1,E124)) -> 42705 | AG124: =AE124+$D$315 -> 0.72222222 | AH124: =IF(BJ124>0,AG124+$D$325,AG124+$D$322) -> 0.76388889 | AI124: =IF(AH124>2,E124+2,IF(AH124>1,E124+1,E124)) -> 42705 | AJ124: =AH124+$D$319 -> 0.78472222 | AK124: =AJ124+$D$315 -> 0.79166667 | AL124: =IF(AK124>2,E124+2,IF(AK124>1,E124+1,E124)) -> 42705 | AM124: 1.06 | AN124: 9 | AO124: 25 | AP124: 0 | AQ124: =AK124 -> 0.79166667 | AR124: =AQ124+$D$315 -> 0.79861111 | AS124: =IF(AR124>2,E124+2,IF(AR124>1,E124+1,E124)) -> 42705 | AT124: 27.15 | AU124: =AR124 -> 0.79861111 | AV124: =IF(AU124>2,E124+2,IF(AU124>1,E124+1,E124)) -> 42705 | AW124: =AU124+$BC$13*BA124 -> 0.82638889 | AX124: =IF(AW124>2,E124+2,IF(AW124>1,E124+1,E124)) -> 42705 | AY124: 4.8 | AZ124: 12 | BA124: =VLOOKUP(B124,ĐTBT!$V:$W,2,0) -> 2 | BI124: =AX124-E124 -> 0 | BJ124: =VLOOKUP(B124,'Thong tin'!A:R,11,0) -> 3
A125: =IF(C125="","",COUNTA($C$13:C125)) -> 113 | B125: B40 | C125: 0.33333333 | D125: =C125+$D$319 -> 0.35416667 | E125: =E120+2 -> 42706 | F125: =D125+$D$315 -> 0.36111111 | G125: =F125+$D$314 -> 0.36458333 | H125: =IF(G125>2,E125+2,IF(G125>1,E125+1,E125)) -> 42706 | I125: -0.004 | J125: -0.016 | K125: -0.489 | L125: -0.689 | M125: =G125+$D$314 -> 0.36805556 | N125: =M125+$D$316 -> 0.37847222 | O125: =IF(N125>2,E125+2,IF(N125>1,E125+1,E125)) -> 42706 | P125: 1.06 | Q125: 9 | R125: 23 | S125: 0 | T125: =N125+$D$344 -> 0.50347222 | U125: =IF(T125>2,E125+2,IF(T125>1,E125+1,E125)) -> 42706 | V125: 30.4 | W125: =T125+$D$344 -> 0.62847222 | X125: =IF(W125>2,E125+2,IF(W125>1,E125+1,E125)) -> 42706 | Y125: 31.6 | Z125: =W125+$D$325 -> 0.67013889 | AA125: =Z125+$D$319 -> 0.69097222 | AB125: =IF(AA125>2,E125+2,IF(AA125>1,E125+1,E125)) -> 42706 | AC125: 31.7 | AD125: =AA125+$D$315 -> 0.69791667 | AE125: =AD125+$D$316 -> 0.70833333 | AF125: =IF(AE125>2,E125+2,IF(AE125>1,E125+1,E125)) -> 42706 | AG125: =AE125+$D$315 -> 0.71527778 | AH125: =IF(BJ125>0,AG125+$D$325,AG125+$D$322) -> 0.74652778 | AI125: =IF(AH125>2,E125+2,IF(AH125>1,E125+1,E125)) -> 42706 | AJ125: =AH125+$D$319 -> 0.76736111 | AK125: =AJ125+$D$315 -> 0.77430556 | AL125: =IF(AK125>2,E125+2,IF(AK125>1,E125+1,E125)) -> 42706 | AM125: 1.05 | AN125: 9 | AO125: 22 | AP125: 0 | AQ125: =AK125 -> 0.77430556 | AR125: =AQ125+$D$315 -> 0.78125 | AS125: =IF(AR125>2,E125+2,IF(AR125>1,E125+1,E125)) -> 42706 | AT125: 31.7 | AU125: =AR125 -> 0.78125 | AV125: =IF(AU125>2,E125+2,IF(AU125>1,E125+1,E125)) -> 42706 | AW125: =AU125+$BC$13*BA125 -> 0.82291667 | AX125: =IF(AW125>2,E125+2,IF(AW125>1,E125+1,E125)) -> 42706 | AY125: 5.2 | AZ125: 15 | BA125: =VLOOKUP(B125,ĐTBT!$V:$W,2,0) -> 3 | BI125: =AX125-E125 -> 0 | BJ125: =VLOOKUP(B125,'Thong tin'!A:R,11,0) -> 0
A126: =IF(C126="","",COUNTA($C$13:C126)) -> 114 | B126: A47 | C126: 0.41666667 | D126: =C126+$D$319 -> 0.4375 | E126: =E121+2 -> 42706 | F126: =D126+$D$315 -> 0.44444444 | G126: =F126+$D$314 -> 0.44791667 | H126: =IF(G126>2,E126+2,IF(G126>1,E126+1,E126)) -> 42706 | I126: 0.017 | J126: 0.016 | K126: -0.719 | L126: -0.984 | M126: =G126+$D$314 -> 0.45138889 | N126: =M126+$D$316 -> 0.46180556 | O126: =IF(N126>2,E126+2,IF(N126>1,E126+1,E126)) -> 42706 | P126: 1.06 | Q126: 9 | R126: 23 | S126: 0 | T126: =N126+$D$344 -> 0.58680556 | U126: =IF(T126>2,E126+2,IF(T126>1,E126+1,E126)) -> 42706 | V126: 24.4 | W126: =T126+$D$344 -> 0.71180556 | X126: =IF(W126>2,E126+2,IF(W126>1,E126+1,E126)) -> 42706 | Y126: 31.5 | Z126: =W126+$D$325 -> 0.75347222 | AA126: =Z126+$D$319 -> 0.77430556 | AB126: =IF(AA126>2,E126+2,IF(AA126>1,E126+1,E126)) -> 42706 | AC126: 31.5 | AD126: =AA126+$D$315 -> 0.78125 | AE126: =AD126+$D$316 -> 0.79166667 | AF126: =IF(AE126>2,E126+2,IF(AE126>1,E126+1,E126)) -> 42706 | AG126: =AE126+$D$315 -> 0.79861111 | AH126: =IF(BJ126>0,AG126+$D$325,AG126+$D$322) -> 0.84027778 | AI126: =IF(AH126>2,E126+2,IF(AH126>1,E126+1,E126)) -> 42706 | AJ126: =AH126+$D$319 -> 0.86111111 | AK126: =AJ126+$D$315 -> 0.86805556 | AL126: =IF(AK126>2,E126+2,IF(AK126>1,E126+1,E126)) -> 42706 | AM126: 1.06 | AN126: 9 | AO126: 23 | AP126: 0 | AQ126: =AK126 -> 0.86805556 | AR126: =AQ126+$D$315 -> 0.875 | AS126: =IF(AR126>2,E126+2,IF(AR126>1,E126+1,E126)) -> 42706 | AT126: 31.5 | AU126: =AR126 -> 0.875 | AV126: =IF(AU126>2,E126+2,IF(AU126>1,E126+1,E126)) -> 42706 | AW126: =AU126+$BC$13*BA126 -> 0.93055556 | AX126: =IF(AW126>2,E126+2,IF(AW126>1,E126+1,E126)) -> 42706 | AY126: 7.8 | AZ126: 30.5 | BA126: =VLOOKUP(B126,ĐTBT!$V:$W,2,0) -> 4 | BI126: =AX126-E126 -> 0 | BJ126: =VLOOKUP(B126,'Thong tin'!A:R,11,0) -> 4
A127: =IF(C127="","",COUNTA($C$13:C127)) -> 115 | B127: A51 | C127: 0.375 | D127: =C127+$D$319 -> 0.39583333 | E127: =E122+2 -> 42706 | F127: =D127+$D$315 -> 0.40277778 | G127: =F127+$D$314 -> 0.40625 | H127: =IF(G127>2,E127+2,IF(G127>1,E127+1,E127)) -> 42706 | I127: -0.006 | J127: 0 | K127: -0.453 | L127: -1.071 | M127: =G127+$D$314 -> 0.40972222 | N127: =M127+$D$316 -> 0.42013889 | O127: =IF(N127>2,E127+2,IF(N127>1,E127+1,E127)) -> 42706 | P127: 1.05 | Q127: 9 | R127: 28 | S127: 0 | T127: =N127+$D$344 -> 0.54513889 | U127: =IF(T127>2,E127+2,IF(T127>1,E127+1,E127)) -> 42706 | V127: 21.1 | W127: =T127+$D$344 -> 0.67013889 | X127: =IF(W127>2,E127+2,IF(W127>1,E127+1,E127)) -> 42706 | Y127: 31.22 | Z127: =W127+$D$325 -> 0.71180556 | AA127: =Z127+$D$319 -> 0.73263889 | AB127: =IF(AA127>2,E127+2,IF(AA127>1,E127+1,E127)) -> 42706 | AC127: 31.5 | AD127: =AA127+$D$315 -> 0.73958333 | AE127: =AD127+$D$316 -> 0.75 | AF127: =IF(AE127>2,E127+2,IF(AE127>1,E127+1,E127)) -> 42706 | AG127: =AE127+$D$315 -> 0.75694444 | AH127: =IF(BJ127>0,AG127+$D$325,AG127+$D$322) -> 0.78819444 | AI127: =IF(AH127>2,E127+2,IF(AH127>1,E127+1,E127)) -> 42706 | AJ127: =AH127+$D$319 -> 0.80902778 | AK127: =AJ127+$D$315 -> 0.81597222 | AL127: =IF(AK127>2,E127+2,IF(AK127>1,E127+1,E127)) -> 42706 | AM127: 1.05 | AN127: 9 | AO127: 20 | AP127: 0 | AQ127: =AK127 -> 0.81597222 | AR127: =AQ127+$D$315 -> 0.82291667 | AS127: =IF(AR127>2,E127+2,IF(AR127>1,E127+1,E127)) -> 42706 | AT127: 31.5 | AU127: =AR127 -> 0.82291667 | AV127: =IF(AU127>2,E127+2,IF(AU127>1,E127+1,E127)) -> 42706 | AW127: =AU127+$BC$13*BA127 -> 0.87847222 | AX127: =IF(AW127>2,E127+2,IF(AW127>1,E127+1,E127)) -> 42706 | AY127: 6.8 | AZ127: 36 | BA127: =VLOOKUP(B127,ĐTBT!$V:$W,2,0) -> 4 | BI127: =AX127-E127 -> 0 | BJ127: =VLOOKUP(B127,'Thong tin'!A:R,11,0) -> 0
