Workbook
Name \p: #N/A
Name _0: {"Thuxm2.xls","Sheet1"}
Name _1: #REF!
Name _1: #REF!
Name _1: #REF!
Name _1: #REF!
Name _1000A01: #N/A
Name _2: #REF!
Name _2: #REF!
Name _2: #REF!
Name _2: #REF!
Name _bac1: #REF!
Name _bac1: #REF!
Name _bac1: #REF!
Name _bac1: #REF!
Name _bac2: #REF!
Name _bac2: #REF!
Name _bac2: #REF!
Name _bac2: #REF!
Name _bac3: #REF!
Name _bac3: #REF!
Name _bac3: #REF!
Name _bac3: #REF!
Name _bac4: #REF!
Name _bac4: #REF!
Name _bac4: #REF!
Name _bac4: #REF!
Name _bac5: #REF!
Name _bac5: #REF!
Name _bac5: #REF!
Name _bac5: #REF!
Name _bac6: #REF!
Name _bac6: #REF!
Name _bac6: #REF!
Name _bac6: #REF!
Name _bac7: #REF!
Name _bac7: #REF!
Name _bac7: #REF!
Name _bac7: #REF!
Name _BCT8: '[1]BAO CAO TUAN'!#REF!
Name _BCT8: '[1]BAO CAO TUAN'!#REF!
Name _BCT8: '[1]BAO CAO TUAN'!#REF!
Name _BCT8: '[1]BAO CAO TUAN'!#REF!
Name _CON1: #REF!
Name _CON1: #REF!
Name _CON1: #REF!
Name _CON1: #REF!
Name _CON2: #REF!
Name _CON2: #REF!
Name _CON2: #REF!
Name _CON2: #REF!
Name _ddn400: #REF!
Name _ddn400: #REF!
Name _ddn400: #REF!
Name _ddn400: #REF!
Name _ddn600: #REF!
Name _ddn600: #REF!
Name _ddn600: #REF!
Name _ddn600: #REF!
Name _EXC1: #REF!

Sheet 2. NK TN
A1: ='[5]Du lieu'!C4 -> KHU HỖN HỢP CHUNG CƯ, VĂN PHÒNG, TRUNG TÂM THƯƠNG MẠI VÀ NHÀ Ở KẾT HỢP KHU MUA SẮM | H1: Cộng hoà xã hội chủ nghĩa Việt Nam
H2: Độc lập - Tự do - Hạnh phúc | P2: Số hiệu cọc | R2: ='2. NK'!R2 -> B1
H3: - - - o0o - - - | P3: Đường kính | R3: =VLOOKUP($R$2,'Thong tin'!$A:$R,13,0) -> 800
A4: NHẬT KÝ CỌC KHOAN NHỒI | P4: Cao độ cắt cọc | R4: =VLOOKUP($R$2,'Thong tin'!$A:$R,6,0) -> -8
A5: ='1. Bia'!B10 -> DỰ ÁN: | D5: ='1. Bia'!E10 -> KHU HỖN HỢP CHUNG CƯ, VĂN PHÒNG, TRUNG TÂM THƯƠNG MẠI VÀ NHÀ Ở KẾT HỢP KHU MUA SẮM | K5: Chữ ký | P5: Cốt thép | Q5: ĐK
K6: BAN QLDA | L6: TVGS | M6: NTTC
A7: ='1. Bia'!B11 -> CÔNG TRÌNH: | D7: ='1. Bia'!E11 -> KHU HỖN HỢP CHUNG CƯ, VĂN PHÒNG, TTTM
A8: ='1. Bia'!B12 -> GÓI THẦU: | D8: ='1. Bia'!E12 -> THI CÔNG CỌC KHOAN NHỒI | Q8: SL | R8: =VLOOKUP($R$2,'Thong tin'!$A:$R,15,0) -> 16
A9: ='1. Bia'!B13 -> ĐỊA ĐIỂM: | D9: ='1. Bia'!E13 -> ĐƯỜNG 25/4, P BẠCH ĐẰNG, TP HẠ LONG, TỈNH QUẢNG NINH | Q9: ĐK | R9: =VLOOKUP($R$2,'Thong tin'!$A:$R,14,0) -> 20
A10: Số hiệu cọc: | D10: =R2 -> B1 | F10: đường kính: | H10: =R3 -> 800 | I10: (mm)
A11: 1. | B11: Khoan tạo lỗ : | E11: Bắt đầu : | F11: =VLOOKUP($D$10,DT.NK!$B:$AZ,2,0) -> 0.375 | G11: Kết thúc: | H11: =VLOOKUP($D$10,DT.NK!$B:$AZ,3,0) -> 0.39583333 | I11: Ngày | J11: =VLOOKUP($D$10,DT.NK!$B:$AZ,4,0) -> 42466 | P11: Loại bê tông | R11: B25
P12: Vị trí cọc | R12: Tại công trình
A13: 2. | B13: Nghiệm thu định vị ống Casing: | E13: Bắt đầu : | F13: =VLOOKUP($D$10,DT.NK!$B:$AZ,5,0) -> 0.40277778 | G13: Kết thúc: | H13: =VLOOKUP($D$10,DT.NK!$B:$AZ,6,0) -> 0.40625 | I13: Ngày | J13: =VLOOKUP($D$10,DT.NK!$B:$AZ,7,0) -> 42466 | P13: Tọa độ | Q13: x | R13: =VLOOKUP($R$2,'Thong tin'!$A:$R,2,0) -> 2317790.7
B14: * Xtk = | C14: =R13 -> 2317790.7 | D14: (m) | E14: Xtt = | F14: =I14+C14 -> 2317790.7 | H14: DX = | I14: =VLOOKUP($D$10,DT.NK!$B:$AZ,8,0) -> 0.001 | J14: (m) | Q14: y | R14: =VLOOKUP($R$2,'Thong tin'!$A:$R,3,0) -> 430397.96
B15: * Ytk = | C15: =R14 -> 430397.96 | D15: (m) | E15: Ytt = | F15: =I15+C15 -> 430397.98 | H15: DY = | I15: =VLOOKUP($D$10,DT.NK!$B:$AZ,9,0) -> 0.02 | J15: (m) | P15: SL ống 60 | R15: =VLOOKUP($R$2,'Thong tin'!$A:$R,11,0) -> 2
B16: Cao độ đỉnh casing so với cos ± 0.00 công trình (m): | F16: =VLOOKUP($D$10,DT.NK!$B:$AZ,10,0) -> -0.353 | G16: Cao độ nền TN so với cos ± 0.00 công trình (m): | J16: =VLOOKUP($D$10,DT.NK!$B:$AZ,11,0) -> -0.717 | P16: SL ống 113,5 | R16: =VLOOKUP($R$2,'Thong tin'!$A:$R,12,0) -> 1
P17: Mối nối | R17: 900
A18: 3 | B18: Kiểm tra Polymer lần1: | E18: Bắt đầu : | F18: =VLOOKUP($D$10,DT.NK!$B:$AZ,12,0) -> 0.40972222 | G18: Kết thúc: | H18: =VLOOKUP($D$10,DT.NK!$B:$AZ,13,0) -> 0.42013889 | I18: Ngày | J18: =VLOOKUP($D$10,DT.NK!$B:$AZ,14,0) -> 42466 | P18: Tổng chiều dài lồng thép | R18: =R4-H30+1-0.1 -> 22.603 | S18: dài
B19: * Tỷ trọng:(g/cm3) | D19: =VLOOKUP($D$10,DT.NK!$B:$AZ,15,0) -> 1.08 | E19: * Độ PH: | H19: =VLOOKUP($D$10,DT.NK!$B:$AZ,16,0) -> 9 | P19: Lồng 1 | R19: =R20 -> 16F20 | S19: =F16-R4 -> 7.647 | T19: 0.1
B20: * Độ nhớt:(s) | D20: =VLOOKUP($D$10,DT.NK!$B:$AZ,17,0) -> 19 | E20: * Hàm lượng cát: | H20: =VLOOKUP($D$10,DT.NK!$B:$AZ,18,0) -> 0 | P20: Lồng 2 | R20: =$R$8&"F"&$R$9 -> 16F20 | S20: 11.7 | V20: 11.7
B21: lần Kiểm tra : | S21: =11.7-S20 -> 0
A22: 4 | B22: Khoan gặp đá: | D22: Gặp đá: | G22: Bắt đầu | H22: =VLOOKUP($D$10,DT.NK!$B:$AZ,19,0) -> 0.54513889 | I22: Ngày | J22: =VLOOKUP($D$10,DT.NK!$B:$AZ,20,0) -> 42466 | P22: Lồng 3 | R22: =$R$8&"F"&$R$9 -> 16F20 | S22: =IF(R18-V20+0.9>11.7,11.7,R18-V20+0.9) -> 11.7 | T22: =IF(S22<11.7,0.1,"")
B23: * Chiều sâu từ đỉnh casing:(m) | H23: =VLOOKUP($D$10,DT.NK!$B:$AZ,21,0) -> 22.3 | P23: Lồng 4 | R23: =IF(S23="","",($R$8&"F"&$R$9)) -> 16F20 | S23: =IF(S22<11.7,"",IF(R18-V20-S22+2*0.9>11.7,11.7,R18-V20-S22+2*0.9)) -> 1.003 | T23: =IF(S23<11.7,0.1,"") -> 0.1
B24: * Cao độ từ cốt +0.00:(m) | H24: =-(H23-$F$16) -> -22.653 | P24: Lồng 5 | R24: =IF(S24="","",($R$8&"F"&$R$9)) | S24: =IF(S23="","",IF(S23<11.7,"",IF(R18-V20-S22-S23+3*0.9>11.7,11.7,R18-V20-S22-S23+3*0.9))) | T24: =IF(S24<11.7,0.1,"")
A25: 5 | B25: Kết thúc khoan hồi : | H25: =VLOOKUP($D$10,DT.NK!$B:$AZ,22,0) -> 0.67013889 | I25: Ngày | J25: =VLOOKUP($D$10,DT.NK!$B:$AZ,23,0) -> 42466
B26: * Chiều sâu từ mặt casing:(m) | H26: =VLOOKUP($D$10,DT.NK!$B:$AZ,24,0) -> 29.35 | P26: Bê tông | Q26: =Q31 -> Công ty TNHH kinh doanh và phát triển Vượng Phát
B27: * Cao độ từ cốt +0.00:(m) | H27: =-(H26-$F$16) -> -29.703 | P27: Thời tiết | Q27: Bình thường
A28: 6. | B28: Vét lắng | E28: Bắt đầu | F28: =VLOOKUP($D$10,DT.NK!$B:$AZ,25,0) -> 0.71180556 | G28: Kết thúc | H28: =VLOOKUP($D$10,DT.NK!$B:$AZ,26,0) -> 0.73263889 | I28: Ngày | J28: =VLOOKUP($D$10,DT.NK!$B:$AZ,27,0) -> 42466
B29: * Chiều sâu từ mặt casing sau khi Vét lắng (m) | H29: =VLOOKUP($D$10,DT.NK!$B:$AZ,28,0) -> 29.35
B30: * Cao độ từ cốt +0.00:(m) | H30: =-(H29-$F$16) -> -29.703
A31: 7. | B31: Nghiệm thu lồng thép: | E31: Bắt đầu : | F31: =VLOOKUP($D$10,DT.NK!$B:$AZ,29,0) -> 0.73958333 | G31: Kết thúc: | H31: =VLOOKUP($D$10,DT.NK!$B:$AZ,30,0) -> 0.75 | I31: Ngày | J31: =VLOOKUP($D$10,DT.NK!$B:$AZ,31,0) -> 42466 | Q31: Công ty TNHH kinh doanh và phát triển Vượng Phát
B32: Lồng | C32: Thép chủ | E32: Thép đai | G32: Thép giá | I32: Chiều dài lồng (m)
B33: 1 | C33: =R19 -> 16F20 | G33: f18 a2000 | I33: 1 | J33: 0.1 | Q33: Công ty Cổ phần Đầu tư và Xây dựng số 18.1
C34: =C33 -> 16F20 | E34: f10 a100 | G34: f18 a2000 | I34: 2
C35: =C33 -> 16F20 | E35: f10 a200 | G35: f18 a2000 | I35: =S19-I34-I33 -> 4.647
B36: 2 | C36: =R20 -> 16F20 | E36: f10 a100 | G36: f18 a2000 | I36: =IF(R3=1200,2.4,1.6) -> 1.6
C37: =C36 -> 16F20 | E37: f10 a200 | G37: f18 a2000 | I37: =11.7-I36 -> 10.1
B38: 3 | C38: =R22 -> 16F20 | E38: f10 a200 | G38: f18 a2000 | I38: =S22 -> 11.7 | J38: =T22
B39: 4 | C39: =R23 -> 16F20 | E39: =IF(C39="","",E38) -> f10 a200 | G39: =IF(E39="","",G38) -> f18 a2000 | I39: =S23 -> 1.003 | J39: =T23 -> 0.1
B40: 5 | C40: =R24 | E40: =IF(C40="","",E39) | G40: =IF(E40="","",G39) | I40: =S24 | J40: =T24
...

Sheet 2. NK KP
A1: ='[5]Du lieu'!C4 -> KHU HỖN HỢP CHUNG CƯ, VĂN PHÒNG, TRUNG TÂM THƯƠNG MẠI VÀ NHÀ Ở KẾT HỢP KHU MUA SẮM | H1: Cộng hoà xã hội chủ nghĩa Việt Nam
H2: Độc lập - Tự do - Hạnh phúc | P2: Số hiệu cọc | R2: ='2. NK'!R2 -> B1
H3: - - - o0o - - - | P3: Đường kính | R3: =VLOOKUP($R$2,'Thong tin'!$A:$R,13,0) -> 800
A4: NHẬT KÝ CỌC KHOAN NHỒI | P4: Cao độ cắt cọc | R4: =VLOOKUP($R$2,'Thong tin'!$A:$R,6,0) -> -8
A5: ='1. Bia'!B10 -> DỰ ÁN: | D5: ='1. Bia'!E10 -> KHU HỖN HỢP CHUNG CƯ, VĂN PHÒNG, TRUNG TÂM THƯƠNG MẠI VÀ NHÀ Ở KẾT HỢP KHU MUA SẮM | K5: Chữ ký | P5: Cốt thép | Q5: ĐK
K6: BAN QLDA | L6: TVGS | M6: NTTC
A7: ='1. Bia'!B11 -> CÔNG TRÌNH: | D7: ='1. Bia'!E11 -> KHU HỖN HỢP CHUNG CƯ, VĂN PHÒNG, TTTM
A8: ='1. Bia'!B12 -> GÓI THẦU: | D8: ='1. Bia'!E12 -> THI CÔNG CỌC KHOAN NHỒI | Q8: SL | R8: =VLOOKUP($R$2,'Thong tin'!$A:$R,15,0) -> 16
A9: ='1. Bia'!B13 -> ĐỊA ĐIỂM: | D9: ='1. Bia'!E13 -> ĐƯỜNG 25/4, P BẠCH ĐẰNG, TP HẠ LONG, TỈNH QUẢNG NINH | Q9: ĐK | R9: =VLOOKUP($R$2,'Thong tin'!$A:$R,14,0) -> 20
A10: Số hiệu cọc: | D10: =R2 -> B1 | F10: đường kính: | H10: =R3 -> 800 | I10: (mm)
A11: 1. | B11: Khoan tạo lỗ : | E11: Bắt đầu : | F11: =VLOOKUP($D$10,DT.NK!$B:$AZ,2,0) -> 0.375 | G11: Kết thúc: | H11: =VLOOKUP($D$10,DT.NK!$B:$AZ,3,0) -> 0.39583333 | I11: Ngày | J11: =VLOOKUP($D$10,DT.NK!$B:$AZ,4,0) -> 42466 | P11: Loại bê tông | R11: B25
P12: Vị trí cọc | R12: Tại công trình
A13: 2. | B13: Nghiệm thu định vị ống Casing: | E13: Bắt đầu : | F13: =VLOOKUP($D$10,DT.NK!$B:$AZ,5,0) -> 0.40277778 | G13: Kết thúc: | H13: =VLOOKUP($D$10,DT.NK!$B:$AZ,6,0) -> 0.40625 | I13: Ngày | J13: =VLOOKUP($D$10,DT.NK!$B:$AZ,7,0) -> 42466 | P13: Tọa độ | Q13: x | R13: =VLOOKUP($R$2,'Thong tin'!$A:$R,2,0) -> 2317790.7
B14: * Xtk = | C14: =R13 -> 2317790.7 | D14: (m) | E14: Xtt = | F14: =I14+C14 -> 2317790.7 | H14: DX = | I14: =VLOOKUP($D$10,DT.NK!$B:$AZ,8,0) -> 0.001 | J14: (m) | Q14: y | R14: =VLOOKUP($R$2,'Thong tin'!$A:$R,3,0) -> 430397.96
B15: * Ytk = | C15: =R14 -> 430397.96 | D15: (m) | E15: Ytt = | F15: =I15+C15 -> 430397.98 | H15: DY = | I15: =VLOOKUP($D$10,DT.NK!$B:$AZ,9,0) -> 0.02 | J15: (m) | P15: SL ống 60 | R15: =VLOOKUP($R$2,'Thong tin'!$A:$R,11,0) -> 2
B16: Cao độ đỉnh casing so với cos ± 0.00 công trình (m): | F16: =VLOOKUP($D$10,DT.NK!$B:$AZ,10,0) -> -0.353 | G16: Cao độ nền TN so với cos ± 0.00 công trình (m): | J16: =VLOOKUP($D$10,DT.NK!$B:$AZ,11,0) -> -0.717 | P16: SL ống 113,5 | R16: =VLOOKUP($R$2,'Thong tin'!$A:$R,12,0) -> 1
P17: Mối nối | R17: 900
A18: 3 | B18: Kiểm tra Polymer lần1: | E18: Bắt đầu : | F18: =VLOOKUP($D$10,DT.NK!$B:$AZ,12,0) -> 0.40972222 | G18: Kết thúc: | H18: =VLOOKUP($D$10,DT.NK!$B:$AZ,13,0) -> 0.42013889 | I18: Ngày | J18: =VLOOKUP($D$10,DT.NK!$B:$AZ,14,0) -> 42466 | P18: Tổng chiều dài lồng thép | R18: =R4-H30+1-0.1 -> 22.603 | S18: dài
B19: * Tỷ trọng:(g/cm3) | D19: =VLOOKUP($D$10,DT.NK!$B:$AZ,15,0) -> 1.08 | E19: * Độ PH: | H19: =VLOOKUP($D$10,DT.NK!$B:$AZ,16,0) -> 9 | P19: Lồng 1 | R19: 6F14 | S19: =F16-R4 -> 7.647 | T19: 0.1
B20: * Độ nhớt:(s) | D20: =VLOOKUP($D$10,DT.NK!$B:$AZ,17,0) -> 19 | E20: * Hàm lượng cát: | H20: =VLOOKUP($D$10,DT.NK!$B:$AZ,18,0) -> 0 | P20: Lồng 2 | R20: =$R$8*2&"F"&$R$9 -> 32F20 | S20: =IF(R3=1200,3.4,2.6) -> 2.6 | V20: 11.7
B21: lần Kiểm tra : | S21: =11.7-S20 -> 9.1
A22: 4 | B22: Khoan gặp đá: | D22: Gặp đá: | G22: Bắt đầu | H22: =VLOOKUP($D$10,DT.NK!$B:$AZ,19,0) -> 0.54513889 | I22: Ngày | J22: =VLOOKUP($D$10,DT.NK!$B:$AZ,20,0) -> 42466 | P22: Lồng 3 | R22: =$R$8&"F"&$R$9 -> 16F20 | S22: =IF(R18-V20+0.9>11.7,11.7,R18-V20+0.9) -> 11.7 | T22: =IF(S22<11.7,0.1,"")
B23: * Chiều sâu từ đỉnh casing:(m) | H23: =VLOOKUP($D$10,DT.NK!$B:$AZ,21,0) -> 22.3 | P23: Lồng 4 | R23: =IF(S23="","",($R$8&"F"&$R$9)) -> 16F20 | S23: =IF(S22<11.7,"",IF(R18-V20-S22+2*0.9>11.7,11.7,R18-V20-S22+2*0.9)) -> 1.003 | T23: =IF(S23<11.7,0.1,"") -> 0.1
B24: * Cao độ từ cốt +0.00:(m) | H24: =-(H23-$F$16) -> -22.653 | P24: Lồng 5 | R24: =IF(S24="","",($R$8&"F"&$R$9)) | S24: =IF(S23="","",IF(S23<11.7,"",IF(R18-V20-S22-S23+3*0.9>11.7,11.7,R18-V20-S22-S23+3*0.9))) | T24: =IF(S24<11.7,0.1,"")
A25: 5 | B25: Kết thúc khoan hồi : | H25: =VLOOKUP($D$10,DT.NK!$B:$AZ,22,0) -> 0.67013889 | I25: Ngày | J25: =VLOOKUP($D$10,DT.NK!$B:$AZ,23,0) -> 42466
B26: * Chiều sâu từ mặt casing:(m) | H26: =VLOOKUP($D$10,DT.NK!$B:$AZ,24,0) -> 29.35 | P26: Bê tông | Q26: =Q31 -> Công ty TNHH kinh doanh và phát triển Vượng Phát
B27: * Cao độ từ cốt +0.00:(m) | H27: =-(H26-$F$16) -> -29.703 | P27: Thời tiết | Q27: Bình thường
A28: 6. | B28: Vét lắng | E28: Bắt đầu | F28: =VLOOKUP($D$10,DT.NK!$B:$AZ,25,0) -> 0.71180556 | G28: Kết thúc | H28: =VLOOKUP($D$10,DT.NK!$B:$AZ,26,0) -> 0.73263889 | I28: Ngày | J28: =VLOOKUP($D$10,DT.NK!$B:$AZ,27,0) -> 42466
B29: * Chiều sâu từ mặt casing sau khi Vét lắng (m) | H29: =VLOOKUP($D$10,DT.NK!$B:$AZ,28,0) -> 29.35
B30: * Cao độ từ cốt +0.00:(m) | H30: =-(H29-$F$16) -> -29.703
A31: 7. | B31: Nghiệm thu lồng thép: | E31: Bắt đầu : | F31: =VLOOKUP($D$10,DT.NK!$B:$AZ,29,0) -> 0.73958333 | G31: Kết thúc: | H31: =VLOOKUP($D$10,DT.NK!$B:$AZ,30,0) -> 0.75 | I31: Ngày | J31: =VLOOKUP($D$10,DT.NK!$B:$AZ,31,0) -> 42466 | Q31: Công ty TNHH kinh doanh và phát triển Vượng Phát
B32: Lồng | C32: Thép chủ | E32: Thép đai | G32: Thép giá | I32: Chiều dài lồng (m)
B33: 1 | C33: =R19 -> 6F14 | G33: f18 a2000 | I33: =S19 -> 7.647 | J33: 0.1 | Q33: Công ty Cổ phần Đầu tư và Xây dựng số 18.1
B34: 2 | C34: =R20 -> 32F20 | E34: f10 a100 | G34: f18 a2000 | I34: =S20 -> 2.6
C35: =R22 -> 16F20 | E35: f10 a200 | I35: =11.7-I34 -> 9.1
B36: 3 | C36: =R22 -> 16F20 | E36: f10 a200 | G36: f18 a2000 | I36: =S22 -> 11.7 | J36: =T22
B37: 4 | C37: =R23 -> 16F20 | E37: =IF(C37="","",E36) -> f10 a200 | G37: =IF(E37="","",G36) -> f18 a2000 | I37: =S23 -> 1.003 | J37: =T23 -> 0.1
B38: 5 | C38: =R24 | E38: =IF(C38="","",E37) | G38: =IF(E38="","",G37) | I38: =S24 | J38: =T24
A39: * | B39: Ống siêu âm D59.9mm, số lượng (ống): | E39: =R15 -> 2 | G39: Chiều dài (m): | I39: =IF(E39=0,0,(J16-H30-0.1-0.5)) -> 28.386
A40: * | B40: Ống siêu âm D113,5mm, số lượng (ống): | E40: =R16 -> 1 | G40: Chiều dài (m): | I40: =IF(E40=0,0,I39-0.9) -> 27.486
...

Sheet DTKP
A1: Hạ Kingpost
A2: Cao độ đỉnh Kingpost so với cos ± 0.00 công trình (m): | H2: Cao độ đỉnh Kingpost so với đỉnh casing:
A3: Tọa độ 4 điểm để định vị tim đỉnh Kingpost
A4: Điểm | B4: X | C4: Y | H4: Chiều dài Kingpost (m):
A5: A
A6: B
A7: C
A8: D
A10: STT | B10: Tên cọc | C10: Thời gian | G10: Cao độ | I10: Chiều dai | J10: A | L10: B | N10: C | P10: D
C11: Bắt đầu | E11: Kết thúc | G11: 0.00 | H11: casing | J11: X | K11: Y | L11: X | M11: Y | N11: X | O11: Y | P11: X | Q11: Y
A12: 1 | B12: A17 | C12: 0.87152778 | D12: 42727 | E12: 0.88888889 | F12: 42727 | G12: -1.1 | H12: -1.058 | I12: 9.4 | J12: 2317790.8 | K12: 430363.22 | L12: 1317789.6 | M12: 430363.28 | N12: 2317790.2 | O12: 430362.65 | P12: 2317790.2 | Q12: 430363.85
A13: 2 | B13: B25 | D13: 42714 | F13: 42714 | G13: -1.1 | H13: -1.365 | I13: 7.6 | J13: 2317745.9 | K13: 430348.15 | L13: 2317745.1 | M13: 430348.18 | N13: 2317745.5 | O13: 430347.77 | P13: 2317745.5 | Q13: 430348.56
A14: 3 | B14: A13 | C14: 0.83680556 | D14: 42714 | E14: 0.85416667 | F14: 42714 | G14: -1.1 | H14: -1.193 | I14: 9.4 | J14: 2317790.3 | K14: 430351.44 | L14: 2317789.1 | M14: 430351.49 | N14: 2317789.6 | O14: 430350.86 | P14: 2317789.7 | Q14: 430352.06
A15: 4 | B15: B43 | C15: 0.58333333 | D15: 42715 | E15: 0.60069444 | F15: 42715 | G15: -1.1 | H15: -1.303 | I15: 7.6 | J15: 2317794.9 | K15: 430352.73 | L15: 2317794.1 | M15: 430352.76 | N15: 2317794.5 | O15: 430352.35 | P15: 2317794.5 | Q15: 430353.15
A16: 5 | B16: B24 | C16: 0.14930556 | D16: 42717 | E16: 0.16666667 | F16: 42717 | G16: -1.1 | H16: -1.194 | I16: 7.6 | J16: 2317746.2 | K16: 430355.09 | L16: 2317745.4 | M16: 430355.12 | N16: 2317745.8 | O16: 430354.71 | P16: 2317745.9 | Q16: 430355.57
A17: 6 | B17: A154 | C17: 0.99652778 | D17: 42717 | E17: 0.013888889 | F17: 42718 | G17: -1.1 | H17: -0.925 | I17: 9.4 | J17: 2317752.4 | K17: 430346.3 | L17: 2317751.2 | M17: 430346.35 | N17: 2317752 | O17: 430345.74 | P17: 2317752 | Q17: 430346.89
A18: 7 | B18: BP4 | C18: 0.11805556 | D18: 42718 | E18: 0.13541667 | F18: 42718 | G18: -1.1 | H18: -1.322 | I18: 7.6 | J18: 2317795.1 | K18: 430357.13 | L18: 2317794.3 | M18: 430357.16 | N18: 2317794.7 | O18: 430356.75 | P18: 2317794.7 | Q18: 430357.55
A19: 8 | B19: B44 | C19: 0.065972222 | D19: 42719 | E19: 0.083333333 | F19: 42719 | G19: -1.1 | H19: -1.053 | I19: 7.6 | J19: 2317795.3 | K19: 430361.67 | L19: 2317794.5 | M19: 430361.29 | N19: 2317794.9 | O19: 430363.29 | P19: 2317794.9 | Q19: 430363.09
A20: 9 | B20: A14 | C20: 0.097222222 | D20: 42720 | E20: 0.13194444 | F20: 42720 | G20: -1.1 | H20: -1.11 | I20: 9.4 | J20: 2317790.4 | K20: 430354.43 | L20: 2317789.2 | M20: 430354.49 | N20: 2317789.8 | O20: 430353.86 | P20: 2317789.8 | Q20: 430355.06
A21: 10 | B21: BP3 | C21: 0.25694444 | D21: 42720 | E21: 0.28125 | F21: 42720 | G21: -1.1 | H21: -1.375 | I21: 7.6 | J21: 2317746.1 | K21: 430351.67 | L21: 2317745.3 | M21: 430351.7 | N21: 237745.66 | O21: 430351.28 | P21: 2317745.7 | Q21: 430352.09
A22: 11 | B22: A157 | C22: 0.59027778 | D22: 42723 | E22: 0.60416667 | F22: 42723 | G22: -1.1 | H22: 0.718 | I22: 9.4 | J22: 2317753.1 | K22: 430353.43 | L22: 2317751.9 | M22: 430353.48 | N22: 2317752.3 | O22: 430352.88 | P22: 2317752.4 | Q22: 430354.04
A23: 12 | B23: A16 | C23: 0.27083333 | D23: 42725 | E23: 0.29166667 | F23: 42725 | G23: -1.1 | H23: -1.088 | I23: 9.4 | J23: 2317790.7 | K23: 430360.23 | L23: 2317789.5 | M23: 430360.28 | N23: 2317790 | O23: 430359.65 | P23: 2317790.1 | Q23: 430360.85
A24: 13 | B24: A159 | C24: 0.125 | D24: 42725 | E24: 0.14583333 | F24: 42725 | G24: -1.1 | H24: -0.868 | I24: 9.4 | J24: 2317753.2 | K24: 430356.42 | L24: 2317752 | M24: 430356.48 | N24: 2317752.4 | O24: 430355.88 | P24: 2317752.5 | Q24: 430357.03

Sheet Dia chat
E1: Lỗ khoan | F1: Lớp 1 | H1: Lớp 2 | J1: Lớp 3 | L1: Lớp 4 | N1: Lớp 5 | P1: Lớp 6 | R1: Lớp 7 | T1: Lớp 8 | V1: Lớp 9 | X1: Lớp 10 | Z1: Lớp 11 | AB1: Lớp 12 | AD1: Lớp 13
A2: Số hiệu | B2: Tên đất | C2: Ký hiệu | F2: Số hiệu | G2: Cao độ đỉnh | H2: Số hiệu | I2: Cao độ đỉnh | J2: Số hiệu | K2: Cao độ đỉnh | L2: Số hiệu | M2: Cao độ đỉnh | N2: Số hiệu | O2: Cao độ đỉnh | P2: Số hiệu | Q2: Cao độ đỉnh | R2: Số hiệu | S2: Cao độ đỉnh | T2: Số hiệu | U2: Cao độ đỉnh | V2: Số hiệu | W2: Cao độ đỉnh | X2: Số hiệu | Y2: Cao độ đỉnh | Z2: Số hiệu | AA2: Cao độ đỉnh | AB2: Số hiệu | AC2: Cao độ đỉnh | AD2: Số hiệu | AE2: Cao độ đỉnh
A3: 1 | B3: Đất lấp: Sét pha, lẫn gạch vụn, đá tảng. | C3: =A3 -> 1 | E3: HK1 | F3: 1 | H3: 2 | I3: -1.86 | J3: 4b | K3: -16.66 | L3: 4c | M3: -32.26
A4: 2 | B4: Sét pha lẫn sạn, màu nâu đỏ, xám vàng, trạng thái dẻo cứng | C4: =A4 -> 2 | E4: HK2 | F4: 1 | H4: 2 | I4: -2.33 | J4: 4a | K4: -19.23 | L4: H | M4: -21.13 | N4: 4b | O4: -21.43 | P4: 4c | Q4: -33.63
A5: 3 | B5: Đá dăm lẫn sét pha (Đá vôi phong hóa mạnh đến hoàn toàn) | C5: =A5 -> 3 | E5: HK3 | F5: 1 | H5: 2 | I5: -2.04 | J5: 4a | K5: -18.74 | L5: H | M5: -26.74 | N5: 4a | O5: -27.54 | P5: H | Q5: -33.84 | R5: 4a | S5: -34.54 | T5: 4c | U5: -35.24
A6: 4a | B6: Đá vôi màu xám nâu, xám xanh, phong hóa nứt nẻ, dập vỡ mạnh, háng hốc Karst | C6: =A6 -> 4a | E6: HK4 | F6: 1 | H6: 2
A7: H | B7: Hạng Karst chứa sét pha | C7: =A7 -> H | E7: HK5 | F7: 1 | H7: 2 | I7: -2.37 | J7: 4b | K7: -19.27 | L7: 4c | M7: -21.47
A8: 4b | B8: Đá vôi màu xám xanh, xám đen, nâu hồng, phong hóa nứt nẻ, dập vỡ mạnh, khe nứt lấp nhét, sét pha, đá cứng chắc. | C8: =A8 -> 4b | E8: HK6 | F8: 1 | H8: 2 | I8: -1.94 | J8: 4b | K8: -20.54 | L8: 4c | M8: -20.94
A9: 4c | B9: Đá vôi màu xám xanh, xám đen, nâu hồng, phong hóa trung bình đến nhẹ, khe nứt lấp nhét pha, đá cứng chắc. | C9: =A9 -> 4c | E9: HK7 | F9: 1 | H9: 2 | I9: -2.33 | J9: 4a | K9: -20.63 | L9: H | M9: -23.13 | N9: 4c | O9: -26.63
E10: HK8 | F10: 1 | H10: 2 | I10: -2.05 | J10: 4a | K10: -19.05 | L10: H | M10: -20.55 | N10: 4a | O10: -22.55 | P10: H | Q10: -23.95 | R10: 4a | S10: -24.55 | T10: H | U10: -25.05 | V10: 4a | W10: -26.25 | X10: H | Y10: -28.75 | Z10: 4c | AA10: -29.25
E11: HK9 | F11: 1 | H11: 2 | I11: -2.38 | J11: 4a | K11: -17.68 | L11: H | M11: -19.08 | N11: 4a | O11: -19.58 | P11: H | Q11: -19.78 | R11: 4c | S11: -20.68 | T11: 4c | U11: -21.88
E12: HK10 | F12: 1 | H12: 2 | I12: -2.32 | J12: 4a | K12: -18.62 | L12: H | M12: -20.32 | N12: 4a | O12: -20.92 | P12: H | Q12: -23.42 | R12: 4c | S12: -25.52
E13: HK11 | F13: 1 | H13: 2 | I13: -2.16 | J13: 4b | K13: -17.46 | L13: 4c | M13: -17.96
E14: HK12 | F14: 1 | H14: 2 | I14: -1.5 | J14: 4c | K14: -15.8
E15: HK13 | F15: 1 | H15: 2 | I15: -2.56 | J15: 4a | K15: -17.16 | L15: H | M15: -20.06 | N15: 4a | O15: -20.36 | P15: H | Q15: -21.06 | R15: 4c | S15: -21.46
E16: HK14 | F16: 1 | H16: 2 | I16: -3.02 | J16: 4a | K16: -17.32 | L16: H | M16: -19.32 | N16: 4a | O16: -19.62 | P16: H | Q16: -24.52 | R16: 4c | S16: -32.22
E17: HK15 | F17: 1 | H17: 2 | I17: -2 | J17: 4a | K17: -20.3 | L17: H | M17: -21.1 | N17: 4a | O17: -21.5 | P17: H | Q17: -21.7 | R17: 4b | S17: -22 | T17: 4c | U17: -28.5
E18: HK16 | F18: 1 | H18: 2 | I18: -3.02 | J18: 4b | K18: -17.12 | L18: 4c | M18: -18.72
E19: HK17 | F19: 1 | H19: 2 | I19: -2.14 | J19: 4c | K19: -15.94
E20: HK18 | F20: 1 | H20: 2 | I20: -2.46 | J20: 4a | K20: -20.94 | L20: H | M20: -23.86 | N20: 4a | O20: -24.66 | P20: H | Q20: -31.66 | R20: 4a | S20: -32.36 | T20: H | U20: -33.96 | V20: 4b | W20: -34.26 | X20: 4c | Y20: -42.86
E21: HK19 | F21: 1 | H21: 2 | I21: -1.74 | J21: 4a | K21: -17.74 | L21: H | M21: -19.94 | N21: 4a | O21: -22.74 | P21: H | Q21: -28.14 | R21: 4a | S21: -28.44 | T21: H | U21: -32.04 | V21: 4c | W21: -33.44
E22: HK20 | F22: 1 | H22: 2 | I22: -3.13 | J22: 4a | K22: -19.73 | L22: H | M22: -23.23 | N22: 4a | O22: -25.88 | P22: H | Q22: -31.03 | R22: 4a | S22: -33.03 | T22: H | U22: -36.73 | V22: 4c | W22: -37.03
E23: HK21 | F23: 1 | H23: 2 | I23: -2.99 | J23: 4a | K23: -20.39 | L23: H | M23: -21.09 | N23: 4a | O23: -21.69 | P23: H | Q23: -23.7 | R23: 4a | S23: -25.49 | T23: H | U23: -27.09 | V23: 4a | W23: -28.59 | X23: H | Y23: -31.59 | Z23: 4a | AA23: -32.79 | AB23: H | AC23: -41.89 | AD23: 4c | AE23: -52.99
E24: HK22 | F24: 1 | H24: 2 | I24: -2.57 | J24: 4c | K24: -16.87
E25: HK23 | F25: 1 | H25: 2 | I25: -2.53 | J25: 4a | K25: -19.07 | L25: H | M25: -22.12 | N25: 4a | O25: -22.52 | P25: H | Q25: -24.12 | R25: 4c | S25: -25.92
E26: HK24 | F26: 1 | H26: 2 | I26: -1.68 | J26: 4c | K26: -21.88
E27: HK25 | F27: 1 | H27: 2 | I27: -2.24 | J27: 4b | K27: -21.94 | L27: H | M27: -22.94 | N27: 4b | O27: -25.04 | P27: 4c | Q27: -27.64
E28: HK26 | F28: 1 | H28: 2
E29: HK27 | F29: 1 | H29: 2 | I29: -2.54 | J29: 4a | K29: -18.84 | L29: H | M29: -24.84 | N29: 4a | O29: -25.14 | P29: H | Q29: -25.84 | R29: 4a | S29: -26.94 | T29: H | U29: -29.24 | V29: 4a | W29: -30.54 | X29: H | Y29: -33.94 | Z29: 4a | AA29: -34.44 | AB29: H | AC29: -36.34 | AD29: 4c | AE29: -37.74
E30: HK28 | F30: 1 | H30: 2
E31: HK29 | F31: 1 | H31: 2
E32: HK30 | F32: 1 | H32: 2
E33: HK31 | F33: 1 | H33: 2
E34: HK32 | F34: 1 | H34: 2
E35: HK33 | F35: 1 | H35: 2
E36: HK34 | F36: 1 | H36: 2 | I36: -0.43 | J36: 3 | K36: -20.88 | L36: 4a | M36: -23.71 | N36: H | O36: -24.11 | P36: 4a | Q36: -24.51 | R36: H | S36: -27.18 | T36: 4b | U36: -27.88
E37: HK35 | F37: 1 | H37: 2
E38: HK36 | F38: 1 | H38: 2 | I38: -1.75 | J38: 3 | K38: -14.25 | L38: 4a | M38: -17.85 | N38: H | O38: -20.05 | P38: 4a | Q38: -20.55 | R38: 4b | S38: -23.56
E39: HK37 | F39: 1 | H39: 2 | I39: -1.79 | J39: 4a | K39: -19.59 | L39: H | M39: -19.89 | N39: 4a | O39: -20.29 | P39: H | Q39: -21.19 | R39: 4b | S39: -22.69 | T39: 4c | U39: -22.89
E40: HK38 | F40: 1 | H40: 2
...

Sheet Thong tin
A1: 1 | B1: 2 | C1: 3 | D1: 4 | E1: 5 | F1: 6 | G1: 7 | H1: 8 | I1: 9 | J1: 10 | K1: 11 | L1: 12 | M1: 13 | N1: 14 | O1: 15 | P1: 16 | Q1: 17 | R1: 18 | S1: 19
A2: Tên cọc | B2: Xi | C2: Yi | D2: Chiều dài(m) | E2: Tên đài | F2: Cao độ cắt cọc | G2: Cao độ dừng đổ BT | H2: Cọc đặt 4 ống siêu âm | I2: Cọc đặt ống khoan lõi | J2: Cọc đặt loại ống gì | K2: Ống D60 | L2: Ống D113,5 | M2: Đường kính cọc | N2: Thép chủ | O2: Số lượng | P2: Địa chất | Q2: Chiều sâu chạm đá thiết kế | R2: Cọc loại
A3: A1 | B3: 2317786.6 | C3: 430304.55 | D3: 21.6 | E3: DC6 | F3: -8.7 | G3: =F3+1 -> -7.7 | J3: =IF(H3="",IF(I3="","","L"),"SA") | K3: =IF(J3="",0,IF(J3="SA",4,3)) -> 0 | L3: =IF(K3=3,1,0) -> 0 | M3: 1200 | N3: 20 | O3: 18 | P3: HK1 | Q3: =VLOOKUP(P3,'Dia chat'!$E:$AE,7,0) -> -16.66 | R3: D1200 loại 1
A4: A2 | B4: 2317786.7 | C4: 430307.55 | D4: 21.6 | E4: DC6 | F4: -8.7 | G4: =F4+1 -> -7.7 | H4: X | J4: =IF(H4="",IF(I4="","","L"),"SA") -> SA | K4: =IF(J4="",0,IF(J4="SA",4,3)) -> 4 | L4: =IF(K4=3,1,0) -> 0 | M4: 1200 | N4: 20 | O4: 18 | P4: HK1 | Q4: =VLOOKUP(P4,'Dia chat'!$E:$AE,7,0) -> -16.66 | R4: D1200 loại 1
A5: A3 | B5: 2317788 | C5: 430313.5 | D5: 25.8 | E5: DC5 | F5: -8.7 | G5: =F5+1 -> -7.7 | J5: =IF(H5="",IF(I5="","","L"),"SA") | K5: =IF(J5="",0,IF(J5="SA",4,3)) -> 0 | L5: =IF(K5=3,1,0) -> 0 | M5: 1200 | N5: 20 | O5: 18 | P5: HK2 | Q5: =VLOOKUP(P5,'Dia chat'!$E:$AE,7,0) -> -19.23 | R5: D1200 loại 1
A6: A4 | B6: 2317788.2 | C6: 430316.49 | D6: 25.8 | E6: DC5 | F6: -8.7 | G6: =F6+1 -> -7.7 | J6: =IF(H6="",IF(I6="","","L"),"SA") | K6: =IF(J6="",0,IF(J6="SA",4,3)) -> 0 | L6: =IF(K6=3,1,0) -> 0 | M6: 1200 | N6: 20 | O6: 18 | P6: HK2 | Q6: =VLOOKUP(P6,'Dia chat'!$E:$AE,7,0) -> -19.23 | R6: D1200 loại 1
A7: A5 | B7: 2317785.4 | C7: 430315.12 | D7: 25.8 | E7: DC5 | F7: -8.7 | G7: =F7+1 -> -7.7 | H7: X | J7: =IF(H7="",IF(I7="","","L"),"SA") -> SA | K7: =IF(J7="",0,IF(J7="SA",4,3)) -> 4 | L7: =IF(K7=3,1,0) -> 0 | M7: 1200 | N7: 20 | O7: 18 | P7: HK2 | Q7: =VLOOKUP(P7,'Dia chat'!$E:$AE,7,0) -> -19.23 | R7: D1200 loại 1
A8: A6 | B8: 2317788.5 | C8: 430322.49 | D8: 23.5 | E8: DC5 | F8: -8.7 | G8: =F8+1 -> -7.7 | J8: =IF(H8="",IF(I8="","","L"),"SA") | K8: =IF(J8="",0,IF(J8="SA",4,3)) -> 0 | L8: =IF(K8=3,1,0) -> 0 | M8: 1200 | N8: 20 | O8: 18 | P8: HK3 | Q8: =VLOOKUP(P8,'Dia chat'!$E:$AE,7,0) -> -18.74 | R8: D1200 loại 1
A9: A7 | B9: 2317788.6 | C9: 430325.48 | D9: 23.5 | E9: DC5 | F9: -8.7 | G9: =F9+1 -> -7.7 | H9: X | J9: =IF(H9="",IF(I9="","","L"),"SA") -> SA | K9: =IF(J9="",0,IF(J9="SA",4,3)) -> 4 | L9: =IF(K9=3,1,0) -> 0 | M9: 1200 | N9: 20 | O9: 18 | P9: HK3 | Q9: =VLOOKUP(P9,'Dia chat'!$E:$AE,7,0) -> -18.74 | R9: D1200 loại 1
A10: A8 | B10: 2317785.8 | C10: 430324.11 | D10: 23.5 | E10: DC5 | F10: -8.7 | G10: =F10+1 -> -7.7 | J10: =IF(H10="",IF(I10="","","L"),"SA") | K10: =IF(J10="",0,IF(J10="SA",4,3)) -> 0 | L10: =IF(K10=3,1,0) -> 0 | M10: 1200 | N10: 20 | O10: 18 | P10: HK3 | Q10: =VLOOKUP(P10,'Dia chat'!$E:$AE,7,0) -> -18.74 | R10: D1200 loại 1
A11: A9 | B11: 2317787.8 | C11: 430331.53 | D11: 23.5 | E11: DC6 | F11: -8.7 | G11: =F11+1 -> -7.7 | J11: =IF(H11="",IF(I11="","","L"),"SA") | K11: =IF(J11="",0,IF(J11="SA",4,3)) -> 0 | L11: =IF(K11=3,1,0) -> 0 | M11: 1200 | N11: 20 | O11: 18 | P11: HK4* | Q11: -22 | R11: D1200 loại 1
A12: A10 | B12: 2317788 | C12: 430334.52 | D12: 23.5 | E12: DC6 | F12: -8.7 | G12: =F12+1 -> -7.7 | H12: X | J12: =IF(H12="",IF(I12="","","L"),"SA") -> SA | K12: =IF(J12="",0,IF(J12="SA",4,3)) -> 4 | L12: =IF(K12=3,1,0) -> 0 | M12: 1200 | N12: 20 | O12: 18 | P12: HK4* | Q12: -22 | R12: D1200 loại 1
A13: A11 | B13: 2317788.3 | C13: 430342.92 | D13: 22.7 | E13: DC6 | F13: -8.7 | G13: =F13+1 -> -7.7 | J13: =IF(H13="",IF(I13="","","L"),"SA") | K13: =IF(J13="",0,IF(J13="SA",4,3)) -> 0 | L13: =IF(K13=3,1,0) -> 0 | M13: 1200 | N13: 20 | O13: 18 | P13: HK3 | Q13: =VLOOKUP(P13,'Dia chat'!$E:$AE,7,0) -> -18.74 | R13: D1200 loại 1
A14: A12 | B14: 2317788.4 | C14: 430345.91 | D14: 22.7 | E14: DC6 | F14: -8.7 | G14: =F14+1 -> -7.7 | I14: X | J14: =IF(H14="",IF(I14="","","L"),"SA") -> L | K14: =IF(J14="",0,IF(J14="SA",4,3)) -> 3 | L14: =IF(K14=3,1,0) -> 1 | M14: 1200 | N14: 20 | O14: 18 | P14: HK3 | Q14: =VLOOKUP(P14,'Dia chat'!$E:$AE,7,0) -> -18.74 | R14: D1200 loại 1
A15: A13 | B15: 2317789.7 | C15: 430351.46 | D15: 23.2 | E15: DC5 | F15: -8.7 | G15: =F15+1 -> -7.7 | J15: =IF(H15="",IF(I15="","","L"),"SA") | K15: =IF(J15="",0,IF(J15="SA",4,3)) -> 0 | L15: =IF(K15=3,1,0) -> 0 | M15: 1200 | N15: 20 | O15: 18 | P15: HK5 | Q15: =VLOOKUP(P15,'Dia chat'!$E:$AE,7,0) -> -19.27 | R15: D1200 loại 1
A16: A14 | B16: 2317789.8 | C16: 430354.46 | D16: 23.2 | E16: DC5 | F16: -8.7 | G16: =F16+1 -> -7.7 | H16: X | J16: =IF(H16="",IF(I16="","","L"),"SA") -> SA | K16: =IF(J16="",0,IF(J16="SA",4,3)) -> 4 | L16: =IF(K16=3,1,0) -> 0 | M16: 1200 | N16: 20 | O16: 18 | P16: HK5 | Q16: =VLOOKUP(P16,'Dia chat'!$E:$AE,7,0) -> -19.27 | R16: D1200 loại 1
A17: A15 | B17: 2317787 | C17: 430353.08 | D17: 23.2 | E17: DC5 | F17: -8.7 | G17: =F17+1 -> -7.7 | J17: =IF(H17="",IF(I17="","","L"),"SA") | K17: =IF(J17="",0,IF(J17="SA",4,3)) -> 0 | L17: =IF(K17=3,1,0) -> 0 | M17: 1200 | N17: 20 | O17: 18 | P17: HK5 | Q17: =VLOOKUP(P17,'Dia chat'!$E:$AE,7,0) -> -19.27 | R17: D1200 loại 1
A18: A16 | B18: 2317790.1 | C18: 430360.25 | D18: 39.6 | E18: DC5 | F18: -8.7 | G18: =F18+1 -> -7.7 | H18: X | J18: =IF(H18="",IF(I18="","","L"),"SA") -> SA | K18: =IF(J18="",0,IF(J18="SA",4,3)) -> 4 | L18: =IF(K18=3,1,0) -> 0 | M18: 1200 | N18: 20 | O18: 18 | P18: HK26 | Q18: -22 | R18: D1200 loại 1
A19: A17 | B19: 2317790.2 | C19: 430363.25 | D19: 39.6 | E19: DC5 | F19: -8.7 | G19: =F19+1 -> -7.7 | J19: =IF(H19="",IF(I19="","","L"),"SA") | K19: =IF(J19="",0,IF(J19="SA",4,3)) -> 0 | L19: =IF(K19=3,1,0) -> 0 | M19: 1200 | N19: 20 | O19: 18 | P19: HK26 | Q19: -22 | R19: D1200 loại 1
A20: A18 | B20: 2317787.4 | C20: 430361.88 | D20: 39.6 | E20: DC5 | F20: -8.7 | G20: =F20+1 -> -7.7 | H20: X | J20: =IF(H20="",IF(I20="","","L"),"SA") -> SA | K20: =IF(J20="",0,IF(J20="SA",4,3)) -> 4 | L20: =IF(K20=3,1,0) -> 0 | M20: 1200 | N20: 20 | O20: 18 | P20: HK26 | Q20: -22 | R20: D1200 loại 1
A21: A19 | B21: 2317790.5 | C21: 430369.44 | D21: 39.6 | E21: DC5A | F21: -7.7 | G21: =F21+1 -> -6.7 | H21: X | J21: =IF(H21="",IF(I21="","","L"),"SA") -> SA | K21: =IF(J21="",0,IF(J21="SA",4,3)) -> 4 | L21: =IF(K21=3,1,0) -> 0 | M21: 1200 | N21: 20 | O21: 36 | P21: HK26 | Q21: -22 | R21: D1200 loại 2
A22: A20 | B22: 2317787.9 | C22: 430371.07 | D22: 39.6 | E22: DC5A | F22: -7.7 | G22: =F22+1 -> -6.7 | J22: =IF(H22="",IF(I22="","","L"),"SA") | K22: =IF(J22="",0,IF(J22="SA",4,3)) -> 0 | L22: =IF(K22=3,1,0) -> 0 | M22: 1200 | N22: 20 | O22: 18 | P22: HK34 | Q22: =VLOOKUP(P22,'Dia chat'!$E:$AE,7,0) -> -20.88 | R22: D1200 loại 2
A23: A21 | B23: 2317790.6 | C23: 430372.44 | D23: 31.8 | E23: DC5A | F23: -7.7 | G23: =F23+1 -> -6.7 | H23: X | J23: =IF(H23="",IF(I23="","","L"),"SA") -> SA | K23: =IF(J23="",0,IF(J23="SA",4,3)) -> 4 | L23: =IF(K23=3,1,0) -> 0 | M23: 1200 | N23: 20 | O23: 18 | P23: HK34 | Q23: =VLOOKUP(P23,'Dia chat'!$E:$AE,7,0) -> -20.88 | R23: D1200 loại 2
A24: A22 | B24: 2317790.9 | C24: 430378.43 | D24: 26.9 | E24: DC5A | F24: -7.7 | G24: =F24+1 -> -6.7 | H24: X | J24: =IF(H24="",IF(I24="","","L"),"SA") -> SA | K24: =IF(J24="",0,IF(J24="SA",4,3)) -> 4 | L24: =IF(K24=3,1,0) -> 0 | M24: 1200 | N24: 20 | O24: 18 | P24: HK34 | Q24: =VLOOKUP(P24,'Dia chat'!$E:$AE,7,0) -> -20.88 | R24: D1200 loại 2
A25: A23 | B25: 2317788.3 | C25: 430380.06 | D25: 26.9 | E25: DC5A | F25: -7.7 | G25: =F25+1 -> -6.7 | I25: X | J25: =IF(H25="",IF(I25="","","L"),"SA") -> L | K25: =IF(J25="",0,IF(J25="SA",4,3)) -> 3 | L25: =IF(K25=3,1,0) -> 1 | M25: 1200 | N25: 20 | O25: 18 | P25: HK35 | Q25: -22 | R25: D1200 loại 2
A26: A24 | B26: 2317791 | C26: 430381.43 | D26: 26.9 | E26: DC5A | F26: -7.7 | G26: =F26+1 -> -6.7 | H26: X | J26: =IF(H26="",IF(I26="","","L"),"SA") -> SA | K26: =IF(J26="",0,IF(J26="SA",4,3)) -> 4 | L26: =IF(K26=3,1,0) -> 0 | M26: 1200 | N26: 20 | O26: 18 | P26: HK35 | Q26: -22 | R26: D1200 loại 2
A27: A25 | B27: 2317790.3 | C27: 430387.08 | D27: 26.9 | E27: DC6A | F27: -7.7 | G27: =F27+1 -> -6.7 | H27: X | J27: =IF(H27="",IF(I27="","","L"),"SA") -> SA | K27: =IF(J27="",0,IF(J27="SA",4,3)) -> 4 | L27: =IF(K27=3,1,0) -> 0 | M27: 1200 | N27: 20 | O27: 18 | P27: HK35 | Q27: -22 | R27: D1200 loại 2
A28: A26 | B28: 2317790.4 | C28: 430390.08 | D28: 26.9 | E28: DC6A | F28: -7.7 | G28: =F28+1 -> -6.7 | H28: X | J28: =IF(H28="",IF(I28="","","L"),"SA") -> SA | K28: =IF(J28="",0,IF(J28="SA",4,3)) -> 4 | L28: =IF(K28=3,1,0) -> 0 | M28: 1200 | N28: 20 | O28: 18 | P28: HK35 | Q28: -22 | R28: D1200 loại 2
A29: A27 | B29: 2317779.5 | C29: 430305.29 | D29: 26 | E29: DC5 | F29: -8.7 | G29: =F29+1 -> -7.7 | I29: X | J29: =IF(H29="",IF(I29="","","L"),"SA") -> L | K29: =IF(J29="",0,IF(J29="SA",4,3)) -> 3 | L29: =IF(K29=3,1,0) -> 1 | M29: 1200 | N29: 20 | O29: 18 | P29: HK6 | Q29: =VLOOKUP(P29,'Dia chat'!$E:$AE,7,0) -> -20.54 | R29: D1200 loại 1
A30: A28 | B30: 2317776.5 | C30: 430305.42 | D30: 26 | E30: DC5 | F30: -8.7 | G30: =F30+1 -> -7.7 | J30: =IF(H30="",IF(I30="","","L"),"SA") | K30: =IF(J30="",0,IF(J30="SA",4,3)) -> 0 | L30: =IF(K30=3,1,0) -> 0 | M30: 1200 | N30: 20 | O30: 18 | P30: HK6 | Q30: =VLOOKUP(P30,'Dia chat'!$E:$AE,7,0) -> -20.54 | R30: D1200 loại 1
A31: A29 | B31: 2317778.1 | C31: 430308.05 | D31: 26 | E31: DC5 | F31: -8.7 | G31: =F31+1 -> -7.7 | J31: =IF(H31="",IF(I31="","","L"),"SA") | K31: =IF(J31="",0,IF(J31="SA",4,3)) -> 0 | L31: =IF(K31=3,1,0) -> 0 | M31: 1200 | N31: 20 | O31: 18 | P31: HK6 | Q31: =VLOOKUP(P31,'Dia chat'!$E:$AE,7,0) -> -20.54 | R31: D1200 loại 1
A32: A30 | B32: 2317770.8 | C32: 430305.68 | D32: 31.5 | E32: DC5 | F32: -8.7 | G32: =F32+1 -> -7.7 | J32: =IF(H32="",IF(I32="","","L"),"SA") | K32: =IF(J32="",0,IF(J32="SA",4,3)) -> 0 | L32: =IF(K32=3,1,0) -> 0 | M32: 1200 | N32: 20 | O32: 18 | P32: HK7 | Q32: =VLOOKUP(P32,'Dia chat'!$E:$AE,7,0) -> -20.63 | R32: D1200 loại 1
A33: A31 | B33: 2317767.8 | C33: 430305.82 | D33: 31.5 | E33: DC5 | F33: -8.7 | G33: =F33+1 -> -7.7 | J33: =IF(H33="",IF(I33="","","L"),"SA") | K33: =IF(J33="",0,IF(J33="SA",4,3)) -> 0 | L33: =IF(K33=3,1,0) -> 0 | M33: 1200 | N33: 20 | O33: 18 | P33: HK7 | Q33: =VLOOKUP(P33,'Dia chat'!$E:$AE,7,0) -> -20.63 | R33: D1200 loại 1
A34: A32 | B34: 2317769.4 | C34: 430308.45 | D34: 31.5 | E34: DC5 | F34: -8.7 | G34: =F34+1 -> -7.7 | H34: X | J34: =IF(H34="",IF(I34="","","L"),"SA") -> SA | K34: =IF(J34="",0,IF(J34="SA",4,3)) -> 4 | L34: =IF(K34=3,1,0) -> 0 | M34: 1200 | N34: 20 | O34: 18 | P34: HK7 | Q34: =VLOOKUP(P34,'Dia chat'!$E:$AE,7,0) -> -20.63 | R34: D1200 loại 1
A35: A33 | B35: 2317778.7 | C35: 430313.92 | D35: 34.3 | E35: DC2 | F35: -8.7 | G35: =F35+1 -> -7.7 | J35: =IF(H35="",IF(I35="","","L"),"SA") | K35: =IF(J35="",0,IF(J35="SA",4,3)) -> 0 | L35: =IF(K35=3,1,0) -> 0 | M35: 1200 | N35: 20 | O35: 18 | P35: HK8 | Q35: =VLOOKUP(P35,'Dia chat'!$E:$AE,7,0) -> -19.05 | R35: D1200 loại 1
A36: A34 | B36: 2317774.7 | C36: 430314.11 | D36: 34.3 | E36: DC2 | F36: -8.7 | G36: =F36+1 -> -7.7 | H36: X | J36: =IF(H36="",IF(I36="","","L"),"SA") -> SA | K36: =IF(J36="",0,IF(J36="SA",4,3)) -> 4 | L36: =IF(K36=3,1,0) -> 0 | M36: 1200 | N36: 20 | O36: 18 | P36: HK41 | Q36: =VLOOKUP(P36,'Dia chat'!$E:$AE,7,0) -> -19.44 | R36: D1200 loại 1
A37: A35 | B37: 2317771.7 | C37: 430314.24 | D37: 23 | E37: DC2 | F37: -8.7 | G37: =F37+1 -> -7.7 | J37: =IF(H37="",IF(I37="","","L"),"SA") | K37: =IF(J37="",0,IF(J37="SA",4,3)) -> 0 | L37: =IF(K37=3,1,0) -> 0 | M37: 1200 | N37: 20 | O37: 18 | P37: HK41 | Q37: =VLOOKUP(P37,'Dia chat'!$E:$AE,7,0) -> -19.44 | R37: D1200 loại 1
A38: A36 | B38: 2317768.7 | C38: 430314.38 | D38: 23 | E38: DC2 | F38: -8.7 | G38: =F38+1 -> -7.7 | J38: =IF(H38="",IF(I38="","","L"),"SA") | K38: =IF(J38="",0,IF(J38="SA",4,3)) -> 0 | L38: =IF(K38=3,1,0) -> 0 | M38: 1200 | N38: 20 | O38: 18 | P38: HK11 | Q38: =VLOOKUP(P38,'Dia chat'!$E:$AE,7,0) -> -17.46 | R38: D1200 loại 1
A39: A37 | B39: 2317768.8 | C39: 430317.38 | D39: 23 | E39: DC2 | F39: -8.7 | G39: =F39+1 -> -7.7 | H39: X | J39: =IF(H39="",IF(I39="","","L"),"SA") -> SA | K39: =IF(J39="",0,IF(J39="SA",4,3)) -> 4 | L39: =IF(K39=3,1,0) -> 0 | M39: 1200 | N39: 20 | O39: 18 | P39: HK11 | Q39: =VLOOKUP(P39,'Dia chat'!$E:$AE,7,0) -> -17.46 | R39: D1200 loại 1 | Y39: Bảng tọa độ mốc gửi trong công trình
A40: A38 | B40: 2317771.8 | C40: 430317.24 | D40: 23 | E40: DC2 | F40: -9.7 | G40: =F40+1 -> -8.7 | J40: =IF(H40="",IF(I40="","","L"),"SA") | K40: =IF(J40="",0,IF(J40="SA",4,3)) -> 0 | L40: =IF(K40=3,1,0) -> 0 | M40: 1200 | N40: 20 | O40: 18 | P40: HK41 | Q40: =VLOOKUP(P40,'Dia chat'!$E:$AE,7,0) -> -19.44 | R40: D1200 loại 1 | Y40: Tên mốc | Z40: X | AA40: Y | AB40: Z
...

Sheet Du lieu
A1: NỘI DUNG YÊU CẦU DỮ LIỆU CẬP NHẬT DỮ LIỆU CHUNG
A3: Stt | B3: Nội dung | C3: Trực thuộc | D3: Ghi chú
A4: 1 | B4: Tên công trình: | C4: KHU HỖN HỢP CHUNG CƯ, VĂN PHÒNG, TRUNG TÂM THƯƠNG MẠI VÀ NHÀ Ở KẾT HỢP KHU MUA SẮM | E4: Khu hỗn hợp chung cư, văn phòng, trung tâm thương mại và nhà ở kết hợp khu mua sắm
A5: 2 | B5: Gói thầu | C5: CỌC KHOAN NHỒI
A6: 3 | B6: Địa điểm xây dựng: | C6: P. BẠCH ĐẰNG, TP. HẠ LONG, TỈNH QUẢNG NINH | E6: P. Bạch Đằng, TP Hạ Long, Tỉnh Quảng Ninh
A7: 4 | B7: Đơn vị chủ đầu tư | C7: CÔNG TY CỔ PHẦN ĐẦU TƯ VÀ KHÁCH SẠN MYWAY HẠ LONG | D7: Công ty Cổ phần đầu tư và Khách sạn MyWay Hạ Long
B8: Ông: | C8: Nguyễn Thanh Tân | D8: GĐ BQLDA
B9: Ông: | C9: Phạm Tiến Dũng | D9: Cán bộ BQLDA | E9: Chức vụ
B10: Ông: | C10: ……………….. | D10: Cán bộ BQLDA
A11: 5 | B11: Tư vấn giám sát | C11: CÔNG TY CỔ PHẦN TƯ VẤN KIỂM ĐỊNH VÀ THƯƠNG MẠI XÂY DỰNG GOLDSUN | D11: Công ty Cổ phần tư vấn kiểm định và thương mại xây dựng Goldsun
B12: Ông: | C12: ..................................... | D12: .....................................
B13: Ông: | C13: ..................................... | D13: ..................................... | E13: Chức vụ
B14: Ông: | C14: ..................................... | D14: .....................................
A15: 6 | B15: Đơn vị thi công | C15: CÔNG TY TNHH MTV HANTECH | D15: Công ty TNHH MTV HANTECH
B16: Ông: | C16: ..................................... | D16: .....................................
B17: Ông: | C17: Ngô Văn Khánh | D17: Chỉ huy trưởng công trường | E17: Chức vụ
B18: Ông: | C18: Nguyễn Mạnh Hùng | D18: Chỉ huy phó công trường
A19: 6 | B19: Ký nội bộ
B20: Ông: | C20: ......................... | D20: .....................................
B21: Ông: | C21: ......................... | D21: ..................................... | E21: Chức vụ
C22: Nguyễn Văn Long | D22: Cán bộ trắc địa
B23: Ông: | C23: Nguyễn Văn Tĩnh | D23: Tổ trưởng công nhân
A24: 7 | B24: Tư vấn thiết kế | C24: …………………………….
B25: Ông: | C25: ................................ | D25: ................................
B26: Ông: | C26: ................................ | D26: Chủ nhiệm dự án | E26: Chức vụ
B27: Ông: | C27: ................................ | D27: Cán bộ TVTK
A28: 8 | B28: Thầu phụ
B29: Thép
B30: Ông: | E30: Chức vụ
B31: Bê tông | C31: ='2. NK'!Q26 -> Công ty TNHH kinh doanh và phát triển Vượng Phát | D31: =C31 -> Công ty TNHH kinh doanh và phát triển Vượng Phát | F31: Công ty TNHH SX & TM KDVL XD An Phúc
B32: Ông: | C32: ................................ | D32: ................................ | E32: Chức vụ
B33: Bentonite
B34: Ông: | C34: .......................... | D34: ............................. | E34: Chức vụ

Sheet DT.NK
A1: CÔNG TY MỘT THÀNH VIÊN HANTECH
E2: BẢNG TRÌNH NGÀY THÁNG THI CÔNG LÝ LỊCH CÁC CỌC
A3: ĐẠI DIỆN NHÀ THẦU THI CÔNG | H3: TƯ VẤN GIÁM SÁT | N3: BAN QUẢN LÝ DỰ ÁN
A10: STT | B10: Tên cọc | C10: 1.Khoan tạo lỗ : | F10: 2.Nghiệm thu định vị ống Casing: | M10: 3.Kiểm tra Polymer lần1: | T10: 4.Khoan gặp đá: | W10: 5.Kết thúc khoan hồi : | Z10: 6.Vét lắng | AD10: 7.Nghiệm thu lồng thép: | AG10: 8.Hạ lồng thép, ống đổ, ống thổi : | AJ10: 9.Kiểm tra Polymer lần 2: | AQ10: 10.Kiểm tra chiều sâu hố khoan trước khi đổ bê tông | AU10: 11.Tvgs đồng ý cho đổ bê tông
C11: Bắt đầu | D11: Kết thúc | E11: Ngày: | F11: Bắt đầu | G11: Kết thúc | H11: Ngày: | I11: DX | J11: DY | K11: CĐ sing | L11: CĐ TN | M11: Bắt đầu | N11: Kết thúc | O11: Ngày: | P11: Tỷ trọng | Q11: PH | R11: Độ nhớt | S11: HL cát | T11: Bắt đầu | U11: Ngày: | V11: chiều sâu | W11: Bắt đầu | X11: Ngày | Y11: chiều sâu | Z11: Bắt đầu | AA11: Kết thúc | AB11: Ngày: | AC11: chiều sâu | AD11: Bắt đầu | AE11: Kết thúc | AF11: Ngày: | AG11: Bắt đầu | AH11: Kết thúc | AI11: Ngày: | AJ11: Bắt đầu | AK11: Kết thúc | AL11: Ngày: | AM11: Tỷ trọng | AN11: PH | AO11: Độ nhớt | AP11: HL cát | AQ11: Bắt đầu | AR11: Kết thúc | AS11: Ngày: | AT11: chiều sâu | AU11: Bắt đầu | AV11: Ngày | AW11: Kết thúc | AX11: Ngày | AY11: Chiều sâu dừng đổ | AZ11: BT thực tế | BJ11: Đặt ống SA
B12: 1 | C12: 2 | D12: 3 | E12: 4 | F12: 5 | G12: 6 | H12: 7 | I12: 8 | J12: 9 | K12: 10 | L12: 11 | M12: 12 | N12: 13 | O12: 14 | P12: 15 | Q12: 16 | R12: 17 | S12: 18 | T12: 19 | U12: 20 | V12: 21 | W12: 22 | X12: 23 | Y12: 24 | Z12: 25 | AA12: 26 | AB12: 27 | AC12: 28 | AD12: 29 | AE12: 30 | AF12: 31 | AG12: 32 | AH12: 33 | AI12: 34 | AJ12: 35 | AK12: 36 | AL12: 37 | AM12: 38 | AN12: 39 | AO12: 40 | AP12: 41 | AQ12: 42 | AR12: 43 | AS12: 44 | AT12: 45 | AU12: 46 | AV12: 47 | AW12: 48 | AX12: 49 | AY12: 50 | AZ12: 51
A13: 1 | B13: B1 | C13: 0.375 | D13: =C13+$D$319 -> 0.39583333 | E13: 42466 | F13: =D13+$D$315 -> 0.40277778 | G13: =F13+$D$314 -> 0.40625 | H13: =IF(G13>2,E13+2,IF(G13>1,E13+1,E13)) -> 42466 | I13: 0.001 | J13: 0.02 | K13: -0.353 | L13: -0.717 | M13: =G13+$D$314 -> 0.40972222 | N13: =M13+$D$316 -> 0.42013889 | O13: =IF(N13>2,E13+2,IF(N13>1,E13+1,E13)) -> 42466 | P13: 1.08 | Q13: 9 | R13: 19 | S13: 0 | T13: =N13+$D$344 -> 0.54513889 | U13: =IF(T13>2,E13+2,IF(T13>1,E13+1,E13)) -> 42466 | V13: 22.3 | W13: =T13+$D$344 -> 0.67013889 | X13: =IF(W13>2,E13+2,IF(W13>1,E13+1,E13)) -> 42466 | Y13: 29.35 | Z13: =W13+$D$325 -> 0.71180556 | AA13: =Z13+$D$319 -> 0.73263889 | AB13: =IF(AA13>2,E13+2,IF(AA13>1,E13+1,E13)) -> 42466 | AC13: 29.35 | AD13: =AA13+$D$315 -> 0.73958333 | AE13: =AD13+$D$316 -> 0.75 | AF13: =IF(AE13>2,E13+2,IF(AE13>1,E13+1,E13)) -> 42466 | AG13: =AE13+$D$315 -> 0.75694444 | AH13: =IF(BJ13>0,AG13+$D$325,AG13+$D$322) -> 0.79861111 | AI13: =IF(AH13>2,E13+2,IF(AH13>1,E13+1,E13)) -> 42466 | AJ13: =AH13+$D$319 -> 0.81944444 | AK13: =AJ13+$D$315 -> 0.82638889 | AL13: =IF(AK13>2,E13+2,IF(AK13>1,E13+1,E13)) -> 42466 | AM13: 1.09 | AN13: 9 | AO13: 28 | AP13: 0 | AQ13: =AK13 -> 0.82638889 | AR13: =AQ13+$D$315 -> 0.83333333 | AS13: =IF(AR13>2,E13+2,IF(AR13>1,E13+1,E13)) -> 42466 | AT13: 29.35 | AU13: =AR13 -> 0.83333333 | AV13: =IF(AU13>2,E13+2,IF(AU13>1,E13+1,E13)) -> 42466 | AW13: =AU13+$BC$13*BA13 -> 0.875 | AX13: =IF(AW13>2,E13+2,IF(AW13>1,E13+1,E13)) -> 42466 | AY13: 0 | AZ13: 18 | BA13: =VLOOKUP(B13,ĐTBT!$V:$W,2,0) -> 3 | BB13: 0.013888889 | BC13: 0.013888889 | BI13: =AX13-E13 -> 0 | BJ13: =VLOOKUP(B13,'Thong tin'!A:R,11,0) -> 2
A14: =IF(C14="","",COUNTA($C$13:C14)) -> 2 | B14: A19 | C14: 0.29166667 | D14: =C14+$D$319 -> 0.3125 | E14: 42468 | F14: =D14+$D$315 -> 0.31944444 | G14: =F14+$D$314 -> 0.32291667 | H14: =IF(G14>2,E14+2,IF(G14>1,E14+1,E14)) -> 42468 | I14: 0.025 | J14: 0.006 | K14: -0.156 | L14: -0.784 | M14: =G14+$D$314 -> 0.32638889 | N14: =M14+$D$316 -> 0.33680556 | O14: =IF(N14>2,E14+2,IF(N14>1,E14+1,E14)) -> 42468 | P14: 1.05 | Q14: 9 | R14: 24 | S14: 0 | T14: =N14+$D$344 -> 0.46180556 | U14: =IF(T14>2,E14+2,IF(T14>1,E14+1,E14)) -> 42468 | V14: 29 | W14: =T14+$D$344 -> 0.58680556 | X14: =IF(W14>2,E14+2,IF(W14>1,E14+1,E14)) -> 42468 | Y14: 39.6 | Z14: =W14+$D$325 -> 0.62847222 | AA14: =Z14+$D$319 -> 0.64930556 | AB14: =IF(AA14>2,E14+2,IF(AA14>1,E14+1,E14)) -> 42468 | AC14: 39.8 | AD14: =AA14+$D$315 -> 0.65625 | AE14: =AD14+$D$316 -> 0.66666667 | AF14: =IF(AE14>2,E14+2,IF(AE14>1,E14+1,E14)) -> 42468 | AG14: =AE14+$D$315 -> 0.67361111 | AH14: =IF(BJ14>0,AG14+$D$325,AG14+$D$322) -> 0.71527778 | AI14: =IF(AH14>2,E14+2,IF(AH14>1,E14+1,E14)) -> 42468 | AJ14: =AH14+$D$319 -> 0.73611111 | AK14: =AJ14+$D$315 -> 0.74305556 | AL14: =IF(AK14>2,E14+2,IF(AK14>1,E14+1,E14)) -> 42468 | AM14: 1.06 | AN14: 8 | AO14: 27 | AP14: 0 | AQ14: =AK14 -> 0.74305556 | AR14: =AQ14+$D$315 -> 0.75 | AS14: =IF(AR14>2,E14+2,IF(AR14>1,E14+1,E14)) -> 42468 | AT14: 39.8 | AU14: =AR14 -> 0.75 | AV14: =IF(AU14>2,E14+2,IF(AU14>1,E14+1,E14)) -> 42468 | AW14: =AU14+$BC$13*BA14 -> 0.86111111 | AX14: =IF(AW14>2,E14+2,IF(AW14>1,E14+1,E14)) -> 42468 | AY14: 0 | AZ14: 54 | BA14: =VLOOKUP(B14,ĐTBT!$V:$W,2,0) -> 8 | BI14: =AX14-E14 -> 0 | BJ14: =VLOOKUP(B14,'Thong tin'!A:R,11,0) -> 4
A15: =IF(C15="","",COUNTA($C$13:C15)) -> 3 | B15: A126 | C15: 0.3125 | D15: =C15+$D$319 -> 0.33333333 | E15: 42472 | F15: =D15+$D$315 -> 0.34027778 | G15: =F15+$D$314 -> 0.34375 | H15: =IF(G15>2,E15+2,IF(G15>1,E15+1,E15)) -> 42472 | I15: 0.018 | J15: 0.006 | K15: -0.267 | L15: -0.72 | M15: =G15+$D$314 -> 0.34722222 | N15: =M15+$D$316 -> 0.35763889 | O15: =IF(N15>2,E15+2,IF(N15>1,E15+1,E15)) -> 42472 | P15: 1.06 | Q15: 8 | R15: 22 | S15: 0 | T15: =N15+$D$344 -> 0.48263889 | U15: =IF(T15>2,E15+2,IF(T15>1,E15+1,E15)) -> 42472 | V15: 22.3 | W15: =T15+$D$344 -> 0.60763889 | X15: =IF(W15>2,E15+2,IF(W15>1,E15+1,E15)) -> 42472 | Y15: 23.4 | Z15: =W15+$D$325 -> 0.64930556 | AA15: =Z15+$D$319 -> 0.67013889 | AB15: =IF(AA15>2,E15+2,IF(AA15>1,E15+1,E15)) -> 42472 | AC15: 23.6 | AD15: =AA15+$D$315 -> 0.67708333 | AE15: =AD15+$D$316 -> 0.6875 | AF15: =IF(AE15>2,E15+2,IF(AE15>1,E15+1,E15)) -> 42472 | AG15: =AE15+$D$315 -> 0.69444444 | AH15: =IF(BJ15>0,AG15+$D$325,AG15+$D$322) -> 0.73611111 | AI15: =IF(AH15>2,E15+2,IF(AH15>1,E15+1,E15)) -> 42472 | AJ15: =AH15+$D$319 -> 0.75694444 | AK15: =AJ15+$D$315 -> 0.76388889 | AL15: =IF(AK15>2,E15+2,IF(AK15>1,E15+1,E15)) -> 42472 | AM15: 1.07 | AN15: 9 | AO15: 23 | AP15: 0 | AQ15: =AK15 -> 0.76388889 | AR15: =AQ15+$D$315 -> 0.77083333 | AS15: =IF(AR15>2,E15+2,IF(AR15>1,E15+1,E15)) -> 42472 | AT15: 23.6 | AU15: =AR15 -> 0.77083333 | AV15: =IF(AU15>2,E15+2,IF(AU15>1,E15+1,E15)) -> 42472 | AW15: =AU15+$BC$13*BA15 -> 0.84027778 | AX15: =IF(AW15>2,E15+2,IF(AW15>1,E15+1,E15)) -> 42472 | AY15: 0 | AZ15: 30 | BA15: =VLOOKUP(B15,ĐTBT!$V:$W,2,0) -> 5 | BI15: =AX15-E15 -> 0 | BJ15: =VLOOKUP(B15,'Thong tin'!A:R,11,0) -> 4
A16: =IF(C16="","",COUNTA($C$13:C16)) -> 4 | B16: B2 | C16: 0.33333333 | D16: =C16+$D$319 -> 0.35416667 | E16: 42495 | F16: =D16+$D$315 -> 0.36111111 | G16: =F16+$D$314 -> 0.36458333 | H16: =IF(G16>2,E16+2,IF(G16>1,E16+1,E16)) -> 42495 | I16: -0.017 | J16: -0.019 | K16: -0.252 | L16: -0.562 | M16: =G16+$D$314 -> 0.36805556 | N16: =M16+$D$316 -> 0.37847222 | O16: =IF(N16>2,E16+2,IF(N16>1,E16+1,E16)) -> 42495 | P16: 1.06 | Q16: 9 | R16: 25 | S16: 0 | T16: =N16+$D$344 -> 0.50347222 | U16: =IF(T16>2,E16+2,IF(T16>1,E16+1,E16)) -> 42495 | V16: 19.52 | W16: =T16+$D$344 -> 0.62847222 | X16: =IF(W16>2,E16+2,IF(W16>1,E16+1,E16)) -> 42495 | Y16: 29.75 | Z16: =W16+$D$325 -> 0.67013889 | AA16: =Z16+$D$319 -> 0.69097222 | AB16: =IF(AA16>2,E16+2,IF(AA16>1,E16+1,E16)) -> 42495 | AC16: 29.78 | AD16: =AA16+$D$315 -> 0.69791667 | AE16: =AD16+$D$316 -> 0.70833333 | AF16: =IF(AE16>2,E16+2,IF(AE16>1,E16+1,E16)) -> 42495 | AG16: =AE16+$D$315 -> 0.71527778 | AH16: =IF(BJ16>0,AG16+$D$325,AG16+$D$322) -> 0.74652778 | AI16: =IF(AH16>2,E16+2,IF(AH16>1,E16+1,E16)) -> 42495 | AJ16: =AH16+$D$319 -> 0.76736111 | AK16: =AJ16+$D$315 -> 0.77430556 | AL16: =IF(AK16>2,E16+2,IF(AK16>1,E16+1,E16)) -> 42495 | AM16: 1.06 | AN16: 9 | AO16: 25 | AP16: 0 | AQ16: =AK16 -> 0.77430556 | AR16: =AQ16+$D$315 -> 0.78125 | AS16: =IF(AR16>2,E16+2,IF(AR16>1,E16+1,E16)) -> 42495 | AT16: 29.78 | AU16: =AR16 -> 0.78125 | AV16: =IF(AU16>2,E16+2,IF(AU16>1,E16+1,E16)) -> 42495 | AW16: =AU16+$BC$13*BA16 -> 0.80902778 | AX16: =IF(AW16>2,E16+2,IF(AW16>1,E16+1,E16)) -> 42495 | AY16: 6.6 | AZ16: 15 | BA16: =VLOOKUP(B16,ĐTBT!$V:$W,2,0) -> 2
A17: =IF(C17="","",COUNTA($C$13:C17)) -> 5 | B17: B9 | C17: 0.41666667 | D17: =C17+$D$319 -> 0.4375 | E17: =E16 -> 42495 | F17: =D17+$D$315 -> 0.44444444 | G17: =F17+$D$314 -> 0.44791667 | H17: =IF(G17>2,E17+2,IF(G17>1,E17+1,E17)) -> 42495 | I17: -0.018 | J17: -0.01 | K17: -0.022 | L17: -0.4 | M17: =G17+$D$314 -> 0.45138889 | N17: =M17+$D$316 -> 0.46180556 | O17: =IF(N17>2,E17+2,IF(N17>1,E17+1,E17)) -> 42495 | P17: 1.06 | Q17: 9 | R17: 24 | S17: 0 | T17: =N17+$D$344 -> 0.58680556 | U17: =IF(T17>2,E17+2,IF(T17>1,E17+1,E17)) -> 42495 | V17: 20.41 | W17: =T17+$D$344 -> 0.71180556 | X17: =IF(W17>2,E17+2,IF(W17>1,E17+1,E17)) -> 42495 | Y17: 30.02 | Z17: =W17+$D$325 -> 0.75347222 | AA17: =Z17+$D$319 -> 0.77430556 | AB17: =IF(AA17>2,E17+2,IF(AA17>1,E17+1,E17)) -> 42495 | AC17: 30.05 | AD17: =AA17+$D$315 -> 0.78125 | AE17: =AD17+$D$316 -> 0.79166667 | AF17: =IF(AE17>2,E17+2,IF(AE17>1,E17+1,E17)) -> 42495 | AG17: =AE17+$D$315 -> 0.79861111 | AH17: =IF(BJ17>0,AG17+$D$325,AG17+$D$322) -> 0.82986111 | AI17: =IF(AH17>2,E17+2,IF(AH17>1,E17+1,E17)) -> 42495 | AJ17: =AH17+$D$319 -> 0.85069444 | AK17: =AJ17+$D$315 -> 0.85763889 | AL17: =IF(AK17>2,E17+2,IF(AK17>1,E17+1,E17)) -> 42495 | AM17: 1.06 | AN17: 9 | AO17: 24 | AP17: 0 | AQ17: =AK17 -> 0.85763889 | AR17: =AQ17+$D$315 -> 0.86458333 | AS17: =IF(AR17>2,E17+2,IF(AR17>1,E17+1,E17)) -> 42495 | AT17: 30.05 | AU17: =AR17 -> 0.86458333 | AV17: =IF(AU17>2,E17+2,IF(AU17>1,E17+1,E17)) -> 42495 | AW17: =AU17+$BC$13*BA17 -> 0.89236111 | AX17: =IF(AW17>2,E17+2,IF(AW17>1,E17+1,E17)) -> 42495 | AY17: 6.9 | AZ17: 16 | BA17: =VLOOKUP(B17,ĐTBT!$V:$W,2,0) -> 2
A18: =IF(C18="","",COUNTA($C$13:C18)) -> 6 | B18: B13 | C18: 0.29166667 | D18: =C18+$D$319 -> 0.3125 | E18: 42496 | F18: =D18+$D$315 -> 0.31944444 | G18: =F18+$D$314 -> 0.32291667 | H18: =IF(G18>2,E18+2,IF(G18>1,E18+1,E18)) -> 42496 | I18: -0.02 | J18: -0.014 | K18: -0.01 | L18: -0.4 | M18: =G18+$D$314 -> 0.32638889 | N18: =M18+$D$316 -> 0.33680556 | O18: =IF(N18>2,E18+2,IF(N18>1,E18+1,E18)) -> 42496 | P18: 1.06 | Q18: 9 | R18: 23 | S18: 0 | T18: =N18+$D$344 -> 0.46180556 | U18: =IF(T18>2,E18+2,IF(T18>1,E18+1,E18)) -> 42496 | V18: 20.62 | W18: =T18+$D$344 -> 0.58680556 | X18: =IF(W18>2,E18+2,IF(W18>1,E18+1,E18)) -> 42496 | Y18: 30.23 | Z18: =W18+$D$325 -> 0.62847222 | AA18: =Z18+$D$319 -> 0.64930556 | AB18: =IF(AA18>2,E18+2,IF(AA18>1,E18+1,E18)) -> 42496 | AC18: 30.27 | AD18: =AA18+$D$315 -> 0.65625 | AE18: =AD18+$D$316 -> 0.66666667 | AF18: =IF(AE18>2,E18+2,IF(AE18>1,E18+1,E18)) -> 42496 | AG18: =AE18+$D$315 -> 0.67361111 | AH18: =IF(BJ18>0,AG18+$D$325,AG18+$D$322) -> 0.70486111 | AI18: =IF(AH18>2,E18+2,IF(AH18>1,E18+1,E18)) -> 42496 | AJ18: =AH18+$D$319 -> 0.72569444 | AK18: =AJ18+$D$315 -> 0.73263889 | AL18: =IF(AK18>2,E18+2,IF(AK18>1,E18+1,E18)) -> 42496 | AM18: 1.06 | AN18: 9 | AO18: 23 | AP18: 0 | AQ18: =AK18 -> 0.73263889 | AR18: =AQ18+$D$315 -> 0.73958333 | AS18: =IF(AR18>2,E18+2,IF(AR18>1,E18+1,E18)) -> 42496 | AT18: 30.27 | AU18: =AR18 -> 0.73958333 | AV18: =IF(AU18>2,E18+2,IF(AU18>1,E18+1,E18)) -> 42496 | AW18: =AU18+$BC$13*BA18 -> 0.76736111 | AX18: =IF(AW18>2,E18+2,IF(AW18>1,E18+1,E18)) -> 42496 | AY18: 4.8 | AZ18: 17 | BA18: =VLOOKUP(B18,ĐTBT!$V:$W,2,0) -> 2
A19: =IF(C19="","",COUNTA($C$13:C19)) -> 7 | B19: B12 | C19: 0.375 | D19: =C19+$D$319 -> 0.39583333 | E19: =E18 -> 42496 | F19: =D19+$D$315 -> 0.40277778 | G19: =F19+$D$314 -> 0.40625 | H19: =IF(G19>2,E19+2,IF(G19>1,E19+1,E19)) -> 42496 | I19: 0.016 | J19: -0.023 | K19: 0.118 | L19: -0.3 | M19: =G19+$D$314 -> 0.40972222 | N19: =M19+$D$316 -> 0.42013889 | O19: =IF(N19>2,E19+2,IF(N19>1,E19+1,E19)) -> 42496 | P19: 1.06 | Q19: 9 | R19: 25 | S19: 0 | T19: =N19+$D$344 -> 0.54513889 | U19: =IF(T19>2,E19+2,IF(T19>1,E19+1,E19)) -> 42496 | V19: 21.22 | W19: =T19+$D$344 -> 0.67013889 | X19: =IF(W19>2,E19+2,IF(W19>1,E19+1,E19)) -> 42496 | Y19: 27.25 | Z19: =W19+$D$325 -> 0.71180556 | AA19: =Z19+$D$319 -> 0.73263889 | AB19: =IF(AA19>2,E19+2,IF(AA19>1,E19+1,E19)) -> 42496 | AC19: 27.25 | AD19: =AA19+$D$315 -> 0.73958333 | AE19: =AD19+$D$316 -> 0.75 | AF19: =IF(AE19>2,E19+2,IF(AE19>1,E19+1,E19)) -> 42496 | AG19: =AE19+$D$315 -> 0.75694444 | AH19: =IF(BJ19>0,AG19+$D$325,AG19+$D$322) -> 0.78819444 | AI19: =IF(AH19>2,E19+2,IF(AH19>1,E19+1,E19)) -> 42496 | AJ19: =AH19+$D$319 -> 0.80902778 | AK19: =AJ19+$D$315 -> 0.81597222 | AL19: =IF(AK19>2,E19+2,IF(AK19>1,E19+1,E19)) -> 42496 | AM19: 1.05 | AN19: 9 | AO19: 22 | AP19: 0 | AQ19: =AK19 -> 0.81597222 | AR19: =AQ19+$D$315 -> 0.82291667 | AS19: =IF(AR19>2,E19+2,IF(AR19>1,E19+1,E19)) -> 42496 | AT19: 27.25 | AU19: =AR19 -> 0.82291667 | AV19: =IF(AU19>2,E19+2,IF(AU19>1,E19+1,E19)) -> 42496 | AW19: =AU19+$BC$13*BA19 -> 0.85069444 | AX19: =IF(AW19>2,E19+2,IF(AW19>1,E19+1,E19)) -> 42496 | AY19: 4.6 | AZ19: 16 | BA19: =VLOOKUP(B19,ĐTBT!$V:$W,2,0) -> 2
A20: =IF(C20="","",COUNTA($C$13:C20)) -> 8 | B20: B11 | C20: 0.3125 | D20: =C20+$D$319 -> 0.33333333 | E20: 42497 | F20: =D20+$D$315 -> 0.34027778 | G20: =F20+$D$314 -> 0.34375 | H20: =IF(G20>2,E20+2,IF(G20>1,E20+1,E20)) -> 42497 | I20: -0.02 | J20: -0.008 | K20: 0.168 | L20: -0.198 | M20: =G20+$D$314 -> 0.34722222 | N20: =M20+$D$316 -> 0.35763889 | O20: =IF(N20>2,E20+2,IF(N20>1,E20+1,E20)) -> 42497 | P20: 1.06 | Q20: 9 | R20: 25 | S20: 0 | T20: =N20+$D$344 -> 0.48263889 | U20: =IF(T20>2,E20+2,IF(T20>1,E20+1,E20)) -> 42497 | V20: 21.05 | W20: =T20+$D$344 -> 0.60763889 | X20: =IF(W20>2,E20+2,IF(W20>1,E20+1,E20)) -> 42497 | Y20: 27.25 | Z20: =W20+$D$325 -> 0.64930556 | AA20: =Z20+$D$319 -> 0.67013889 | AB20: =IF(AA20>2,E20+2,IF(AA20>1,E20+1,E20)) -> 42497 | AC20: 27.3 | AD20: =AA20+$D$315 -> 0.67708333 | AE20: =AD20+$D$316 -> 0.6875 | AF20: =IF(AE20>2,E20+2,IF(AE20>1,E20+1,E20)) -> 42497 | AG20: =AE20+$D$315 -> 0.69444444 | AH20: =IF(BJ20>0,AG20+$D$325,AG20+$D$322) -> 0.72569444 | AI20: =IF(AH20>2,E20+2,IF(AH20>1,E20+1,E20)) -> 42497 | AJ20: =AH20+$D$319 -> 0.74652778 | AK20: =AJ20+$D$315 -> 0.75347222 | AL20: =IF(AK20>2,E20+2,IF(AK20>1,E20+1,E20)) -> 42497 | AM20: 1.06 | AN20: 9 | AO20: 25 | AP20: 0 | AQ20: =AK20 -> 0.75347222 | AR20: =AQ20+$D$315 -> 0.76041667 | AS20: =IF(AR20>2,E20+2,IF(AR20>1,E20+1,E20)) -> 42497 | AT20: 27.3 | AU20: =AR20 -> 0.76041667 | AV20: =IF(AU20>2,E20+2,IF(AU20>1,E20+1,E20)) -> 42497 | AW20: =AU20+$BC$13*BA20 -> 0.78819444 | AX20: =IF(AW20>2,E20+2,IF(AW20>1,E20+1,E20)) -> 42497 | AY20: 4.9 | AZ20: 15 | BA20: =VLOOKUP(B20,ĐTBT!$V:$W,2,0) -> 2
A21: =IF(C21="","",COUNTA($C$13:C21)) -> 9 | B21: B48 | C21: 0.35416667 | D21: =C21+$D$319 -> 0.375 | E21: =E20 -> 42497 | F21: =D21+$D$315 -> 0.38194444 | G21: =F21+$D$314 -> 0.38541667 | H21: =IF(G21>2,E21+2,IF(G21>1,E21+1,E21)) -> 42497 | I21: -0.027 | J21: 0.003 | K21: 0.168 | L21: -0.4 | M21: =G21+$D$314 -> 0.38888889 | N21: =M21+$D$316 -> 0.39930556 | O21: =IF(N21>2,E21+2,IF(N21>1,E21+1,E21)) -> 42497 | P21: 1.06 | Q21: 9 | R21: 24 | S21: 0 | T21: =N21+$D$344 -> 0.52430556 | U21: =IF(T21>2,E21+2,IF(T21>1,E21+1,E21)) -> 42497 | V21: 22.52 | W21: =T21+$D$344 -> 0.64930556 | X21: =IF(W21>2,E21+2,IF(W21>1,E21+1,E21)) -> 42497 | Y21: 26.15 | Z21: =W21+$D$325 -> 0.69097222 | AA21: =Z21+$D$319 -> 0.71180556 | AB21: =IF(AA21>2,E21+2,IF(AA21>1,E21+1,E21)) -> 42497 | AC21: 26.17 | AD21: =AA21+$D$315 -> 0.71875 | AE21: =AD21+$D$316 -> 0.72916667 | AF21: =IF(AE21>2,E21+2,IF(AE21>1,E21+1,E21)) -> 42497 | AG21: =AE21+$D$315 -> 0.73611111 | AH21: =IF(BJ21>0,AG21+$D$325,AG21+$D$322) -> 0.76736111 | AI21: =IF(AH21>2,E21+2,IF(AH21>1,E21+1,E21)) -> 42497 | AJ21: =AH21+$D$319 -> 0.78819444 | AK21: =AJ21+$D$315 -> 0.79513889 | AL21: =IF(AK21>2,E21+2,IF(AK21>1,E21+1,E21)) -> 42497 | AM21: 1.06 | AN21: 9 | AO21: 24 | AP21: 0 | AQ21: =AK21 -> 0.79513889 | AR21: =AQ21+$D$315 -> 0.80208333 | AS21: =IF(AR21>2,E21+2,IF(AR21>1,E21+1,E21)) -> 42497 | AT21: 26.17 | AU21: =AR21 -> 0.80208333 | AV21: =IF(AU21>2,E21+2,IF(AU21>1,E21+1,E21)) -> 42497 | AW21: =AU21+$BC$13*BA21 -> 0.81597222 | AX21: =IF(AW21>2,E21+2,IF(AW21>1,E21+1,E21)) -> 42497 | AY21: 5 | AZ21: 13 | BA21: =VLOOKUP(B21,ĐTBT!$V:$W,2,0) -> 1
A22: =IF(C22="","",COUNTA($C$13:C22)) -> 10 | B22: B10 | C22: 0.375 | D22: =C22+$D$319 -> 0.39583333 | E22: 42498 | F22: =D22+$D$315 -> 0.40277778 | G22: =F22+$D$314 -> 0.40625 | H22: =IF(G22>2,E22+2,IF(G22>1,E22+1,E22)) -> 42498 | I22: -0.02 | J22: 0.009 | K22: 0.079 | L22: -0.2 | M22: =G22+$D$314 -> 0.40972222 | N22: =M22+$D$316 -> 0.42013889 | O22: =IF(N22>2,E22+2,IF(N22>1,E22+1,E22)) -> 42498 | P22: 1.06 | Q22: 9 | R22: 26 | S22: 0 | T22: =N22+$D$344 -> 0.54513889 | U22: =IF(T22>2,E22+2,IF(T22>1,E22+1,E22)) -> 42498 | V22: 20.85 | W22: =T22+$D$344 -> 0.67013889 | X22: =IF(W22>2,E22+2,IF(W22>1,E22+1,E22)) -> 42498 | Y22: 27.18 | Z22: =W22+$D$325 -> 0.71180556 | AA22: =Z22+$D$319 -> 0.73263889 | AB22: =IF(AA22>2,E22+2,IF(AA22>1,E22+1,E22)) -> 42498 | AC22: 27.18 | AD22: =AA22+$D$315 -> 0.73958333 | AE22: =AD22+$D$316 -> 0.75 | AF22: =IF(AE22>2,E22+2,IF(AE22>1,E22+1,E22)) -> 42498 | AG22: =AE22+$D$315 -> 0.75694444 | AH22: =IF(BJ22>0,AG22+$D$325,AG22+$D$322) -> 0.78819444 | AI22: =IF(AH22>2,E22+2,IF(AH22>1,E22+1,E22)) -> 42498 | AJ22: =AH22+$D$319 -> 0.80902778 | AK22: =AJ22+$D$315 -> 0.81597222 | AL22: =IF(AK22>2,E22+2,IF(AK22>1,E22+1,E22)) -> 42498 | AM22: 1.06 | AN22: 9 | AO22: 25 | AP22: 0 | AQ22: =AK22 -> 0.81597222 | AR22: =AQ22+$D$315 -> 0.82291667 | AS22: =IF(AR22>2,E22+2,IF(AR22>1,E22+1,E22)) -> 42498 | AT22: 27.18 | AU22: =AR22 -> 0.82291667 | AV22: =IF(AU22>2,E22+2,IF(AU22>1,E22+1,E22)) -> 42498 | AW22: =AU22+$BC$13*BA22 -> 0.83680556 | AX22: =IF(AW22>2,E22+2,IF(AW22>1,E22+1,E22)) -> 42498 | AY22: 6.8 | AZ22: 13 | BA22: =VLOOKUP(B22,ĐTBT!$V:$W,2,0) -> 1
A23: =IF(C23="","",COUNTA($C$13:C23)) -> 11 | B23: B49 | C23: 0.38194444 | D23: =C23+$D$319 -> 0.40277778 | E23: =E22 -> 42498 | F23: =D23+$D$315 -> 0.40972222 | G23: =F23+$D$314 -> 0.41319444 | H23: =IF(G23>2,E23+2,IF(G23>1,E23+1,E23)) -> 42498 | I23: -0.011 | J23: -0.004 | K23: 0.158 | L23: -0.2 | M23: =G23+$D$314 -> 0.41666667 | N23: =M23+$D$316 -> 0.42708333 | O23: =IF(N23>2,E23+2,IF(N23>1,E23+1,E23)) -> 42498 | P23: 1.06 | Q23: 9 | R23: 25 | S23: 0 | T23: =N23+$D$344 -> 0.55208333 | U23: =IF(T23>2,E23+2,IF(T23>1,E23+1,E23)) -> 42498 | V23: 20.51 | W23: =T23+$D$344 -> 0.67708333 | X23: =IF(W23>2,E23+2,IF(W23>1,E23+1,E23)) -> 42498 | Y23: 27.25 | Z23: =W23+$D$325 -> 0.71875 | AA23: =Z23+$D$319 -> 0.73958333 | AB23: =IF(AA23>2,E23+2,IF(AA23>1,E23+1,E23)) -> 42498 | AC23: 27.31 | AD23: =AA23+$D$315 -> 0.74652778 | AE23: =AD23+$D$316 -> 0.75694444 | AF23: =IF(AE23>2,E23+2,IF(AE23>1,E23+1,E23)) -> 42498 | AG23: =AE23+$D$315 -> 0.76388889 | AH23: =IF(BJ23>0,AG23+$D$325,AG23+$D$322) -> 0.79513889 | AI23: =IF(AH23>2,E23+2,IF(AH23>1,E23+1,E23)) -> 42498 | AJ23: =AH23+$D$319 -> 0.81597222 | AK23: =AJ23+$D$315 -> 0.82291667 | AL23: =IF(AK23>2,E23+2,IF(AK23>1,E23+1,E23)) -> 42498 | AM23: 1.06 | AN23: 9 | AO23: 23 | AP23: 0 | AQ23: =AK23 -> 0.82291667 | AR23: =AQ23+$D$315 -> 0.82986111 | AS23: =IF(AR23>2,E23+2,IF(AR23>1,E23+1,E23)) -> 42498 | AT23: 27.31 | AU23: =AR23 -> 0.82986111 | AV23: =IF(AU23>2,E23+2,IF(AU23>1,E23+1,E23)) -> 42498 | AW23: =AU23+$BC$13*BA23 -> 0.85763889 | AX23: =IF(AW23>2,E23+2,IF(AW23>1,E23+1,E23)) -> 42498 | AY23: 4.5 | AZ23: 15 | BA23: =VLOOKUP(B23,ĐTBT!$V:$W,2,0) -> 2
A24: =IF(C24="","",COUNTA($C$13:C24)) -> 12 | B24: A26 | C24: 0.33680556 | D24: =C24+$D$319 -> 0.35763889 | E24: 42499 | F24: =D24+$D$315 -> 0.36458333 | G24: =F24+$D$314 -> 0.36805556 | H24: =IF(G24>2,E24+2,IF(G24>1,E24+1,E24)) -> 42499 | I24: 0.014 | J24: -0.006 | K24: -0.077 | L24: -0.425 | M24: =G24+$D$314 -> 0.37152778 | N24: =M24+$D$316 -> 0.38194444 | O24: =IF(N24>2,E24+2,IF(N24>1,E24+1,E24)) -> 42499 | P24: 1.06 | Q24: 9 | R24: 26 | S24: 0 | T24: =N24+$D$344 -> 0.50694444 | U24: =IF(T24>2,E24+2,IF(T24>1,E24+1,E24)) -> 42499 | V24: 17.22 | W24: =T24+$D$344 -> 0.63194444 | X24: =IF(W24>2,E24+2,IF(W24>1,E24+1,E24)) -> 42499 | Y24: 28.3 | Z24: =W24+$D$325 -> 0.67361111 | AA24: =Z24+$D$319 -> 0.69444444 | AB24: =IF(AA24>2,E24+2,IF(AA24>1,E24+1,E24)) -> 42499 | AC24: 28.3 | AD24: =AA24+$D$315 -> 0.70138889 | AE24: =AD24+$D$316 -> 0.71180556 | AF24: =IF(AE24>2,E24+2,IF(AE24>1,E24+1,E24)) -> 42499 | AG24: =AE24+$D$315 -> 0.71875 | AH24: =IF(BJ24>0,AG24+$D$325,AG24+$D$322) -> 0.76041667 | AI24: =IF(AH24>2,E24+2,IF(AH24>1,E24+1,E24)) -> 42499 | AJ24: =AH24+$D$319 -> 0.78125 | AK24: =AJ24+$D$315 -> 0.78819444 | AL24: =IF(AK24>2,E24+2,IF(AK24>1,E24+1,E24)) -> 42499 | AM24: 1.05 | AN24: 9 | AO24: 23 | AP24: 0 | AQ24: =AK24 -> 0.78819444 | AR24: =AQ24+$D$315 -> 0.79513889 | AS24: =IF(AR24>2,E24+2,IF(AR24>1,E24+1,E24)) -> 42499 | AT24: 28.3 | AU24: =AR24 -> 0.79513889 | AV24: =IF(AU24>2,E24+2,IF(AU24>1,E24+1,E24)) -> 42499 | AW24: =AU24+$BC$13*BA24 -> 0.85069444 | AX24: =IF(AW24>2,E24+2,IF(AW24>1,E24+1,E24)) -> 42499 | AY24: 6.1 | AZ24: 34 | BA24: =VLOOKUP(B24,ĐTBT!$V:$W,2,0) -> 4 | BC24: 42782 | BD24: 42782 | BE24: =BC24-AX24 -> 283 | BF24: =BD24+BE24 -> 43065 | BG24: =BC24-1 -> 42781 | BH24: =BG24+BE24 -> 43064 | BJ24: =VLOOKUP(B24,'Thong tin'!A:R,11,0) -> 4 | BL24: 42782
