Workbook
Name Ac: [1]Sheet1!$B$117
Name At: [1]Sheet1!$B$119
Name Aw: [1]Sheet1!$B$118
Name BEN: '13.vanchuyen'!$AG$12
Name beta: 20
Name BX: '14.boc xep'!$M$11
Name CC: begin!$G$10
Name CD: '13.vanchuyen'!$AH$12
Name CVT: CVT!$B$4:$F$45
Name Db: [1]Sheet1!$H$94
Name Fy: [1]Sheet1!$H$48
Name HSNC: begin!$G$14
Name ka: 2
Name KM: CVT!$A$4:$A$45
Name l: [1]Sheet1!$J$30
Name LT: begin!$G$12
Name M: begin!$G$8
Name NCC: begin!$G$7
Name NCT: begin!$G$6
Name nn: [3]Sum!$L$5
Name Pc: [1]Sheet1!$G$343
Name Pt: [1]Sheet1!$G$345
Name Pw: [1]Sheet1!$G$341
Name tc: [1]Sheet1!$H$91
Name TL: begin!$G$11
Name Total.Quantity: '[3]24.Quantity'!$B$1:$J$65536
Name Tt: [1]Sheet1!$H$92
Name TT: begin!$G$9
Name usd: GVL!$B$5
Name usd: '11.gia '!$B$7
Name VAT: begin!$G$13
Name vc: '13.vanchuyen'!$E$90

Sheet DICH
B2: A - Vật liệu | C2: A - Material
B3: B - Nhân công 2.5/7 | C3: B - Labour 2.5/7
B4: B - Nhân công 2.7/7 | C4: B - Labour 2.7/7
B5: B - Nhân công 3.0/7 | C5: B - Labour 3.0/7
B6: B - Nhân công 3.3/7 | C6: B - Labour 3.3/7
B7: B - Nhân công 3.5/7 | C7: B - Labour 3.5/7
B8: B - Nhân công 3.7/7 | C8: B - Labour 3.7/7
B9: B - Nhân công 4.0/7 | C9: B - Labour 4.0/7
B10: B - Nhân công 4.3/7 | C10: B - Labour 4.3/7
B11: B - Nhân công 4.5/7 | C11: B - Labour 4.5/7
B12: B - Nhân công 5.0/7 | C12: B - Labour 5.0/7
B13: C - Máy thi công | C13: C - Machine
... B77: Ben tô nít | C77: Bentonite
B78: Bếp cát
B79: Bếp điện (0,6 kW) | C79: Electric cooker (0,6 kW)
B80: Bêtông C15 đá 1x2 | C80: Concrete C15 (stone 1x2)
B81: Bêtông C15 đá 1x2 tấm đan đúc sẵn | C81: Concrete C15 of cover plate (in situ)
B82: Bêtông C20 đá 1x2 | C82: Concrete C20 (stone 1x2)
B83: Bêtông C25 thân, tường | C83: Concrete C25
B84: Bêtông C30 cọc BTCT đá 1x2 | C84: Concrete C30 of R.C driven pile (stone 1x2)
B85: Bêtông C30 cọc BTCT đá 1x2 bệ đúc dầm | C85: Concrete C30 of R.C driven pile (stone 1x2)
B86: Bêtông C30 thân, tường đá 1x2 | C86: Concrete C30
B87: Biển báo chữ nhật 0.7x0.3m | C87: Rectangular traffic sign 0.7x0.3m
B88: Biển báo chữ nhật 0.9x0.45m | C88: Rectangular traffic sign 0.9x0.45m
B89: Biển báo chữ nhật 1.2x0.25m | C89: Rectangular traffic sign 1.2x0.25m
B90: Biển báo chữ nhật 1.2x0.25m, tạm tính KHVL=0.5 | C90: Rectangular traffic sign 1.2x0.25m, amorM=0.5
... B154: Cầu công tác | C154: Gangway
B155: Cẩu dầm Super-T lên hoặc xuống
B156: Cẩu dầm Super-T lên phương tiện vận chuyển, tạm tính HS=30% | C156: Crane girder super-T onto transported vehicle, HS=30%
B157: Cẩu lắp gối cầu | C157: Craning bearing
B158: Cẩu long môn | C158: Beam-launch crane
B159: Cẩu ống cống BTCT D1500 nối joint cao su (H10), L=3m, HS=1.15*0.6 (tháo dỡ= 60% lắp dựng) | C159: Removing cluvert pipe D1500 (H10), L=3m, HS=1.15*0.6
B160: Cây chống | C160: Strut
B161: Cày xới mặt đường cũ | C161: Ploughing the old pavement
B162: Chất tải khử lún hệ 1000 tấn | C162: Charging for de-settlement 1000 ton system
B163: Chất tải khử lún hệ 500 tấn | C163: Charging for de-settlement 500 ton system
B164: Chất tải khử lún hệ 900 tấn | C164: Charging for de-settlement 900 ton system
B165: Chậu thủy tinh | C165: Glass bowl
B166: Chờ 7 ngày để vỗ lại (hưởng 70% ca) | C166: Waiting 7 days
B167: Chổi cáp | C167: broom
...

Sheet BieuGia ĐX
A1: BIỂU TỔNG HỢP GIÁ ĐỀ XUẤT
A2: =GiaDuThau!A2 -> DỰ ÁN ĐẦU TƯ XÂY DỰNG CẦU LONG BÌNH – CHREY THOM
A3: =GiaDuThau!A3 -> HẠNG MỤC: PHẦN CẦU, PHẦN TUYẾN, CHIẾU SÁNG (PHÍA BỜ VIỆT NAM)
A5: TT | B5: NỘI DUNG CÔNG VIỆC | D5: TỔNG CỘNG
A6: A | B6: PHẦN CẦU | D6: =GiaDuThau!$F$6 -> 1.2964224e+11
A7: B | B7: PHẦN TUYẾN | D7: =GiaDuThau!#REF! -> #REF!
A8: C | B8: PHẦN CHIẾU SÁNG | D8: =GiaDuThau!$F$243 -> 696585300
B9: TỔNG CỘNG (A+B+C) | D9: =SUM(D6:D8) -> #REF! | E9: 197780876888 | F9: =E9-D9 -> #REF!
B10: LÀM TRÒN | D10: =ROUNDDOWN(D9,-2) -> #REF! | E10: 197805722783 | F10: =E10-D10 -> #REF!
A12: Bằng chữ: Một trăm chín bảy tỷ, bảy trăm bảy tám triệu, bảy trăm năm sáu ngàn, đồng chẵn./.
C14: ĐẠI DIỆN HỢP PHÁP CỦA NHÀ THẦU

Sheet GiaDuThau
A1: BIỂU CHI TIẾT GIÁ ĐỀ XUẤT
A2: DỰ ÁN ĐẦU TƯ XÂY DỰNG CẦU LONG BÌNH – CHREY THOM | G2: ='BieuGia ĐX'!D9='BieuGia ĐX'!E9 -> #REF! | N2: ='BieuGia ĐX'!E9-'BieuGia ĐX'!D9 -> #REF!
A3: HẠNG MỤC: PHẦN CẦU, PHẦN TUYẾN, CHIẾU SÁNG (PHÍA BỜ VIỆT NAM)
A5: STT | B5: Hạng mục công việc | C5: Đơn vị | D5: Khối lượng | E5: Đơn giá sau thuế | F5: Thành tiền | G5: ='DGCT Cau'!$J$6 -> 1.2672799
A6: A | B6: PHẦN CẦU | F6: =F7+F124+F211 -> 1.2964224e+11
A7: I | B7: KẾT CẤU PHẦN DƯỚI | F7: =F8+F26++F32+F42+F61+F88+F118 -> 6.6504881e+10
A8: I.1 | B8: Mố M1 | F8: =SUM(F9:F25) -> 7.2379659e+09
A9: 1 | B9: Bê tông C35 mố trên cạn | C9: m3 | D9: 364.65 | E9: =DGTH!$K$7 -> 4506706 | F9: =D9*E9 -> 1.6433703e+09
A10: 2 | B10: Cốt thép D<=18 móng, mũ mố trụ cầu trên cạn | C10: tấn | D10: 18.38 | E10: ='DGCT Cau'!$I$80 -> 26387125 | F10: =D10*E10 -> 4.8499536e+08
A11: 3 | B11: Cốt thép D>18 móng, mũ mố trụ cầu trên cạn | C11: tấn | D11: 14.49 | E11: ='DGCT Cau'!$I$99 -> 25741363 | F11: =D11*E11 -> 3.7299235e+08
A12: 4 | B12: Bê tông C10 lót móng đá 1x2, R>250cm | C12: m3 | D12: 9.75 | E12: =DGTH!$K$39 -> 1416900 | F12: =D12*E12 -> 13814775
A13: 5 | B13: Đào đất hố móng trên cạn trong khung vây | C13: m3 | D13: 321 | E13: =DGTH!$K$42 -> 382600 | F13: =D13*E13 -> 122814600
A14: 6 | B14: Đắp đất công trình | C14: m3 | D14: 119 | E14: ='DGCT Cau'!$I$179 -> 19025 | F14: =D14*E14 -> 2263975
A15: 7 | B15: Neo ụ chống xô (100x50x88 cm) trụ mố M1 | C15: ụ | D15: 2 | E15: =DGTH!$K$45 -> 2055000 | F15: =D15*E15 -> 4110000
B16: Cọc khoan nhồi D1200 trên cạn L=67,15m kể cả phần ngàm vào bệ cọc và cọc thử (gồm 6 cọc) | C16: m | D16: 404.55 | F16: =D16*E16 -> 0 | G16: =SUM(F17:F25) -> 4593604511 | N16: =66*6 -> 396
A17: 1 | B17: Khoan vào cát chặt trên cạn D1200 phản tuần hoàn, L<=30m | C17: m | D17: 180 | E17: =DGTH!$K$53 -> 2940300 | F17: =D17*E17 -> 529254000 | G17: =G16/N16 -> 11600011
A18: 2 | B18: Khoan vào cát chặt trên cạn D1200 phản tuần hoàn, L>30m | C18: m | D18: 231 | E18: =DGTH!$K$56 -> 2966000 | F18: =D18*E18 -> 685146000
A19: 3 | B19: Bê tông C30 cọc khoan nhồi trên cạn D>1000 | C19: m3 | D19: 457.88 | E19: =DGTH!$K$64 -> 2421900 | F19: =D19*E19 -> 1108939572
A20: 4 | B20: Cốt thép D<=18mm cọc khoan nhồi | C20: tấn | D20: 6.01 | E20: =DGTH!$K$67 -> 28760600 | F20: =D20*E20 -> 172851206
A21: 5 | B21: Cốt thép D>18mm cọc khoan nhồi | C21: tấn | D21: 55.51 | E21: =DGTH!$K$70 -> 27886300 | F21: =D21*E21 -> 1547968513
A22: 6 | B22: Lắp đặt ống siêu âm D60 (phương pháp hàn) | C22: m | D22: 1235 | E22: ='DGCT Cau'!$I$508 -> 178095 | F22: =D22*E22 -> 219947325
A23: 7 | B23: Lắp đặt ống siêu âm D114 (phương pháp hàn) | C23: m | D23: 407 | E23: ='DGCT Cau'!$I$524 -> 644403 | F23: =D23*E23 -> 262272021
A24: 8 | B24: Vữa không co ngót lấp lòng ống siêu âm | C24: m3 | D24: 4.04 | E24: ='DGCT Cau'!$I$2955 -> 14312100 | F24: =D24*E24 -> 57820884
A25: 9 | B25: Đập đầu cọc trên cạn | C25: m3 | D25: 10.15 | E25: =DGTH!$K$77 -> 926600 | F25: =D25*E25 -> 9404990
A26: I.2 | B26: Bản quá độ | F26: =SUM(F27:F31) -> 2.127641e+08
A27: 1 | B27: Bê tông bản quá độ đổ tại chỗ C25 | C27: m3 | D27: 27.07 | E27: =DGTH!$K$80 -> 1989300 | F27: =D27*E27 -> 53850351
A28: 2 | B28: Cốt thép D<=18mm | C28: tấn | D28: 2.27 | E28: =DGTH!$K$83 -> 24734300 | F28: =D28*E28 -> 56146861
A29: 3 | B29: Cốt thép D>18mm | C29: tấn | D29: 3.69 | E29: ='DGCT Cau'!$I$613 -> 24110282 | F29: =D29*E29 -> 88966941
A30: 4 | B30: Bê tông C10 đá 1x2 | C30: m3 | D30: 7.37 | E30: ='DGCT Cau'!$I$644 -> 1474228 | F30: =D30*E30 -> 10865060
A31: 5 | B31: Quét nhựa bitum, dán bao tải 1 lớp | C31: m2 | D31: 8.1 | E31: ='DGCT Cau'!$I$660 -> 362332 | F31: =D31*E31 -> 2934889.2
A32: I.3 | B32: Gia cố đầu mố | F32: =SUM(F33:F41) -> 1558017799
A33: 1 | B33: Xây mái dốc thẳng bằng đá hộc C10 | C33: m3 | D33: 606.2 | E33: ='DGCT Cau'!$I$2653 -> 1493400 | F33: =D33*E33 -> 9.0529908e+08
A34: 2 | B34: Xây mặt bằng đá hộc C10 | C34: m3 | D34: 79.4 | E34: ='DGCT Cau'!$I$2997 -> 1460600 | F34: =D34*E34 -> 1.1597164e+08
A35: 3 | B35: Đá dăm đệm 1x2 | C35: m3 | D35: 208.6 | E35: ='DGCT Cau'!$I$2969 -> 1071000 | F35: =D35*E35 -> 223410600
A36: 4 | B36: Đắp cát hạt mịn K=0.95 | C36: m3 | D36: 1551 | E36: ='DGCT Cau'!$I$2589 -> 156700 | F36: =D36*E36 -> 243041700
A37: 5 | B37: Đào đất chân khay | C37: m3 | D37: 417 | E37: =DGTH!$K$86 -> 27700 | F37: =D37*E37 -> 11550900
A38: 6 | B38: Đắp đất công trình (đất tận dụng) | C38: m3 | D38: 327 | E38: ='DGCT Cau'!$I$164 -> 40307 | F38: =D38*E38 -> 13180389
A39: 7 | B39: Lắp đặt ống nhựa PVC D100mm | C39: m | D39: 48 | E39: ='DGCT Cau'!$I$3011 -> 132700 | F39: =D39*E39 -> 6369600
A40: 8 | B40: Đá 1x2 | C40: m3 | D40: 32.38 | E40: ='DGCT Cau'!$I$2982 -> 1035500 | F40: =D40*E40 -> 33529490
A41: 9 | B41: Trải vải địa kỹ thuật R=12KN/m | C41: m2 | D41: 238 | E41: ='DGCT Cau'!$I$2603 -> 23800 | F41: =D41*E41 -> 5664400
...

Sheet DGTH
B1: BIỂU ĐƠN GIÁ TỔNG HỢP
B2: DỰ ÁN ĐẦU TƯ XÂY DỰNG CẦU LONG BÌNH – CHREY THOM
B3: HẠNG MỤC: PHẦN CẦU, PHẦN TUYẾN, CHIẾU SÁNG (PHÍA BỜ VIỆT NAM)
B5: STT | C5: Hạng mục công việc | D5: Đơn vị | E5: ĐM | F5: Đơn giá | G5: Hệ số | H5: Hao phí thi công | I5: Thành tiền | J5: Khối lượng | K5: Đơn giá | L5: Thành tiền | M5: ='DGCT Cau'!$J$6 -> 1.2672799
B6: 1 | C6: 2 | D6: 3 | E6: 4 | F6: 5 | G6: 6 | H6: 7 | J6: 8 | K6: 9 | L6: 10
A7: 1 | B7: =IF(A7<>0,"TH "&COUNTA($A$7:A7),"") -> TH 1 | C7: Bê tông C35 mố A1 trên cạn | D7: m3 | J7: =GiaDuThau!$D$9 -> 364.65 | K7: =ROUND(SUM(L8:L38)/$J7,0) -> 4506706 | L7: =J7*K7 -> 1.6433703e+09
B8: 1 | C8: Bê tông C35 mố trên cạn | D8: m3 | J8: =J7 -> 364.65 | K8: ='DGCT Cau'!$I$25 -> 2405142 | L8: =$J8*K8 -> 8.7703503e+08
C9: ='DGCT Cau'!E8 -> A - Vật liệu | D9: ='DGCT Cau'!F8 -> 0 | E9: ='DGCT Cau'!G8 -> 0 | F9: ='DGCT Cau'!H8 -> 0
C10: ='DGCT Cau'!E9 -> Vữa bê tông đá 1x2 C35 (độ sụt 14-17cm) | D10: ='DGCT Cau'!F9 -> m3 | E10: ='DGCT Cau'!G9 -> 1.015 | F10: ='DGCT Cau'!H9 -> 1167220.6 | H10: =PRODUCT(E10,G10,J$8) -> 370.11975
C11: ='DGCT Cau'!E10 -> Vật liệu khác | D11: ='DGCT Cau'!F10 -> % | E11: ='DGCT Cau'!G10 -> 1.2 | F11: ='DGCT Cau'!H10 -> 1184728.9 | H11: =PRODUCT(E11,G11,J$8) -> 437.58
C12: ='DGCT Cau'!E11 -> B - Nhân công 3.5/7 | D12: ='DGCT Cau'!F11 -> công | E12: ='DGCT Cau'!G11 -> 2.06 | F12: ='DGCT Cau'!H11 -> 235816 | H12: =PRODUCT(E12,G12,J$8) -> 751.179
C13: ='DGCT Cau'!E12 -> C - Máy thi công | D13: ='DGCT Cau'!F12 -> 0 | E13: ='DGCT Cau'!G12 -> 0 | F13: ='DGCT Cau'!H12 -> 0 | H13: =PRODUCT(E13,G13,J$8) -> 0
C14: ='DGCT Cau'!E13 -> Cần cẩu bánh xích 25T | D14: ='DGCT Cau'!F13 -> ca | E14: ='DGCT Cau'!G13 -> 0.033 | F14: ='DGCT Cau'!H13 -> 2787996.7 | H14: =PRODUCT(E14,G14,J$8) -> 12.03345
C15: ='DGCT Cau'!E14 -> Máy bơm BT 50m3/h | D15: ='DGCT Cau'!F14 -> ca | E15: ='DGCT Cau'!G14 -> 0.033 | F15: ='DGCT Cau'!H14 -> 3446390.1 | H15: =PRODUCT(E15,G15,J$8) -> 12.03345
C16: ='DGCT Cau'!E15 -> Máy đầm dùi 1.5kw | D16: ='DGCT Cau'!F15 -> ca | E16: ='DGCT Cau'!G15 -> 0.085 | F16: ='DGCT Cau'!H15 -> 74768.798 | H16: =PRODUCT(E16,G16,J$8) -> 30.99525
C17: ='DGCT Cau'!E16 -> Máy khác | D17: ='DGCT Cau'!F16 -> % | E17: ='DGCT Cau'!G16 -> 0.5 | F17: ='DGCT Cau'!H16 -> 212090.11 | H17: =PRODUCT(E17,G17,J$8) -> 182.325
B18: =B8+1 -> 2 | C18: Sản xuất và vận chuyển vữa bê tông 0,5Km, HS=1.015 | D18: m3 | J18: =J8*1.015 -> 370.11975 | K18: ='DGCT Cau'!$I$61 -> 165882 | L18: =$J18*K18 -> 61396204
C19: ='DGCT Cau'!E46 -> B - Nhân công 3.0/7 | D19: ='DGCT Cau'!F46 -> công | E19: ='DGCT Cau'!G46 -> 0.07 | F19: ='DGCT Cau'!H46 -> 219751 | H19: =PRODUCT(E19,G19,J$18) -> 25.908382
C20: ='DGCT Cau'!E47 -> C - Máy thi công | D20: ='DGCT Cau'!F47 -> 0 | E20: ='DGCT Cau'!G47 -> 0 | F20: ='DGCT Cau'!H47 -> 0 | H20: =PRODUCT(E20,G20,J$18) -> 0
C21: ='DGCT Cau'!E48 -> Trạm trộn bêtông 50m3/h | D21: ='DGCT Cau'!F48 -> ca | E21: ='DGCT Cau'!G48 -> 0.007 | F21: ='DGCT Cau'!H48 -> 2766761.5 | H21: =PRODUCT(E21,G21,J$18) -> 2.5908382
C22: ='DGCT Cau'!E49 -> Máy xúc 1.25m3 | D22: ='DGCT Cau'!F49 -> ca | E22: ='DGCT Cau'!G49 -> 0.007 | F22: ='DGCT Cau'!H49 -> 1941040.6 | H22: =PRODUCT(E22,G22,J$18) -> 2.5908382
C23: ='DGCT Cau'!E50 -> Máy ủi 110cv | D23: ='DGCT Cau'!F50 -> ca | E23: ='DGCT Cau'!G50 -> 0.0035 | F23: ='DGCT Cau'!H50 -> 1959433 | H23: =PRODUCT(E23,G23,J$18) -> 1.2954191
C24: ='DGCT Cau'!E51 -> Máy khác | D24: ='DGCT Cau'!F51 -> % | E24: ='DGCT Cau'!G51 -> 5 | F24: ='DGCT Cau'!H51 -> 39812.63 | H24: =PRODUCT(E24,G24,J$18) -> 1850.5987
C25: ='DGCT Cau'!E52 -> Ôtô chuyển trộn 10.7m3 | D25: ='DGCT Cau'!F52 -> ca | E25: ='DGCT Cau'!G52 -> 0.0245 | F25: ='DGCT Cau'!H52 -> 3008576.2 | H25: =PRODUCT(E25,G25,J$18) -> 9.0679339
B26: =B18+1 -> 3 | C26: Ván khuôn kim loại mố cầu trên cạn | D26: 100m2 | J26: 4.26 | K26: ='DGCT Cau'!$I$138 -> 16071733 | L26: =J26*K26 -> 68465583
C27: Vòng vây chắn đất mố A1 (sử dụng lại từ trụ P2 mỗi bộ dùng 1 lần, mỗi lần 1 tháng) | J27: 0 | L27: =J27*K27 -> 0
B28: 1 | C28: Sử dụng cọc ván thép L=6m (KHVL=(1.17%/tháng * 1 tháng +3.5%/đóng nhổ | D28: m | J28: 792 | K28: ='DGCT Cau'!$I$2230 -> 75500 | L28: =J28*K28 -> 59796000
B29: =B28+1 -> 2 | C29: Đóng cọc ván thép trên cạn, L≤12m (phần ngập đất) | D29: m | J29: 726 | K29: ='DGCT Cau'!$I$2364 -> 142900 | L29: =J29*K29 -> 103745400
B30: =B29+1 -> 3 | C30: Đóng cọc ván thép trên cạn, L≤12m (phần không ngập đất) | D30: m | J30: 66 | K30: ='DGCT Cau'!$I$2350 -> 107100 | L30: =J30*K30 -> 7068600
B31: =B30+1 -> 4 | C31: Nhổ cọc ván thép trên cạn | D31: m | J31: 726 | K31: ='DGCT Cau'!$I$2379 -> 148600 | L31: =J31*K31 -> 107883600
B32: =B31+1 -> 5 | C32: Vành đai khung chống mố A1 (KHVL chính =(2%/tháng*1 tháng +7%) (chỉ tính vật liệu) | D32: tấn | J32: 11.9 | K32: ='DGCT Cau'!$I$2440 -> 2507000 | L32: =J32*K32 -> 29833300
B33: =B32+1 -> 6 | C33: Lắp dựng, tháo dỡ hệ dàn giáo trên cạn | D33: tấn | J33: 11.9 | K33: ='DGCT Cau'!$I$2459 -> 7338800 | L33: =J33*K33 -> 87331720
B34: =B33+1 -> 7 | C34: Sử dụng cọc thép hình (KH=(1.17%/tháng*1 tháng +3.5%/lần đóng nhổ ) | D34: m | J34: 60 | K34: ='DGCT Cau'!$I$2485 -> 74100
B35: =B34+1 -> 8 | C35: Đóng cọc thép hình trên cạn L<10m, đất C1 (ngập đất) | D35: m | J35: 55 | K35: ='DGCT Cau'!$I$2922 -> 56100
B36: =B35+1 -> 9 | C36: Đóng cọc thép hình trên cạn L<10m, (không ngập đất) | D36: m | J36: 5 | K36: ='DGCT Cau'!$I$3257 -> 42100
B37: =B36+1 -> 10 | C37: Nhổ cọc thép hình trên cạn | D37: m | J37: 55 | K37: ='DGCT Cau'!$I$2936 -> 56600
C38: Chi phí phân bổ đà giáo thi công mố A1 | D38: m3 | J38: =J7 -> 364.65 | K38: =$K$123 -> 660400 | L38: =J38*K38 -> 2.4081486e+08
A39: 1 | B39: =IF(A39<>0,"TH "&COUNTA($A$7:A39),"") -> TH 2 | C39: Bê tông C10 lót móng đá 1x2, R>250cm | D39: m3 | J39: =GiaDuThau!$D$12 -> 9.75 | K39: =ROUND(SUM(L40:L41)/$J39,-2) -> 1416900 | L39: =J39*K39 -> 13814775
B40: 1 | C40: Bê tông C10 lót móng đá 1x2, R>250cm | D40: m3 | J40: =J39 -> 9.75 | K40: ='DGCT Cau'!$I$115 -> 1246000 | L40: =$J40*K40 -> 12148500
B41: =B40+1 -> 2 | C41: Sản xuất và vận chuyển vữa bê tông 0,5Km, HS=1.03 | D41: m3 | J41: =J40*1.03 -> 10.0425 | K41: ='DGCT Cau'!$I$61 -> 165882 | L41: =$J41*K41 -> 1665870
...

Sheet DGCT Cau
B1: BẢNG PHÂN TÍCH ĐƠN GIÁ CHI TIẾT
B2: =GiaDuThau!A2 -> DỰ ÁN ĐẦU TƯ XÂY DỰNG CẦU LONG BÌNH – CHREY THOM
B3: =GiaDuThau!A3 -> HẠNG MỤC: PHẦN CẦU, PHẦN TUYẾN, CHIẾU SÁNG (PHÍA BỜ VIỆT NAM)
I4: Đơn vị tính: Đồng / Unit cost: VND
B5: STT | C5: ĐM | D5: MHĐM | E5: Thành phần chi phí | F5: Đơn vị | G5: Định mức | H5: Đơn giá | I5: Thành tiền | J5: 0.02 | K5: =5.5% -> 0.055 | L5: 0.06 | M5: 0.1 | N5: 0.01
B6: 1 | C6: Code No. | D6: 2 | E6: 3 | F6: 4 | G6: 5 | H6: 6 | I6: 7 | J6: =(1+J5)*(1+K5)*(1+L5)*(1+M5)*(1+N5) -> 1.2672799
A7: 1 | B7: =IF(A7<>0,COUNTA(A$7:$A7),"") -> 1 | C7: ='8.Dgia'!C10 -> 1776 | D7: ='8.Dgia'!D10 -> AF.33110 | E7: ='8.Dgia'!E10 -> Bê tông C35 mố/trụ trên cạn | F7: ='8.Dgia'!G10 -> m3 | G7: ='8.Dgia'!H10 -> 0 | J7: =+I8 -> 1198945.7 | K7: =+I11 -> 485780.96 | L7: =+I12 -> 213150.56
B8: ='8.Dgia'!B11 | C8: ='8.Dgia'!C11 -> 0 | D8: ='8.Dgia'!D11 -> 0 | E8: ='8.Dgia'!E11 -> A - Vật liệu | F8: ='8.Dgia'!G11 -> 0 | G8: ='8.Dgia'!H11 -> 0 | I8: =SUM(I9:I10) -> 1198945.7
B9: ='8.Dgia'!B12 | C9: ='8.Dgia'!C12 -> 0 | D9: ='8.Dgia'!D12 -> C3327 | E9: ='8.Dgia'!E12 -> Vữa bê tông đá 1x2 C35 (độ sụt 14-17cm) | F9: ='8.Dgia'!G12 -> m3 | G9: ='8.Dgia'!H12 -> 1.015 | H9: =GVL!$I$199 -> 1167220.6 | I9: =+G9*H9 -> 1184728.9
B10: ='8.Dgia'!B13 | C10: ='8.Dgia'!C13 -> 0 | D10: ='8.Dgia'!D13 -> 0 | E10: ='8.Dgia'!E13 -> Vật liệu khác | F10: ='8.Dgia'!G13 -> % | G10: ='8.Dgia'!H13 -> 1.2 | H10: =I9 -> 1184728.9 | I10: =H10*G10% -> 14216.747
B11: ='8.Dgia'!B14 | C11: ='8.Dgia'!C14 -> 0 | D11: ='8.Dgia'!D14 -> 0 | E11: ='8.Dgia'!E14 -> B - Nhân công 3.5/7 | F11: công | G11: ='8.Dgia'!H14 -> 2.06 | H11: ='16.NC'!$H$16 -> 235816 | I11: =H11*G11 -> 485780.96
B12: ='8.Dgia'!B15 | C12: ='8.Dgia'!C15 -> 0 | D12: ='8.Dgia'!D15 -> 0 | E12: ='8.Dgia'!E15 -> C - Máy thi công | F12: ='8.Dgia'!G15 -> 0 | G12: ='8.Dgia'!H15 -> 0 | I12: =SUM(I13:I16) -> 213150.56
B13: ='8.Dgia'!B16 | C13: ='8.Dgia'!C16 -> 0 | D13: ='8.Dgia'!D16 -> 0 | E13: ='8.Dgia'!E16 -> Cần cẩu bánh xích 25T | F13: ca | G13: ='8.Dgia'!H16 -> 0.033 | H13: ='9.may'!$P$248 -> 2787996.7 | I13: =H13*G13 -> 92003.89
B14: ='8.Dgia'!B17 | C14: ='8.Dgia'!C17 -> 0 | D14: ='8.Dgia'!D17 -> 0 | E14: ='8.Dgia'!E17 -> Máy bơm BT 50m3/h | F14: ca | G14: ='8.Dgia'!H17 -> 0.033 | H14: ='9.may'!$P$362 -> 3446390.1 | I14: =H14*G14 -> 113730.87
B15: ='8.Dgia'!B18 | C15: ='8.Dgia'!C18 -> 0 | D15: ='8.Dgia'!D18 -> 0 | E15: ='8.Dgia'!E18 -> Máy đầm dùi 1.5kw | F15: ca | G15: ='8.Dgia'!H18 -> 0.085 | H15: ='9.may'!$P$382 -> 74768.798 | I15: =H15*G15 -> 6355.3478
B16: ='8.Dgia'!B19 | C16: ='8.Dgia'!C19 -> 0 | D16: ='8.Dgia'!D19 -> 0 | E16: ='8.Dgia'!E19 -> Máy khác | F16: ='8.Dgia'!G19 -> % | G16: ='8.Dgia'!H19 -> 0.5 | H16: =SUM(I13:I15) -> 212090.11 | I16: =H16*G16% -> 1060.4506
E17: d - Trực tiếp phí khác | F17: =$J$5 -> 0.02 | I17: =(I8+I11+I12)*F17 -> 37957.544
E18: e - Cộng (a+b+c+d) | I18: =I17+I17/F17 -> 1935834.7
E19: f - Chi phí chung | F19: =$K$5 -> 0.055 | I19: =I18*F19 -> 106470.91
E20: g - Thu nhập chịu thuế tính trước | F20: =$L$5 -> 0.06 | I20: =SUM(I18:I19)*F20 -> 122538.34
E21: h - Chi phí xây dựng trước thuế | I21: =SUM(I18:I20) -> 2164844
E22: i - Thuế giá trị gia tăng | F22: =$M$5 -> 0.1 | I22: =I21*F22 -> 216484.4
E23: j - Chi phí xây dựng sau thuế | I23: =SUM(I21:I22) -> 2381328.4
E24: k - Chi phí xây dựng lán trại, nhà tạm | F24: =$N$5 -> 0.01 | I24: =I23*F24 -> 23813.284
E25: n - Cộng đơn giá đề xuất | I25: =ROUND(I23+I24,0) -> 2405142
A26: 1 | B26: =IF(A26<>0,COUNTA(A$7:$A26),"") -> 2 | C26: ='8.Dgia'!C20 -> 1776 | D26: ='8.Dgia'!D20 -> AF.33110 | E26: ='8.Dgia'!E20 -> Bê tông C40 mố/trụ | F26: ='8.Dgia'!G20 -> m3 | G26: ='8.Dgia'!H20 -> 0 | J26: =+I27 -> 1266628.4 | K26: =+I30 -> 485780.96 | L26: =+I31 -> 213150.56
B27: ='8.Dgia'!B21 | C27: ='8.Dgia'!C21 -> 0 | D27: ='8.Dgia'!D21 -> 0 | E27: ='8.Dgia'!E21 -> A - Vật liệu | F27: ='8.Dgia'!G21 -> 0 | G27: ='8.Dgia'!H21 -> 0 | I27: =SUM(I28:I29) -> 1266628.4
B28: ='8.Dgia'!B22 | C28: ='8.Dgia'!C22 -> 0 | D28: ='8.Dgia'!D22 -> ĐM | E28: ='8.Dgia'!E22 -> Vữa bê tông đá 1x2 C40 (M450, độ sụt 12-16cm) | F28: ='8.Dgia'!G22 -> m3 | G28: ='8.Dgia'!H22 -> 1.015 | H28: =GVL!$I$200 -> 1233112.4 | I28: =H28*G28 -> 1251609.1
B29: ='8.Dgia'!B23 | C29: ='8.Dgia'!C23 -> 0 | D29: ='8.Dgia'!D23 -> 0 | E29: ='8.Dgia'!E23 -> Vật liệu khác | F29: ='8.Dgia'!G23 -> % | G29: ='8.Dgia'!H23 -> 1.2 | H29: =I28 -> 1251609.1 | I29: =H29*G29% -> 15019.309
B30: ='8.Dgia'!B24 | C30: ='8.Dgia'!C24 -> 0 | D30: ='8.Dgia'!D24 -> 0 | E30: ='8.Dgia'!E24 -> B - Nhân công 3.5/7 | F30: công | G30: ='8.Dgia'!H24 -> 2.06 | H30: ='16.NC'!$H$16 -> 235816 | I30: =H30*G30 -> 485780.96
B31: ='8.Dgia'!B25 | C31: ='8.Dgia'!C25 -> 0 | D31: ='8.Dgia'!D25 -> 0 | E31: ='8.Dgia'!E25 -> C - Máy thi công | F31: ='8.Dgia'!G25 -> 0 | G31: ='8.Dgia'!H25 -> 0 | I31: =SUM(I32:I35) -> 213150.56
B32: ='8.Dgia'!B26 | C32: ='8.Dgia'!C26 -> 0 | D32: ='8.Dgia'!D26 -> 0 | E32: ='8.Dgia'!E26 -> Cần cẩu bánh xích 25T | F32: ca | G32: ='8.Dgia'!H26 -> 0.033 | H32: ='9.may'!$P$248 -> 2787996.7 | I32: =H32*G32 -> 92003.89
B33: ='8.Dgia'!B27 | C33: ='8.Dgia'!C27 -> 0 | D33: ='8.Dgia'!D27 -> 0 | E33: ='8.Dgia'!E27 -> Máy bơm BT 50m3/h | F33: ca | G33: ='8.Dgia'!H27 -> 0.033 | H33: ='9.may'!$P$362 -> 3446390.1 | I33: =H33*G33 -> 113730.87
B34: ='8.Dgia'!B28 | C34: ='8.Dgia'!C28 -> 0 | D34: ='8.Dgia'!D28 -> 0 | E34: ='8.Dgia'!E28 -> Máy đầm dùi 1.5kw | F34: ca | G34: ='8.Dgia'!H28 -> 0.085 | H34: ='9.may'!$P$382 -> 74768.798 | I34: =H34*G34 -> 6355.3478
B35: ='8.Dgia'!B29 | C35: ='8.Dgia'!C29 -> 0 | D35: ='8.Dgia'!D29 -> 0 | E35: ='8.Dgia'!E29 -> Máy khác | F35: ='8.Dgia'!G29 -> % | G35: ='8.Dgia'!H29 -> 0.5 | H35: =SUM(I32:I34) -> 212090.11 | I35: =H35*G35% -> 1060.4506
E36: d - Trực tiếp phí khác | F36: =$J$5 -> 0.02 | I36: =(I27+I30+I31)*F36 -> 39311.199
E37: e - Cộng (a+b+c+d) | I37: =I36+I36/F36 -> 2004871.1
E38: f - Chi phí chung | F38: =$K$5 -> 0.055 | I38: =I37*F38 -> 110267.91
E39: g - Thu nhập chịu thuế tính trước | F39: =$L$5 -> 0.06 | I39: =SUM(I37:I38)*F39 -> 126908.34
E40: h - Chi phí xây dựng trước thuế | I40: =SUM(I37:I39) -> 2242047.4
...

Sheet DGCT Duong
B1: BẢNG PHÂN TÍCH ĐƠN GIÁ CHI TIẾT | J1: ='DGCT Cau'!J1 -> 0
B2: =GiaDuThau!A2 -> DỰ ÁN ĐẦU TƯ XÂY DỰNG CẦU LONG BÌNH – CHREY THOM
B3: =GiaDuThau!A3 -> HẠNG MỤC: PHẦN CẦU, PHẦN TUYẾN, CHIẾU SÁNG (PHÍA BỜ VIỆT NAM)
I4: Đơn vị tính: Đồng / Unit cost: VND
B5: STT | C5: ĐM | D5: MHĐM | E5: Thành phần chi phí | F5: Đơn vị | G5: Định mức | H5: Đơn giá | I5: Thành tiền | J5: 0.02 | K5: =5.5%*1.05 -> 0.05775 | L5: 0.06 | M5: 0.1 | N5: 0.01
B6: 1 | C6: 2 | D6: 2 | E6: 3 | F6: 4 | G6: 5 | H6: 6 | I6: 7 | J6: =(1+J5)*(1+K5)*(1+L5)*(1+M5)*(1+N5) -> 1.2705833
A7: 1 | B7: =IF(A7<>0,COUNTA(A$7:$A7),"") -> 1 | C7: ='8.Dgia'!C78 -> 1776 | D7: ='8.Dgia'!D78 -> AK.94111 | E7: ='8.Dgia'!E78 -> Quét nhựa bitum nóng | F7: ='8.Dgia'!G78 -> m2 | G7: ='8.Dgia'!H78 -> 0 | J7: =+I8 -> 108003 | K7: =+I12 -> 15065.4
B8: ='8.Dgia'!B79 | C8: ='8.Dgia'!C79 -> 0 | D8: ='8.Dgia'!D79 -> 0 | E8: ='8.Dgia'!E79 -> A - Vật liệu | F8: ='8.Dgia'!G79 -> 0 | G8: ='8.Dgia'!H79 -> 0 | I8: =SUM(I9:I11) -> 108003
B9: ='8.Dgia'!B80 | C9: ='8.Dgia'!C80 -> 0 | D9: ='8.Dgia'!D80 -> 0 | E9: ='8.Dgia'!E80 -> Nhựa bitum | F9: ='8.Dgia'!G80 -> kg | G9: ='8.Dgia'!H80 -> 2.1 | H9: =GVL!$I$126 -> 50000 | I9: =H9*G9 -> 105000
B10: ='8.Dgia'!B81 | C10: ='8.Dgia'!C81 -> 0 | D10: ='8.Dgia'!D81 -> 0 | E10: ='8.Dgia'!E81 -> Bột đá | F10: ='8.Dgia'!G81 -> kg | G10: ='8.Dgia'!H81 -> 1.206 | H10: =GVL!$I$24 -> 500 | I10: =H10*G10 -> 603
B11: ='8.Dgia'!B82 | C11: ='8.Dgia'!C82 -> 0 | D11: ='8.Dgia'!D82 -> 0 | E11: ='8.Dgia'!E82 -> Củi | F11: ='8.Dgia'!G82 -> kg | G11: ='8.Dgia'!H82 -> 2 | H11: =GVL!$I$48 -> 1200 | I11: =H11*G11 -> 2400
B12: ='8.Dgia'!B83 | C12: ='8.Dgia'!C83 -> 0 | D12: ='8.Dgia'!D83 -> 0 | E12: ='8.Dgia'!E83 -> B - Nhân công 3.5/7 | F12: công | G12: ='8.Dgia'!H83 -> 0.07 | H12: ='16.NC'!$G$16 -> 215220 | I12: =H12*G12 -> 15065.4
E13: d - Trực tiếp phí khác | F13: =$J$5 -> 0.02 | I13: =(I8+I12)*F13 -> 2461.368
E14: e - Cộng (a+b+c+d) | I14: =I13+I13/F13 -> 125529.77
E15: f - Chi phí chung | F15: =$K$5 -> 0.05775 | I15: =I14*F15 -> 7249.3441
E16: g - Thu nhập chịu thuế tính trước | F16: =$L$5 -> 0.06 | I16: =SUM(I14:I15)*F16 -> 7966.7467
E17: h - Chi phí xây dựng trước thuế | I17: =SUM(I14:I16) -> 140745.86
E18: i - Thuế giá trị gia tăng | F18: =$M$5 -> 0.1 | I18: =I17*F18 -> 14074.586
E19: j - Chi phí xây dựng sau thuế | I19: =SUM(I17:I18) -> 154820.44
E20: k - Chi phí xây dựng lán trại, nhà tạm | F20: =$N$5 -> 0.01 | I20: =I19*F20 -> 1548.2044
E21: n - Cộng đơn giá đề xuất | I21: =ROUND(I19+I20,-2) -> 156400
A22: 1 | B22: =IF(A22<>0,COUNTA(A$7:$A22),"") -> 2 | C22: ='8.Dgia'!C119 -> 1776 | D22: ='8.Dgia'!D119 -> AB.65130 | E22: ='8.Dgia'!E119 -> Đắp đất công trình (đất tận dụng) | F22: m3 | G22: ='8.Dgia'!H119 -> 0 | K22: =+I23 -> 23628.594 | L22: =+I24 -> 5661.6262
B23: ='8.Dgia'!B120 | C23: ='8.Dgia'!C120 -> 0 | D23: ='8.Dgia'!D120 -> 0 | E23: ='8.Dgia'!E120 -> B - Nhân công 4.0/7 | F23: công | G23: ='8.Dgia'!H120/100 -> 0.1018 | H23: ='16.NC'!$G$18 -> 232108 | I23: =H23*G23 -> 23628.594
B24: ='8.Dgia'!B121 | C24: ='8.Dgia'!C121 -> 0 | D24: ='8.Dgia'!D121 -> 0 | E24: ='8.Dgia'!E121 -> C - Máy thi công | F24: ='8.Dgia'!G121 -> 0 | I24: =SUM(I25:I25) -> 5661.6262
B25: ='8.Dgia'!B122 | C25: ='8.Dgia'!C122 -> 0 | D25: ='8.Dgia'!D122 -> 0 | E25: ='8.Dgia'!E122 -> Đầm cóc | F25: ca | G25: ='8.Dgia'!H122/100 -> 0.0509 | H25: ='9.may'!$P$98 -> 111230.38 | I25: =H25*G25 -> 5661.6262
E26: d - Trực tiếp phí khác | F26: =$J$5 -> 0.02 | I26: =(I23+I24)*F26 -> 585.80441
E27: e - Cộng (a+b+c+d) | I27: =I26+I26/F26 -> 29876.025
E28: f - Chi phí chung | F28: =$K$5 -> 0.05775 | I28: =I27*F28 -> 1725.3404
E29: g - Thu nhập chịu thuế tính trước | F29: =$L$5 -> 0.06 | I29: =SUM(I27:I28)*F29 -> 1896.0819
E30: h - Chi phí xây dựng trước thuế | I30: =SUM(I27:I29) -> 33497.447
E31: i - Thuế giá trị gia tăng | F31: =$M$5 -> 0.1 | I31: =I30*F31 -> 3349.7447
E32: j - Chi phí xây dựng sau thuế | I32: =SUM(I30:I31) -> 36847.192
E33: k - Chi phí xây dựng lán trại, nhà tạm | F33: =$N$5 -> 0.01 | I33: =I32*F33 -> 368.47192
E34: n - Cộng đơn giá đề xuất | I34: =ROUND(I32+I33,-2) -> 37200
A35: 1 | B35: =IF(A35<>0,COUNTA(A$7:$A35),"") -> 3 | C35: ='8.Dgia'!C129 -> 1776 | D35: ='8.Dgia'!D129 -> AB.64112 | E35: ='8.Dgia'!E129 -> Đắp đất công trình (đất sét bao) | F35: m3 | G35: ='8.Dgia'!H129 -> 0 | J35: =I36 -> 67100 | K35: =+I38 -> 3465.297 | L35: =+I39 -> 7992.2499
B36: ='8.Dgia'!B130 | C36: ='8.Dgia'!C130 -> 0 | D36: ='8.Dgia'!D130 -> 0 | E36: ='8.Dgia'!E130 -> A - Vật liệu | F36: ='8.Dgia'!G130 -> 0 | G36: ='8.Dgia'!H130 -> 0 | I36: =+I37 -> 67100
B37: ='8.Dgia'!B131 | C37: ='8.Dgia'!C131 -> 0 | D37: ='8.Dgia'!D131 -> 0 | E37: ='8.Dgia'!E131 -> Đất sét | F37: ='8.Dgia'!G131 -> m3 | G37: ='8.Dgia'!H131/100 -> 1.1 | H37: =GVL!$I$69 -> 61000 | I37: =H37*G37 -> 67100
B38: ='8.Dgia'!B132 | C38: ='8.Dgia'!C132 -> 0 | D38: ='8.Dgia'!D132 -> 0 | E38: ='8.Dgia'!E132 -> B - Nhân công 3.0/7 | F38: công | G38: ='8.Dgia'!H132/100 -> 0.0174 | H38: ='16.NC'!$G$13 -> 199155 | I38: =H38*G38 -> 3465.297
B39: ='8.Dgia'!B133 | C39: ='8.Dgia'!C133 -> 0 | D39: ='8.Dgia'!D133 -> 0 | E39: ='8.Dgia'!E133 -> C - Máy thi công | F39: ='8.Dgia'!G133 -> 0 | G39: ='8.Dgia'!H133/100 -> 0 | I39: =SUM(I40:I42) -> 7992.2499
B40: ='8.Dgia'!B134 | C40: ='8.Dgia'!C134 -> 0 | D40: ='8.Dgia'!D134 -> 0 | E40: ='8.Dgia'!E134 -> Máy đầm 9T | F40: ca | G40: ='8.Dgia'!H134/100 -> 0.003 | H40: ='9.may'!$P$726 -> 1644996.1 | I40: =H40*G40 -> 4934.9883
...

Sheet DGCT CS
B1: BẢNG PHÂN TÍCH ĐƠN GIÁ CHI TIẾT
B2: =GiaDuThau!A2 -> DỰ ÁN ĐẦU TƯ XÂY DỰNG CẦU LONG BÌNH – CHREY THOM
B3: =GiaDuThau!A3 -> HẠNG MỤC: PHẦN CẦU, PHẦN TUYẾN, CHIẾU SÁNG (PHÍA BỜ VIỆT NAM)
H4: Đơn vị tính: Đồng / Unit cost: VND
B5: STT | C5: MHĐM | D5: Thành phần chi phí | E5: Đơn vị | F5: Định mức | G5: Đơn giá | H5: Thành tiền | I5: 0.02 | J5: =5.5%*1.05 -> 0.05775 | K5: 0.06 | L5: 0.1 | M5: 0.01
B6: 1 | C6: 2 | D6: 3 | E6: 4 | F6: 5 | G6: 6 | H6: 7 | I6: =(1+I5)*(1+J5)*(1+K5)*(1+L5)*(1+M5) -> 1.2705833
B7: 1 | C7: CS.1.05.1.1 | D7: Đèn HPS-T 150/100W HESTIA midi IP=66 | E7: cái | F7: 0 | I7: =+H8 -> 6800000 | J7: =+H10 -> 109463.5 | K7: =+H11 -> 197443.2
C8: 0 | D8: A - Vật liệu | E8: 0 | F8: 0 | H8: =SUM(H9:H9) -> 6800000
D9: Đèn HPS-T 150/100W HESTIA midi IP=66 | E9: cái | F9: 1 | G9: =GVL!$I$79 -> 6800000 | H9: =+F9*G9 -> 6800000
C10: 0 | D10: B - Nhân công 4.0/7 | E10: công | F10: 0.5 | G10: ='16.NC'!$F$18 -> 218927 | H10: =G10*F10 -> 109463.5
C11: 0 | D11: C - Máy thi công | E11: 0 | F11: 0 | H11: =SUM(H12:H12) -> 197443.2
C12: 0 | D12: Xe nâng, chiều cao nâng tới 18m | E12: ca | F12: 0.15 | G12: ='9.may'!$P$682 -> 1316288 | H12: =G12*F12 -> 197443.2
D13: d - Trực tiếp phí khác | E13: =$I$5 -> 0.02 | H13: =(H8+H10+H11)*E13 -> 142138.13
D14: e - Cộng (a+b+c+d) | H14: =H13+H13/E13 -> 7249044.8
D15: f - Chi phí chung | E15: =$J$5 -> 0.05775 | H15: =H14*E15 -> 418632.34
D16: g - Thu nhập chịu thuế tính trước | E16: =$K$5 -> 0.06 | H16: =SUM(H14:H15)*E16 -> 460060.63
D17: h - Chi phí xây dựng trước thuế | H17: =SUM(H14:H16) -> 8127737.8
D18: i - Thuế giá trị gia tăng | E18: =$L$5 -> 0.1 | H18: =H17*E18 -> 812773.78
D19: j - Chi phí xây dựng sau thuế | H19: =SUM(H17:H18) -> 8940511.6
D20: k - Chi phí xây dựng lán trại, nhà tạm | E20: =$M$5 -> 0.01 | H20: =H19*E20 -> 89405.116
D21: n - Cộng đơn giá đề xuất | H21: =ROUND(H19+H20,-2) -> 9029900
B22: 2 | C22: CS.1.05.1.1 | D22: Đèn HPS-T 150W NEOS-3 IP=66 | E22: cái | F22: 0 | I22: =+H23 -> 6360000 | J22: =+H25 -> 109463.5 | K22: =+H26 -> 197443.2
C23: 0 | D23: A - Vật liệu | E23: 0 | F23: 0 | H23: =SUM(H24:H24) -> 6360000
D24: Đèn HPS-T 150W NEOS-3 IP=66 | E24: cái | F24: 1 | G24: =GVL!$I$80 -> 6360000 | H24: =+F24*G24 -> 6360000
C25: 0 | D25: B - Nhân công 4.0/7 | E25: công | F25: 0.5 | G25: ='16.NC'!$F$18 -> 218927 | H25: =G25*F25 -> 109463.5
C26: 0 | D26: C - Máy thi công | E26: 0 | F26: 0 | H26: =SUM(H27:H27) -> 197443.2
C27: 0 | D27: Xe nâng, chiều cao nâng tới 18m | E27: ca | F27: 0.15 | G27: ='9.may'!$P$682 -> 1316288 | H27: =G27*F27 -> 197443.2
D28: d - Trực tiếp phí khác | E28: =$I$5 -> 0.02 | H28: =(H23+H25+H26)*E28 -> 133338.13
D29: e - Cộng (a+b+c+d) | H29: =H28+H28/E28 -> 6800244.8
D30: f - Chi phí chung | E30: =$J$5 -> 0.05775 | H30: =H29*E30 -> 392714.14
D31: g - Thu nhập chịu thuế tính trước | E31: =$K$5 -> 0.06 | H31: =SUM(H29:H30)*E31 -> 431577.54
D32: h - Chi phí xây dựng trước thuế | H32: =SUM(H29:H31) -> 7624536.5
D33: i - Thuế giá trị gia tăng | E33: =$L$5 -> 0.1 | H33: =H32*E33 -> 762453.65
D34: j - Chi phí xây dựng sau thuế | H34: =SUM(H32:H33) -> 8386990.2
D35: k - Chi phí xây dựng lán trại, nhà tạm | E35: =$M$5 -> 0.01 | H35: =H34*E35 -> 83869.902
D36: n - Cộng đơn giá đề xuất | H36: =ROUND(H34+H35,-2) -> 8470900
B37: 3 | C37: CS.1.05.1.1 | D37: Đèn HPS-T 400W NEOS-3 IP=66 | E37: cái | F37: 0 | I37: =+H38 -> 6720000 | J37: =+H40 -> 109463.5 | K37: =+H41 -> 197443.2
C38: 0 | D38: A - Vật liệu | E38: 0 | F38: 0 | H38: =SUM(H39:H39) -> 6720000
D39: Đèn HPS-T 400W NEOS-3 IP=66 | E39: cái | F39: 1 | G39: =GVL!$I$81 -> 6720000 | H39: =+F39*G39 -> 6720000
C40: 0 | D40: B - Nhân công 4.0/7 | E40: công | F40: 0.5 | G40: ='16.NC'!$F$18 -> 218927 | H40: =G40*F40 -> 109463.5
...

Sheet GVL
A1: ='10.PLV'!#REF! -> #REF!
A2: BẢNG GIÁ VẬT LIỆU ĐẾN CHÂN CÔNG TRÌNH
A3: ='10.PLV'!A2 -> DỰ ÁN ĐẦU TƯ XÂY DỰNG CẦU LONG BÌNH – CHREY THOM
A4: ='10.PLV'!A3 -> HẠNG MỤC: PHẦN CẦU, PHẦN TUYẾN, CHIẾU SÁNG (PHÍA BỜ VIỆT NAM)
A6: TT | B6: Tên vật tư | C6: Material | D6: Đơn vị | E6: Công bố Tỉnh | F6: Tham khảo | G6: ĐGCB | H6: Cước vận chuyển | I6: Giá VL tới chân CT
A7: No. | B7: Materials | D7: Unit | E7: As declared | F7: Reference | G7: Basic price | H7: Transport cost | I7: Total
A8: 1 | B8: Acêtylen | C8: =VLOOKUP(B8,DICH!B:C,2,FALSE) -> Acetylene | D8: chai | G8: 48000 | I8: 200000
A9: 2 | B9: Bản thép neo 180x180x45 | C9: =VLOOKUP(B9,DICH!B:C,2,FALSE) -> Steel plate 180x180x45 | D9: kg | I9: =I170 -> 16703.248
A10: 3 | B10: Bao tải | C10: =VLOOKUP(B10,DICH!B:C,2,FALSE) -> Bag | D10: cái | F10: 10000 | I10: 5000
A11: 4 | B11: Ben tô nít | C11: =VLOOKUP(B11,DICH!B:C,2,FALSE) -> Bentonite | D11: kg | F11: =3200000/1000/1.1 -> 2909.0909 | I11: 3300
A12: 5 | B12: Biển báo chữ nhật 0.7x0.3m | C12: =VLOOKUP(B12,DICH!B:C,2,FALSE) -> Rectangular traffic sign 0.7x0.3m | D12: bộ | F12: =1000000*0.7*0.3 -> 210000 | I12: =SUM(E12:H12) -> 210000
A13: 6 | B13: Biển báo chữ nhật 0.9x0.45m | C13: =VLOOKUP(B13,DICH!B:C,2,FALSE) -> Rectangular traffic sign 0.9x0.45m | D13: bộ | F13: =1000000*0.9*0.45 -> 405000 | I13: =SUM(E13:H13) -> 405000
A14: 7 | B14: Biển báo chữ nhật 1.2x0.25m | C14: =VLOOKUP(B14,DICH!B:C,2,FALSE) -> Rectangular traffic sign 1.2x0.25m | D14: bộ | F14: =1000000*1.2*0.25 -> 300000 | I14: =SUM(E14:H14) -> 300000
A15: 8 | B15: Biển báo chữ nhật 1.6x1.0m | C15: =VLOOKUP(B15,DICH!B:C,2,FALSE) -> Rectangular traffic sign 1.6x1.0m | D15: bộ | F15: =1000000*1.6*1 -> 1600000 | I15: =SUM(E15:H15) -> 1600000
A16: 9 | B16: Biển báo chữ nhật 2.4x1.5m | C16: =VLOOKUP(B16,DICH!B:C,2,FALSE) -> Rectangular traffic sign 2.4x1.5m | D16: bộ | F16: =1000000*2.4*1.5 -> 3600000 | I16: =SUM(E16:H16) -> 3600000
A17: 10 | B17: Biển báo chữ nhật 2x1m | C17: =VLOOKUP(B17,DICH!B:C,2,FALSE) -> Rectangular traffic sign 2x1m | D17: bộ | F17: =1000000*2*1 -> 2000000 | I17: =SUM(E17:H17) -> 2000000
A18: 11 | B18: Biển báo hình vuông 0.6x0.6m | C18: =VLOOKUP(B18,DICH!B:C,2,FALSE) -> Square traffic sign 0.6x0.6m | D18: bộ | F18: =1000000*0.6*0.6 -> 360000 | I18: =SUM(E18:H18) -> 360000
A19: 12 | B19: Biển báo tam giác cạnh 0.7m | C19: =VLOOKUP(B19,DICH!B:C,2,FALSE) -> Triangle traffic sign 0.7m | D19: bộ | F19: 253000 | I19: =SUM(E19:H19) -> 253000
A20: 13 | B20: Biển báo tam giác cạnh 0.87m | C20: =VLOOKUP(B20,DICH!B:C,2,FALSE) -> Triangle traffic sign 0.87m | D20: bộ | F20: =380000 -> 380000 | I20: =SUM(E20:H20) -> 380000
A21: 14 | B21: Biển báo tròn đường kính 0.7m | C21: =VLOOKUP(B21,DICH!B:C,2,FALSE) -> Circlar traffic sign 0.7m | D21: bộ | F21: 396000 | I21: =SUM(E21:H21) -> 396000
A22: 15 | B22: Biển báo tròn đường kính 0.87m | C22: =VLOOKUP(B22,DICH!B:C,2,FALSE) -> Circlar traffic sign 0.87m | D22: bộ | F22: 590000 | I22: =SUM(E22:H22) -> 590000
A23: 16 | B23: Bộ giá lắp đèn pha | C23: =VLOOKUP(B23,DICH!B:C,2,FALSE) -> #N/A | D23: cái | F23: 450000 | I23: =SUM(E23:H23) -> 450000
A24: 17 | B24: Bột đá | C24: =VLOOKUP(B24,DICH!B:C,2,FALSE) -> Stone powder | D24: kg | F24: 1000 | I24: 500
A25: 18 | B25: Bu lông D16mm | C25: =VLOOKUP(B25,DICH!B:C,2,FALSE) -> Bbolt D16mmm | D25: bộ | F25: =F27 -> 3500 | I25: =SUM(E25:H25) -> 3500
A26: 19 | B26: Bu lông M14 | C26: =VLOOKUP(B26,DICH!B:C,2,FALSE) -> Bbolt M14 | D26: bộ | F26: 3000 | I26: =SUM(E26:H26) -> 3000
A27: 20 | B27: Bu lông M16 | C27: =VLOOKUP(B27,DICH!B:C,2,FALSE) -> Bbolt M16 | D27: bộ | F27: 3500 | I27: =SUM(E27:H27) -> 3500
A28: 21 | B28: Bu lông M20 | C28: =VLOOKUP(B28,DICH!B:C,2,FALSE) -> Bbolt M20 | D28: bộ | F28: 4000 | I28: 5000
A29: 22 | B29: Bu lông M24x290 | C29: =VLOOKUP(B29,DICH!B:C,2,FALSE) -> Bbolt M24x290 | D29: bộ | F29: 10000 | I29: =SUM(E29:H29) -> 10000
A30: 23 | B30: Bu lông M8x50 | C30: =VLOOKUP(B30,DICH!B:C,2,FALSE) -> Bbolt M8x50 | D30: bộ | F30: 1200 | I30: =SUM(E30:H30) -> 1200
A31: 24 | B31: Bulông D22mm | C31: =VLOOKUP(B31,DICH!B:C,2,FALSE) -> Bbolt D22 | D31: bộ | F31: 10000 | I31: =SUM(E31:H31) -> 10000
A32: 25 | B32: Cần khoan L=1,5m | C32: =VLOOKUP(B32,DICH!B:C,2,FALSE) -> Drill rods L=1.5m | D32: cái | G32: 95000 | I32: =SUM(E32:H32) -> 95000
A33: 26 | B33: Cấp phối chọn lọc | C33: =VLOOKUP(B33,DICH!B:C,2,FALSE) -> Selective aggregate | D33: m3 | E33: 46818 | H33: ='13.vanchuyen'!$AI$56 -> 144322.65 | I33: =SUM(E33:H33) -> 191140.65
A34: 27 | B34: Cấp phối đá dăm loại 1 | C34: =VLOOKUP(B34,DICH!B:C,2,FALSE) -> Stone aggregate 0x4 type 1 | D34: m3 | E34: ='Cong bo gia'!$D$21 -> 137000 | H34: =$H$58 -> 162185.41 | I34: =SUM(E34:H34) -> 299185.41
A35: 28 | B35: Cấp phối đá dăm loại 2 | C35: =VLOOKUP(B35,DICH!B:C,2,FALSE) -> Stone aggregate 0x4 type 2 | D35: m3 | E35: =$E$34*0.9 -> 123300 | H35: =$H$58 -> 162185.41 | I35: =SUM(E35:H35) -> 285485.41
A36: 29 | B36: Cát bê tông nhựa | C36: =VLOOKUP(B36,DICH!B:C,2,FALSE) -> Sand asphalt concrete | D36: m3 | I36: =I38 -> 128096.8
A37: 30 | B37: Cát đen | C37: =VLOOKUP(B37,DICH!B:C,2,FALSE) -> Find sand | D37: m3 | E37: ='Cong bo gia'!$D$58 -> 12500 | H37: ='13.vanchuyen'!$AI$37 -> 80713.626 | I37: =SUM(E37:H37) -> 93213.626
A38: 31 | B38: Cát đổ bêtông | C38: =VLOOKUP(B38,DICH!B:C,2,FALSE) -> Sand to pouring concrete | D38: m3 | E38: =$E$39 -> 25454.545 | H38: =$H$39 -> 102642.26 | I38: =SUM(E38:H38) -> 128096.8
A39: 32 | B39: Cát vàng | C39: =VLOOKUP(B39,DICH!B:C,2,FALSE) -> Medium sand | D39: m3 | E39: ='Cong bo gia'!$D$59 -> 25454.545 | H39: ='13.vanchuyen'!$AI$40 -> 102642.26 | I39: =SUM(E39:H39) -> 128096.8
A40: 33 | B40: Cây chống | C40: =VLOOKUP(B40,DICH!B:C,2,FALSE) -> Strut | D40: cây | E40: ='Cong bo gia'!$E$86 -> 17000 | I40: =SUM(E40:H40) -> 17000
A41: 34 | B41: Chổi cáp | C41: =VLOOKUP(B41,DICH!B:C,2,FALSE) -> broom | D41: cái | F41: 15000 | I41: =SUM(E41:H41) -> 15000
...

Sheet NC
A1: BẢNG TÍNH ĐƠN GIÁ NHÂN CÔNG
A2: KHU VỰC TỈNH NINH THUẬN
A3: - Căn cứ Nghị định số 205/2004/NĐ-CP ngày 14/12/2004 của Chính phủ quy định bảng lương, thang lương.
A4: - Thông tư 05/2005/TT-BLĐTBXH ngày 05/01/2005 hướng dẫn chế độ phụ cấp lưu động trong các công ty nhà nước theo Nghị định số 205/2004/NĐ-CP do Bộ Lao
A5: động thương binh và xã hội ban hành
A6: - Nghị định 66/2013/NĐ-CP ngày 27/06/2012 của Chính phủ điều chỉnh mức lương tối thiểu chung từ 1050,000 đồng lên 1,150,000 đồng.
A7: * Lương tối thiểu | F7: 1700000
A8: * Lương tối thiểu chung | F8: 1150000 | G8: NĐ 66/2013/NĐ-CP
A9: * Các khoản phụ cấp
A10: - Phụ cấp tính theo lương tối thiểu | F10: =SUM(F11:F12) -> 0.2 | G10: (f1)
A11: + Phụ cấp khu vực
A12: + Phụ cấp lưu động | F12: 0.2 | G12: lương tối thiểu | P12: - Thông tư 05/2005/TT-BLĐTBXH ngày 05/01/2005 hướng dẫn
A13: - Phụ cấp tính theo lương cấp bậc | F13: =SUM(F14:F17) -> 0.26 | G13: (f2)
A14: + Phụ cấp không ổn định sản xuất | F14: 0.1 | G14: lương cơ bản
A15: + Phụ cấp thu hút
A16: + Lương phụ | F16: 0.12 | G16: lương cơ bản
A17: + Chi phí khoán cho người lao động | F17: 0.04 | G17: lương cơ bản
A18: * Ngày công một tháng | F18: 26
A19: * CÁCH TÍNH PHỤ CẤP :
A20: - Nhóm 1 : [4]= (f1 + (f2*[1]))*LTT
A21: - Nhóm 2 : [5]= (f1 + (f2*[2]))*LTT
A22: - Nhóm 3 : [6]= (f1 + (f2*[3]))*LTT
A23: BẢNG LƯƠNG A1 - NGÀNH 8 NGHỊ ĐỊNH 205/2004/NĐ-CP NGÀY 14/12/2004
A24: CẤP BẬC | C24: HỆ SỐ LƯƠNG TỐI THIỂU | F24: PHỤ CẤP | I24: LƯƠNG THÁNG | L24: LƯƠNG NGÀY
C25: Nhóm 1 | D25: Nhóm 2 | E25: Nhóm 3 | F25: Nhóm 1 | G25: Nhóm 2 | H25: Nhóm 3 | I25: Nhóm 1 | J25: Nhóm 2 | K25: Nhóm 3 | L25: Nhóm 1 (Chiếu sáng) | M25: Nhóm 2 (Phần tuyến) | N25: Nhóm 3 (Phần cầu)
C26: [1] | D26: [2] | E26: [3] | F26: [4] | G26: [5] | H26: [6] | I26: [7]=[1]* LTT + [4] | J26: [8]=[2]*LTT+[5] | K26: [9]=[3]*LTT+[6] | L26: [10] = [7]/26 | M26: [11] = [8]/26 | N26: [12] = [9]/26 | R26: 1
A27: - Nhân công | B27: 1 | C27: 1.55 | D27: 1.67 | E27: 1.85 | F27: =($F$10+$F$13*C27)*$F$7 -> 1025100 | G27: =($F$10+$F$13*D27)*$F$7 -> 1078140 | H27: =($F$10+$F$13*E27)*$F$7 -> 1157700 | I27: =C27*$F$7+F27 -> 3660100 | J27: =D27*$F$7+G27 -> 3917140 | K27: =E27*$F$7+H27 -> 4302700 | L27: =ROUND(I27/26,0) -> 140773 | M27: =ROUND(J27/26,0) -> 150659 | N27: =K27/26 -> 165488.46 | R27: 1 | T27: =+M27/L27 -> 1.0702265
A28: =A27 -> - Nhân công | B28: 2 | C28: 1.83 | D28: 1.96 | E28: 2.18 | F28: =($F$10+$F$13*C28)*$F$7 -> 1148860 | G28: =($F$10+$F$13*D28)*$F$7 -> 1206320 | H28: =($F$10+$F$13*E28)*$F$7 -> 1303560 | I28: =C28*$F$7+F28 -> 4259860 | J28: =D28*$F$7+G28 -> 4538320 | K28: =E28*$F$7+H28 -> 5009560 | L28: =ROUND(I28/26,0) -> 163841 | M28: =J28/26 -> 174550.77 | N28: =K28/26 -> 192675.38 | T28: =+M28/L28 -> 1.0653668
A29: =A28 -> - Nhân công | B29: 2.1 | C29: =($C$38-$C$28)/10+C28 -> 1.863 | D29: =($C$38-$C$28)/10+D28 -> 1.993 | E29: =($C$38-$C$28)/10+E28 -> 2.213 | F29: =($F$10+$F$13*C29)*$F$7 -> 1163446 | G29: =($F$10+$F$13*D29)*$F$7 -> 1220906 | H29: =($F$10+$F$13*E29)*$F$7 -> 1318146 | I29: =C29*$F$7+F29 -> 4330546 | J29: =D29*$F$7+G29 -> 4609006 | K29: =E29*$F$7+H29 -> 5080246 | L29: =ROUND(I29/26,0) -> 166559 | M29: =J29/26 -> 177269.46 | N29: =K29/26 -> 195394.08 | T29: =+M29/L29 -> 1.0643043
A30: =A29 -> - Nhân công | B30: 2.2 | C30: =($C$38-$C$28)/10+C29 -> 1.896 | D30: =($C$38-$C$28)/10+D29 -> 2.026 | E30: =($C$38-$C$28)/10+E29 -> 2.246 | F30: =($F$10+$F$13*C30)*$F$7 -> 1178032 | G30: =($F$10+$F$13*D30)*$F$7 -> 1235492 | H30: =($F$10+$F$13*E30)*$F$7 -> 1332732 | I30: =C30*$F$7+F30 -> 4401232 | J30: =D30*$F$7+G30 -> 4679692 | K30: =E30*$F$7+H30 -> 5150932 | L30: =ROUND(I30/26,0) -> 169278 | M30: =J30/26 -> 179988.15 | N30: =K30/26 -> 198112.77 | T30: =+M30/L30 -> 1.0632696
A31: =A30 -> - Nhân công | B31: 2.3 | C31: =($C$38-$C$28)/10+C30 -> 1.929 | D31: =($C$38-$C$28)/10+D30 -> 2.059 | E31: =($C$38-$C$28)/10+E30 -> 2.279 | F31: =($F$10+$F$13*C31)*$F$7 -> 1192618 | G31: =($F$10+$F$13*D31)*$F$7 -> 1250078 | H31: =($F$10+$F$13*E31)*$F$7 -> 1347318 | I31: =C31*$F$7+F31 -> 4471918 | J31: =D31*$F$7+G31 -> 4750378 | K31: =E31*$F$7+H31 -> 5221618 | L31: =ROUND(I31/26,0) -> 171997 | M31: =J31/26 -> 182706.85 | N31: =K31/26 -> 200831.46 | T31: =+M31/L31 -> 1.0622676
A32: =A31 -> - Nhân công | B32: 2.4 | C32: =($C$38-$C$28)/10+C31 -> 1.962 | D32: =($C$38-$C$28)/10+D31 -> 2.092 | E32: =($C$38-$C$28)/10+E31 -> 2.312 | F32: =($F$10+$F$13*C32)*$F$7 -> 1207204 | G32: =($F$10+$F$13*D32)*$F$7 -> 1264664 | H32: =($F$10+$F$13*E32)*$F$7 -> 1361904 | I32: =C32*$F$7+F32 -> 4542604 | J32: =D32*$F$7+G32 -> 4821064 | K32: =E32*$F$7+H32 -> 5292304 | L32: =ROUND(I32/26,0) -> 174716 | M32: =J32/26 -> 185425.54 | N32: =K32/26 -> 203550.15 | T32: =+M32/L32 -> 1.0612968
A33: =A32 -> - Nhân công | B33: 2.5 | C33: =($C$38-$C$28)/10+C32 -> 1.995 | D33: =($C$38-$C$28)/10+D32 -> 2.125 | E33: =($C$38-$C$28)/10+E32 -> 2.345 | F33: =$F$10*$F$8+$F$13*$F$7*C33 -> 1111790 | G33: =$F$10*$F$8+$F$13*$F$7*D33 -> 1169250 | H33: =$F$10*$F$8+$F$13*$F$7*E33 -> 1266490 | I33: =C33*$F$7+F33 -> 4503290 | J33: =D33*$F$7+G33 -> 4781750 | K33: =E33*$F$7+H33 -> 5252990 | L33: =ROUND(I33/26,0) -> 173203 | M33: =ROUND(J33/26,0) -> 183913 | N33: =ROUND(K33/26,0) -> 202038 | O33: 1 | T33: =+M33/L33 -> 1.061835
A34: =A33 -> - Nhân công | B34: 2.6 | C34: =($C$38-$C$28)/10+C33 -> 2.028 | D34: =($C$38-$C$28)/10+D33 -> 2.158 | E34: =($C$38-$C$28)/10+E33 -> 2.378 | F34: =$F$10*$F$8+$F$13*$F$7*C34 -> 1126376 | G34: =$F$10*$F$8+$F$13*$F$7*D34 -> 1183836 | H34: =$F$10*$F$8+$F$13*$F$7*E34 -> 1281076 | I34: =C34*$F$7+F34 -> 4573976 | J34: =D34*$F$7+G34 -> 4852436 | K34: =E34*$F$7+H34 -> 5323676 | L34: =ROUND(I34/26,0) -> 175922 | M34: =ROUND(J34/26,0) -> 186632 | N34: =ROUND(K34/26,0) -> 204757 | T34: =+M34/L34 -> 1.0608793
A35: =A34 -> - Nhân công | B35: 2.7 | C35: =($C$38-$C$28)/10+C34 -> 2.061 | D35: =($C$38-$C$28)/10+D34 -> 2.191 | E35: =($C$38-$C$28)/10+E34 -> 2.411 | F35: =$F$10*$F$8+$F$13*$F$7*C35 -> 1140962 | G35: =$F$10*$F$8+$F$13*$F$7*D35 -> 1198422 | H35: =$F$10*$F$8+$F$13*$F$7*E35 -> 1295662 | I35: =C35*$F$7+F35 -> 4644662 | J35: =D35*$F$7+G35 -> 4923122 | K35: =E35*$F$7+H35 -> 5394362 | L35: =ROUND(I35/26,0) -> 178641 | M35: =ROUND(J35/26,0) -> 189351 | N35: =ROUND(K35/26,0) -> 207475 | O35: 1 | T35: =+M35/L35 -> 1.0599526
A36: =A35 -> - Nhân công | B36: 2.8 | C36: =($C$38-$C$28)/10+C35 -> 2.094 | D36: =($C$38-$C$28)/10+D35 -> 2.224 | E36: =($C$38-$C$28)/10+E35 -> 2.444 | F36: =$F$10*$F$8+$F$13*$F$7*C36 -> 1155548 | G36: =$F$10*$F$8+$F$13*$F$7*D36 -> 1213008 | H36: =$F$10*$F$8+$F$13*$F$7*E36 -> 1310248 | I36: =C36*$F$7+F36 -> 4715348 | J36: =D36*$F$7+G36 -> 4993808 | K36: =E36*$F$7+H36 -> 5465048 | L36: =ROUND(I36/26,0) -> 181360 | M36: =ROUND(J36/26,0) -> 192070 | N36: =ROUND(K36/26,0) -> 210194 | T36: =+M36/L36 -> 1.0590538
A37: =A36 -> - Nhân công | B37: 2.9 | C37: =($C$38-$C$28)/10+C36 -> 2.127 | D37: =($C$38-$C$28)/10+D36 -> 2.257 | E37: =($C$38-$C$28)/10+E36 -> 2.477 | F37: =$F$10*$F$8+$F$13*$F$7*C37 -> 1170134 | G37: =$F$10*$F$8+$F$13*$F$7*D37 -> 1227594 | H37: =$F$10*$F$8+$F$13*$F$7*E37 -> 1324834 | I37: =C37*$F$7+F37 -> 4786034 | J37: =D37*$F$7+G37 -> 5064494 | K37: =E37*$F$7+H37 -> 5535734 | L37: =ROUND(I37/26,0) -> 184078 | M37: =ROUND(J37/26,0) -> 194788 | N37: =ROUND(K37/26,0) -> 212913 | T37: =+M37/L37 -> 1.0581819
A38: =A37 -> - Nhân công | B38: 3 | C38: 2.16 | D38: 2.31 | E38: 2.56 | F38: =$F$10*$F$8+$F$13*$F$7*C38 -> 1184720 | G38: =$F$10*$F$8+$F$13*$F$7*D38 -> 1251020 | H38: =$F$10*$F$8+$F$13*$F$7*E38 -> 1361520 | I38: =C38*$F$7+F38 -> 4856720 | J38: =D38*$F$7+G38 -> 5178020 | K38: =E38*$F$7+H38 -> 5713520 | L38: =ROUND(I38/26,0) -> 186797 | M38: =ROUND(J38/26,0) -> 199155 | N38: =ROUND(K38/26,0) -> 219751 | O38: 1 | T38: =+M38/L38 -> 1.0661574
A39: =A38 -> - Nhân công | B39: 3.1 | C39: =($C$48-$C$38)/10+C38 -> 2.199 | D39: =($C$48-$C$38)/10+D38 -> 2.349 | E39: =($C$48-$C$38)/10+E38 -> 2.599 | F39: =$F$10*$F$8+$F$13*$F$7*C39 -> 1201958 | G39: =$F$10*$F$8+$F$13*$F$7*D39 -> 1268258 | H39: =$F$10*$F$8+$F$13*$F$7*E39 -> 1378758 | I39: =C39*$F$7+F39 -> 4940258 | J39: =D39*$F$7+G39 -> 5261558 | K39: =E39*$F$7+H39 -> 5797058 | L39: =ROUND(I39/26,0) -> 190010 | M39: =ROUND(J39/26,0) -> 202368 | N39: =ROUND(K39/26,0) -> 222964 | T39: =+M39/L39 -> 1.0650387
A40: =A39 -> - Nhân công | B40: 3.2 | C40: =($C$48-$C$38)/10+C39 -> 2.238 | D40: =($C$48-$C$38)/10+D39 -> 2.388 | E40: =($C$48-$C$38)/10+E39 -> 2.638 | F40: =$F$10*$F$8+$F$13*$F$7*C40 -> 1219196 | G40: =$F$10*$F$8+$F$13*$F$7*D40 -> 1285496 | H40: =$F$10*$F$8+$F$13*$F$7*E40 -> 1395996 | I40: =C40*$F$7+F40 -> 5023796 | J40: =D40*$F$7+G40 -> 5345096 | K40: =E40*$F$7+H40 -> 5880596 | L40: =ROUND(I40/26,0) -> 193223 | M40: =ROUND(J40/26,0) -> 205581 | N40: =ROUND(K40/26,0) -> 226177 | O40: 1 | T40: =+M40/L40 -> 1.0639572
...

Sheet 9.may
B1: =+'8.Dgia'!B1 -> #REF!
B2: =+'8.Dgia'!B2 -> #REF!
B3: =+'8.Dgia'!B3 -> #REF!
B4: =+'8.Dgia'!B4 -> #REF!
B5: BẢNG TÍNH ĐƠN GIÁ MÁY THI CÔNG
G8: Diesel (lít) | H8: Điện Electric (kWh) | I8: Xăng Petro (lít) | J8: Mazut (lít)
C9: Hệ số chi phí nhiên liệu phụ (ip) | E9: Hệ số chi phí nhiên liệu phụ (ip) | F9: Coeffiicent of auxiliary fuel (ip) | G9: 1.05 | H9: 1.07 | I9: 1.03 | J9: 1
C10: Giá nhiên liệu theo QĐ | E10: Giá nhiên liệu theo QĐ | F10: Cost of fuel according to Decision | G10: 6818 | H10: 895 | I10: 8455 | J10: 5744
C11: Giá nhiên liệu hiện tại | E11: Giá nhiên liệu hiện tại | F11: Cost of fuel at present | G11: =+'11.gia '!I144*0.87 -> 22290.909 | H11: 1490 | I11: ='11.gia '!I143*0.74 -> 22954.545 | J11: ='11.gia '!I145*0.87 -> 15960.545
C12: Chênh lệch (cl) | E12: Chênh lệch (cl) | F12: Different (cl) | G12: =G11-G10 -> 15472.909 | H12: =H11-H10 -> 595 | I12: =I11-I10 -> 14499.545 | J12: =J11-J10 -> 10216.545
C13: Hệ số đchỉnh chi phí máy thi công (HS) | E13: Hệ số đchỉnh giá ca máy theo VB 3833/UBND-ĐTXD (HS) | F13: Coeffiicent of machine (HS) | G13: 1.29 | H13: theo văn bản 3833/UBND-DTXD ngày 22/11/2011 của UBND tỉnh An Giang | T13: Hệ số đchỉnh giá ca máy theo VB 3833/UBND-ĐTXD (HS)
P14: Đơn vị tính: Đồng
P15: Đơn vị tính: Đồng / Unit cost: VND | U15: An Giang
B16: TT | C16: Loại máy và thiết bị | E16: Loại máy và thiết bị | F16: Name of machine | G16: Định mức tiêu hao nhiên liệu, năng lượng 1 ca (CNL) | K16: Chi phí | L16: Giá ca máy/Machine price | M16: Giá ca máy 2006 | N16: Chênh lệch nhiên liệu | O16: Chênh lệch tiền lương Difference of labour | P16: Giá ca máy hiện tại | Q16: Khối lượng | R16: Thành tiền bù nhiên liệu | S16: Chênh lệch nhân công C2 (HS=730/350) | T16: Giá ca máy hiện tại C2 | U16: Chi phí | W16: Giá ca máy
G17: Diesel (lít) | H17: Điện Electric (kWh) | I17: Xăng (lít) Petro | J17: Mazut (lít) | K17: CP nhiên liệu (CNL) | L17: CP tiền lương Cost of lab (CTL) | R17: bù nhiên liệu | U17: CP nhiên liệu (CNL) | V17: CP tiền lương (CTL) | W17: (CCM)
B18: 1 | C18: 2 | E18: =B18+1 -> 2 | F18: 4 | G18: =E18+1 -> 3 | H18: =G18+1 -> 4 | I18: =H18+1 -> 5 | J18: =I18+1 -> 6 | K18: =J18+1 -> 7 | L18: =J18+1 -> 7 | M18: =L18+1 -> 8 | N18: (9)=(2)*ip*cl | O18: (10)=(7)*(nc-1) | P18: (10)=(9)+(8)*HS | Q18: 13 | U18: 7 | V18: 8 | W18: 9
B19: =IF(A19<>0,COUNTA(A$19:$A19),"") | C19: Máy đào một gầu, bánh xích -dung tích gầu:
B20: =IF(A20<>0,COUNTA(A$19:$A20),"") | C20: 0,22 m3 | G20: 32.4 | K20: 1 | L20: =+V20 -> 48658 | M20: =+W20 -> 419927 | N20: =SUMPRODUCT(G20:J20,$G$12:$J$12,$G$9:$J$9) -> 526388.37 | P20: =+N20+M20*$G$13 -> 1068094.2 | Q20: =SUMIF('8.Dgia'!E:E,'9.may'!E20,'8.Dgia'!P:P) -> 0 | R20: =N20*Q20 -> 0 | S20: =L20*($G$13-1) -> 14110.82 | T20: =S20+N20+M20 -> 960426.19 | U20: 231948 | V20: 48658 | W20: 419927 | Y20: =W20-T20 -> -540499.19 | Z20: =W20-M20 -> 0 | AC20: =+P20*Q20 -> 0
B21: =IF(A21<>0,COUNTA(A$19:$A21),"") | C21: 0,30 m3 | G21: 35.1 | K21: 1 | L21: =+V21 -> 48658 | M21: =+W21 -> 477568 | N21: =SUMPRODUCT(G21:J21,$G$12:$J$12,$G$9:$J$9) -> 570254.06 | P21: =+N21+M21*$G$13 -> 1186316.8 | Q21: =SUMIF('8.Dgia'!E:E,'9.may'!E21,'8.Dgia'!P:P) -> 0 | R21: =N21*Q21 -> 0 | S21: =L21*($G$13-1) -> 14110.82 | T21: =S21+N21+M21 -> 1061932.9 | U21: 251277 | V21: 48658 | W21: 477568 | Y21: =W21-T21 -> -584364.88 | Z21: =W21-M21 -> 0 | AC21: =+P21*Q21 -> 0
A22: 1 | B22: =IF(A22<>0,COUNTA(A$19:$A22),"") -> 1 | C22: 0,40 m3 | D22: Máy đào một gầu, bánh xích - dung tích gầu 0,4m3 | E22: Máy đào 0.4m3 | F22: avulsion excavator 0.4m3 | G22: 42.66 | K22: 1 | L22: =+V22 -> 48658 | M22: =+W22 -> 550969 | N22: =SUMPRODUCT(G22:J22,$G$12:$J$12,$G$9:$J$9) -> 693078.02 | P22: =+N22+M22*$G$13 -> 1403828 | Q22: =SUMIF('8.Dgia'!E:E,'9.may'!E22,'8.Dgia'!P:P) -> 0 | R22: =N22*Q22 -> 0 | S22: =L22*($G$13-1) -> 14110.82 | T22: =S22+N22+M22 -> 1258157.8 | U22: 305399 | V22: 48658 | W22: 550969 | Y22: =W22-T22 -> -707188.84 | Z22: =W22-M22 -> 0 | AC22: =+P22*Q22 -> 0
A23: 1 | B23: =IF(A23<>0,COUNTA(A$19:$A23),"") -> 2 | C23: 0,50 m3 | D23: Máy đào một gầu, bánh xích - dung tích gầu 0,5m3 | E23: Máy đào 0.5m3 | F23: avulsion excavator 0.5m3 | G23: 51.3 | K23: 1 | L23: =+V23 -> 48658 | M23: =+W23 -> 788852 | N23: =SUMPRODUCT(G23:J23,$G$12:$J$12,$G$9:$J$9) -> 833448.25 | P23: =+N23+M23*$G$13 -> 1851067.3 | Q23: =SUMIF('8.Dgia'!E:E,'9.may'!E23,'8.Dgia'!P:P) -> 0 | R23: =N23*Q23 -> 0 | S23: =L23*($G$13-1) -> 14110.82 | T23: =S23+N23+M23 -> 1636411.1 | U23: 367252 | V23: 48658 | W23: 788852 | Y23: =W23-T23 -> -847559.07 | Z23: =W23-M23 -> 0 | AC23: =+P23*Q23 -> 0
A24: 1 | B24: =IF(A24<>0,COUNTA(A$19:$A24),"") -> 3 | C24: 0,65 m3 | D24: Máy đào một gầu, bánh xích - dung tích gầu 0,6m3 | E24: Máy đào 0.65m3 | F24: avulsion excavator 0.6m3 | G24: 59.4 | K24: 1 | L24: =+V24 -> 98673 | M24: =+W24 -> 988189 | N24: =SUMPRODUCT(G24:J24,$G$12:$J$12,$G$9:$J$9) -> 965045.34 | P24: =+N24+M24*$G$13 -> 2239809.1 | Q24: =SUMIF('8.Dgia'!E:E,'9.may'!E24,'8.Dgia'!P:P) -> 0 | R24: =N24*Q24 -> 0 | S24: =L24*($G$13-1) -> 28615.17 | T24: =S24+N24+M24 -> 1981849.5 | U24: 425239 | V24: 98673 | W24: 988189 | Y24: =W24-T24 -> -993660.51 | Z24: =W24-M24 -> 0 | AC24: =+P24*Q24 -> 0
A25: 1 | B25: =IF(A25<>0,COUNTA(A$19:$A25),"") -> 4 | C25: 0,80 m3 | D25: Máy đào một gầu, bánh xích - dung tích gầu 0,8m3 | E25: Máy đào 0.8m3 | F25: avulsion excavator 0.8m3 | G25: 64.8 | K25: 1 | L25: =+V25 -> 98673 | M25: =+W25 -> 1172540 | N25: =SUMPRODUCT(G25:J25,$G$12:$J$12,$G$9:$J$9) -> 1052776.7 | P25: =+N25+M25*$G$13 -> 2565353.3 | Q25: =SUMIF('8.Dgia'!E:E,'9.may'!E25,'8.Dgia'!P:P) -> #REF! | R25: =N25*Q25 -> #REF! | S25: =L25*($G$13-1) -> 28615.17 | T25: =S25+N25+M25 -> 2253931.9 | U25: 463897 | V25: 98673 | W25: 1172540 | Y25: =W25-T25 -> -1081391.9 | Z25: =W25-M25 -> 0 | AC25: =+P25*Q25 -> #REF!
B26: =IF(A26<>0,COUNTA(A$19:$A26),"") | C26: 1,00 m3 | G26: 74.52 | K26: 1 | L26: =+V26 -> 114786 | M26: =+W26 -> 1416535 | N26: =SUMPRODUCT(G26:J26,$G$12:$J$12,$G$9:$J$9) -> 1210693.2 | P26: =+N26+M26*$G$13 -> 3038023.4 | Q26: =SUMIF('8.Dgia'!E:E,'9.may'!E26,'8.Dgia'!P:P) -> 0 | R26: =N26*Q26 -> 0 | S26: =L26*($G$13-1) -> 33287.94 | T26: =S26+N26+M26 -> 2660516.2 | U26: 533481 | V26: 114786 | W26: 1416535 | Y26: =W26-T26 -> -1243981.2 | Z26: =W26-M26 -> 0 | AC26: =+P26*Q26 -> 0
B27: =IF(A27<>0,COUNTA(A$19:$A27),"") | C27: 1,20 m3 | G27: 78.3 | K27: 1 | L27: =+V27 -> 114786 | M27: =+W27 -> 1694841 | N27: =SUMPRODUCT(G27:J27,$G$12:$J$12,$G$9:$J$9) -> 1272105.2 | P27: =+N27+M27*$G$13 -> 3458450.1 | Q27: =SUMIF('8.Dgia'!E:E,'9.may'!E27,'8.Dgia'!P:P) -> 0 | R27: =N27*Q27 -> 0 | S27: =L27*($G$13-1) -> 33287.94 | T27: =S27+N27+M27 -> 3000234.2 | U27: 560542 | V27: 114786 | W27: 1694841 | Y27: =W27-T27 -> -1305393.2 | Z27: =W27-M27 -> 0 | AC27: =+P27*Q27 -> 0
A28: 1 | B28: =IF(A28<>0,COUNTA(A$19:$A28),"") -> 5 | C28: 1,25 m3 | D28: Máy đào một gầu, bánh xích - dung tích gầu 1,25m3 | E28: Máy đào 1.25m3 | F28: avulsion excavator 1.25m3 | G28: 82.62 | K28: 1 | L28: =+V28 -> 114786 | M28: =+W28 -> 1734502 | N28: =SUMPRODUCT(G28:J28,$G$12:$J$12,$G$9:$J$9) -> 1342290.3 | P28: =+N28+M28*$G$13 -> 3579797.9 | Q28: =SUMIF('8.Dgia'!E:E,'9.may'!E28,'8.Dgia'!P:P) -> #REF! | R28: =N28*Q28 -> #REF! | S28: =L28*($G$13-1) -> 33287.94 | T28: =S28+N28+M28 -> 3110080.3 | U28: 591468 | V28: 114786 | W28: 1734502 | Y28: =W28-T28 -> -1375578.3 | Z28: =W28-M28 -> 0 | AC28: =+P28*Q28 -> #REF!
A29: 1 | B29: =IF(A29<>0,COUNTA(A$19:$A29),"") -> 6 | C29: 1,60 m3 | D29: Máy đào một gầu, bánh xích - dung tích gầu 1,6m3 | E29: Máy đào 1 gàu 1.6m3 | F29: avulsion excavator 1.6m3 | G29: 113.22 | K29: 1 | L29: =+V29 -> 114786 | M29: =+W29 -> 1929626 | N29: =SUMPRODUCT(G29:J29,$G$12:$J$12,$G$9:$J$9) -> 1839434.9 | P29: =+N29+M29*$G$13 -> 4328652.4 | Q29: =SUMIF('8.Dgia'!E:E,'9.may'!E29,'8.Dgia'!P:P) -> #REF! | R29: =N29*Q29 -> #REF! | S29: =L29*($G$13-1) -> 33287.94 | T29: =S29+N29+M29 -> 3802348.8 | U29: 810531 | V29: 114786 | W29: 1929626 | Y29: =W29-T29 -> -1872722.8 | Z29: =W29-M29 -> 0 | AC29: =+P29*Q29 -> #REF!
B30: =IF(A30<>0,COUNTA(A$19:$A30),"") | C30: 2,00 m3 | G30: 127.5 | K30: 1 | L30: =+V30 -> 125981 | M30: =+W30 -> 2309418 | N30: =SUMPRODUCT(G30:J30,$G$12:$J$12,$G$9:$J$9) -> 2071435.7 | P30: =+N30+M30*$G$13 -> 5050584.9 | Q30: =SUMIF('8.Dgia'!E:E,'9.may'!E30,'8.Dgia'!P:P) -> 0 | R30: =N30*Q30 -> 0 | S30: =L30*($G$13-1) -> 36534.49 | T30: =S30+N30+M30 -> 4417388.2 | U30: 912760 | V30: 125981 | W30: 2309418 | Y30: =W30-T30 -> -2107970.2 | Z30: =W30-M30 -> 0 | AC30: =+P30*Q30 -> 0
A31: 1 | B31: =IF(A31<>0,COUNTA(A$19:$A31),"") -> 7 | C31: 2,30 m3 | D31: Máy đào một gầu, bánh xích - dung tích gầu 2,3m3 | E31: Máy đào 1 gàu 2.3m3 | F31: avulsion excavator 2.3m3 | G31: 137.7 | K31: 1 | L31: =+V31 -> 125981 | M31: =+W31 -> 2629427 | N31: =SUMPRODUCT(G31:J31,$G$12:$J$12,$G$9:$J$9) -> 2237150.6 | P31: =+N31+M31*$G$13 -> 5629111.4 | Q31: =SUMIF('8.Dgia'!E:E,'9.may'!E31,'8.Dgia'!P:P) -> #REF! | R31: =N31*Q31 -> #REF! | S31: =L31*($G$13-1) -> 36534.49 | T31: =S31+N31+M31 -> 4903112.1 | U31: 985781 | V31: 125981 | W31: 2629427 | Y31: =W31-T31 -> -2273685.1 | Z31: =W31-M31 -> 0 | AC31: =+P31*Q31 -> #REF!
B32: =IF(A32<>0,COUNTA(A$19:$A32),"") | C32: 2,50 m3 | G32: 163.71 | K32: 1 | L32: =+V32 -> 125981 | M32: =+W32 -> 2842767 | N32: =SUMPRODUCT(G32:J32,$G$12:$J$12,$G$9:$J$9) -> 2659723.4 | P32: =+N32+M32*$G$13 -> 6326892.9 | Q32: =SUMIF('8.Dgia'!E:E,'9.may'!E32,'8.Dgia'!P:P) -> 0 | R32: =N32*Q32 -> 0 | S32: =L32*($G$13-1) -> 36534.49 | T32: =S32+N32+M32 -> 5539024.9 | U32: 1171984 | V32: 125981 | W32: 2842767 | Y32: =W32-T32 -> -2696257.9 | Z32: =W32-M32 -> 0 | AC32: =+P32*Q32 -> 0
B33: =IF(A33<>0,COUNTA(A$19:$A33),"") | C33: 3,50 m3 | G33: 196.35 | K33: 1 | L33: =+V33 -> 125981 | M33: =+W33 -> 3814342 | N33: =SUMPRODUCT(G33:J33,$G$12:$J$12,$G$9:$J$9) -> 3190011 | P33: =+N33+M33*$G$13 -> 8110512.2 | Q33: =SUMIF('8.Dgia'!E:E,'9.may'!E33,'8.Dgia'!P:P) -> 0 | R33: =N33*Q33 -> 0 | S33: =L33*($G$13-1) -> 36534.49 | T33: =S33+N33+M33 -> 7040887.5 | U33: 1405650 | V33: 125981 | W33: 3814342 | Y33: =W33-T33 -> -3226545.5 | Z33: =W33-M33 -> 0 | AC33: =+P33*Q33 -> 0
A34: 1 | B34: =IF(A34<>0,COUNTA(A$19:$A34),"") -> 8 | C34: 3,60 m3 | D34: Máy đào một gầu, bánh xích - dung tích gầu 3,6m3 | E34: Máy đào 1 gàu 3.6m3 | F34: avulsion excavator 3.6m3 | G34: 198.9 | K34: 1 | L34: =+V34 -> 125981 | M34: =+W34 -> 3961412 | N34: =SUMPRODUCT(G34:J34,$G$12:$J$12,$G$9:$J$9) -> 3231439.7 | P34: =+N34+M34*$G$13 -> 8341661.2 | Q34: =SUMIF('8.Dgia'!E:E,'9.may'!E34,'8.Dgia'!P:P) -> 0 | R34: =N34*Q34 -> 0 | S34: =L34*($G$13-1) -> 36534.49 | T34: =S34+N34+M34 -> 7229386.2 | U34: 1423905 | V34: 125981 | W34: 3961412 | Y34: =W34-T34 -> -3267974.2 | Z34: =W34-M34 -> 0 | AC34: =+P34*Q34 -> 0
B35: =IF(A35<>0,COUNTA(A$19:$A35),"") | C35: 5,40 m3 | G35: 218.28 | K35: 1 | L35: =+V35 -> 125981 | M35: =+W35 -> 4588826 | N35: =SUMPRODUCT(G35:J35,$G$12:$J$12,$G$9:$J$9) -> 3546297.9 | P35: =+N35+M35*$G$13 -> 9465883.5 | Q35: =SUMIF('8.Dgia'!E:E,'9.may'!E35,'8.Dgia'!P:P) -> 0 | R35: =N35*Q35 -> 0 | S35: =L35*($G$13-1) -> 36534.49 | T35: =S35+N35+M35 -> 8171658.4 | U35: 1562645 | V35: 125981 | W35: 4588826 | Y35: =W35-T35 -> -3582832.4 | Z35: =W35-M35 -> 0 | AC35: =+P35*Q35 -> 0
B36: =IF(A36<>0,COUNTA(A$19:$A36),"") | C36: 6,50 m3 | G36: 332.01 | K36: 1 | L36: =+V36 -> 125981 | M36: =+W36 -> 6337827 | N36: =SUMPRODUCT(G36:J36,$G$12:$J$12,$G$9:$J$9) -> 5394018.6 | P36: =+N36+M36*$G$13 -> 13569815 | Q36: =SUMIF('8.Dgia'!E:E,'9.may'!E36,'8.Dgia'!P:P) -> 0 | R36: =N36*Q36 -> 0 | S36: =L36*($G$13-1) -> 36534.49 | T36: =S36+N36+M36 -> 11768380 | U36: 2376826 | V36: 125981 | W36: 6337827 | Y36: =W36-T36 -> -5430553.1 | Z36: =W36-M36 -> 0 | AC36: =+P36*Q36 -> 0
B37: =IF(A37<>0,COUNTA(A$19:$A37),"") | C37: 9,50 m3 | G37: 397.8 | K37: 1 | L37: =+V37 -> 125981 | M37: =+W37 -> 8770459 | N37: =SUMPRODUCT(G37:J37,$G$12:$J$12,$G$9:$J$9) -> 6462879.4 | P37: =+N37+M37*$G$13 -> 17776772 | Q37: =SUMIF('8.Dgia'!E:E,'9.may'!E37,'8.Dgia'!P:P) -> 0 | R37: =N37*Q37 -> 0 | S37: =L37*($G$13-1) -> 36534.49 | T37: =S37+N37+M37 -> 15269873 | U37: 2847810 | V37: 125981 | W37: 8770459 | Y37: =W37-T37 -> -6499413.9 | Z37: =W37-M37 -> 0 | AC37: =+P37*Q37 -> 0
B38: =IF(A38<>0,COUNTA(A$19:$A38),"") | C38: 10,40 m3 | G38: 408 | K38: 1 | L38: =+V38 -> 125981 | M38: =+W38 -> 9552950 | N38: =SUMPRODUCT(G38:J38,$G$12:$J$12,$G$9:$J$9) -> 6628594.3 | P38: =+N38+M38*$G$13 -> 18951900 | Q38: =SUMIF('8.Dgia'!E:E,'9.may'!E38,'8.Dgia'!P:P) -> 0 | R38: =N38*Q38 -> 0 | S38: =L38*($G$13-1) -> 36534.49 | T38: =S38+N38+M38 -> 16218079 | U38: 2920831 | V38: 125981 | W38: 9552950 | Y38: =W38-T38 -> -6665128.7 | Z38: =W38-M38 -> 0 | AC38: =+P38*Q38 -> 0
B39: =IF(A39<>0,COUNTA(A$19:$A39),"") | C39: Máy đào một gầu, bánh xích, động cơ điện - dung tích gầu: | L39: =+V39 -> 0 | M39: =+W39 -> 0 | P39: =+N39+M39*$G$13 -> 0 | Q39: =SUMIF('8.Dgia'!E:E,'9.may'!E39,'8.Dgia'!P:P) -> 0 | R39: =N39*Q39 -> 0 | S39: =L39*($G$13-1) -> 0 | T39: =S39+N39+M39 -> 0 | Y39: =W39-T39 -> 0 | Z39: =W39-M39 -> 0 | AC39: =+P39*Q39 -> 0
B40: =IF(A40<>0,COUNTA(A$19:$A40),"") | C40: 2,50 m3 | H40: 672 | K40: 1 | L40: =+V40 -> 125981 | M40: =+W40 -> 2180218 | N40: =SUMPRODUCT(G40:J40,$G$12:$J$12,$G$9:$J$9) -> 427828.8 | P40: =+N40+M40*$G$13 -> 3240310 | Q40: =SUMIF('8.Dgia'!E:E,'9.may'!E40,'8.Dgia'!P:P) -> 0 | R40: =N40*Q40 -> 0 | S40: =L40*($G$13-1) -> 36534.49 | T40: =S40+N40+M40 -> 2644581.3 | U40: 643541 | V40: 125981 | W40: 2180218 | Y40: =W40-T40 -> -464363.29 | Z40: =W40-M40 -> 0 | AC40: =+P40*Q40 -> 0
B41: =IF(A41<>0,COUNTA(A$19:$A41),"") | C41: 4,00 m3 | H41: 924 | K41: 1 | L41: =+V41 -> 125981 | M41: =+W41 -> 2941696 | N41: =SUMPRODUCT(G41:J41,$G$12:$J$12,$G$9:$J$9) -> 588264.6 | P41: =+N41+M41*$G$13 -> 4383052.4 | Q41: =SUMIF('8.Dgia'!E:E,'9.may'!E41,'8.Dgia'!P:P) -> 0 | R41: =N41*Q41 -> 0 | S41: =L41*($G$13-1) -> 36534.49 | T41: =S41+N41+M41 -> 3566495.1 | U41: 884869 | V41: 125981 | W41: 2941696 | Y41: =W41-T41 -> -624799.09 | Z41: =W41-M41 -> 0 | AC41: =+P41*Q41 -> 0
B42: =IF(A42<>0,COUNTA(A$19:$A42),"") | C42: 4,60 m3 | H42: 1050 | K42: 1 | L42: =+V42 -> 125981 | M42: =+W42 -> 3827050 | N42: =SUMPRODUCT(G42:J42,$G$12:$J$12,$G$9:$J$9) -> 668482.5 | P42: =+N42+M42*$G$13 -> 5605377 | Q42: =SUMIF('8.Dgia'!E:E,'9.may'!E42,'8.Dgia'!P:P) -> 0 | R42: =N42*Q42 -> 0 | S42: =L42*($G$13-1) -> 36534.49 | T42: =S42+N42+M42 -> 4532067 | U42: 1005533 | V42: 125981 | W42: 3827050 | Y42: =W42-T42 -> -705016.99 | Z42: =W42-M42 -> 0 | AC42: =+P42*Q42 -> 0
...

Sheet 16.NC
A1: DỰ ÁN ĐẦU TƯ XÂY DỰNG CẦU LONG BÌNH – CHREY THOM
A2: NỐI HAI TỈNH AN GIANG (VIỆT NAM) VÀ TỈNH KANDAL (CAMPUCHIA)
A3: BẢNG ĐƠN GIÁ NHÂN CÔNG/ KỸ SƯ
A4: COST OF LABOUR
B7: TT | C7: BẬC LƯƠNG | D7: ĐƠN VỊ | E7: Lương tối thiểu | F7: Lương tối thiểu | I7: GHI CHÚ
B8: No. | C8: Type of labour | D8: Unit | E8: 350,000 đ/tháng | F8: 1,400,000 đ/tháng | I8: Notes
E9: Minimum of salary is 350,000 VND/month | F9: Minimum of salary is 1,400,000 VND/month
B11: 1 | C11: B - Nhân công 2.5/7 | D11: công/labour | E11: 36531 | F11: =NC!L33 -> 173203 | G11: =NC!M33 -> 183913 | H11: =NC!N33 -> 202038
