Workbook
Name Tensheet: 'Tong hop'!$L$2:$L$9

Sheet Tong hop
L1: Tensheet
L2: ='1'!A2 -> 1
L3: ='2'!A2 -> 1
B4: Mã hiệu | C4: Đơn vị | D4: Sheet 1 | E4: Sheet 2 | F4: Sheet 3 | G4: Sheet 4 | H4: Tổng Khối lượng | L4: ='3'!A2 -> 1
B5: SATTRON<15 | C5: tấn | D5: =SUMIF(INDIRECT("'" & INDIRECT(ADDRESS(2+COLUMN(D1)-4,COLUMN($L$1))) & "'!c4:c5000"),$B5,INDIRECT("'" & INDIRECT(ADDRESS(2+COLUMN(D1)-4,COLUMN($L$1))) &"'!g4:g5000")) -> 1200.2333 | E5: =SUMIF(INDIRECT("'" & INDIRECT(ADDRESS(2+COLUMN(E1)-4,COLUMN($L$1))) & "'!c4:c5000"),$B5,INDIRECT("'" & INDIRECT(ADDRESS(2+COLUMN(E1)-4,COLUMN($L$1))) &"'!g4:g5000")) -> 1200.2333 | F5: =SUMIF(INDIRECT("'" & INDIRECT(ADDRESS(2+COLUMN(F1)-4,COLUMN($L$1))) & "'!c4:c5000"),$B5,INDIRECT("'" & INDIRECT(ADDRESS(2+COLUMN(F1)-4,COLUMN($L$1))) &"'!g4:g5000")) -> 1200.2333 | G5: =SUMIF(INDIRECT("'" & INDIRECT(ADDRESS(2+COLUMN(G1)-4,COLUMN($L$1))) & "'!c4:c5000"),$B5,INDIRECT("'" & INDIRECT(ADDRESS(2+COLUMN(G1)-4,COLUMN($L$1))) &"'!g4:g5000")) -> 1200.2333 | H5: =SUM(D5:G5) -> 4800.9334 | L5: ='4'!A2 -> 1
B6: SATTRON<5 | C6: tấn | D6: =SUMIF(INDIRECT("'" & INDIRECT(ADDRESS(2+COLUMN(D2)-4,COLUMN($L$1))) & "'!c4:c5000"),$B6,INDIRECT("'" & INDIRECT(ADDRESS(2+COLUMN(D2)-4,COLUMN($L$1))) &"'!g4:g5000")) -> 187.5071 | E6: =SUMIF(INDIRECT("'" & INDIRECT(ADDRESS(2+COLUMN(E2)-4,COLUMN($L$1))) & "'!c4:c5000"),$B6,INDIRECT("'" & INDIRECT(ADDRESS(2+COLUMN(E2)-4,COLUMN($L$1))) &"'!g4:g5000")) -> 187.5071 | F6: =SUMIF(INDIRECT("'" & INDIRECT(ADDRESS(2+COLUMN(F2)-4,COLUMN($L$1))) & "'!c4:c5000"),$B6,INDIRECT("'" & INDIRECT(ADDRESS(2+COLUMN(F2)-4,COLUMN($L$1))) &"'!g4:g5000")) -> 187.5071 | G6: =SUMIF(INDIRECT("'" & INDIRECT(ADDRESS(2+COLUMN(G2)-4,COLUMN($L$1))) & "'!c4:c5000"),$B6,INDIRECT("'" & INDIRECT(ADDRESS(2+COLUMN(G2)-4,COLUMN($L$1))) &"'!g4:g5000")) -> 187.5071 | H6: =SUMPRODUCT(SUMIF(INDIRECT("'" & $L$2:$L$5 & "'!c4:c5000"),$B6,INDIRECT("'" & $L$2:$L$5 &"'!g4:g5000"))) -> 750.02842
B7: CFALTBT<5 | D7: =SUMIF(INDIRECT("'" & INDIRECT(ADDRESS(2+COLUMN(D3)-4,COLUMN($L$1))) & "'!c4:c5000"),$B7,INDIRECT("'" & INDIRECT(ADDRESS(2+COLUMN(D3)-4,COLUMN($L$1))) &"'!g4:g5000")) -> 879.408 | E7: =SUMIF(INDIRECT("'" & INDIRECT(ADDRESS(2+COLUMN(E3)-4,COLUMN($L$1))) & "'!c4:c5000"),$B7,INDIRECT("'" & INDIRECT(ADDRESS(2+COLUMN(E3)-4,COLUMN($L$1))) &"'!g4:g5000")) -> 879.408 | F7: =SUMIF(INDIRECT("'" & INDIRECT(ADDRESS(2+COLUMN(F3)-4,COLUMN($L$1))) & "'!c4:c5000"),$B7,INDIRECT("'" & INDIRECT(ADDRESS(2+COLUMN(F3)-4,COLUMN($L$1))) &"'!g4:g5000")) -> 879.408 | G7: =SUMIF(INDIRECT("'" & INDIRECT(ADDRESS(2+COLUMN(G3)-4,COLUMN($L$1))) & "'!c4:c5000"),$B7,INDIRECT("'" & INDIRECT(ADDRESS(2+COLUMN(G3)-4,COLUMN($L$1))) &"'!g4:g5000")) -> 879.408 | H7: =SUM(D7:G7) -> 3517.632
B17: Giả sử công trình có 4 hạng mục là các sheet 1, 2, 3,4
B18: Cần tổng hợp khối lượng các công tác ( có gắn mã cho các công tác ở cột C trong mỗi sheet) của tất cả các hạng mục.
B19: Có công thức hoặc cách nào dó để tính tổng khối lượng từng công tác ( theo mã) cho tất cả các sheet mà không phải dùng sumif qua nhiều sheet rồi công lại như cách làm ở trên không?
B20: Mong mọi người giúp đỡ!
B21: Ở các sheet con, tại ô A1 và ô A2, sau khi dùng hàm cell xong thì copy và dán chết lại để bên sheet tổng hợp không bị nhảy sheet

Sheet 1
A1: =CELL("filename") -> F:\[guilai.xlsx]1
A2: =RIGHT(A1,LEN(A1)-FIND("]",A1)) -> 1 | B2: TT 次序 | D2: LIỆT KÊ CÔNG TÁC 工作描述 | F2: ĐVT 單位 | G2: KHỐI LƯỢNG 數量 | H2: ĐƠN GIÁ 單價 | I2: THÀNH TIỀN 金額 | J2: TỔNG CỘNG 合計 | K2: GHI CHÚ 備註
C3: MH
A4: =IF(C4='Tong hop'!$B$6,1,0) -> 0
A5: =IF(C5='Tong hop'!$B$6,1,0) -> 0
A6: =IF(C6='Tong hop'!$B$6,1,0) -> 0
A7: =IF(C7='Tong hop'!$B$6,1,0) -> 0
A8: =IF(C8='Tong hop'!$B$6,1,0) -> 0
A9: =IF(C9='Tong hop'!$B$6,1,0) -> 0
A10: =IF(C10='Tong hop'!$B$6,1,0) -> 0
A11: =IF(C11='Tong hop'!$B$6,1,0) -> 0
A12: =IF(C12='Tong hop'!$B$6,1,0) -> 0
A13: =IF(C13='Tong hop'!$B$6,1,0) -> 0
A14: =IF(C14='Tong hop'!$B$6,1,0) -> 0
A15: =IF(C15='Tong hop'!$B$6,1,0) -> 0
A16: =IF(C16='Tong hop'!$B$6,1,0) -> 0
A17: =IF(C17='Tong hop'!$B$6,1,0) -> 0 | B17: I | D17: THI CÔNG CỌC | E17: 基樁工作 | J17: =SUM(I17:I95) -> 0
A18: =IF(C18='Tong hop'!$B$6,1,0) -> 0 | B18: 1 | D18: Thử cọc SPT D400, mác 80mpa, L=18m | E18: L=18m試樁SPT D400 | F18: cọc | G18: 6
A19: =IF(C19='Tong hop'!$B$6,1,0) -> 0 | E19: ép thử
A20: =IF(C20='Tong hop'!$B$6,1,0) -> 0 | E20: thử tĩnh
A21: =IF(C21='Tong hop'!$B$6,1,0) -> 0
A22: =IF(C22='Tong hop'!$B$6,1,0) -> 0
A23: =IF(C23='Tong hop'!$B$6,1,0) -> 0 | B23: 2 | D23: Sản xuất và vận chuyển cọc D400/220, mác 80mpa, L=18m từ nơi sản xuất đến chân công trình | E23: 生產和運樁D400/220從產地到工地 | F23: m | G23: 10836
A24: =IF(C24='Tong hop'!$B$6,1,0) -> 0 | D24: =D320 -> F1 | E24: =E320 -> 2000x3200x1200 | F24: =F320 -> 0
A25: =IF(C25='Tong hop'!$B$6,1,0) -> 0 | D25: =D321 -> F1A | E25: =E321 -> 2020x3220x1200 | F25: =F321 -> 0
A26: =IF(C26='Tong hop'!$B$6,1,0) -> 0 | D26: =D322 -> F1B | E26: =E322 -> 2000x3200x1200 | F26: =F322 -> 0
A27: =IF(C27='Tong hop'!$B$6,1,0) -> 0 | D27: =D323 -> F2 | E27: =E323 -> 2600x2600x1200 | F27: =F323 -> 0
A28: =IF(C28='Tong hop'!$B$6,1,0) -> 0 | D28: =D324 -> F2a | E28: =E324 -> 2800x2600x1200 | F28: =F324 -> 0
A29: =IF(C29='Tong hop'!$B$6,1,0) -> 0 | D29: =D325 -> F2b | E29: =E325 -> 2620x2600x1200 | F29: =F325 -> 0
A30: =IF(C30='Tong hop'!$B$6,1,0) -> 0 | D30: =D326 -> F3 | E30: =E326 -> 2000x2000x1000 | F30: =F326 -> 0
A31: =IF(C31='Tong hop'!$B$6,1,0) -> 0 | D31: =D327 -> F3a | E31: =E327 -> 2000x2000x1000 | F31: =F327 -> 0
A32: =IF(C32='Tong hop'!$B$6,1,0) -> 0 | D32: =D328 -> F4 | E32: =E328 -> 2600x2600x1200 | F32: =F328 -> 0
A33: =IF(C33='Tong hop'!$B$6,1,0) -> 0 | D33: =D329 -> F5 | E33: =E329 -> 2000x2000x1200 | F33: =F329 -> 0
A34: =IF(C34='Tong hop'!$B$6,1,0) -> 0 | D34: =D330 -> F6 | E34: =E330 -> 1000x2000x1000 | F34: =F330 -> 0
A35: =IF(C35='Tong hop'!$B$6,1,0) -> 0 | D35: =D331 -> F6a | E35: =E331 -> 2020x1000x1000 | F35: =F331 -> 0
... A40: =IF(C40='Tong hop'!$B$6,1,0) -> 0 | D40: =D336 -> Fd | E40: =E336 -> 1200x1200x600 | F40: =F336 -> 0
A41: =IF(C41='Tong hop'!$B$6,1,0) -> 0
A42: =IF(C42='Tong hop'!$B$6,1,0) -> 0
A43: =IF(C43='Tong hop'!$B$6,1,0) -> 0 | B43: 3 | D43: Sản xuất và vận chuyển cọc D350/210, mác 80mpa, L=18m từ nơi sản xuất đến chân công trình | E43: 生產和運樁D350/210從產地到工地 | F43: m | G43: 324
A44: =IF(C44='Tong hop'!$B$6,1,0) -> 0 | D44: =D36 -> F8 | E44: =E36 -> 700x700x1000 | F44: =F36 -> 0
...

Sheet 2
A1: =CELL("filename") -> F:\[guilai.xlsx]1
A2: =RIGHT(A1,LEN(A1)-FIND("]",A1)) -> 1 | B2: TT 次序 | D2: LIỆT KÊ CÔNG TÁC 工作描述 | F2: ĐVT 單位 | G2: KHỐI LƯỢNG 數量 | H2: ĐƠN GIÁ 單價 | I2: THÀNH TIỀN 金額 | J2: TỔNG CỘNG 合計 | K2: GHI CHÚ 備註
A3: =IF(C3='Tong hop'!$B$6,1,0) -> 0
A4: =IF(C4='Tong hop'!$B$6,1,0) -> 0
A5: =IF(C5='Tong hop'!$B$6,1,0) -> 0
A6: =IF(C6='Tong hop'!$B$6,1,0) -> 0
A7: =IF(C7='Tong hop'!$B$6,1,0) -> 0
A8: =IF(C8='Tong hop'!$B$6,1,0) -> 0
A9: =IF(C9='Tong hop'!$B$6,1,0) -> 0
A10: =IF(C10='Tong hop'!$B$6,1,0) -> 0
A11: =IF(C11='Tong hop'!$B$6,1,0) -> 0
A12: =IF(C12='Tong hop'!$B$6,1,0) -> 0
A13: =IF(C13='Tong hop'!$B$6,1,0) -> 0
A14: =IF(C14='Tong hop'!$B$6,1,0) -> 0
A15: =IF(C15='Tong hop'!$B$6,1,0) -> 0
A16: =IF(C16='Tong hop'!$B$6,1,0) -> 0 | B16: I | D16: CHUẨN BỊ & TRẮC ĐẠC | E16: 準備和測量 | J16: =SUM(I16:I17) -> 0
A17: =IF(C17='Tong hop'!$B$6,1,0) -> 0
A18: =IF(C18='Tong hop'!$B$6,1,0) -> 0
A19: =IF(C19='Tong hop'!$B$6,1,0) -> 0 | B19: II | D19: THI CÔNG CỌC | E19: 基樁工作 | J19: =SUM(I22:I27) -> 0 | L19: =J19/#REF! -> #REF!
A20: =IF(C20='Tong hop'!$B$6,1,0) -> 0
A21: =IF(C21='Tong hop'!$B$6,1,0) -> 0 | B21: I | D21: PILING WORKS CÔNG TÁC CỌC
A22: =IF(C22='Tong hop'!$B$6,1,0) -> 0 | B22: 1 | D22: Press test pile D350 Ép Cọc thử D350 | E22: Ea | G22: 1
A23: =IF(C23='Tong hop'!$B$6,1,0) -> 0 | B23: 2 | D23: Statistic load test Pmax Thử tải tĩnh cọc | E23: Ea | G23: 1 | K23: Đã bao gồm / 已包含
A24: =IF(C24='Tong hop'!$B$6,1,0) -> 0 | B24: 3 | D24: Sản xuất và vận chuyển cọc BTCT D350/ | E24: m | G24: 1062
A25: =IF(C25='Tong hop'!$B$6,1,0) -> 0
A26: =IF(C26='Tong hop'!$B$6,1,0) -> 0 | B26: 3a | D26: Thi công cọc BTCT D350 | E26: m | G26: 1062
A27: =IF(C27='Tong hop'!$B$6,1,0) -> 0 | B27: 4 | D27: Cutting & starter bar Đập đầu cọc & neo thép chờ | E27: Ea | G27: 60
A28: =IF(C28='Tong hop'!$B$6,1,0) -> 0 | C28: Đập cọc<300x300 | G28: 1
A29: =IF(C29='Tong hop'!$B$6,1,0) -> 0 | C29: Cắt cọc D350 | G29: 1
A30: =IF(C30='Tong hop'!$B$6,1,0) -> 0
A31: =IF(C31='Tong hop'!$B$6,1,0) -> 0 | B31: III | D31: LÀM MÓNG | E31: 基礎工作 | J31: =SUM(I31:I408) -> 0
A32: =IF(C32='Tong hop'!$B$6,1,0) -> 0
A33: =IF(C33='Tong hop'!$B$6,1,0) -> 0 | B33: III.1 | D33: Công tác đất | E33: 土地工作
A34: =IF(C34='Tong hop'!$B$6,1,0) -> 0
A35: =IF(C35='Tong hop'!$B$6,1,0) -> 0 | D35: Thi công móng | E35: 基礎施工
A36: =IF(C36='Tong hop'!$B$6,1,0) -> 0 | B36: 1 | C36: ĐÀO ĐC | D36: Đào đất móng | E36: 基礎開挖 | F36: m3 | G36: 251.01577
A37: =IF(C37='Tong hop'!$B$6,1,0) -> 0 | D37: =D110 -> F7-C11 | E37: =E110 -> 750x1750
A38: =IF(C38='Tong hop'!$B$6,1,0) -> 0 | D38: =D111 -> F7-C13 | E38: =E111 -> 750x1750
A39: =IF(C39='Tong hop'!$B$6,1,0) -> 0 | D39: =D112 -> F7-C12 | E39: =E112 -> 750x1750
A40: =IF(C40='Tong hop'!$B$6,1,0) -> 0 | D40: =D113 -> Fa | E40: =E113 -> 700x700
...

Sheet 3
A1: =CELL("filename") -> F:\[guilai.xlsx]1
A2: =RIGHT(A1,LEN(A1)-FIND("]",A1)) -> 1 | B2: TT 次序 | D2: LIỆT KÊ CÔNG TÁC 工作描述 | F2: ĐVT 單位 | G2: KHỐI LƯỢNG 數量 | H2: ĐƠN GIÁ 單價 | I2: THÀNH TIỀN 金額 | J2: TỔNG CỘNG 合計 | K2: GHI CHÚ 備註
A4: =IF(C4='Tong hop'!$B$6,1,0) -> 0 | B4: I | D4: THI CÔNG CỌC | E4: 基樁工作 | J4: =SUM(I5:I20) -> 0
A5: =IF(C5='Tong hop'!$B$6,1,0) -> 0 | B5: 1 | D5: Thử cọc D350, mác 80mpa, L=18m | E5: 試樁 D350 | F5: point | G5: 2 | I5: =H5*G5 -> 0
A6: =IF(C6='Tong hop'!$B$6,1,0) -> 0 | E6: Ép cọc
A7: =IF(C7='Tong hop'!$B$6,1,0) -> 0 | E7: Thử tĩnh
A8: =IF(C8='Tong hop'!$B$6,1,0) -> 0 | B8: =B5+1 -> 2 | D8: Sản xuất và vận chuyển cọc D350/210, mác 80mpa, L=18m từ nơi sản xuất đến chân công trình | E8: 生產和運樁D350/220從產地到工地 | F8: m | G8: 2160 | I8: =H8*G8 -> 0
A9: =IF(C9='Tong hop'!$B$6,1,0) -> 0 | D9: =D114 -> F3 (1850x1850x1000)
A10: =IF(C10='Tong hop'!$B$6,1,0) -> 0 | D10: =D118 -> F1 (1850x900x1000)
A11: =IF(C11='Tong hop'!$B$6,1,0) -> 0 | D11: =D119 -> F2 (1850x900x1000)
A12: =IF(C12='Tong hop'!$B$6,1,0) -> 0 | D12: =D124 -> F4 (800x800x1000)
A13: =IF(C13='Tong hop'!$B$6,1,0) -> 0 | D13: =D128 -> RD (800x800x1000)
A14: =IF(C14='Tong hop'!$B$6,1,0) -> 0
A15: =IF(C15='Tong hop'!$B$6,1,0) -> 0 | B15: =B8+1 -> 3 | D15: Thi công cọc D350, L=18m | E15: 施工樁D350 | F15: m | G15: 2124 | I15: =H15*G15 -> 0
A16: =IF(C16='Tong hop'!$B$6,1,0) -> 0 | B16: =B15+1 -> 4 | D16: Ép cọc âm Þ350 | E16: 壓樁Þ350 | F16: m | I16: =H16*G16 -> 0
A17: =IF(C17='Tong hop'!$B$6,1,0) -> 0 | B17: =B16+1 -> 5 | C17: Cắt cọc D350 | D17: Xử lý đầu cọc D350 | E17: 處理樁頭D350 | F17: pcs | G17: 120 | I17: =H17*G17 -> 0
A18: =IF(C18='Tong hop'!$B$6,1,0) -> 0 | B18: =B17+1 -> 6 | D18: Khoan dẫn cọc đại trà cọc Þ 350, L=8m | E18: 鑽大量樁Þ 350 | F18: m | G18: 960 | I18: =H18*G18 -> 0
A19: =IF(C19='Tong hop'!$B$6,1,0) -> 0 | B19: =B18+1 -> 7 | D19: Vận chuyển thiết bị | E19: 運設備 | F19: lot | G19: 1 | I19: =H19*G19 -> 0
A20: =IF(C20='Tong hop'!$B$6,1,0) -> 0
A21: =IF(C21='Tong hop'!$B$6,1,0) -> 0
A22: =IF(C22='Tong hop'!$B$6,1,0) -> 0 | B22: II | D22: LÀM MÓNG | E22: 基礎工作 | J22: =SUM(I22:I380) -> 0
A23: =IF(C23='Tong hop'!$B$6,1,0) -> 0
A24: =IF(C24='Tong hop'!$B$6,1,0) -> 0 | B24: II.1 | D24: Công tác đất | E24: 土地工作
A25: =IF(C25='Tong hop'!$B$6,1,0) -> 0 | B25: 1 | C25: ĐÀO ĐC | D25: Đào đất móng | E25: 基礎開挖 | F25: m3 | G25: 639.56035 | I25: =H25*G25 -> 0
A26: =IF(C26='Tong hop'!$B$6,1,0) -> 0 | D26: =D88 -> F3 (1850x1850x1000) | E26: =E88 -> F3-C6
A27: =IF(C27='Tong hop'!$B$6,1,0) -> 0 | E27: =E89 -> F3-C5
A28: =IF(C28='Tong hop'!$B$6,1,0) -> 0 | E28: =E90 -> F3-C7
A29: =IF(C29='Tong hop'!$B$6,1,0) -> 0 | E29: =E91 -> F3-C5
A30: =IF(C30='Tong hop'!$B$6,1,0) -> 0 | D30: =D92 -> F1 (1850x900x1000) | E30: =E92 -> F1-C1
A31: =IF(C31='Tong hop'!$B$6,1,0) -> 0 | D31: =D93 -> F2 (1850x900x1000) | E31: =E93 -> F2-C3
A32: =IF(C32='Tong hop'!$B$6,1,0) -> 0 | D32: =D94 -> 0 | E32: =E94 -> F2-C2
A33: =IF(C33='Tong hop'!$B$6,1,0) -> 0 | D33: =D95 -> 0 | E33: =E95 -> F2-C10
A34: =IF(C34='Tong hop'!$B$6,1,0) -> 0 | D34: =D96 -> 0 | E34: =E96 -> F2-C12
A35: =IF(C35='Tong hop'!$B$6,1,0) -> 0 | D35: =D97 -> 0 | E35: =E97 -> F2-C4
A36: =IF(C36='Tong hop'!$B$6,1,0) -> 0 | D36: =D98 -> F4 (800x800x1000) | E36: =E98 -> F4-C9
A37: =IF(C37='Tong hop'!$B$6,1,0) -> 0 | D37: =D99 -> 0 | E37: =E99 -> F4-C11
A38: =IF(C38='Tong hop'!$B$6,1,0) -> 0 | D38: =D100 -> 0 | E38: =E100 -> F4-C8
A39: =IF(C39='Tong hop'!$B$6,1,0) -> 0 | D39: =D101 -> 0 | E39: =E101 -> F4-C13
A40: =IF(C40='Tong hop'!$B$6,1,0) -> 0 | D40: =D102 -> RD (800x800x1000) | E40: =E102 -> RD-C14
A41: =IF(C41='Tong hop'!$B$6,1,0) -> 0 | D41: Đà kiềng
...

Sheet 4
A1: =CELL("filename") -> F:\[guilai.xlsx]1
A2: =RIGHT(A1,LEN(A1)-FIND("]",A1)) -> 1
A3: TT 次序 | D3: LIỆT KÊ CÔNG TÁC 工作描述 | F3: ĐVT 單位 | G3: KHỐI LƯỢNG 數量 | H3: ĐƠN GIÁ 單價 | I3: THÀNH TIỀN 金額 | J3: TỔNG CỘNG 合計 | K3: GHI CHÚ 備註
A5: =IF(C5='Tong hop'!$B$6,1,0) -> 0
A6: =IF(C6='Tong hop'!$B$6,1,0) -> 0
A7: =IF(C7='Tong hop'!$B$6,1,0) -> 0
A8: =IF(C8='Tong hop'!$B$6,1,0) -> 0
A9: =IF(C9='Tong hop'!$B$6,1,0) -> 0
A10: =IF(C10='Tong hop'!$B$6,1,0) -> 0
A11: =IF(C11='Tong hop'!$B$6,1,0) -> 0
A12: =IF(C12='Tong hop'!$B$6,1,0) -> 0
A13: =IF(C13='Tong hop'!$B$6,1,0) -> 0
A14: =IF(C14='Tong hop'!$B$6,1,0) -> 0
A15: =IF(C15='Tong hop'!$B$6,1,0) -> 0
A16: =IF(C16='Tong hop'!$B$6,1,0) -> 0
A17: =IF(C17='Tong hop'!$B$6,1,0) -> 0 | D17: CHUẨN BỊ & TRẮC ĐẠC | E17: 準備和測量 | J17: =SUM(I17:I18) -> 0
A18: =IF(C18='Tong hop'!$B$6,1,0) -> 0
A19: =IF(C19='Tong hop'!$B$6,1,0) -> 0
A20: =IF(C20='Tong hop'!$B$6,1,0) -> 0 | D20: THI CÔNG CỌC | E20: 基樁工作 | J20: =SUM(I20:I56) -> 0
A21: =IF(C21='Tong hop'!$B$6,1,0) -> 0 | D21: Thử cọc SPT D400, mác 80mpa, L=18m | E21: L=18m試樁SPT D400 | F21: cọc | G21: 2 | I21: =H21*G21 -> 0 | L21: =IF(X21<>0,MAX($A20:L$22)+1," ")
A22: =IF(C22='Tong hop'!$B$6,1,0) -> 0 | E22: ép thử | I22: =H22*G22 -> 0
A23: =IF(C23='Tong hop'!$B$6,1,0) -> 0 | E23: thử tĩnh | I23: =H23*G23 -> 0
A24: =IF(C24='Tong hop'!$B$6,1,0) -> 0 | I24: =H24*G24 -> 0
A25: =IF(C25='Tong hop'!$B$6,1,0) -> 0 | I25: =H25*G25 -> 0
A26: =IF(C26='Tong hop'!$B$6,1,0) -> 0 | D26: Sản xuất và vận chuyển cọc D400/220, mác 80mpa, L=18m từ nơi sản xuất đến chân công trình | E26: 生產和運樁D400/220從產地到工地 | F26: m | G26: 1206 | I26: =H26*G26 -> 0 | L26: =IF(X26<>0,MAX($A21:L$22)+1," ")
A27: =IF(C27='Tong hop'!$B$6,1,0) -> 0 | D27: =D210 -> F1 | E27: =E210 -> 2000x2000x1000 | F27: =F210 -> 0 | I27: =H27*G27 -> 0
A28: =IF(C28='Tong hop'!$B$6,1,0) -> 0 | D28: =D212 -> F2 | E28: =E212 -> 1000x2000x1000 | F28: =F212 -> 0 | I28: =H28*G28 -> 0
A29: =IF(C29='Tong hop'!$B$6,1,0) -> 0 | D29: =D213 -> F2A | E29: =E213 -> 1000x2150x1000 | F29: =F213 -> 0
A30: =IF(C30='Tong hop'!$B$6,1,0) -> 0 | D30: =D214 -> F2B | E30: =E214 -> 1000x2000x1000 | F30: =F214 -> 0 | I30: =H30*G30 -> 0
A31: =IF(C31='Tong hop'!$B$6,1,0) -> 0 | D31: =D215 -> F3 | E31: =E215 -> 1000x2000x1000 | F31: =F215 -> 0
A32: =IF(C32='Tong hop'!$B$6,1,0) -> 0 | D32: =D216 -> F3A | E32: =E216 -> 1000x2000x1000 | F32: =F216 -> 0 | I32: =H32*G32 -> 0
A33: =IF(C33='Tong hop'!$B$6,1,0) -> 0 | D33: =D217 -> F4 | E33: =E217 -> 700x700x700 | F33: =F217 -> 0
A34: =IF(C34='Tong hop'!$B$6,1,0) -> 0
A35: =IF(C35='Tong hop'!$B$6,1,0) -> 0 | D35: Thi công cọc D400, L=18m, | E35: 施工樁D400 | F35: m | G35: 1170 | I35: =H35*G35 -> 0
A36: =IF(C36='Tong hop'!$B$6,1,0) -> 0 | C36: Cắt cọc D400 | D36: Xử lý đầu cọc D400 | E36: 處理樁頭D400 | F36: pcs | G36: 67 | I36: =H36*G36 -> 0
A37: =IF(C37='Tong hop'!$B$6,1,0) -> 0 | D37: =D27 -> F1 | E37: =E27 -> 2000x2000x1000 | F37: =F27 -> 0 | I37: =H37*G37 -> 0
A38: =IF(C38='Tong hop'!$B$6,1,0) -> 0 | D38: =D28 -> F2 | E38: =E28 -> 1000x2000x1000 | F38: =F28 -> 0 | I38: =H38*G38 -> 0
A39: =IF(C39='Tong hop'!$B$6,1,0) -> 0 | D39: =D29 -> F2A | E39: =E29 -> 1000x2150x1000 | F39: =F29 -> 0 | I39: =H39*G39 -> 0
A40: =IF(C40='Tong hop'!$B$6,1,0) -> 0 | D40: =D30 -> F2B | E40: =E30 -> 1000x2000x1000 | F40: =F30 -> 0 | I40: =H40*G40 -> 0
A41: =IF(C41='Tong hop'!$B$6,1,0) -> 0 | D41: =D31 -> F3 | E41: =E31 -> 1000x2000x1000 | F41: =F31 -> 0 | I41: =H41*G41 -> 0
...
