Workbook
Name Tensheet: 'Tong hop'!$L$2:$L$9

Sheet Tong hop
L1: Tensheet
L2: ='1'!A2 -> 1
L3: ='2'!A2 -> 1
B4: Mã hiệu | C4: Đơn vị | D4: Sheet 1 | E4: Sheet 2 | F4: Sheet 3 | G4: Sheet 4 | H4: Tổng Khối lượng | L4: ='3'!A2 -> 1
B5: SATTRON<15 | C5: tấn | D5: =SUMIF(INDIRECT("'" & INDIRECT(ADDRESS(2+COLUMN(D1)-4,COLUMN($L$1))) & "'!c4:c5000"),$B5,INDIRECT("'" & INDIRECT(ADDRESS(2+COLUMN(D1)-4,COLUMN($L$1))) &"'!g4:g5000")) -> 1200.2333 | E5: =SUMIF(INDIRECT("'" & INDIRECT(ADDRESS(2+COLUMN(E1)-4,COLUMN($L$1))) & "'!c4:c5000"),$B5,INDIRECT("'" & INDIRECT(ADDRESS(2+COLUMN(E1)-4,COLUMN($L$1))) &"'!g4:g5000")) -> 1200.2333 | F5: =SUMIF(INDIRECT("'" & INDIRECT(ADDRESS(2+COLUMN(F1)-4,COLUMN($L$1))) & "'!c4:c5000"),$B5,INDIRECT("'" & INDIRECT(ADDRESS(2+COLUMN(F1)-4,COLUMN($L$1))) &"'!g4:g5000")) -> 1200.2333 | G5: =SUMIF(INDIRECT("'" & INDIRECT(ADDRESS(2+COLUMN(G1)-4,COLUMN($L$1))) & "'!c4:c5000"),$B5,INDIRECT("'" & INDIRECT(ADDRESS(2+COLUMN(G1)-4,COLUMN($L$1))) &"'!g4:g5000")) -> 1200.2333 | H5: =SUM(D5:G5) -> 4800.9334 | L5: ='4'!A2 -> 1
B6: SATTRON<5 | C6: tấn | D6: =SUMIF(INDIRECT("'" & INDIRECT(ADDRESS(2+COLUMN(D2)-4,COLUMN($L$1))) & "'!c4:c5000"),$B6,INDIRECT("'" & INDIRECT(ADDRESS(2+COLUMN(D2)-4,COLUMN($L$1))) &"'!g4:g5000")) -> 187.5071 | E6: =SUMIF(INDIRECT("'" & INDIRECT(ADDRESS(2+COLUMN(E2)-4,COLUMN($L$1))) & "'!c4:c5000"),$B6,INDIRECT("'" & INDIRECT(ADDRESS(2+COLUMN(E2)-4,COLUMN($L$1))) &"'!g4:g5000")) -> 187.5071 | F6: =SUMIF(INDIRECT("'" & INDIRECT(ADDRESS(2+COLUMN(F2)-4,COLUMN($L$1))) & "'!c4:c5000"),$B6,INDIRECT("'" & INDIRECT(ADDRESS(2+COLUMN(F2)-4,COLUMN($L$1))) &"'!g4:g5000")) -> 187.5071 | G6: =SUMIF(INDIRECT("'" & INDIRECT(ADDRESS(2+COLUMN(G2)-4,COLUMN($L$1))) & "'!c4:c5000"),$B6,INDIRECT("'" & INDIRECT(ADDRESS(2+COLUMN(G2)-4,COLUMN($L$1))) &"'!g4:g5000")) -> 187.5071 | H6: =SUMPRODUCT(SUMIF(INDIRECT("'" & $L$2:$L$5 & "'!c4:c5000"),$B6,INDIRECT("'" & $L$2:$L$5 &"'!g4:g5000"))) -> 750.02842
B7: CFALTBT<5 | D7: =SUMIF(INDIRECT("'" & INDIRECT(ADDRESS(2+COLUMN(D3)-4,COLUMN($L$1))) & "'!c4:c5000"),$B7,INDIRECT("'" & INDIRECT(ADDRESS(2+COLUMN(D3)-4,COLUMN($L$1))) &"'!g4:g5000")) -> 879.408 | E7: =SUMIF(INDIRECT("'" & INDIRECT(ADDRESS(2+COLUMN(E3)-4,COLUMN($L$1))) & "'!c4:c5000"),$B7,INDIRECT("'" & INDIRECT(ADDRESS(2+COLUMN(E3)-4,COLUMN($L$1))) &"'!g4:g5000")) -> 879.408 | F7: =SUMIF(INDIRECT("'" & INDIRECT(ADDRESS(2+COLUMN(F3)-4,COLUMN($L$1))) & "'!c4:c5000"),$B7,INDIRECT("'" & INDIRECT(ADDRESS(2+COLUMN(F3)-4,COLUMN($L$1))) &"'!g4:g5000")) -> 879.408 | G7: =SUMIF(INDIRECT("'" & INDIRECT(ADDRESS(2+COLUMN(G3)-4,COLUMN($L$1))) & "'!c4:c5000"),$B7,INDIRECT("'" & INDIRECT(ADDRESS(2+COLUMN(G3)-4,COLUMN($L$1))) &"'!g4:g5000")) -> 879.408 | H7: =SUM(D7:G7) -> 3517.632
B17: Giả sử công trình có 4 hạng mục là các sheet 1, 2, 3,4
B18: Cần tổng hợp khối lượng các công tác ( có gắn mã cho các công tác ở cột C trong mỗi sheet) của tất cả các hạng mục.
B19: Có công thức hoặc cách nào dó để tính tổng khối lượng từng công tác ( theo mã) cho tất cả các sheet mà không phải dùng sumif qua nhiều sheet rồi công lại như cách làm ở trên không?
B20: Mong mọi người giúp đỡ!
B21: Ở các sheet con, tại ô A1 và ô A2, sau khi dùng hàm cell xong thì copy và dán chết lại để bên sheet tổng hợp không bị nhảy sheet

Sheet 1
A1: =CELL("filename") -> F:\[guilai.xlsx]1
A2: =RIGHT(A1,LEN(A1)-FIND("]",A1)) -> 1 | B2: TT 次序 | D2: LIỆT KÊ CÔNG TÁC 工作描述 | F2: ĐVT 單位 | G2: KHỐI LƯỢNG 數量 | H2: ĐƠN GIÁ 單價 | I2: THÀNH TIỀN 金額 | J2: TỔNG CỘNG 合計 | K2: GHI CHÚ 備註
C3: MH
A4: =IF(C4='Tong hop'!$B$6,1,0) -> 0
A5: =IF(C5='Tong hop'!$B$6,1,0) -> 0
A6: =IF(C6='Tong hop'!$B$6,1,0) -> 0
A7: =IF(C7='Tong hop'!$B$6,1,0) -> 0
A8: =IF(C8='Tong hop'!$B$6,1,0) -> 0
A9: =IF(C9='Tong hop'!$B$6,1,0) -> 0
A10: =IF(C10='Tong hop'!$B$6,1,0) -> 0
A11: =IF(C11='Tong hop'!$B$6,1,0) -> 0
A12: =IF(C12='Tong hop'!$B$6,1,0) -> 0
A13: =IF(C13='Tong hop'!$B$6,1,0) -> 0
A14: =IF(C14='Tong hop'!$B$6,1,0) -> 0
A15: =IF(C15='Tong hop'!$B$6,1,0) -> 0
A16: =IF(C16='Tong hop'!$B$6,1,0) -> 0
A17: =IF(C17='Tong hop'!$B$6,1,0) -> 0 | B17: I | D17: THI CÔNG CỌC | E17: 基樁工作 | J17: =SUM(I17:I95) -> 0
A18: =IF(C18='Tong hop'!$B$6,1,0) -> 0 | B18: 1 | D18: Thử cọc SPT D400, mác 80mpa, L=18m | E18: L=18m試樁SPT D400 | F18: cọc | G18: 6
A19: =IF(C19='Tong hop'!$B$6,1,0) -> 0 | E19: ép thử
A20: =IF(C20='Tong hop'!$B$6,1,0) -> 0 | E20: thử tĩnh
A21: =IF(C21='Tong hop'!$B$6,1,0) -> 0
A22: =IF(C22='Tong hop'!$B$6,1,0) -> 0
A23: =IF(C23='Tong hop'!$B$6,1,0) -> 0 | B23: 2 | D23: Sản xuất và vận chuyển cọc D400/220, mác 80mpa, L=18m từ nơi sản xuất đến chân công trình | E23: 生產和運樁D400/220從產地到工地 | F23: m | G23: 10836
A24: =IF(C24='Tong hop'!$B$6,1,0) -> 0 | D24: =D320 -> F1 | E24: =E320 -> 2000x3200x1200 | F24: =F320 -> 0
A25: =IF(C25='Tong hop'!$B$6,1,0) -> 0 | D25: =D321 -> F1A | E25: =E321 -> 2020x3220x1200 | F25: =F321 -> 0
A26: =IF(C26='Tong hop'!$B$6,1,0) -> 0 | D26: =D322 -> F1B | E26: =E322 -> 2000x3200x1200 | F26: =F322 -> 0
A27: =IF(C27='Tong hop'!$B$6,1,0) -> 0 | D27: =D323 -> F2 | E27: =E323 -> 2600x2600x1200 | F27: =F323 -> 0
A28: =IF(C28='Tong hop'!$B$6,1,0) -> 0 | D28: =D324 -> F2a | E28: =E324 -> 2800x2600x1200 | F28: =F324 -> 0
A29: =IF(C29='Tong hop'!$B$6,1,0) -> 0 | D29: =D325 -> F2b | E29: =E325 -> 2620x2600x1200 | F29: =F325 -> 0
A30: =IF(C30='Tong hop'!$B$6,1,0) -> 0 | D30: =D326 -> F3 | E30: =E326 -> 2000x2000x1000 | F30: =F326 -> 0
A31: =IF(C31='Tong hop'!$B$6,1,0) -> 0 | D31: =D327 -> F3a | E31: =E327 -> 2000x2000x1000 | F31: =F327 -> 0
A32: =IF(C32='Tong hop'!$B$6,1,0) -> 0 | D32: =D328 -> F4 | E32: =E328 -> 2600x2600x1200 | F32: =F328 -> 0
A33: =IF(C33='Tong hop'!$B$6,1,0) -> 0 | D33: =D329 -> F5 | E33: =E329 -> 2000x2000x1200 | F33: =F329 -> 0
A34: =IF(C34='Tong hop'!$B$6,1,0) -> 0 | D34: =D330 -> F6 | E34: =E330 -> 1000x2000x1000 | F34: =F330 -> 0
A35: =IF(C35='Tong hop'!$B$6,1,0) -> 0 | D35: =D331 -> F6a | E35: =E331 -> 2020x1000x1000 | F35: =F331 -> 0
... A40: =IF(C40='Tong hop'!$B$6,1,0) -> 0 | D40: =D336 -> Fd | E40: =E336 -> 1200x1200x600 | F40: =F336 -> 0
A41: =IF(C41='Tong hop'!$B$6,1,0) -> 0
A42: =IF(C42='Tong hop'!$B$6,1,0) -> 0
A43: =IF(C43='Tong hop'!$B$6,1,0) -> 0 | B43: 3 | D43: Sản xuất và vận chuyển cọc D350/210, mác 80mpa, L=18m từ nơi sản xuất đến chân công trình | E43: 生產和運樁D350/210從產地到工地 | F43: m | G43: 324
A44: =IF(C44='Tong hop'!$B$6,1,0) -> 0 | D44: =D36 -> F8 | E44: =E36 -> 700x700x1000 | F44: =F36 -> 0
A45: =IF(C45='Tong hop'!$B$6,1,0) -> 0 | D45: =D37 -> F8A | E45: =E37 -> 700x700x1000 | F45: =F37 -> 0
A46: =IF(C46='Tong hop'!$B$6,1,0) -> 0 | D46: =D38 -> Fc2 | E46: =E38 -> 700x700x700 | F46: =F38 -> 0
A47: =IF(C47='Tong hop'!$B$6,1,0) -> 0 | D47: =D39 -> Fc3 | E47: =E39 -> 700x700x700 | F47: =F39 -> 0
A48: =IF(C48='Tong hop'!$B$6,1,0) -> 0 | D48: =D40 -> Fd | E48: =E40 -> 1200x1200x600 | F48: =F40 -> 0
A49: =IF(C49='Tong hop'!$B$6,1,0) -> 0
A50: =IF(C50='Tong hop'!$B$6,1,0) -> 0
A51: =IF(C51='Tong hop'!$B$6,1,0) -> 0 | B51: 4 | D51: Thi công cọc D400, L=18m L=18m, | E51: 施工樁D400 | F51: m | G51: 10728
A52: =IF(C52='Tong hop'!$B$6,1,0) -> 0 | B52: 5 | D52: Thi công cọc D350, L=18m L=18m, | E52: 施工樁D350 | F52: m | G52: 324
A53: =IF(C53='Tong hop'!$B$6,1,0) -> 0 | B53: 6 | C53: Cắt cọc D400 | D53: Xử lý đầu cọc D400 | E53: 處理樁頭D400 | F53: cọc | G53: 602
A54: =IF(C54='Tong hop'!$B$6,1,0) -> 0 | D54: =D24 -> F1 | E54: =E24 -> 2000x3200x1200 | F54: =F24 -> 0
A55: =IF(C55='Tong hop'!$B$6,1,0) -> 0 | D55: =D25 -> F1A | E55: =E25 -> 2020x3220x1200 | F55: =F25 -> 0
A56: =IF(C56='Tong hop'!$B$6,1,0) -> 0 | D56: =D26 -> F1B | E56: =E26 -> 2000x3200x1200 | F56: =F26 -> 0
A57: =IF(C57='Tong hop'!$B$6,1,0) -> 0 | D57: =D27 -> F2 | E57: =E27 -> 2600x2600x1200 | F57: =F27 -> 0
A58: =IF(C58='Tong hop'!$B$6,1,0) -> 0 | D58: =D28 -> F2a | E58: =E28 -> 2800x2600x1200 | F58: =F28 -> 0
A59: =IF(C59='Tong hop'!$B$6,1,0) -> 0 | D59: =D29 -> F2b | E59: =E29 -> 2620x2600x1200 | F59: =F29 -> 0
A60: =IF(C60='Tong hop'!$B$6,1,0) -> 0 | D60: =D30 -> F3 | E60: =E30 -> 2000x2000x1000 | F60: =F30 -> 0
A61: =IF(C61='Tong hop'!$B$6,1,0) -> 0 | D61: =D31 -> F3a | E61: =E31 -> 2000x2000x1000 | F61: =F31 -> 0
A62: =IF(C62='Tong hop'!$B$6,1,0) -> 0 | D62: =D32 -> F4 | E62: =E32 -> 2600x2600x1200 | F62: =F32 -> 0
A63: =IF(C63='Tong hop'!$B$6,1,0) -> 0 | D63: =D33 -> F5 | E63: =E33 -> 2000x2000x1200 | F63: =F33 -> 0
A64: =IF(C64='Tong hop'!$B$6,1,0) -> 0 | D64: =D34 -> F6 | E64: =E34 -> 1000x2000x1000 | F64: =F34 -> 0
A65: =IF(C65='Tong hop'!$B$6,1,0) -> 0 | D65: =D35 -> F6a | E65: =E35 -> 2020x1000x1000 | F65: =F35 -> 0
A66: =IF(C66='Tong hop'!$B$6,1,0) -> 0
A67: =IF(C67='Tong hop'!$B$6,1,0) -> 0
A68: =IF(C68='Tong hop'!$B$6,1,0) -> 0 | E68: Chi tiết cắt 1 cọc
A69: =IF(C69='Tong hop'!$B$6,1,0) -> 0 | C69: BTMTP M300MĐ | E69: Bê tông mac 300 ,L=1.2m
A70: =IF(C70='Tong hop'!$B$6,1,0) -> 1 | C70: SATTRON<5 | E70: Thép tròn: 6d16
A71: =IF(C71='Tong hop'!$B$6,1,0) -> 1 | C71: SATTRON<5 | E71: thép đai
A72: =IF(C72='Tong hop'!$B$6,1,0) -> 0 | C72: THEP LMK | E72: thép tấm dày 2mm
A73: =IF(C73='Tong hop'!$B$6,1,0) -> 0 | E73: công cắt +vận chuyễn
A74: =IF(C74='Tong hop'!$B$6,1,0) -> 0
A75: =IF(C75='Tong hop'!$B$6,1,0) -> 0
A76: =IF(C76='Tong hop'!$B$6,1,0) -> 0 | B76: 7 | C76: Cắt cọc D350 | D76: Xử lý đầu cọc D350 | E76: 處理樁頭D350 | F76: cọc | G76: 18
A77: =IF(C77='Tong hop'!$B$6,1,0) -> 0 | D77: =D44 -> F8 | E77: =E44 -> 700x700x1000 | F77: =F44 -> 0
A78: =IF(C78='Tong hop'!$B$6,1,0) -> 0 | D78: =D45 -> F8A | E78: =E45 -> 700x700x1000 | F78: =F45 -> 0
A79: =IF(C79='Tong hop'!$B$6,1,0) -> 0 | D79: =D46 -> Fc2 | E79: =E46 -> 700x700x700 | F79: =F46 -> 0
A80: =IF(C80='Tong hop'!$B$6,1,0) -> 0 | D80: =D47 -> Fc3 | E80: =E47 -> 700x700x700 | F80: =F47 -> 0
A81: =IF(C81='Tong hop'!$B$6,1,0) -> 0 | D81: =D48 -> Fd | E81: =E48 -> 1200x1200x600 | F81: =F48 -> 0
A82: =IF(C82='Tong hop'!$B$6,1,0) -> 0
A83: =IF(C83='Tong hop'!$B$6,1,0) -> 0
A84: =IF(C84='Tong hop'!$B$6,1,0) -> 0 | E84: Chi tiết cắt 1 cọc
A85: =IF(C85='Tong hop'!$B$6,1,0) -> 0 | C85: BTMTP M300MĐ | E85: Bê tông mac 300 ,L=1.0m
A86: =IF(C86='Tong hop'!$B$6,1,0) -> 1 | C86: SATTRON<5 | E86: Thép tròn: 6d16
A87: =IF(C87='Tong hop'!$B$6,1,0) -> 1 | C87: SATTRON<5 | E87: thép đai
A88: =IF(C88='Tong hop'!$B$6,1,0) -> 0 | C88: THEP LMK | E88: thép tấm dày 2mm
A89: =IF(C89='Tong hop'!$B$6,1,0) -> 0 | E89: công cắt +vận chuyễn
A90: =IF(C90='Tong hop'!$B$6,1,0) -> 0
A91: =IF(C91='Tong hop'!$B$6,1,0) -> 0
A92: =IF(C92='Tong hop'!$B$6,1,0) -> 0 | B92: 8 | D92: Khoan dẫn cọc đại trà cọc Þ 400,D350, L=8m | E92: L=8m鑽大量樁Þ 400,Þ 350 | F92: m | G92: 4960
A93: =IF(C93='Tong hop'!$B$6,1,0) -> 0 | B93: 9 | D93: Vận chuyển thiết bị | E93: 運設備 | F93: lot | G93: 1
A94: =IF(C94='Tong hop'!$B$6,1,0) -> 0
A95: =IF(C95='Tong hop'!$B$6,1,0) -> 0
A96: =IF(C96='Tong hop'!$B$6,1,0) -> 0
A97: =IF(C97='Tong hop'!$B$6,1,0) -> 0 | B97: II | D97: LÀM MÓNG | E97: 基礎工作 | J97: =SUM(I97:I1161) -> 0
A98: =IF(C98='Tong hop'!$B$6,1,0) -> 0
A99: =IF(C99='Tong hop'!$B$6,1,0) -> 0 | B99: II.1 | D99: CÔNG TÁC ĐẤT | E99: 土地工作
A100: =IF(C100='Tong hop'!$B$6,1,0) -> 0
A101: =IF(C101='Tong hop'!$B$6,1,0) -> 0 | B101: 1 | C101: ĐÀO ĐC | D101: Đào đất hố móng, bằng máy đào | E101: 基礎開挖, 用挖土機 | F101: m3 | G101: 4502.1626
A102: =IF(C102='Tong hop'!$B$6,1,0) -> 0 | D102: =D249 -> F1 | E102: =E249 -> 2000x3200x1200
A103: =IF(C103='Tong hop'!$B$6,1,0) -> 0 | D103: =D250 -> F1A | E103: =E250 -> 2020x3220x1200
A104: =IF(C104='Tong hop'!$B$6,1,0) -> 0 | D104: =D251 -> F1B | E104: =E251 -> 2000x3200x1200
...

Sheet 2
A1: =CELL("filename") -> F:\[guilai.xlsx]1
A2: =RIGHT(A1,LEN(A1)-FIND("]",A1)) -> 1 | B2: TT 次序 | D2: LIỆT KÊ CÔNG TÁC 工作描述 | F2: ĐVT 單位 | G2: KHỐI LƯỢNG 數量 | H2: ĐƠN GIÁ 單價 | I2: THÀNH TIỀN 金額 | J2: TỔNG CỘNG 合計 | K2: GHI CHÚ 備註
A3: =IF(C3='Tong hop'!$B$6,1,0) -> 0
A4: =IF(C4='Tong hop'!$B$6,1,0) -> 0
A5: =IF(C5='Tong hop'!$B$6,1,0) -> 0
A6: =IF(C6='Tong hop'!$B$6,1,0) -> 0
A7: =IF(C7='Tong hop'!$B$6,1,0) -> 0
A8: =IF(C8='Tong hop'!$B$6,1,0) -> 0
A9: =IF(C9='Tong hop'!$B$6,1,0) -> 0
A10: =IF(C10='Tong hop'!$B$6,1,0) -> 0
A11: =IF(C11='Tong hop'!$B$6,1,0) -> 0
A12: =IF(C12='Tong hop'!$B$6,1,0) -> 0
A13: =IF(C13='Tong hop'!$B$6,1,0) -> 0
A14: =IF(C14='Tong hop'!$B$6,1,0) -> 0
A15: =IF(C15='Tong hop'!$B$6,1,0) -> 0
A16: =IF(C16='Tong hop'!$B$6,1,0) -> 0 | B16: I | D16: CHUẨN BỊ & TRẮC ĐẠC | E16: 準備和測量 | J16: =SUM(I16:I17) -> 0
A17: =IF(C17='Tong hop'!$B$6,1,0) -> 0
A18: =IF(C18='Tong hop'!$B$6,1,0) -> 0
A19: =IF(C19='Tong hop'!$B$6,1,0) -> 0 | B19: II | D19: THI CÔNG CỌC | E19: 基樁工作 | J19: =SUM(I22:I27) -> 0 | L19: =J19/#REF! -> #REF!
A20: =IF(C20='Tong hop'!$B$6,1,0) -> 0
A21: =IF(C21='Tong hop'!$B$6,1,0) -> 0 | B21: I | D21: PILING WORKS CÔNG TÁC CỌC
A22: =IF(C22='Tong hop'!$B$6,1,0) -> 0 | B22: 1 | D22: Press test pile D350 Ép Cọc thử D350 | E22: Ea | G22: 1
A23: =IF(C23='Tong hop'!$B$6,1,0) -> 0 | B23: 2 | D23: Statistic load test Pmax Thử tải tĩnh cọc | E23: Ea | G23: 1 | K23: Đã bao gồm / 已包含
A24: =IF(C24='Tong hop'!$B$6,1,0) -> 0 | B24: 3 | D24: Sản xuất và vận chuyển cọc BTCT D350/ | E24: m | G24: 1062
A25: =IF(C25='Tong hop'!$B$6,1,0) -> 0
A26: =IF(C26='Tong hop'!$B$6,1,0) -> 0 | B26: 3a | D26: Thi công cọc BTCT D350 | E26: m | G26: 1062
A27: =IF(C27='Tong hop'!$B$6,1,0) -> 0 | B27: 4 | D27: Cutting & starter bar Đập đầu cọc & neo thép chờ | E27: Ea | G27: 60
A28: =IF(C28='Tong hop'!$B$6,1,0) -> 0 | C28: Đập cọc<300x300 | G28: 1
A29: =IF(C29='Tong hop'!$B$6,1,0) -> 0 | C29: Cắt cọc D350 | G29: 1
A30: =IF(C30='Tong hop'!$B$6,1,0) -> 0
A31: =IF(C31='Tong hop'!$B$6,1,0) -> 0 | B31: III | D31: LÀM MÓNG | E31: 基礎工作 | J31: =SUM(I31:I408) -> 0
A32: =IF(C32='Tong hop'!$B$6,1,0) -> 0
A33: =IF(C33='Tong hop'!$B$6,1,0) -> 0 | B33: III.1 | D33: Công tác đất | E33: 土地工作
A34: =IF(C34='Tong hop'!$B$6,1,0) -> 0
A35: =IF(C35='Tong hop'!$B$6,1,0) -> 0 | D35: Thi công móng | E35: 基礎施工
A36: =IF(C36='Tong hop'!$B$6,1,0) -> 0 | B36: 1 | C36: ĐÀO ĐC | D36: Đào đất móng | E36: 基礎開挖 | F36: m3 | G36: 251.01577
A37: =IF(C37='Tong hop'!$B$6,1,0) -> 0 | D37: =D110 -> F7-C11 | E37: =E110 -> 750x1750
A38: =IF(C38='Tong hop'!$B$6,1,0) -> 0 | D38: =D111 -> F7-C13 | E38: =E111 -> 750x1750
A39: =IF(C39='Tong hop'!$B$6,1,0) -> 0 | D39: =D112 -> F7-C12 | E39: =E112 -> 750x1750
A40: =IF(C40='Tong hop'!$B$6,1,0) -> 0 | D40: =D113 -> Fa | E40: =E113 -> 700x700
A41: =IF(C41='Tong hop'!$B$6,1,0) -> 0 | D41: =D114 -> Fb | E41: =E114 -> 700x700
A42: =IF(C42='Tong hop'!$B$6,1,0) -> 0 | D42: =D115 -> Fc | E42: =E115 -> 700x700
A43: =IF(C43='Tong hop'!$B$6,1,0) -> 0 | D43: =D116 -> Fc1 | E43: =E116 -> 700x700
A44: =IF(C44='Tong hop'!$B$6,1,0) -> 0 | D44: =D117 -> 0 | E44: =E117 -> 0 | F44: =F118 -> 0
A45: =IF(C45='Tong hop'!$B$6,1,0) -> 0 | D45: =D118 -> Móng DOCK | E45: =E118 -> 0 | F45: =F119 -> 0
A46: =IF(C46='Tong hop'!$B$6,1,0) -> 0 | D46: =D119 -> Fđáy móng | E46: =E119 -> 2150x1860 | F46: =F121 -> 0
A47: =IF(C47='Tong hop'!$B$6,1,0) -> 0 | D47: =D121 -> Thành D1(200x700) | E47: =E121 -> 0 | F47: =F123 -> 0
A48: =IF(C48='Tong hop'!$B$6,1,0) -> 0
A49: =IF(C49='Tong hop'!$B$6,1,0) -> 0 | D49: =D123 -> Thành D2(200x700) | E49: =E123 -> 0
A50: =IF(C50='Tong hop'!$B$6,1,0) -> 0 | D50: =D124 -> Fc-f | E50: =E124 -> 800x800
A51: =IF(C51='Tong hop'!$B$6,1,0) -> 0 | D51: =D125 -> Thành hố | E51: =E125 -> 0
A52: =IF(C52='Tong hop'!$B$6,1,0) -> 0 | D52: =D126 -> Tường chắn D3(250x2100) | E52: =E126 -> 0
A53: =IF(C53='Tong hop'!$B$6,1,0) -> 0 | D53: =D127 -> 0
A54: =IF(C54='Tong hop'!$B$6,1,0) -> 0 | D54: =D128 -> Tường chắn D4(250x1500)
A55: =IF(C55='Tong hop'!$B$6,1,0) -> 0
A56: =IF(C56='Tong hop'!$B$6,1,0) -> 0 | D56: =D130 -> BT lót đà kiềng | E56: +0,00
A57: =IF(C57='Tong hop'!$B$6,1,0) -> 0 | D57: =D131 -> GB1A | E57: =E131 -> 300x700
A58: =IF(C58='Tong hop'!$B$6,1,0) -> 0 | D58: =D132 -> GB7 | E58: =E132 -> 300x700
A59: =IF(C59='Tong hop'!$B$6,1,0) -> 0 | D59: =D133 -> GB17 | E59: =E133 -> 400x700
A60: =IF(C60='Tong hop'!$B$6,1,0) -> 0 | D60: =D134 -> 0 | E60: =E134 -> 0
A61: =IF(C61='Tong hop'!$B$6,1,0) -> 0 | D61: =D135 -> 0 | E61: =E135 -> 0
A62: =IF(C62='Tong hop'!$B$6,1,0) -> 0 | D62: =D136 -> 0 | E62: =E136 -> 0
A63: =IF(C63='Tong hop'!$B$6,1,0) -> 0 | D63: =D137 -> 0 | E63: =E137 -> 0
A64: =IF(C64='Tong hop'!$B$6,1,0) -> 0 | D64: =D138 -> 0 | E64: =E138 -> 0
A65: =IF(C65='Tong hop'!$B$6,1,0) -> 0 | D65: =D139 -> 0 | E65: =E139 -> 0
A66: =IF(C66='Tong hop'!$B$6,1,0) -> 0
A67: =IF(C67='Tong hop'!$B$6,1,0) -> 0
A68: =IF(C68='Tong hop'!$B$6,1,0) -> 0 | B68: 2 | C68: ĐẦM Đ đcóc | D68: Đầm chặt đáy hố móng | E68: 基底夯實 | F68: m2 | G68: 211.4175
A69: =IF(C69='Tong hop'!$B$6,1,0) -> 0 | D69: =D110 -> F7-C11 | E69: =E110 -> 750x1750
A70: =IF(C70='Tong hop'!$B$6,1,0) -> 0 | D70: =D111 -> F7-C13 | E70: =E111 -> 750x1750
A71: =IF(C71='Tong hop'!$B$6,1,0) -> 0 | D71: =D112 -> F7-C12 | E71: =E112 -> 750x1750
A72: =IF(C72='Tong hop'!$B$6,1,0) -> 0 | D72: =D113 -> Fa | E72: =E113 -> 700x700
A73: =IF(C73='Tong hop'!$B$6,1,0) -> 0 | D73: =D114 -> Fb | E73: =E114 -> 700x700
A74: =IF(C74='Tong hop'!$B$6,1,0) -> 0 | D74: =D115 -> Fc | E74: =E115 -> 700x700
A75: =IF(C75='Tong hop'!$B$6,1,0) -> 0 | D75: =D116 -> Fc1 | E75: =E116 -> 700x700
A76: =IF(C76='Tong hop'!$B$6,1,0) -> 0 | D76: =D117 -> 0 | E76: =E117 -> 0
A77: =IF(C77='Tong hop'!$B$6,1,0) -> 0 | D77: =D118 -> Móng DOCK | E77: =E118 -> 0
A78: =IF(C78='Tong hop'!$B$6,1,0) -> 0 | D78: =D119 -> Fđáy móng | E78: =E119 -> 2150x1860
A79: =IF(C79='Tong hop'!$B$6,1,0) -> 0 | D79: =D121 -> Thành D1(200x700) | E79: =E121 -> 0
A80: =IF(C80='Tong hop'!$B$6,1,0) -> 0
A81: =IF(C81='Tong hop'!$B$6,1,0) -> 0 | D81: =D123 -> Thành D2(200x700) | E81: =E123 -> 0
A82: =IF(C82='Tong hop'!$B$6,1,0) -> 0 | D82: =D124 -> Fc-f | E82: =E124 -> 800x800
A83: =IF(C83='Tong hop'!$B$6,1,0) -> 0 | D83: =D125 -> Thành hố | E83: =E125 -> 0
A84: =IF(C84='Tong hop'!$B$6,1,0) -> 0 | D84: =D126 -> Tường chắn D3(250x2100) | E84: =E126 -> 0
A85: =IF(C85='Tong hop'!$B$6,1,0) -> 0 | D85: =D127 -> 0 | E85: =E127 -> 0
A86: =IF(C86='Tong hop'!$B$6,1,0) -> 0 | D86: =D128 -> Tường chắn D4(250x1500) | E86: =E128 -> 0
A87: =IF(C87='Tong hop'!$B$6,1,0) -> 0
A88: =IF(C88='Tong hop'!$B$6,1,0) -> 0 | D88: =D130 -> BT lót đà kiềng | E88: =E130 -> 0
A89: =IF(C89='Tong hop'!$B$6,1,0) -> 0 | D89: =D131 -> GB1A | E89: =E131 -> 300x700
A90: =IF(C90='Tong hop'!$B$6,1,0) -> 0 | D90: =D132 -> GB7 | E90: =E132 -> 300x700
A91: =IF(C91='Tong hop'!$B$6,1,0) -> 0 | D91: =D133 -> GB17 | E91: =E133 -> 400x700
A92: =IF(C92='Tong hop'!$B$6,1,0) -> 0 | D92: =D134 -> 0 | E92: =E134 -> 0
A93: =IF(C93='Tong hop'!$B$6,1,0) -> 0 | D93: =D135 -> 0 | E93: =E135 -> 0
A94: =IF(C94='Tong hop'!$B$6,1,0) -> 0 | D94: =D136 -> 0 | E94: =E136 -> 0
A95: =IF(C95='Tong hop'!$B$6,1,0) -> 0 | D95: =D137 -> 0 | E95: =E137 -> 0
A96: =IF(C96='Tong hop'!$B$6,1,0) -> 0 | D96: =D138 -> 0 | E96: =E138 -> 0
A97: =IF(C97='Tong hop'!$B$6,1,0) -> 0 | B97: 3 | C97: LẤP ĐẤT MC | D97: Lấp đất móng | E97: 基礎回填土 | F97: m3 | G97: 157.92389
A98: =IF(C98='Tong hop'!$B$6,1,0) -> 0 | D98: Đào đất
A99: =IF(C99='Tong hop'!$B$6,1,0) -> 0 | D99: Trừ bê tông lót
A100: =IF(C100='Tong hop'!$B$6,1,0) -> 0 | D100: Trừ bê tông móng
...

Sheet 3
A1: =CELL("filename") -> F:\[guilai.xlsx]1
A2: =RIGHT(A1,LEN(A1)-FIND("]",A1)) -> 1 | B2: TT 次序 | D2: LIỆT KÊ CÔNG TÁC 工作描述 | F2: ĐVT 單位 | G2: KHỐI LƯỢNG 數量 | H2: ĐƠN GIÁ 單價 | I2: THÀNH TIỀN 金額 | J2: TỔNG CỘNG 合計 | K2: GHI CHÚ 備註
A4: =IF(C4='Tong hop'!$B$6,1,0) -> 0 | B4: I | D4: THI CÔNG CỌC | E4: 基樁工作 | J4: =SUM(I5:I20) -> 0
A5: =IF(C5='Tong hop'!$B$6,1,0) -> 0 | B5: 1 | D5: Thử cọc D350, mác 80mpa, L=18m | E5: 試樁 D350 | F5: point | G5: 2 | I5: =H5*G5 -> 0
A6: =IF(C6='Tong hop'!$B$6,1,0) -> 0 | E6: Ép cọc
A7: =IF(C7='Tong hop'!$B$6,1,0) -> 0 | E7: Thử tĩnh
A8: =IF(C8='Tong hop'!$B$6,1,0) -> 0 | B8: =B5+1 -> 2 | D8: Sản xuất và vận chuyển cọc D350/210, mác 80mpa, L=18m từ nơi sản xuất đến chân công trình | E8: 生產和運樁D350/220從產地到工地 | F8: m | G8: 2160 | I8: =H8*G8 -> 0
A9: =IF(C9='Tong hop'!$B$6,1,0) -> 0 | D9: =D114 -> F3 (1850x1850x1000)
A10: =IF(C10='Tong hop'!$B$6,1,0) -> 0 | D10: =D118 -> F1 (1850x900x1000)
A11: =IF(C11='Tong hop'!$B$6,1,0) -> 0 | D11: =D119 -> F2 (1850x900x1000)
A12: =IF(C12='Tong hop'!$B$6,1,0) -> 0 | D12: =D124 -> F4 (800x800x1000)
A13: =IF(C13='Tong hop'!$B$6,1,0) -> 0 | D13: =D128 -> RD (800x800x1000)
A14: =IF(C14='Tong hop'!$B$6,1,0) -> 0
A15: =IF(C15='Tong hop'!$B$6,1,0) -> 0 | B15: =B8+1 -> 3 | D15: Thi công cọc D350, L=18m | E15: 施工樁D350 | F15: m | G15: 2124 | I15: =H15*G15 -> 0
A16: =IF(C16='Tong hop'!$B$6,1,0) -> 0 | B16: =B15+1 -> 4 | D16: Ép cọc âm Þ350 | E16: 壓樁Þ350 | F16: m | I16: =H16*G16 -> 0
A17: =IF(C17='Tong hop'!$B$6,1,0) -> 0 | B17: =B16+1 -> 5 | C17: Cắt cọc D350 | D17: Xử lý đầu cọc D350 | E17: 處理樁頭D350 | F17: pcs | G17: 120 | I17: =H17*G17 -> 0
A18: =IF(C18='Tong hop'!$B$6,1,0) -> 0 | B18: =B17+1 -> 6 | D18: Khoan dẫn cọc đại trà cọc Þ 350, L=8m | E18: 鑽大量樁Þ 350 | F18: m | G18: 960 | I18: =H18*G18 -> 0
A19: =IF(C19='Tong hop'!$B$6,1,0) -> 0 | B19: =B18+1 -> 7 | D19: Vận chuyển thiết bị | E19: 運設備 | F19: lot | G19: 1 | I19: =H19*G19 -> 0
A20: =IF(C20='Tong hop'!$B$6,1,0) -> 0
A21: =IF(C21='Tong hop'!$B$6,1,0) -> 0
A22: =IF(C22='Tong hop'!$B$6,1,0) -> 0 | B22: II | D22: LÀM MÓNG | E22: 基礎工作 | J22: =SUM(I22:I380) -> 0
A23: =IF(C23='Tong hop'!$B$6,1,0) -> 0
A24: =IF(C24='Tong hop'!$B$6,1,0) -> 0 | B24: II.1 | D24: Công tác đất | E24: 土地工作
A25: =IF(C25='Tong hop'!$B$6,1,0) -> 0 | B25: 1 | C25: ĐÀO ĐC | D25: Đào đất móng | E25: 基礎開挖 | F25: m3 | G25: 639.56035 | I25: =H25*G25 -> 0
A26: =IF(C26='Tong hop'!$B$6,1,0) -> 0 | D26: =D88 -> F3 (1850x1850x1000) | E26: =E88 -> F3-C6
A27: =IF(C27='Tong hop'!$B$6,1,0) -> 0 | E27: =E89 -> F3-C5
A28: =IF(C28='Tong hop'!$B$6,1,0) -> 0 | E28: =E90 -> F3-C7
A29: =IF(C29='Tong hop'!$B$6,1,0) -> 0 | E29: =E91 -> F3-C5
A30: =IF(C30='Tong hop'!$B$6,1,0) -> 0 | D30: =D92 -> F1 (1850x900x1000) | E30: =E92 -> F1-C1
A31: =IF(C31='Tong hop'!$B$6,1,0) -> 0 | D31: =D93 -> F2 (1850x900x1000) | E31: =E93 -> F2-C3
A32: =IF(C32='Tong hop'!$B$6,1,0) -> 0 | D32: =D94 -> 0 | E32: =E94 -> F2-C2
A33: =IF(C33='Tong hop'!$B$6,1,0) -> 0 | D33: =D95 -> 0 | E33: =E95 -> F2-C10
A34: =IF(C34='Tong hop'!$B$6,1,0) -> 0 | D34: =D96 -> 0 | E34: =E96 -> F2-C12
A35: =IF(C35='Tong hop'!$B$6,1,0) -> 0 | D35: =D97 -> 0 | E35: =E97 -> F2-C4
A36: =IF(C36='Tong hop'!$B$6,1,0) -> 0 | D36: =D98 -> F4 (800x800x1000) | E36: =E98 -> F4-C9
A37: =IF(C37='Tong hop'!$B$6,1,0) -> 0 | D37: =D99 -> 0 | E37: =E99 -> F4-C11
A38: =IF(C38='Tong hop'!$B$6,1,0) -> 0 | D38: =D100 -> 0 | E38: =E100 -> F4-C8
A39: =IF(C39='Tong hop'!$B$6,1,0) -> 0 | D39: =D101 -> 0 | E39: =E101 -> F4-C13
A40: =IF(C40='Tong hop'!$B$6,1,0) -> 0 | D40: =D102 -> RD (800x800x1000) | E40: =E102 -> RD-C14
A41: =IF(C41='Tong hop'!$B$6,1,0) -> 0 | D41: Đà kiềng
A42: =IF(C42='Tong hop'!$B$6,1,0) -> 0 | D42: =D104 -> GB1 (300x600)
A43: =IF(C43='Tong hop'!$B$6,1,0) -> 0 | D43: =D105 -> GB2 (300x600)
A44: =IF(C44='Tong hop'!$B$6,1,0) -> 0 | D44: =D106 -> GB4 (300x600)
A45: =IF(C45='Tong hop'!$B$6,1,0) -> 0 | D45: =D107 -> GB3 (300x600)
A46: =IF(C46='Tong hop'!$B$6,1,0) -> 0 | D46: =D108 -> GB5 (400x600)
A47: =IF(C47='Tong hop'!$B$6,1,0) -> 0 | D47: =D109 -> GB6 (400x600)
A48: =IF(C48='Tong hop'!$B$6,1,0) -> 0 | D48: =D110 -> GB7 (300x600)
A49: =IF(C49='Tong hop'!$B$6,1,0) -> 0 | D49: =D111 -> 0 | E49: =E111 -> 0
A50: =IF(C50='Tong hop'!$B$6,1,0) -> 0 | B50: =B25+1 -> 2 | C50: ĐẦM Đ đcóc | D50: Đầm chặt đáy hố móng | E50: 基底夯實 | F50: m2 | G50: 219.734 | I50: =H50*G50 -> 0
A51: =IF(C51='Tong hop'!$B$6,1,0) -> 0 | D51: =D88 -> F3 (1850x1850x1000) | E51: =E88 -> F3-C6 | I51: =H51*G51 -> 0
A52: =IF(C52='Tong hop'!$B$6,1,0) -> 0 | D52: =D89 -> 0 | E52: =E89 -> F3-C5 | I52: =H52*G52 -> 0
A53: =IF(C53='Tong hop'!$B$6,1,0) -> 0 | D53: =D90 -> 0 | E53: =E90 -> F3-C7 | I53: =H53*G53 -> 0
A54: =IF(C54='Tong hop'!$B$6,1,0) -> 0 | D54: =D91 -> 0 | E54: =E91 -> F3-C5 | I54: =H54*G54 -> 0
A55: =IF(C55='Tong hop'!$B$6,1,0) -> 0 | D55: =D92 -> F1 (1850x900x1000) | E55: =E92 -> F1-C1 | I55: =H55*G55 -> 0
A56: =IF(C56='Tong hop'!$B$6,1,0) -> 0 | D56: =D93 -> F2 (1850x900x1000) | E56: =E93 -> F2-C3 | I56: =H56*G56 -> 0
A57: =IF(C57='Tong hop'!$B$6,1,0) -> 0 | D57: =D94 -> 0 | E57: =E94 -> F2-C2
A58: =IF(C58='Tong hop'!$B$6,1,0) -> 0 | D58: =D95 -> 0 | E58: =E95 -> F2-C10 | I58: =H58*G58 -> 0
A59: =IF(C59='Tong hop'!$B$6,1,0) -> 0 | D59: =D96 -> 0 | E59: =E96 -> F2-C12 | I59: =H59*G59 -> 0
A60: =IF(C60='Tong hop'!$B$6,1,0) -> 0 | D60: =D97 -> 0 | E60: =E97 -> F2-C4
A61: =IF(C61='Tong hop'!$B$6,1,0) -> 0 | D61: =D98 -> F4 (800x800x1000) | E61: =E98 -> F4-C9
A62: =IF(C62='Tong hop'!$B$6,1,0) -> 0 | D62: =D99 -> 0 | E62: =E99 -> F4-C11
A63: =IF(C63='Tong hop'!$B$6,1,0) -> 0 | D63: =D100 -> 0 | E63: =E100 -> F4-C8
A64: =IF(C64='Tong hop'!$B$6,1,0) -> 0 | D64: =D101 -> 0 | E64: =E101 -> F4-C13
A65: =IF(C65='Tong hop'!$B$6,1,0) -> 0 | D65: =D102 -> RD (800x800x1000) | E65: =E102 -> RD-C14
A66: =IF(C66='Tong hop'!$B$6,1,0) -> 0 | D66: =D103 -> BT lót đà kiềng | E66: =E41 -> 0
A67: =IF(C67='Tong hop'!$B$6,1,0) -> 0 | D67: =D104 -> GB1 (300x600)
A68: =IF(C68='Tong hop'!$B$6,1,0) -> 0 | D68: =D105 -> GB2 (300x600)
A69: =IF(C69='Tong hop'!$B$6,1,0) -> 0 | D69: =D106 -> GB4 (300x600)
A70: =IF(C70='Tong hop'!$B$6,1,0) -> 0 | D70: =D107 -> GB3 (300x600)
A71: =IF(C71='Tong hop'!$B$6,1,0) -> 0 | D71: =D108 -> GB5 (400x600)
A72: =IF(C72='Tong hop'!$B$6,1,0) -> 0 | D72: =D109 -> GB6 (400x600)
A73: =IF(C73='Tong hop'!$B$6,1,0) -> 0 | D73: =D110 -> GB7 (300x600)
A74: =IF(C74='Tong hop'!$B$6,1,0) -> 0 | I74: =H74*G74 -> 0
A75: =IF(C75='Tong hop'!$B$6,1,0) -> 0 | B75: =B50+1 -> 3 | C75: LẤP ĐẤT MC | D75: Lấp đất móng | E75: 基礎回填土 | F75: m3 | G75: 473.41045 | I75: =H75*G75 -> 0
A76: =IF(C76='Tong hop'!$B$6,1,0) -> 0 | D76: Đào đất | I76: =H76*G76 -> 0
A77: =IF(C77='Tong hop'!$B$6,1,0) -> 0 | D77: Trừ bê tông lót | I77: =H77*G77 -> 0
A78: =IF(C78='Tong hop'!$B$6,1,0) -> 0 | D78: Trừ bê tông móng | I78: =H78*G78 -> 0
A79: =IF(C79='Tong hop'!$B$6,1,0) -> 0 | D79: Trừ bê tông cổ cột | I79: =H79*G79 -> 0
A80: =IF(C80='Tong hop'!$B$6,1,0) -> 0 | D80: Trừ đà kiềng | I80: =H80*G80 -> 0
A81: =IF(C81='Tong hop'!$B$6,1,0) -> 0
A82: =IF(C82='Tong hop'!$B$6,1,0) -> 0 | B82: =B75+1 -> 4 | C82: VCĐ <3km | D82: Vận chuyển đất dư | E82: 運送餘泥 | F82: m3 | G82: 166.1499 | I82: =H82*G82 -> 0
A83: =IF(C83='Tong hop'!$B$6,1,0) -> 0
A84: =IF(C84='Tong hop'!$B$6,1,0) -> 0 | B84: II.2 | D84: Công tác BTCT cho móng | E84: 基礎鋼筋混凝土工作
A85: =IF(C85='Tong hop'!$B$6,1,0) -> 0
A86: =IF(C86='Tong hop'!$B$6,1,0) -> 0 | B86: 1 | C86: BTLTP M150MĐ | D86: Bê tông lót, đá 1x2 M150, dày 5 cm | E86: 墊底混凝土, 1x2碎石混凝土, M100, 厚5cm | F86: m3 | G86: 10.9867 | I86: =H86*G86 -> 0
A87: =IF(C87='Tong hop'!$B$6,1,0) -> 0 | D87: BT lót móng | F87: =SUM(#REF!) -> #REF!
A88: =IF(C88='Tong hop'!$B$6,1,0) -> 0 | D88: =D114 -> F3 (1850x1850x1000) | E88: =E114 -> F3-C6
A89: =IF(C89='Tong hop'!$B$6,1,0) -> 0 | E89: =E115 -> F3-C5
A90: =IF(C90='Tong hop'!$B$6,1,0) -> 0 | E90: =E116 -> F3-C7
A91: =IF(C91='Tong hop'!$B$6,1,0) -> 0 | E91: =E117 -> F3-C5
A92: =IF(C92='Tong hop'!$B$6,1,0) -> 0 | D92: =D118 -> F1 (1850x900x1000) | E92: =E118 -> F1-C1
A93: =IF(C93='Tong hop'!$B$6,1,0) -> 0 | D93: =D119 -> F2 (1850x900x1000) | E93: =E119 -> F2-C3
A94: =IF(C94='Tong hop'!$B$6,1,0) -> 0 | D94: =D120 -> 0 | E94: =E120 -> F2-C2
A95: =IF(C95='Tong hop'!$B$6,1,0) -> 0 | D95: =D121 -> 0 | E95: =E121 -> F2-C10
A96: =IF(C96='Tong hop'!$B$6,1,0) -> 0 | D96: =D122 -> 0 | E96: =E122 -> F2-C12
A97: =IF(C97='Tong hop'!$B$6,1,0) -> 0 | D97: =D123 -> 0 | E97: =E123 -> F2-C4
A98: =IF(C98='Tong hop'!$B$6,1,0) -> 0 | D98: =D124 -> F4 (800x800x1000) | E98: =E124 -> F4-C9
A99: =IF(C99='Tong hop'!$B$6,1,0) -> 0 | D99: =D125 -> 0 | E99: =E125 -> F4-C11
A100: =IF(C100='Tong hop'!$B$6,1,0) -> 0 | D100: =D126 -> 0 | E100: =E126 -> F4-C8
A101: =IF(C101='Tong hop'!$B$6,1,0) -> 0 | D101: =D127 -> 0 | E101: =E127 -> F4-C13
...

Sheet 4
A1: =CELL("filename") -> F:\[guilai.xlsx]1
A2: =RIGHT(A1,LEN(A1)-FIND("]",A1)) -> 1
A3: TT 次序 | D3: LIỆT KÊ CÔNG TÁC 工作描述 | F3: ĐVT 單位 | G3: KHỐI LƯỢNG 數量 | H3: ĐƠN GIÁ 單價 | I3: THÀNH TIỀN 金額 | J3: TỔNG CỘNG 合計 | K3: GHI CHÚ 備註
A5: =IF(C5='Tong hop'!$B$6,1,0) -> 0
A6: =IF(C6='Tong hop'!$B$6,1,0) -> 0
A7: =IF(C7='Tong hop'!$B$6,1,0) -> 0
A8: =IF(C8='Tong hop'!$B$6,1,0) -> 0
A9: =IF(C9='Tong hop'!$B$6,1,0) -> 0
A10: =IF(C10='Tong hop'!$B$6,1,0) -> 0
A11: =IF(C11='Tong hop'!$B$6,1,0) -> 0
A12: =IF(C12='Tong hop'!$B$6,1,0) -> 0
A13: =IF(C13='Tong hop'!$B$6,1,0) -> 0
A14: =IF(C14='Tong hop'!$B$6,1,0) -> 0
A15: =IF(C15='Tong hop'!$B$6,1,0) -> 0
A16: =IF(C16='Tong hop'!$B$6,1,0) -> 0
A17: =IF(C17='Tong hop'!$B$6,1,0) -> 0 | D17: CHUẨN BỊ & TRẮC ĐẠC | E17: 準備和測量 | J17: =SUM(I17:I18) -> 0
A18: =IF(C18='Tong hop'!$B$6,1,0) -> 0
A19: =IF(C19='Tong hop'!$B$6,1,0) -> 0
A20: =IF(C20='Tong hop'!$B$6,1,0) -> 0 | D20: THI CÔNG CỌC | E20: 基樁工作 | J20: =SUM(I20:I56) -> 0
A21: =IF(C21='Tong hop'!$B$6,1,0) -> 0 | D21: Thử cọc SPT D400, mác 80mpa, L=18m | E21: L=18m試樁SPT D400 | F21: cọc | G21: 2 | I21: =H21*G21 -> 0 | L21: =IF(X21<>0,MAX($A20:L$22)+1," ")
A22: =IF(C22='Tong hop'!$B$6,1,0) -> 0 | E22: ép thử | I22: =H22*G22 -> 0
A23: =IF(C23='Tong hop'!$B$6,1,0) -> 0 | E23: thử tĩnh | I23: =H23*G23 -> 0
A24: =IF(C24='Tong hop'!$B$6,1,0) -> 0 | I24: =H24*G24 -> 0
A25: =IF(C25='Tong hop'!$B$6,1,0) -> 0 | I25: =H25*G25 -> 0
A26: =IF(C26='Tong hop'!$B$6,1,0) -> 0 | D26: Sản xuất và vận chuyển cọc D400/220, mác 80mpa, L=18m từ nơi sản xuất đến chân công trình | E26: 生產和運樁D400/220從產地到工地 | F26: m | G26: 1206 | I26: =H26*G26 -> 0 | L26: =IF(X26<>0,MAX($A21:L$22)+1," ")
A27: =IF(C27='Tong hop'!$B$6,1,0) -> 0 | D27: =D210 -> F1 | E27: =E210 -> 2000x2000x1000 | F27: =F210 -> 0 | I27: =H27*G27 -> 0
A28: =IF(C28='Tong hop'!$B$6,1,0) -> 0 | D28: =D212 -> F2 | E28: =E212 -> 1000x2000x1000 | F28: =F212 -> 0 | I28: =H28*G28 -> 0
A29: =IF(C29='Tong hop'!$B$6,1,0) -> 0 | D29: =D213 -> F2A | E29: =E213 -> 1000x2150x1000 | F29: =F213 -> 0
A30: =IF(C30='Tong hop'!$B$6,1,0) -> 0 | D30: =D214 -> F2B | E30: =E214 -> 1000x2000x1000 | F30: =F214 -> 0 | I30: =H30*G30 -> 0
A31: =IF(C31='Tong hop'!$B$6,1,0) -> 0 | D31: =D215 -> F3 | E31: =E215 -> 1000x2000x1000 | F31: =F215 -> 0
A32: =IF(C32='Tong hop'!$B$6,1,0) -> 0 | D32: =D216 -> F3A | E32: =E216 -> 1000x2000x1000 | F32: =F216 -> 0 | I32: =H32*G32 -> 0
A33: =IF(C33='Tong hop'!$B$6,1,0) -> 0 | D33: =D217 -> F4 | E33: =E217 -> 700x700x700 | F33: =F217 -> 0
A34: =IF(C34='Tong hop'!$B$6,1,0) -> 0
A35: =IF(C35='Tong hop'!$B$6,1,0) -> 0 | D35: Thi công cọc D400, L=18m, | E35: 施工樁D400 | F35: m | G35: 1170 | I35: =H35*G35 -> 0
A36: =IF(C36='Tong hop'!$B$6,1,0) -> 0 | C36: Cắt cọc D400 | D36: Xử lý đầu cọc D400 | E36: 處理樁頭D400 | F36: pcs | G36: 67 | I36: =H36*G36 -> 0
A37: =IF(C37='Tong hop'!$B$6,1,0) -> 0 | D37: =D27 -> F1 | E37: =E27 -> 2000x2000x1000 | F37: =F27 -> 0 | I37: =H37*G37 -> 0
A38: =IF(C38='Tong hop'!$B$6,1,0) -> 0 | D38: =D28 -> F2 | E38: =E28 -> 1000x2000x1000 | F38: =F28 -> 0 | I38: =H38*G38 -> 0
A39: =IF(C39='Tong hop'!$B$6,1,0) -> 0 | D39: =D29 -> F2A | E39: =E29 -> 1000x2150x1000 | F39: =F29 -> 0 | I39: =H39*G39 -> 0
A40: =IF(C40='Tong hop'!$B$6,1,0) -> 0 | D40: =D30 -> F2B | E40: =E30 -> 1000x2000x1000 | F40: =F30 -> 0 | I40: =H40*G40 -> 0
A41: =IF(C41='Tong hop'!$B$6,1,0) -> 0 | D41: =D31 -> F3 | E41: =E31 -> 1000x2000x1000 | F41: =F31 -> 0 | I41: =H41*G41 -> 0
A42: =IF(C42='Tong hop'!$B$6,1,0) -> 0 | D42: =D32 -> F3A | E42: =E32 -> 1000x2000x1000 | F42: =F32 -> 0 | I42: =H42*G42 -> 0
A43: =IF(C43='Tong hop'!$B$6,1,0) -> 0 | D43: =D33 -> F4 | E43: =E33 -> 700x700x700 | F43: =F33 -> 0 | I43: =H43*G43 -> 0
A44: =IF(C44='Tong hop'!$B$6,1,0) -> 0
A45: =IF(C45='Tong hop'!$B$6,1,0) -> 0 | I45: =H45*G45 -> 0
A46: =IF(C46='Tong hop'!$B$6,1,0) -> 0 | E46: Chi tiết cắt 1 cọc | I46: =H46*G46 -> 0
A47: =IF(C47='Tong hop'!$B$6,1,0) -> 0 | C47: BTMTP M300MĐ | E47: Bê tông mac 300 ,L=1.2m | I47: =H47*G47 -> 0
A48: =IF(C48='Tong hop'!$B$6,1,0) -> 1 | C48: SATTRON<5 | E48: Thép tròn: 6d16 | I48: =H48*G48 -> 0
A49: =IF(C49='Tong hop'!$B$6,1,0) -> 1 | C49: SATTRON<5 | E49: thép đai | I49: =H49*G49 -> 0
A50: =IF(C50='Tong hop'!$B$6,1,0) -> 0 | C50: THEP LMK | E50: thép tấm dày 2mm | I50: =H50*G50 -> 0
A51: =IF(C51='Tong hop'!$B$6,1,0) -> 0 | E51: công cắt +vận chuyễn | I51: =H51*G51 -> 0
A52: =IF(C52='Tong hop'!$B$6,1,0) -> 0 | I52: =H52*G52 -> 0
A53: =IF(C53='Tong hop'!$B$6,1,0) -> 0 | I53: =H53*G53 -> 0
A54: =IF(C54='Tong hop'!$B$6,1,0) -> 0 | D54: Khoan dẫn cọc đại trà cọc Þ 400, L=8m | E54: L=8m鑽大量樁Þ 400 | F54: m | G54: 536 | I54: =H54*G54 -> 0
A55: =IF(C55='Tong hop'!$B$6,1,0) -> 0 | D55: Vận chuyển thiết bị | E55: 運設備 | F55: lot | G55: 1 | I55: =H55*G55 -> 0
A56: =IF(C56='Tong hop'!$B$6,1,0) -> 0
A57: =IF(C57='Tong hop'!$B$6,1,0) -> 0
A58: =IF(C58='Tong hop'!$B$6,1,0) -> 0 | D58: LÀM MÓNG | E58: 基礎工作 | J58: =SUM(I58:I453) -> 0
A59: =IF(C59='Tong hop'!$B$6,1,0) -> 0
A60: =IF(C60='Tong hop'!$B$6,1,0) -> 0 | D60: Công tác đất | E60: 土地工作
A61: =IF(C61='Tong hop'!$B$6,1,0) -> 0
A62: =IF(C62='Tong hop'!$B$6,1,0) -> 0 | D62: Thi công móng | E62: 基礎施工
A63: =IF(C63='Tong hop'!$B$6,1,0) -> 0 | C63: ĐÀO ĐC | D63: Đào đất hố móng, bằng máy đào | E63: 基礎開挖, 用挖土機 | F63: m3 | G63: 385.79919 | I63: =H63*G63 -> 0
A64: =IF(C64='Tong hop'!$B$6,1,0) -> 0 | D64: =D164 -> F1 | E64: =E164 -> 2000x2000x1000 | I64: =H64*G64 -> 0
A65: =IF(C65='Tong hop'!$B$6,1,0) -> 0 | D65: =D165 -> 0 | E65: =E165 -> 0 | I65: =H65*G65 -> 0
A66: =IF(C66='Tong hop'!$B$6,1,0) -> 0 | D66: =D166 -> F2 | E66: =E166 -> 1000x2000x1000 | I66: =H66*G66 -> 0
A67: =IF(C67='Tong hop'!$B$6,1,0) -> 0 | D67: =D167 -> F2A | E67: =E167 -> 1000x2150x1000 | I67: =H67*G67 -> 0
A68: =IF(C68='Tong hop'!$B$6,1,0) -> 0 | D68: =D168 -> F2B | E68: =E168 -> 1000x2000x1000
A69: =IF(C69='Tong hop'!$B$6,1,0) -> 0 | D69: =D169 -> F3 | E69: =E169 -> 1000x2000x1000
A70: =IF(C70='Tong hop'!$B$6,1,0) -> 0 | D70: =D170 -> F3A | E70: =E170 -> 1000x2000x1000 | I70: =H70*G70 -> 0
A71: =IF(C71='Tong hop'!$B$6,1,0) -> 0 | D71: =D171 -> F4 | E71: =E171 -> 700x700x700
A72: =IF(C72='Tong hop'!$B$6,1,0) -> 0 | D72: =D172 -> F5 | E72: =E172 -> 2200x2200x200x300
A73: =IF(C73='Tong hop'!$B$6,1,0) -> 0 | D73: =D173 -> F6 | E73: =E173 -> 1800x1800x150x300 | I73: =H73*G73 -> 0
A74: =IF(C74='Tong hop'!$B$6,1,0) -> 0 | D74: =D174 -> F7 | E74: =E174 -> 1500x1500x150x350
A75: =IF(C75='Tong hop'!$B$6,1,0) -> 0 | D75: Đà kiềng | I75: =H75*G75 -> 0
A76: =IF(C76='Tong hop'!$B$6,1,0) -> 0 | D76: =D176 -> GB1 | E76: =E176 -> 300x600 | I76: =H76*G76 -> 0
A77: =IF(C77='Tong hop'!$B$6,1,0) -> 0 | D77: =D177 -> GB2 | E77: =E177 -> 300x600 | I77: =H77*G77 -> 0
A78: =IF(C78='Tong hop'!$B$6,1,0) -> 0 | D78: =D178 -> GB3 | E78: =E178 -> 300x600
A79: =IF(C79='Tong hop'!$B$6,1,0) -> 0 | D79: =D179 -> GB4 | E79: =E179 -> 300x600
A80: =IF(C80='Tong hop'!$B$6,1,0) -> 0 | D80: =D180 -> GB4 | E80: =E180 -> 500x600
A81: =IF(C81='Tong hop'!$B$6,1,0) -> 0 | D81: =D181 -> GB5 | E81: =E181 -> 300x600
A82: =IF(C82='Tong hop'!$B$6,1,0) -> 0 | D82: =D182 -> GB6 | E82: =E182 -> 200x600
A83: =IF(C83='Tong hop'!$B$6,1,0) -> 0 | D83: =D183 -> GB7 | E83: =E183 -> 200x600
A84: =IF(C84='Tong hop'!$B$6,1,0) -> 0 | D84: =D184 -> GB8 | E84: =E184 -> 200x600
A85: =IF(C85='Tong hop'!$B$6,1,0) -> 0 | D85: =D185 -> GB9 | E85: =E185 -> 300x600
A86: =IF(C86='Tong hop'!$B$6,1,0) -> 0 | D86: =D186 -> GB10 | E86: =E186 -> 300x600
A87: =IF(C87='Tong hop'!$B$6,1,0) -> 0 | D87: =D187 -> GB10 | E87: =E187 -> 500x600
A88: =IF(C88='Tong hop'!$B$6,1,0) -> 0 | D88: =D188 -> GB11 | E88: =E188 -> 300x600
A89: =IF(C89='Tong hop'!$B$6,1,0) -> 0 | D89: =D189 -> GB12 | E89: =E189 -> 200x600
... A103: =IF(C103='Tong hop'!$B$6,1,0) -> 0 | D103: =D203 -> GB26 | E103: =E203 -> 100x300
A104: =IF(C104='Tong hop'!$B$6,1,0) -> 0
A105: =IF(C105='Tong hop'!$B$6,1,0) -> 0
A106: =IF(C106='Tong hop'!$B$6,1,0) -> 0 | D106: Cao độ tự nhiên | E106: 0.946
A107: =IF(C107='Tong hop'!$B$6,1,0) -> 0 | D107: Cao độ thiết kế | E107: 1.62
A108: =IF(C108='Tong hop'!$B$6,1,0) -> 0 | D108: =D207 -> 0 | E108: =E207 -> 0
A109: =IF(C109='Tong hop'!$B$6,1,0) -> 0 | C109: ĐẦM Đ đcóc | D109: Đầm chặt đáy hố móng, bằng máy đầm cơ giới | E109: 基底夯實, 用夯實機 | F109: m2 | G109: 330.17278 | I109: =H109*G109 -> 0
A110: =IF(C110='Tong hop'!$B$6,1,0) -> 0 | D110: =D164 -> F1 | E110: =E164 -> 2000x2000x1000 | I110: =H110*G110 -> 0
A111: =IF(C111='Tong hop'!$B$6,1,0) -> 0 | D111: =D165 -> 0 | E111: =E165 -> 0 | I111: =H111*G111 -> 0
A112: =IF(C112='Tong hop'!$B$6,1,0) -> 0 | D112: =D166 -> F2 | E112: =E166 -> 1000x2000x1000 | I112: =H112*G112 -> 0
A113: =IF(C113='Tong hop'!$B$6,1,0) -> 0 | D113: =D167 -> F2A | E113: =E167 -> 1000x2150x1000 | I113: =H113*G113 -> 0
A114: =IF(C114='Tong hop'!$B$6,1,0) -> 0 | D114: =D168 -> F2B | E114: =E168 -> 1000x2000x1000 | I114: =H114*G114 -> 0
...
