Workbook
Name Arial: #REF!
Name Arial: #REF!
Name Arial: #REF!
Name KLDV: [1]KLDV!$C$8:$N$9

Sheet bia
A2: CÔNG TY TNHH MTV TASCO HẢI PHÒNG
A13: THUYẾT MINH KHỐI LƯỢNG HOÀN CÔNG
B15: Dự án: Đầu tư xây dựng công trình cải tạo nâng cấp QL 10 đoạn cầu Quán Toan đến cầu Nghìn, thành phố Hải Phòng, theo hình thức hợp đồng BOT.
B16: Gói thầu: Gói thầu số 08 “Thi công xây dựng công trình đoạn từ Km25+500 – Km36+900 và Km38+900 – Km58+200”.
B17: Hạng mục: "Ghi rõ tên của hạng mục công việc được giao như trong phụ lục hợp đồng".
B18: Hợp đồng số: 20/2015/HĐTC-TASCO.HP ngày 18/7/2015.
B19: Phụ lục hợp đồng số: "Ghi rõ số phụ lục, ngày tháng năm giữa CĐT, nhà thầu chính và nhà thầu phụ".
B20: Chủ đầu tư: Công ty TNHH MTV Tasco Hải Phòng.
B21: Nhà thầu: Tổng Công ty Thăng Long – CTCP.
B22: Nhà thầu phụ: "Ghi tên nhà thầu phụ".
A35: Hải Phòng, Tháng…./201…

Sheet Bảng TH KL hoan cong
A1: BẢNG TỔNG HỢP KHỐI LƯỢNG HOÀN CÔNG
A2: Dự án: Đầu tư xây dựng công trình cải tạo, nâng cấp Quốc lộ10, đoạn từ cầu Quán Toan đến cầu Nghìn, thành phố Hải Phòng, theo hình thức hợp đồng BOT.
A3: Gói thầu: Gói thầu số 08 “Thi công xây dựng công trình đoạn từ Km25+500 – Km36+900 và Km38+900 – Km58+200”.
A4: Hạng mục: "Ghi rõ Tấn của hạng mục công việc được giao như trong Phụ lục hợp đồng".
A5: Hợp đồng số: 20/2015/HĐTC-TASCO.HP ngày 18/7/2015.
A6: Phụ lục hợp đồng số: "Ghi rõ số phụ lục, ngày tháng năm giữa CĐT, nhà thầu chính và nhà thầu phụ".
A7: Chủ đầu tư: Công ty TNHH MTV Tasco Hải Phòng
A8: Nhà thầu: Tổng Công ty Thăng Long – CTCP.
A9: Nhà thầu phụ: "Ghi Tấn nhà thầu phụ".
K10: Chiều dài ống sonic
A11: TT | B11: Tấn công việc | C11: Đơn vị tính | D11: Khối lượng | F11: Ghi chú | H11: 1 đơn vị
K12: D113,5 | L12: =64000-1000+1500 -> 64500
D13: Thiết kế | E13: Hoàn công
A14: (1) | B14: (2) | C14: (3) | D14: (4) | E14: (5) | F14: (6) | K14: Bê tông
A15: I | B15: Kết cấu phần trên nhịp liên tục
A16: 1 | B16: Đốt K0 (dưới nước) | C16: đốt | E16: =D16 -> 0
B17: Khối Ko (BT, CT, VK dưới nước) | C17: đốt | D17: 1 | E17: =D17 -> 1
B18: Côt thép D14; CB400V | C18: tấn | D18: 4.72284 | E18: =D18 -> 4.72284
B19: Côt thép D16; CB400V | C19: tấn | D19: 9.26454 | E19: =D19 -> 9.26454
B20: Côt thép D18; CB400V | C20: tấn | D20: 0.8 | E20: =D20 -> 0.8
B21: Côt thép D20; CB400V | C21: tấn | D21: 2.5688 | E21: =D21 -> 2.5688
B22: Côt thép D22; CB400V | C22: tấn | D22: 3.04675 | E22: =D22 -> 3.04675
B23: Côt thép D25; CB400V | C23: tấn | D23: 12.82899 | E23: =D23 -> 12.82899
B24: Côt thép D28; CB400V | C24: tấn | D24: 9.55762 | E24: =D24 -> 9.55762
B25: Bê tông 40MPa | C25: m3 | D25: 197.9 | E25: =D25 -> 197.9
B26: Ván khuôn | C26: m2 | D26: 435.3 | E26: =D26 -> 435.3
B27: DƯL | C27: toàn bộ | E27: =D27 -> 0
B28: Thép DƯL f15,2 | C28: tấn | D28: 0.380182 | E28: =D28 -> 0.380182
B29: ống gen D90/D97 | C29: m | D29: 359.4 | E29: =D29 -> 359.4
B30: ống gen nối D100/D107 | C30: m | D30: 11.2 | E30: =D30 -> 11.2
B31: ống thoát khí | C31: bộ | D31: 4 | E31: =D31 -> 4
B32: Neo cáp DƯL 12tao 15,2mm | C32: bộ | D32: 4 | E32: =D32 -> 4
B33: Vữa XM 45Mpa | C33: m3 | D33: 1.683 | E33: =D33 -> 1.683
A34: 2 | B34: Đốt K1 (dưới nước) | C34: đốt | D34: 1 | E34: =D34 -> 1
B35: Khối K1 (BT, CT, VK dưới nước) | C35: đốt | D35: 1 | E35: =D35 -> 1
B36: Thép tròn D14 CB400-V | C36: tấn | D36: 0.94457 | E36: =D36 -> 0.94457
B37: Thép tròn D16 CB400-V | C37: tấn | D37: 1.58433 | E37: =D37 -> 1.58433
B38: Thép tròn D18 CB400-V | C38: tấn | D38: 0.22 | E38: =D38 -> 0.22
B39: Thép tròn D20 CB400-V | C39: tấn | D39: 0.70642 | E39: =D39 -> 0.70642
B40: Thép tròn D22 CB400-V | C40: tấn | D40: 0.83786 | E40: =D40 -> 0.83786
B41: Thép tròn D25 CB400-V | C41: tấn | D41: 0.62216 | E41: =D41 -> 0.62216
B42: Thép tròn D28 CB400-V | C42: tấn | D42: 2.37492 | E42: =D42 -> 2.37492
B43: Bê tông 40MPa | C43: m3 | D43: 32 | E43: =D43 -> 32
B44: Ván khuôn | C44: m2 | D44: 115.62 | E44: =D44 -> 115.62
B45: DƯL | C45: toàn bộ | E45: =D45 -> 0
B46: Thép DƯL f15,2 | C46: tấn | D46: 0.269296 | E46: =D46 -> 0.269296
B47: ống gen D90/D97 | C47: m | D47: 83.701 | E47: =D47 -> 83.701
B48: ống gen nối D100/D107 | C48: m | D48: 2.4 | E48: =D48 -> 2.4
B49: ống thoát khí | C49: bộ | D49: 2 | E49: =D49 -> 2
B50: Neo cáp DƯL 12tao 15,2mm | C50: bộ | D50: 2 | E50: =D50 -> 2
B51: Vữa XM 45Mpa | C51: m3 | D51: 0.392 | E51: =D51 -> 0.392
A52: 3 | B52: Đốt K1' (dưới nước) | C52: đốt | D52: 1 | E52: =D52 -> 1
B53: Khối K1' (BT, CT, VK dưới nước) | C53: đốt | D53: 1 | E53: =D53 -> 1
B54: Thép tròn D14 CB400-V | C54: tấn | D54: 0.94457 | E54: =D54 -> 0.94457
B55: Thép tròn D16 CB400-V | C55: tấn | D55: 1.58433 | E55: =D55 -> 1.58433
B56: Thép tròn D18 CB400-V | C56: tấn | D56: 0.22 | E56: =D56 -> 0.22
B57: Thép tròn D20 CB400-V | C57: tấn | D57: 0.70642 | E57: =D57 -> 0.70642
B58: Thép tròn D22 CB400-V | C58: tấn | D58: 0.83786 | E58: =D58 -> 0.83786
B59: Thép tròn D25 CB400-V | C59: tấn | D59: 0.62216 | E59: =D59 -> 0.62216
B60: Thép tròn D28 CB400-V | C60: tấn | D60: 2.37492 | E60: =D60 -> 2.37492
B61: Bê tông 40MPa | C61: m3 | D61: 32 | E61: =D61 -> 32
B62: Ván khuôn | C62: m2 | D62: 115.62 | E62: =D62 -> 115.62
B63: DƯL | C63: toàn bộ | E63: =D63 -> 0
B64: Thép DƯL f15,2 | C64: tấn | D64: 0.269296 | E64: =D64 -> 0.269296
B65: ống gen D90/D97 | C65: m | D65: 83.701 | E65: =D65 -> 83.701
B66: ống gen nối D100/D107 | C66: m | D66: 3.2 | E66: =D66 -> 3.2
B67: ống thoát khí | C67: bộ | D67: 2 | E67: =D67 -> 2
B68: Neo cáp DƯL 12tao 15,2mm | C68: bộ | D68: 2 | E68: =D68 -> 2
B69: Vữa XM 45Mpa | C69: m3 | D69: 0.392 | E69: =D69 -> 0.392
A70: 4 | B70: Đốt K2 (dưới nước) | C70: đốt | D70: 1 | E70: =D70 -> 1
B71: Khối K2 (BT, CT, VK dưới nước) | C71: đốt | D71: 1 | E71: =D71 -> 1
B72: Thép tròn D14 CB400-V | C72: tấn | D72: 0.95648 | E72: =D72 -> 0.95648
B73: Thép tròn D16 CB400-V | C73: tấn | D73: 1.57874 | E73: =D73 -> 1.57874
B74: Thép tròn D18 CB400-V | C74: tấn | D74: 0.22 | E74: =D74 -> 0.22
B75: Thép tròn D20 CB400-V | C75: tấn | D75: 0.70642 | E75: =D75 -> 0.70642
B76: Thép tròn D22 CB400-V | C76: tấn | D76: 0.83786 | E76: =D76 -> 0.83786
B77: Thép tròn D25 CB400-V | C77: tấn | D77: 0.62216 | E77: =D77 -> 0.62216
B78: Thép tròn D28 CB400-V | C78: tấn | D78: 2.21764 | E78: =D78 -> 2.21764
B79: Bê tông 40MPa | C79: m3 | D79: 30.5 | E79: =D79 -> 30.5
B80: Ván khuôn | C80: m2 | D80: 110.92 | E80: =D80 -> 110.92
B81: ụ neo | C81: cái | D81: 2 | E81: =D81 -> 2
B82: Thép tròn D16 CB400-V | C82: tấn | D82: 0.12229 | E82: =D82 -> 0.12229
... B93: Vữa XM 45Mpa | C93: m3 | D93: 0.413 | E93: =D93 -> 0.413
A94: 5 | B94: Đốt K2' (dưới nước) | C94: đốt | D94: 1 | E94: =D94 -> 1
B95: Khối K2' (BT, CT, VK dưới nước) | C95: đốt | D95: 1 | E95: =D95 -> 1
B96: Thép tròn D14 CB400-V | C96: tấn | D96: 0.95648 | E96: =D96 -> 0.95648
B97: Thép tròn D16 CB400-V | C97: tấn | D97: 1.57874 | E97: =D97 -> 1.57874
B98: Thép tròn D18 CB400-V | C98: tấn | D98: 0.22 | E98: =D98 -> 0.22
B99: Thép tròn D20 CB400-V | C99: tấn | D99: 0.70642 | E99: =D99 -> 0.70642
B100: Thép tròn D22 CB400-V | C100: tấn | D100: 0.83786 | E100: =D100 -> 0.83786
B101: Thép tròn D25 CB400-V | C101: tấn | D101: 0.62216 | E101: =D101 -> 0.62216
B102: Thép tròn D28 CB400-V | C102: tấn | D102: 2.21764 | E102: =D102 -> 2.21764
B103: Bê tông 40MPa | C103: m3 | D103: 30.5 | E103: =D103 -> 30.5
B104: Ván khuôn | C104: m2 | D104: 110.92 | E104: =D104 -> 110.92
B105: DƯL | C105: toàn bộ | D105: 1 | E105: =D105 -> 1
B106: Thép DƯL f15,2 | C106: tấn | D106: 0.35525 | E106: =D106 -> 0.35525
... B111: Vữa XM 45Mpa | C111: m3 | D111: 0.364 | E111: =D111 -> 0.364
A112: 6 | B112: Đốt K3 (dưới nước) | C112: đốt | D112: 1 | E112: =D112 -> 1
B113: Khối K3 (BT, CT, VK dưới nước) | C113: đốt | D113: 1 | E113: =D113 -> 1
B114: Thép tròn D14 CB400-V | C114: tấn | D114: 0.93775 | E114: =D114 -> 0.93775
...

Sheet Bảng dien giai KL hoan cong
A1: BẢNG DIỄN GIẢI KHỐI LƯỢNG HOÀN CÔNG
A2: Dự án: Đầu tư xây dựng công trình cải tạo, nâng cấp Quốc lộ10, đoạn từ cầu Quán Toan đến cầu Nghìn, thành phố Hải Phòng, theo hình thức hợp đồng BOT.
A3: Gói thầu: Gói thầu số 08 “Thi công xây dựng công trình đoạn từ Km25+500 – Km36+900 và Km38+900 – Km58+200”.
A4: Hạng mục: "Ghi rõ Tấn của hạng mục công việc được giao như trong Phụ lục hợp đồng".
A5: Hợp đồng số: 20/2015/HĐTC-TASCO.HP ngày 18/7/2015.
A6: Phụ lục hợp đồng số: "Ghi rõ số phụ lục, ngày tháng năm giữa CĐT, nhà thầu chính và nhà thầu phụ".
A7: Chủ đầu tư: Công ty TNHH MTV Tasco Hải Phòng
A8: Nhà thầu: Tổng Công ty Thăng Long – CTCP.
A9: Nhà thầu phụ: "Ghi Tấn nhà thầu phụ".
A11: TT | B11: Tấn công việc | C11: Đơn vị tính | D11: Khối lượng | F11: Diễn giải khối lượng | G11: Ghi chú
D13: Thiết kế | E13: Hoàn công
A14: (1) | B14: (2) | C14: (3) | D14: (4) | E14: (5) | F14: (6) | G14: (7)
A15: I | B15: Kết cấu phần trên nhịp liên tục | E15: =D15 -> 0
A16: 1 | B16: Đốt K0 (dưới nước) | C16: đốt | E16: =D16 -> 0
B17: Khối Ko (BT, CT, VK dưới nước) | C17: đốt | D17: 1 | E17: =D17 -> 1
B18: Côt thép D14; CB400V | C18: tấn | D18: 4.72284 | E18: =D18 -> 4.72284
B19: Côt thép D16; CB400V | C19: tấn | D19: 9.26454 | E19: =D19 -> 9.26454
B20: Côt thép D18; CB400V | C20: tấn | D20: 0.8 | E20: =D20 -> 0.8
B21: Côt thép D20; CB400V | C21: tấn | D21: 2.5688 | E21: =D21 -> 2.5688
B22: Côt thép D22; CB400V | C22: tấn | D22: 3.04675 | E22: =D22 -> 3.04675
B23: Côt thép D25; CB400V | C23: tấn | D23: 12.82899 | E23: =D23 -> 12.82899
B24: Côt thép D28; CB400V | C24: tấn | D24: 9.55762 | E24: =D24 -> 9.55762
B25: Bê tông 40MPa | C25: m3 | D25: 197.9 | E25: =D25 -> 197.9
B26: Ván khuôn | C26: m2 | D26: 435.3 | E26: =D26 -> 435.3
B27: DƯL | C27: toàn bộ | E27: =D27 -> 0
B28: Thép DƯL f15,2 | C28: tấn | D28: 0.380182 | E28: =D28 -> 0.380182
B29: ống gen D90/D97 | C29: m | D29: 359.4 | E29: =D29 -> 359.4
B30: ống gen nối D100/D107 | C30: m | D30: 11.2 | E30: =D30 -> 11.2
B31: ống thoát khí | C31: bộ | D31: 4 | E31: =D31 -> 4
B32: Neo cáp DƯL 12tao 15,2mm | C32: bộ | D32: 4 | E32: =D32 -> 4
B33: Vữa XM 45Mpa | C33: m3 | D33: 1.683 | E33: =D33 -> 1.683
A34: 2 | B34: Đốt K1 (dưới nước) | C34: đốt | D34: 1 | E34: =D34 -> 1
B35: Khối K1 (BT, CT, VK dưới nước) | C35: đốt | D35: 1 | E35: =D35 -> 1
B36: Thép tròn D14 CB400-V | C36: tấn | D36: 0.94457 | E36: =D36 -> 0.94457
B37: Thép tròn D16 CB400-V | C37: tấn | D37: 1.58433 | E37: =D37 -> 1.58433
B38: Thép tròn D18 CB400-V | C38: tấn | D38: 0.22 | E38: =D38 -> 0.22
B39: Thép tròn D20 CB400-V | C39: tấn | D39: 0.70642 | E39: =D39 -> 0.70642
B40: Thép tròn D22 CB400-V | C40: tấn | D40: 0.83786 | E40: =D40 -> 0.83786
B41: Thép tròn D25 CB400-V | C41: tấn | D41: 0.62216 | E41: =D41 -> 0.62216
B42: Thép tròn D28 CB400-V | C42: tấn | D42: 2.37492 | E42: =D42 -> 2.37492
B43: Bê tông 40MPa | C43: m3 | D43: 32 | E43: =D43 -> 32
B44: Ván khuôn | C44: m2 | D44: 115.62 | E44: =D44 -> 115.62
B45: DƯL | C45: toàn bộ | E45: =D45 -> 0
B46: Thép DƯL f15,2 | C46: tấn | D46: 0.269296 | E46: =D46 -> 0.269296
B47: ống gen D90/D97 | C47: m | D47: 83.701 | E47: =D47 -> 83.701
B48: ống gen nối D100/D107 | C48: m | D48: 2.4 | E48: =D48 -> 2.4
B49: ống thoát khí | C49: bộ | D49: 2 | E49: =D49 -> 2
B50: Neo cáp DƯL 12tao 15,2mm | C50: bộ | D50: 2 | E50: =D50 -> 2
B51: Vữa XM 45Mpa | C51: m3 | D51: 0.392 | E51: =D51 -> 0.392
A52: 3 | B52: Đốt K1' (dưới nước) | C52: đốt | D52: 1 | E52: =D52 -> 1
B53: Khối K1' (BT, CT, VK dưới nước) | C53: đốt | D53: 1 | E53: =D53 -> 1
B54: Thép tròn D14 CB400-V | C54: tấn | D54: 0.94457 | E54: =D54 -> 0.94457
B55: Thép tròn D16 CB400-V | C55: tấn | D55: 1.58433 | E55: =D55 -> 1.58433
B56: Thép tròn D18 CB400-V | C56: tấn | D56: 0.22 | E56: =D56 -> 0.22
B57: Thép tròn D20 CB400-V | C57: tấn | D57: 0.70642 | E57: =D57 -> 0.70642
B58: Thép tròn D22 CB400-V | C58: tấn | D58: 0.83786 | E58: =D58 -> 0.83786
B59: Thép tròn D25 CB400-V | C59: tấn | D59: 0.62216 | E59: =D59 -> 0.62216
B60: Thép tròn D28 CB400-V | C60: tấn | D60: 2.37492 | E60: =D60 -> 2.37492
B61: Bê tông 40MPa | C61: m3 | D61: 32 | E61: =D61 -> 32
B62: Ván khuôn | C62: m2 | D62: 115.62 | E62: =D62 -> 115.62
B63: DƯL | C63: toàn bộ | E63: =D63 -> 0
B64: Thép DƯL f15,2 | C64: tấn | D64: 0.269296 | E64: =D64 -> 0.269296
B65: ống gen D90/D97 | C65: m | D65: 83.701 | E65: =D65 -> 83.701
B66: ống gen nối D100/D107 | C66: m | D66: 3.2 | E66: =D66 -> 3.2
B67: ống thoát khí | C67: bộ | D67: 2 | E67: =D67 -> 2
B68: Neo cáp DƯL 12tao 15,2mm | C68: bộ | D68: 2 | E68: =D68 -> 2
B69: Vữa XM 45Mpa | C69: m3 | D69: 0.392 | E69: =D69 -> 0.392
A70: 4 | B70: Đốt K2 (dưới nước) | C70: đốt | D70: 1 | E70: =D70 -> 1
B71: Khối K2 (BT, CT, VK dưới nước) | C71: đốt | D71: 1 | E71: =D71 -> 1
B72: Thép tròn D14 CB400-V | C72: tấn | D72: 0.95648 | E72: =D72 -> 0.95648
B73: Thép tròn D16 CB400-V | C73: tấn | D73: 1.57874 | E73: =D73 -> 1.57874
B74: Thép tròn D18 CB400-V | C74: tấn | D74: 0.22 | E74: =D74 -> 0.22
B75: Thép tròn D20 CB400-V | C75: tấn | D75: 0.70642 | E75: =D75 -> 0.70642
B76: Thép tròn D22 CB400-V | C76: tấn | D76: 0.83786 | E76: =D76 -> 0.83786
B77: Thép tròn D25 CB400-V | C77: tấn | D77: 0.62216 | E77: =D77 -> 0.62216
B78: Thép tròn D28 CB400-V | C78: tấn | D78: 2.21764 | E78: =D78 -> 2.21764
B79: Bê tông 40MPa | C79: m3 | D79: 30.5 | E79: =D79 -> 30.5
B80: Ván khuôn | C80: m2 | D80: 110.92 | E80: =D80 -> 110.92
B81: ụ neo | C81: cái | D81: 2 | E81: =D81 -> 2
B82: Thép tròn D16 CB400-V | C82: tấn | D82: 0.12229 | E82: =D82 -> 0.12229
... B93: Vữa XM 45Mpa | C93: m3 | D93: 0.413 | E93: =D93 -> 0.413
A94: 5 | B94: Đốt K2' (dưới nước) | C94: đốt | D94: 1 | E94: =D94 -> 1
B95: Khối K2' (BT, CT, VK dưới nước) | C95: đốt | D95: 1 | E95: =D95 -> 1
B96: Thép tròn D14 CB400-V | C96: tấn | D96: 0.95648 | E96: =D96 -> 0.95648
B97: Thép tròn D16 CB400-V | C97: tấn | D97: 1.57874 | E97: =D97 -> 1.57874
B98: Thép tròn D18 CB400-V | C98: tấn | D98: 0.22 | E98: =D98 -> 0.22
B99: Thép tròn D20 CB400-V | C99: tấn | D99: 0.70642 | E99: =D99 -> 0.70642
B100: Thép tròn D22 CB400-V | C100: tấn | D100: 0.83786 | E100: =D100 -> 0.83786
B101: Thép tròn D25 CB400-V | C101: tấn | D101: 0.62216 | E101: =D101 -> 0.62216
B102: Thép tròn D28 CB400-V | C102: tấn | D102: 2.21764 | E102: =D102 -> 2.21764
B103: Bê tông 40MPa | C103: m3 | D103: 30.5 | E103: =D103 -> 30.5
B104: Ván khuôn | C104: m2 | D104: 110.92 | E104: =D104 -> 110.92
B105: DƯL | C105: toàn bộ | D105: 1 | E105: =D105 -> 1
B106: Thép DƯL f15,2 | C106: tấn | D106: 0.35525 | E106: =D106 -> 0.35525
... B111: Vữa XM 45Mpa | C111: m3 | D111: 0.364 | E111: =D111 -> 0.364
A112: 6 | B112: Đốt K3 (dưới nước) | C112: đốt | D112: 1 | E112: =D112 -> 1
B113: Khối K3 (BT, CT, VK dưới nước) | C113: đốt | D113: 1 | E113: =D113 -> 1
B114: Thép tròn D14 CB400-V | C114: tấn | D114: 0.93775 | E114: =D114 -> 0.93775
B115: Thép tròn D16 CB400-V | C115: tấn | D115: 1.57176 | E115: =D115 -> 1.57176
B116: Thép tròn D18 CB400-V | C116: tấn | D116: 0.22 | E116: =D116 -> 0.22
...

Sheet CKN T4 
A1: BẢNG KHỐI LƯỢNG CỌC KHOAN NHỒI TRỤ T4
A3: STT | B3: Hạng mục | C3: Tên thanh | D3: Đường kính | E3: Chiều dài 1 thanh | F3: Số lượng | G3: KLĐV | H3: Tổng khối lượng | I3: Về sheet diễn giải | L3: STT | M3: Đường kính thép | N3: KLDV
D4: (mm) | E4: (mm) | F4: thanh | G4: kG/m | H4: kG
A5: 1 | B5: Khung A1 | C5: A1 | D5: 32 | E5: 10420 | F5: 14 | G5: =VLOOKUP(D5,$M$5:$N$14,2,0) -> 6.31 | H5: =ROUND(E5*F5*G5/1000,2) -> 920.5 | L5: 1 | M5: 10 | N5: 0.617
A6: 2 | C6: A2 | D6: 32 | E6: 11700 | F6: 14 | G6: =VLOOKUP(D6,$M$5:$N$14,2,0) -> 6.31 | H6: =ROUND(E6*F6*G6/1000,2) -> 1033.58 | L6: 2 | M6: 12 | N6: 0.888
A7: 3 | C7: Q4 | D7: 25 | E7: 3899 | F7: 5 | G7: =VLOOKUP(D7,$M$5:$N$14,2,0) -> 3.85 | H7: =ROUND(E7*F7*G7/1000,2) -> 75.06 | L7: 3 | M7: 14 | N7: 1.21
A8: 4 | C8: T5 | D8: 25 | E8: 600 | F8: 40 | G8: =VLOOKUP(D8,$M$5:$N$14,2,0) -> 3.85 | H8: =ROUND(E8*F8*G8/1000,2) -> 92.4 | L8: 4 | M8: 16 | N8: 1.58
A9: 5 | B9: Khung A2 | C9: A3 | D9: 28 | E9: 11700 | F9: 28 | G9: =VLOOKUP(D9,$M$5:$N$14,2,0) -> 4.83 | H9: =ROUND(E9*F9*G9/1000,2) -> 1582.31 | L9: 5 | M9: 18 | N9: 2
A10: 6 | C10: Q4A | D10: 25 | E10: 3924 | F10: 5 | G10: =VLOOKUP(D10,$M$5:$N$14,2,0) -> 3.85 | H10: =ROUND(E10*F10*G10/1000,2) -> 75.54 | L10: 6 | M10: 20 | N10: 2.47
A11: 7 | C11: T5 | D11: 25 | E11: 600 | F11: 40 | G11: =VLOOKUP(D11,$M$5:$N$14,2,0) -> 3.85 | H11: =ROUND(E11*F11*G11/1000,2) -> 92.4 | L11: 7 | M11: 22 | N11: 2.98
A12: 8 | B12: Khung A3 | C12: A4 | D12: 25 | E12: 11700 | F12: 28 | G12: =VLOOKUP(D12,$M$5:$N$14,2,0) -> 3.85 | H12: =ROUND(E12*F12*G12/1000,2) -> 1261.26 | L12: 8 | M12: 25 | N12: 3.85
A13: 9 | C13: Q4B | D13: 25 | E13: 3943 | F13: 6 | G13: =VLOOKUP(D13,$M$5:$N$14,2,0) -> 3.85 | H13: =ROUND(E13*F13*G13/1000,2) -> 91.08 | L13: 9 | M13: 28 | N13: 4.83
A14: 10 | C14: T5 | D14: 25 | E14: 600 | F14: 48 | G14: =VLOOKUP(D14,$M$5:$N$14,2,0) -> 3.85 | H14: =ROUND(E14*F14*G14/1000,2) -> 110.88 | L14: 10 | M14: 32 | N14: 6.31
A15: 11 | B15: Khung A4 | C15: A5 | D15: 22 | E15: 11700 | F15: 28 | G15: =VLOOKUP(D15,$M$5:$N$14,2,0) -> 2.98 | H15: =ROUND(E15*F15*G15/1000,2) -> 976.25
A16: 12 | C16: Q4C | D16: 25 | E16: 3962 | F16: 5 | G16: =VLOOKUP(D16,$M$5:$N$14,2,0) -> 3.85 | H16: =ROUND(E16*F16*G16/1000,2) -> 76.27 | M16: 4
A17: 13 | C17: T5 | D17: 25 | E17: 600 | F17: 40 | G17: =VLOOKUP(D17,$M$5:$N$14,2,0) -> 3.85 | H17: =ROUND(E17*F17*G17/1000,2) -> 92.4 | M17: 6 | N17: 0.222
A18: 14 | B18: Khung A5 | C18: A6 | D18: 20 | E18: 11700 | F18: 28 | G18: =VLOOKUP(D18,$M$5:$N$14,2,0) -> 2.47 | H18: =ROUND(E18*F18*G18/1000,2) -> 809.17 | M18: 8 | N18: 0.395
A19: 15 | C19: Q4D | D19: 25 | E19: 3974 | F19: 5 | G19: =VLOOKUP(D19,$M$5:$N$14,2,0) -> 3.85 | H19: =ROUND(E19*F19*G19/1000,2) -> 76.5 | M19: 10 | N19: 0.617
A20: 16 | C20: T5 | D20: 25 | E20: 600 | F20: 40 | G20: =VLOOKUP(D20,$M$5:$N$14,2,0) -> 3.85 | H20: =ROUND(E20*F20*G20/1000,2) -> 92.4
A21: 17 | B21: Khung A6 | C21: A7 | D21: 20 | E21: 5850 | F21: 28 | G21: =VLOOKUP(D21,$M$5:$N$14,2,0) -> 2.47 | H21: =ROUND(E21*F21*G21/1000,2) -> 404.59
A22: 18 | C22: Q4D | D22: 25 | E22: 3974 | F22: 3 | G22: =VLOOKUP(D22,$M$5:$N$14,2,0) -> 3.85 | H22: =ROUND(E22*F22*G22/1000,2) -> 45.9
A23: 19 | C23: T5 | D23: 25 | E23: 600 | F23: 24 | G23: =VLOOKUP(D23,$M$5:$N$14,2,0) -> 3.85 | H23: =ROUND(E23*F23*G23/1000,2) -> 55.44
A24: 20 | B24: Khung A7 | C24: B1 | D24: 20 | E24: 7036 | F24: 14 | G24: =VLOOKUP(D24,$M$5:$N$14,2,0) -> 2.47 | H24: =ROUND(E24*F24*G24/1000,2) -> 243.3
A25: 21 | C25: B2 | D25: 20 | E25: 8316 | F25: 14 | G25: =VLOOKUP(D25,$M$5:$N$14,2,0) -> 2.47 | H25: =ROUND(E25*F25*G25/1000,2) -> 287.57
A26: 22 | C26: Q4D | D26: 25 | E26: 3974 | F26: 3 | G26: =VLOOKUP(D26,$M$5:$N$14,2,0) -> 3.85 | H26: =ROUND(E26*F26*G26/1000,2) -> 45.9
A27: 23 | C27: T5 | D27: 25 | E27: 600 | F27: 24 | G27: =VLOOKUP(D27,$M$5:$N$14,2,0) -> 3.85 | H27: =ROUND(E27*F27*G27/1000,2) -> 55.44
A28: 24 | C28: Q6 | D28: 25 | E28: 2827 | F28: 1 | G28: =VLOOKUP(D28,$M$5:$N$14,2,0) -> 3.85 | H28: =ROUND(E28*F28*G28/1000,2) -> 10.88
A29: 25 | B29: Móc lồng | C29: C1 | D29: 25 | E29: 1250 | F29: 28 | G29: =VLOOKUP(D29,$M$5:$N$14,2,0) -> 3.85 | H29: =ROUND(E29*F29*G29/1000,2) -> 134.75
A30: 26 | B30: Cốt đai | C30: X1 | D30: 10 | E30: 1676831 | F30: 1 | G30: =VLOOKUP(D30,$M$5:$N$14,2,0) -> 0.617 | H30: =ROUND(E30*F30*G30/1000,2) -> 1034.6
A31: 27 | B31: Thép bản | C31: 50x100x10 | E31: 100 | F31: 420 | G31: 3.925 | H31: =ROUND(E31*F31*G31/1000,2) -> 164.85
A33: Ống kiểm tra
A35: STT | B35: Quy cách | D35: Dài | E35: Số lượng | F35: KLĐV | G35: Tổng KL
D36: mm | F36: kG/m | G36: m | H36: kG
A37: 1 | B37: Ống D59,0/65,6 | D37: 65230 | E37: 3 | G37: =D37*E37/1000 -> 195.69
A38: 2 | B38: Ống D113,5/119,5 | D38: 64430 | E38: 1 | G38: =D38*E38/1000 -> 64.43
A39: 3 | B39: Thép bản 205x118x5 | D39: 205 | E39: 66 | F39: 4.632 | H39: =D39*E39*F39/1000 -> 62.67096
A40: 4 | B40: Thép bản 205x180x5 | D40: 205 | E40: 22 | F40: 7.065 | H40: =D40*E40*F40/1000 -> 31.86315
A41: 5 | B41: Nút ống D59,5/65,9 | E41: 6
A42: 6 | B42: Nút ống D113,5/119,5 | E42: 2
A43: 7 | B43: D10 | D43: 330 | E43: 96 | F43: 0.617 | H43: =F43*E43*D43/1000 -> 19.54656
B44: D10 | D44: 340 | E44: 32 | F44: 0.617 | H44: =F44*E44*D44/1000 -> 6.71296
B47: Tổng hợp
C49: STT | D49: Đường kính | E49: Khối lượng 1 cọc | F49: Khối lượng 6 cọc | G49: Ghi chú
C50: 1 | D50: 32 | E50: =SUMIF($D$5:$D$30,D50,$H$5:$H$30) -> 1954.08 | F50: =ROUND(E50*6/1000,2) -> 11.72
C51: 2 | D51: 28 | E51: =SUMIF($D$5:$D$30,D51,$H$5:$H$30) -> 1582.31 | F51: =ROUND(E51*6/1000,2) -> 9.49
C52: 3 | D52: 25 | E52: =SUMIF($D$5:$D$30,D52,$H$5:$H$30) -> 2484.5 | F52: =ROUND(E52*6/1000,2) -> 14.91
C53: 4 | D53: 22 | E53: =SUMIF($D$5:$D$30,D53,$H$5:$H$30) -> 976.25 | F53: =ROUND(E53*6/1000,2) -> 5.86
C54: 5 | D54: 20 | E54: =SUMIF($D$5:$D$30,D54,$H$5:$H$30) -> 1744.63 | F54: =ROUND(E54*6/1000,2) -> 10.47
C55: 6 | D55: 10 | E55: =SUMIF($D$5:$D$30,D55,$H$5:$H$30)+H43+H44 -> 1060.8595 | F55: =ROUND(E55*6/1000,2) -> 6.37
C56: 7 | D56: Thép bản | E56: =H31+H39+H40 -> 259.38411 | F56: =ROUND(E56*6/1000,2) -> 1.56
C57: 8

Sheet TC T4
A1: STT | B1: H¹ng môc | C1: §¬n vÞ | D1: T4 | E1: T7
A2: 1 | B2: Cao ®é ®Ønh bÖ | C2: m | D2: =+'[2]Bang cao do T4, T7'!H5 -> 1.732 | E2: =+'[2]Bang cao do T4, T7'!H6 -> 0.231
A3: 2 | B3: Cao ®é ®¸y bÖ | C3: m | D3: =+'[2]Bang cao do T4, T7'!I5 -> -0.768 | E3: =+'[2]Bang cao do T4, T7'!I6 -> -2.269
A4: 3 | B4: Cao ®é san ñi | C4: m | D4: 2.7 | E4: 2.7
A5: 4 | B5: Cao ®é mòi cäc khoan nhåi | C5: m | D5: =+D3-D6 -> -64.768 | E5: =+E3-E6 -> -65.269
A6: 5 | B6: ChiÒu dµi dù kiÕn cäc khoan nhåi | C6: m | D6: =+'[2]Bang cao do T4, T7'!L5 -> 64 | E6: =+'[2]Bang cao do T4, T7'!L6 -> 63
A7: 6 | B7: Cao ®é mÆt ®Êt thiªn nhiªn TB | C7: m | D7: 2.14 | E7: =+'[2]Bang cao do T4, T7'!G6 -> 2
A8: 7 | B8: Sè cäc khoan nhåi D=1500 | C8: cäc | D8: 6 | E8: 6
B9: ChiÒu cao ®µo ®Êt trung b×nh | C9: m | D9: =+D4-D3+D10 -> 3.968 | E9: =+E4-E3+0.5 -> 5.469
B10: ChiÒu dµy ®æ bª t«ng bÞt ®¸y | C10: m | D10: 0.5 | E10: 0.5
A11: 7 | B11: Cao ®é gÆp c¸t chÆt, sÐt dÎo cøng | C11: m | D11: -61.42
A12: 7 | B12: Cao ®é miÖng èng v¸ch | C12: m | D12: 2.7 | E12: 2.7
A13: 8 | B13: Cao ®é gÆp ®¸ cÊp III (kh«ng cã) | C13: m | D13: 0 | E13: 1
B14: ChiÒu dµi hè mãng ®¸y | C14: m | D14: =11+1.18*2 -> 13.36 | E14: =11+1.18*2 -> 13.36
B15: ChiÒu réng hè mãng ®¸y | C15: m | D15: =7.5+1.18*2 -> 9.86 | E15: =7.5+1.18*2 -> 9.86
B16: S®¸y | C16: m2 | D16: =+D15*D14 -> 131.7296 | E16: =+E15*E14 -> 131.7296
B17: ChiÒu dµi hè mãng ®Ønh bÖ | C17: m | D17: =11+1.18*2 -> 13.36 | E17: =11+1.18*2 -> 13.36
B18: chiÒu réng hè mãng ®Ønh bÖ | C18: m | D18: =7.5+1.18*2 -> 9.86 | E18: =7.5+1.18*2 -> 9.86
B19: S ®Ønh bÖ | C19: m2 | D19: =+D18*D17 -> 131.7296 | E19: =+E18*E17 -> 131.7296
B20: ChiÒu dµi hè mãng tù nhiªn | C20: m | D20: =11+1.18*2 -> 13.36 | E20: =11+1.18*2 -> 13.36
B21: chiÒu réng hè mãng tù nhiªn | C21: m | D21: =7.5+1.18*2 -> 9.86 | E21: =7.5+1.18*2 -> 9.86
B22: S tù nhiªn | C22: m2 | D22: =+D21*D20 -> 131.7296 | E22: =+E21*E20 -> 131.7296
B23: chiÒu dµi san ñi | C23: m | D23: 17.296 | E23: 17.296
B24: ChiÒu réng san ñi | C24: m | D24: 16.772 | E24: 16.772
B25: S san ñi | C25: m | D25: =+ROUND(D24*D23,2) -> 290.09 | E25: =+ROUND(E24*E23,2) -> 290.09
B26: H chiÒu s©u khoan ®Êt (c¸c lo¹i ®Êt dc tÝnh trung) | C26: m | D26: =+D4-D5-D27 -> 64.12 | E26: =+E4-E5 -> 67.969
B27: H chiÒu s©u khoan c¸t lÉn sái | C27: m | D27: =+D11-D5 -> 3.348
C28: m | D28: 0 | E28: 0
B29: CHiÒu dµi cäc v¸n thep, cäc ®Þnh vÞ | C29: m | D29: 6 | E29: 6
B30: Sè cäc v¸n thÐp | C30: c¸i | D30: =+(23+31)*2+4 -> 112 | E30: =+(23+31)*2+4 -> 112
B31: chiÒu dµi ®ãng cäc v¸n thÐp ngµm trong ®Êt | C31: m | D31: 5.7 | E31: 5.7
B32: Sè cäc ®Þnh vÞ 2I400 | C32: c¸i | D32: =3*2+2*2 -> 10 | E32: =3*2+2*2 -> 10
B33: chiÒu dµi ®ãng cäc ®Þnh vÞ ngµm trong ®Êt | C33: m | D33: =D31 -> 5.7 | E33: =E31 -> 5.7
B34: ChiÒu dµi èng v¸ch | C34: m | D34: 10 | E34: 10
B35: chiÒu dµi h¹ èng v¸ch | C35: m | D35: =+D34 -> 10 | E35: =+E34 -> 10
A38: b¶ng tæng hîp khèi l­îng thi c«ng trô
A39: STT | B39: H¹ng môc | C39: §¬n vÞ | D39: Khèi l­îng
D40: trô T4 | E40: trô T7
A41: 1 | B41: §¾p ®Êt t¹o mÆt b»ng thi c«ng | C41: m3 | D41: =+ROUND(1/3*ABS(D4-D7)*(D22+D25+SQRT(D22*D25)),2) -> 115.23 | E41: =+ROUND(1/3*ABS(E4-E7)*(E22+E25+SQRT(E22*E25)),2) -> 144.04
A42: =+A41+1 -> 2 | B42: Thi c«ng cäc khoan nhåi
A43: - | B43: Khoan sÐt dÎo vµ c¸t chÆt cäc khoan nhåi D=1.5m | C43: m | D43: =+ROUND($D$8*D26,2) -> 384.72 | E43: =+ROUND($D$8*E26,2) -> 407.81
A44: - | B44: Khoan c¸t sái cäc khoan nhåi D=1.5m | C44: m | D44: =+ROUND($D$8*D27,2) -> 20.09 | E44: =+ROUND($D$8*E27,2) -> 0
A45: - | B45: èng v¸ch D=1.6m, dµy 10mm, L=10m (tÝnh 1 èng vµ lu©n chuyÓn 6 lÇn) | C45: T | D45: =+PI()*(0.8^2-0.79^2)*7850/1000*D34 -> 3.9211789 | E45: =+PI()*(0.8^2-0.79^2)*7850/1000*E34 -> 3.9211789
A46: - | B46: H¹/nhæ èng v¸ch t¹m D=1.6m, L=10m | C46: lÇn/m | D46: =D8&"/"&D8*D35 -> 6/60 | E46: =E8&"/"&E8*E35 -> 6/60
A47: - | B47: Khoan BT kiÓm tra mòi cäc | C47: cäc/m | D47: =D8&"/"&D8*1 -> 6/6 | E47: =E8&"/"&E8*1 -> 6/6
A48: - | B48: Siªu ©m cäc (6 mÆt c¾t/ cäc) | C48: cäc/m | D48: =D8&"/"&D8*(D6+1.43) -> 6/392,58 | E48: =E8&"/"&E8*(E6+1.43) -> 6/386,58
A49: - | B49: §Ëp bªt«ng ®Çu cäc | C49: m3 | D49: =ROUND(PI()*0.75^2*1.28*D8,2) -> 13.57 | E49: =ROUND(PI()*0.75^2*1.28*E8,2) -> 13.57
A50: - | B50: V÷a Bent«nite gi÷ æn ®Þnh lç khoan (thu håi 60%) | C50: m3 | D50: =ROUND(0.75^2*PI()*(D12-D5)*D8,2) -> 715.35 | E50: =ROUND(0.75^2*PI()*(E12-E5)*E8,2) -> 720.67
A51: - | B51: ThÝ nghiÖm PDA | C51: cäc | D51: 1 | E51: 1
A52: =+A42+1 -> 3 | B52: Thi c«ng mãng
A53: - | B53: §µo ®Êt cÊp II | D53: =+ROUND(1/3*D9*(D16+D22+SQRT(D16*D22))-PI()*0.75^2*D8*D9,2) -> 480.63 | E53: =+ROUND(1/3*E9*(E16+E22+SQRT(E16*E22))-PI()*0.75^2*E8*E9,2) -> 662.44
A54: - | B54: §¾p bï hè mãng K95 | C54: m3 | D54: =ROUND(D19*3-7.5*11*2.5,2) -> 188.94 | E54: =ROUND(E19*3-7.5*11*2.5,2) -> 188.94
A55: - | B55: Bª t«ng ®Öm mãng 20MPa | C55: m3 | D55: =+ROUND(D22*D10-PI()*0.75^2*D8*D10,2) -> 60.56 | E55: =+ROUND(E22*E10-PI()*0.75^2*E8*E10,2) -> 60.56
A56: - | B56: Cäc v¸n thÐp Lasen IV,L=6m | C56: cäc/m/T | D56: =D30&"/"&ROUND(D30*D29,2)&"/"&ROUND(D30*0.074*D29,2) -> 112/672/49,73 | E56: =E30&"/"&ROUND(E30*E29,2)&"/"&ROUND(E30*0.074*E29,2) -> 112/672/49,73
A57: - | B57: §ãng vµ nhæ cäc v¸n thÐp ngµm trong ®Êt(Lđãng/nhæ =5.7m ) | C57: cäc/m | D57: =D30&"/"&ROUND(D30*D31,2) -> 112/638,4 | E57: =E30&"/"&ROUND(E30*E31,2) -> 112/638,4
A58: - | B58: Cäc ®Þnh vÞ 2I300, L=6m | C58: cäc/m/T | D58: =D32&"/"&ROUND(D32*D29,2)&"/"&ROUND(D32*D29*2*67.6/1000,2) -> 10/60/8,11 | E58: =E32&"/"&ROUND(E32*E29,2)&"/"&ROUND(E32*E29*2*67.6/1000,2) -> 10/60/8,11
A59: - | B59: §ãng vµ nhæ cäc ®Þnh vÞ 2I300 ngµm trong ®Êt(Lđãng/nhæ =5.7m) | C59: cäc/m | D59: =D32&"/"&D32*D33 -> 10/57 | E59: =E32&"/"&E32*E33 -> 10/57
A60: - | B60: ThÐp h×nh v¨ng chèng L75x75x6 | C60: T | D60: =ROUND((7+4)*2*(2.2+1.6)*6.85/1000,2) -> 0.57 | E60: =ROUND((7+4)*2*(2.2+1.6)*6.85/1000,2) -> 0.57
A61: - | B61: NÑp ®øng [ ] 100 | C61: T | D61: =ROUND((7+4)*2*2.5*10.3*2/1000,2) -> 1.13 | E61: =ROUND((7+4)*2*2.5*10.3*2/1000,2) -> 1.13
A62: - | B62: B¬m n­íc hè mãng | C62: ca | D62: 5 | E62: 5
A63: - | B63: Gç ®Öm | C63: m3 | D63: 1 | E63: 1
A64: =+A52+1 -> 4 | B64: Thi c«ng th©n, xµ mò
A65: - | B65: L¾p dùng+th¸o dì ®µ gi¸o thÐp h×nh I200, L=4m, L=7.5m | C65: m/T | D65: =6*(8.5+4)*2&"/"&ROUND(6*(8.5+4)*2*27.2/1000,2) -> 150/4,08 | E65: =7*(8.5+4)*2&"/"&ROUND(7*(8.5+4)*2*27.2/1000,2) -> 175/4,76 | J65: =9/1.5 -> 6
A66: - | B66: L¾p dùng+th¸o dì ®µ gi¸o thÐp h×nh [ ] 300, L=7.5m (L=9m) | C66: m/T | D66: =(3+4)*2*7.5&"/"&ROUND((3+4)*2*7.5*31.8*2/1000,2) -> 105/6,68 | E66: =(3+4)*2*9&"/"&ROUND((3+4)*2*9*31.8*2/1000,2) -> 126/8,01
A67: - | B67: ThÐp h×nh v¨ng chèng I200, L=0.5m | C67: T | D67: =ROUND(10*8*0.5*27.2/1000,2) -> 1.09 | E67: =ROUND(10*8*0.5*27.2/1000,2) -> 1.09
A68: - | B68: NÑp ®øng ][ 100, L=7.5m (L=9m) | C68: T | D68: =ROUND(10*7.5*10.3*2/1000,2) -> 1.55 | E68: =ROUND(10*9*10.3*2/1000,2) -> 1.85
A69: - | B69: ThÐp h×nh ®µ gi¸o xµ mò | C69: T | D69: 6.7 | E69: 6.7
A70: - | B70: B¶n chê, thÐp b¶n phôc vô thi c«ng | C70: T | D70: 3.1 | E70: 3.1
A71: - | B71: Lan can ®Þnh h×nh | C71: T | D71: =+ROUND([2]T5!I34/1000,2) -> 0.71 | E71: =+D71 -> 0.71
A72: - | B72: ThÐp trßn xuyªn t¸o D16, L=3m, L=7m (KH hoµn toµn) | C72: kg | D72: =+ROUND((4*3+7.5*1)*1.58*8,2) -> 246.48 | E72: =+ROUND((4*3+7.5*1)*1.58*9,2) -> 277.29
A73: - | B73: Gç phôc vô thi c«ng | C73: m3 | D73: 2 | E73: 2

Sheet CKN M0
A2: BẢNG KHỐI LƯỢNG CỌC KHOAN NHỒI MỐ M0
A4: Hạng mục | B4: Tên thanh | C4: Đường kính | D4: Chiều dài | E4: Sô lượng thanh | F4: KLĐV | G4: Tổng chiều dài | H4: Tổng khối lượng | I4: Ghi chú | K4: Quaylai
C5: (mm) | D5: (mm) | F5: kG/m | G5: m | H5: kG
A6: Cọc khoan nhồi mố M0 | B6: A1 | C6: 28 | D6: 11700 | E6: 12 | F6: =VLOOKUP(C6,'CKN T4 '!$M$5:$N$14,2,0) -> 4.83 | G6: =D6*E6/1000 -> 140.4 | H6: =ROUND(F6*G6,2) -> 678.13
B7: A2 | C7: 28 | D7: 10580 | E7: 12 | F7: =VLOOKUP(C7,'CKN T4 '!$M$5:$N$14,2,0) -> 4.83 | G7: =D7*E7/1000 -> 126.96 | H7: =ROUND(F7*G7,2) -> 613.22
B8: A3 | C8: 25 | D8: 11700 | E8: 24 | F8: =VLOOKUP(C8,'CKN T4 '!$M$5:$N$14,2,0) -> 3.85 | G8: =D8*E8/1000 -> 280.8 | H8: =ROUND(F8*G8,2) -> 1081.08
B9: A4 | C9: 22 | D9: 11700 | E9: 24 | F9: =VLOOKUP(C9,'CKN T4 '!$M$5:$N$14,2,0) -> 2.98 | G9: =D9*E9/1000 -> 280.8 | H9: =ROUND(F9*G9,2) -> 836.78
B10: A5 | C10: 20 | D10: 11700 | E10: 48 | F10: =VLOOKUP(C10,'CKN T4 '!$M$5:$N$14,2,0) -> 2.47 | G10: =D10*E10/1000 -> 561.6 | H10: =ROUND(F10*G10,2) -> 1387.15
B11: B1 | C11: 20 | D11: 9240 | E11: 12 | F11: =VLOOKUP(C11,'CKN T4 '!$M$5:$N$14,2,0) -> 2.47 | G11: =D11*E11/1000 -> 110.88 | H11: =ROUND(F11*G11,2) -> 273.87
B12: B2 | C12: 20 | D12: 10360 | E12: 12 | F12: =VLOOKUP(C12,'CKN T4 '!$M$5:$N$14,2,0) -> 2.47 | G12: =D12*E12/1000 -> 124.32 | H12: =ROUND(F12*G12,2) -> 307.07
B13: B3 | C13: 18 | D13: 1455 | E13: 4 | F13: =VLOOKUP(C13,'CKN T4 '!$M$5:$N$14,2,0) -> 2 | G13: =D13*E13/1000 -> 5.82 | H13: =ROUND(F13*G13,2) -> 11.64
B14: O1 | C14: 10 | D14: 1207250 | E14: 1 | F14: =VLOOKUP(C14,'CKN T4 '!$M$5:$N$14,2,0) -> 0.617 | G14: =D14*E14/1000 -> 1207.25 | H14: =ROUND(F14*G14,2) -> 744.87
B15: N5B | C15: 25 | D15: 3125 | E15: 5 | F15: =VLOOKUP(C15,'CKN T4 '!$M$5:$N$14,2,0) -> 3.85 | G15: =D15*E15/1000 -> 15.625 | H15: =ROUND(F15*G15,2) -> 60.16
B16: N5C | C16: 25 | D16: 3135 | E16: 5 | F16: =VLOOKUP(C16,'CKN T4 '!$M$5:$N$14,2,0) -> 3.85 | G16: =D16*E16/1000 -> 15.675 | H16: =ROUND(F16*G16,2) -> 60.35
B17: N5D | C17: 25 | D17: 3145 | E17: 6 | F17: =VLOOKUP(C17,'CKN T4 '!$M$5:$N$14,2,0) -> 3.85 | G17: =D17*E17/1000 -> 18.87 | H17: =ROUND(F17*G17,2) -> 72.65
B18: N5E | C18: 25 | D18: 3155 | E18: 13 | F18: =VLOOKUP(C18,'CKN T4 '!$M$5:$N$14,2,0) -> 3.85 | G18: =D18*E18/1000 -> 41.015 | H18: =ROUND(F18*G18,2) -> 157.91
... B21: A6 | C21: 12 | D21: 420 | E21: 87 | F21: =VLOOKUP(C21,'CKN T4 '!$M$5:$N$14,2,0) -> 0.888 | G21: =D21*E21/1000 -> 36.54 | H21: =ROUND(F21*G21,2) -> 32.45
B22: N4 | C22: Thép bản 370x60x8 | E22: 116 | F22: 1.394 | H22: =E22*F22 -> 161.704
A24: Tổng hợp | C24: 1 cọc | D24: 5 cọc
A25: HẠNG MỤC | B25: Ống thép D50/57 | C25: =(62-0.2+1.5)*3 -> 189.9 | D25: =ROUND(C25*5,2) -> 949.5 | I25: L | J25: 62
B26: Ống thép 107/114 | C26: =(62-1+1.5) -> 62.5 | D26: =ROUND(C26*5,2) -> 312.5
B27: Cóc nối M16,L0,226 | C27: 72 | D27: =ROUND(C27*5,2) -> 360
B28: Cóc nối M16, L=0,213 | C28: 72 | D28: =ROUND(C28*5,2) -> 360
B29: Cóc nối M16, L=0,207 | C29: 216 | D29: =ROUND(C29*5,2) -> 1080
B30: Bản thép 106x60x14 | C30: 50.33 | D30: =ROUND(C30*5,2) -> 251.65
B31: Bản thép 104x60x14 | C31: 49.38 | D31: =ROUND(C31*5,2) -> 246.9
B32: Bản thép 100x30x14 | C32: 142.43 | D32: =ROUND(C32*5,2) -> 712.15
B33: Bản thép 370x60x8 | C33: 161.72 | D33: =ROUND(C33*5,2) -> 808.6
B34: Bịt đầu M1 | C34: 2 | D34: =ROUND(C34*5,2) -> 10
B35: Bịt đầu M2 | C35: 6 | D35: =ROUND(C35*5,2) -> 30
B36: D10 | C36: =SUMIF($C$6:$C$21,RIGHT(B36,2),$H$6:$H$21)/1000 -> 0.74487 | D36: =ROUND(C36*5,2) -> 3.72
B37: D12 | C37: =SUMIF($C$6:$C$21,RIGHT(B37,2),$H$6:$H$21)/1000 -> 0.04533 | D37: =ROUND(C37*5,2) -> 0.23
B38: D16 | C38: =SUMIF($C$6:$C$21,RIGHT(B38,2),$H$6:$H$21)/1000 -> 0.00346 | D38: =ROUND(C38*5,2) -> 0.02
B39: D18 | C39: =SUMIF($C$6:$C$21,RIGHT(B39,2),$H$6:$H$21)/1000 -> 0.01164 | D39: =ROUND(C39*5,2) -> 0.06
B40: D20 | C40: =SUMIF($C$6:$C$21,RIGHT(B40,2),$H$6:$H$21)/1000 -> 1.96809 | D40: =ROUND(C40*5,2) -> 9.84
B41: D22 | C41: =SUMIF($C$6:$C$21,RIGHT(B41,2),$H$6:$H$21)/1000 -> 0.83678 | D41: =ROUND(C41*5,2) -> 4.18
B42: D25 | C42: =SUMIF($C$6:$C$21,RIGHT(B42,2),$H$6:$H$21)/1000 -> 1.43215 | D42: =ROUND(C42*5,2) -> 7.16
B43: D28 | C43: =SUMIF($C$6:$C$21,RIGHT(B43,2),$H$6:$H$21)/1000 -> 1.29135 | D43: =ROUND(C43*5,2) -> 6.46

Sheet TC mo M0
A1: STT | B1: H¹ng môc | C1: §¬n vÞ | D1: M0 | E1: M12 | H1: Trô T11(H=11.53m) | I1: sè l­îng | J1: träng l­îng
A2: 1 | B2: Cao ®é mÆt ®Êt thiªn nhiªn sau san ñi (C§) | C2: m | D2: 2.241 | E2: 2.52 | I2: =4*(3+2+3) -> 32 | J2: 97 | K2: =+J2*I2 -> 3104 | M2: Quay lai
A3: 2 | B3: Cao ®é ®Ønh bÖ (C§1) | C3: m | D3: 2.241 | E3: 0.815 | H3: - Thanh cét chèng | I3: =(3+4*2) -> 11 | J3: 11.87 | K3: =+I3*J3 -> 130.57
A4: 3 | B4: Cao ®é ®¸y bÖ (C§2) | C4: m | D4: =+D3-D7 -> 0.241 | E4: =+E3-E7 -> -1.185 | H4: Tæng | K4: =+K3+K2 -> 3234.57
A5: 4 | B5: ChiÒu réng bÖ mãng (Ab) | C5: m | D5: 6 | E5: 6
A6: 5 | B6: ChiÒu dµi bÖ mãng (Bb) | C6: m | D6: 11.7 | E6: 11.7
A7: 6 | B7: ChiÒu cao bÖ mãng (Hb) | C7: m | D7: 2 | E7: 2
A8: 6 | B8: ChiÒu dµi dù kiÕn cäc khoan nhåi (L) | C8: m | D8: 62 | E8: 61.5 | F8: =+E8 -> 61.5
A9: 7 | B9: Cao ®é mòi cäc khoan nhåi (C§3) | C9: m | D9: =+D4-D8 -> -61.759 | E9: =+E4-E8 -> -62.685
A10: 8 | B10: Sè cäc khoan nhåi D=1.2m | C10: cäc | D10: 5 | E10: 5 | F10: =+SUM(D10:E10) -> 10
A11: 9 | B11: Cao ®é mòi khoan gÆp cuéi sái | C11: m | D11: 0 | E11: 0
B12: Cao ®é mòi khoan gÆp ®¸ cÊp IV | C12: m | D12: 0 | E12: 0
B13: Cao ®é mòi khoan gÆp ®¸ cÊp III | C13: m | D13: 0 | E13: 0
A14: 10 | B14: ChiÒu cao ®µo ®Êt trung b×nh (Htb) | C14: m | D14: =+ROUND(ABS(D3-D4)+D21+D15,3) -> 2.1 | E14: =+ROUND(ABS(E2-E4)+E21+E15,3) -> 3.805 | L14: =4/1.5 -> 2.6666667
B15: ChiÒu dµy líp bª t«ng bÞt ®¸y | C15: m | D15: 0 | E15: 0
A16: S | B16: ChiÒu réng hè mãng (Ah) | C16: m | D16: =8.2+0.75*0.4 -> 8.5 | E16: =8.2+0.75*0.4 -> 8.5 | H16: =16/0.4 -> 40
B17: ChiÒu dµi hè mãng (Bh) | C17: m | D17: =13.8+0.75*0.4 -> 14.1 | E17: =13.8+0.75*0.4 -> 14.1
B18: DiÖn tich hè mãng (S®) | C18: m2 | D18: =+ROUND(D16*D17,2) -> 119.85 | E18: =+ROUND(E16*E17,2) -> 119.85
A19: Sbt | B19: ChiÒu réng líp bª t«ng ®Öm (Abt) | C19: m | D19: =+D5+2*0.1 -> 6.2 | E19: =+E5+2*0.1 -> 6.2
B20: ChiÒu dµi líp bª t«ng ®Öm (Bbt) | C20: m | D20: =+D6+2*0.1 -> 11.9 | E20: =+E6+2*0.1 -> 11.9
B21: ChiÒu dµy líp bª t«ng ®Öm (Hbt) | C21: m | D21: 0.1 | E21: 0.1
B22: ThÓ tÝch líp bª t«ng ®Öm (Sbt) | C22: m2 | D22: =+ROUND(D19*D20*D21,2) -> 7.38 | E22: =+ROUND(E19*E20*E21,2) -> 7.38
A23: 11 | B23: ChiÒu dµi khoan ®Êt (H®) | C23: m | D23: =+ABS(D2-D9) -> 64 | E23: =+ABS(E2-E9) -> 65.205
A24: 12 | B24: ChiÒu s©u khoan cuéi sái (Hcs) | C24: m
A25: 13 | B25: ChiÒu s©u khoan ®¸ cÊp IV | C25: m
A26: 14 | B26: ChiÒu s©u khoan ®¸ cÊp III | C26: m | D26: 0 | E26: 0
A27: 15 | B27: DiÖn tÝch ®· san ñi t¹o mÆt b»ng | C27: m2 | D27: =(D16+2*0.75*(D2-D4+D21+0.4))*(D17+0.75*(D2-D4+D21+0.4)) -> 195.69375 | E27: =17.256*14.358 -> 247.76165
B28: DiÖn tÝch ®Ønh bÖ | C28: m2 | D28: =(D16+2*0.75*(D7+D21+0.4))*(D17+0.75*(D7+D21+0.4)) -> 195.69375 | E28: =(E16+2*0.75*(E7+E21+0.4))*(E17+0.75*(E7+E21+0.4)) -> 195.69375
A29: 16 | B29: ChiÒu dµi èng v¸ch | C29: m | D29: 8 | E29: =+D29 -> 8 | F29: =+E29 -> 8
A30: 17 | B30: DiÖn tich R·nh tho¸t n­íc (Sr) | C30: m2 | D30: 0.3 | E30: =+D30 -> 0.3
B31: ChiÒu dµi R·nh tho¸t n­íc | C31: m | D31: =13.4*2+7.8 -> 34.6 | E31: =+D31 -> 34.6
A32: 18 | B32: chiÒu dµi cäc v¸n thÐp, cäc ®Þnh vÞ | C32: m | D32: 10 | E32: =+D32 -> 10 | F32: =+E32 -> 10
A33: 19 | B33: Sè cäc v¸n thÐp | C33: c¸i | D33: 35 | E33: 42 | F33: =+SUM(D33:E33) -> 77
B34: chiÒu dµi ®ãng cäc v¸n thÐp (LS-IV) | C34: m | D34: 9 | E34: =+D34 -> 9 | F34: =+E34 -> 9
B35: Träng l­îng riªng cäc v¸n thÐp (LS-IV) | C35: T/m | D35: 0.074 | E35: 0.074 | F35: =+E35 -> 0.074
B36: ChiÒu dµy cäc v¸n thÐp | C36: m | D36: 0.36 | E36: 0.36
A37: 20 | B37: Sè cäc ®Þnh vÞ (2I300) | C37: c¸i | D37: 3 | E37: 3 | F37: =+SUM(D37:E37) -> 6
B38: chiÒu dµi ®ãng cäc ®Þnh vÞ | C38: m | D38: =+D34 -> 9 | E38: =+D38 -> 9 | F38: =+E38 -> 9
B39: Träng l­îng riªng cäc ®Þnh vÞ(2I300) | C39: T/m | D39: =39.2*2/1000 -> 0.0784 | E39: =39.2*2/1000 -> 0.0784 | F39: =+E39 -> 0.0784
A40: 21 | B40: chiÒu dµi nÑp ngang | C40: m | D40: =14.7*2 -> 29.4 | E40: =16.8*2 -> 33.6 | F40: =+E40 -> 33.6
B41: Träng l­îng riªng nÑp ngang(2I300) | C41: T/m | D41: =39.2*2/1000 -> 0.0784 | E41: =39.2*2/1000 -> 0.0784 | F41: =+E41 -> 0.0784
A42: 22 | B42: chiÒu dµi thanh chèng (2I300) | C42: m | D42: 0 | E42: 0 | F42: =+E42 -> 0
B43: Träng l­îng riªng thanh chèng | C43: T/m | D43: =39.2*2/1000 -> 0.0784 | E43: =39.2*2/1000 -> 0.0784 | F43: =+E43 -> 0.0784
A44: b¶ng tæng hîp khèi l­îng thi c«ng mè | D44: 2.95 | E44: 1.67 | F44: L ®æ th¶I ®Çu vµ cuèi cÇu
A45: stt | B45: H¹ng môc | C45: §¬n vÞ | D45: Khèi l­îng | F45: Tæng céng | G45: Ghi chó
D46: Mè M0 | E46: Mè M12
A47: 1 | B47: §µo ®Êt t¹o mÆt b»ng | C47: m3 | D47: =+ROUND((23.21+15.83)/2*8.2+15.83/2*9.7+23.21*2.5/2,2) -> 265.85 | E47: =+ROUND(6.78*7.3/2+2.4*6.73/2,2) -> 32.82 | F47: =+SUM(D47:E47) -> 298.67
A48: 2 | B48: Thi c«ng cäc:
A49: - | B49: èng v¸ch D=1.3m, dµy 10mm, L=8m (tÝnh 1 èng vµ lu©n chuyÓn 10 lÇn) | C49: èng/T | D49: =1&"/"&ROUND(PI()*(0.655^2-0.65^2)*8*7.85,2) -> 1/1,29 | E49: =1&"/"&ROUND(PI()*(0.655^2-0.65^2)*8*7.85,2) -> 1/1,29 | F49: =+D49 -> 1/1,29
A50: - | B50: H¹+nhæ èng v¸ch t¹m L=8m | C50: lÇn/m | D50: =D10&"/"&D10*D29 -> 5/40 | E50: =E10&"/"&E10*E29 -> 5/40 | F50: =F10&"/"&F10*F29 -> 10/80
A51: - | B51: Khoan ®Êt cäc khoan nhåi D=1.2m | C51: m | D51: =+ROUND(D10*D23,2) -> 320 | E51: =+ROUND(E10*E23,2) -> 326.03 | F51: =+SUM(D51:E51) -> 646.03
A52: - | B52: Thanh th¶i ®Êt mïn khoan cäc khoan nhåi | C52: m3 | D52: =+ROUND(D51*PI()*0.6^2,2) -> 361.91 | E52: =+ROUND(E51*PI()*0.6^2,2) -> 368.73 | F52: =+SUM(D52:E52) -> 730.64
A53: - | B53: Khoan ®¸ cäc khoan nhåi D=1.2m | C53: m | D53: =+ROUND($D$10*D25,2) -> 0 | E53: =+ROUND($D$10*E25,2) -> 0 | F53: =+SUM(D53:E53) -> 0
A54: - | B54: Khoan BT kiÓm tra mòi cäc | C54: cäc/m | E54: =1&"/"&1*1 -> 1/1 | F54: =2&"/"&2*1 -> 2/2
A55: - | B55: Siªu ©m cäc D=1.2m (4 mÆt c¾t/ cäc) | C55: cäc/m | D55: =D10&"/"&D10*(D8+1.15) -> 5/315,75 | E55: =E10&"/"&E10*(E8+1.15) -> 5/313,25 | F55: =D10+E10&"/"&D10*(D8+1.15)+E10*(E8+1.15) -> 10/629
A56: - | B56: §Ëp bª t«ng ®Çu cäc | C56: m3 | D56: =ROUND(PI()*0.6^2*1*D10,2) -> 5.65 | E56: =ROUND(PI()*0.6^2*1*E10,2) -> 5.65 | F56: =+SUM(D56:E56) -> 11.3
A57: - | B57: ThÝ nghiÖm PDA | C57: cọc | D57: 1 | E57: 1 | F57: =+SUM(D57:E57) -> 2
A58: - | B58: V÷a Bent«nite gi÷ æn ®Þnh lç khoan | C58: m3 | D58: =ROUND(0.6^2*PI()*(D2-D9+0.3)*D10,2) -> 363.61 | E58: =ROUND(0.6^2*PI()*(E2-E9+0.3)*E10,2) -> 370.42 | F58: =+SUM(D58:E58) -> 734.03
A59: 3 | B59: Thi c«ng mãng:
A60: - | B60: §µo ®Êt hè mãng | C60: m3 | D60: =ROUND((D18+D27)*D14/2+D30*D31-D10*PI()*0.6^2*(D2-D4+D21),2) -> 329.83 | E60: =ROUND((E18+E27)*E14/2+E30*E31-E10*PI()*0.6^2*(E2-E4+E21),2) -> 688.24 | F60: =+SUM(D60:E60) -> 1018.07
A61: - | B61: §¾p tr¶ hè mãng ®Êt ®Çm chÆt K95 | C61: m3 | D61: =+ROUND((D18+D28)*(D7+D21)/2+D30*D31-D5*D6*D7-D18*D15-D22,2) -> 193.92 | E61: =+ROUND((E18+E28)*(E7+E21)/2+E30*E31-E5*E6*E7-E18*E15-E22,2) -> 193.92 | F61: =+SUM(D61:E61) -> 387.84
A62: - | B62: Cäc v¸n thÐp Lasen IV,L=10m | C62: cäc/m/T | D62: =D33&"/"&D33*D32&"/"&ROUND(D33*D32*D35,2) -> 35/350/25,9 | E62: =E33&"/"&E33*E32&"/"&ROUND(E33*E32*E35,2) -> 42/420/31,08 | F62: =+SUM(D62:E62) -> 0
A63: - | B63: §ãng vµ nhæ cäc v¸n thÐp (Ltb=9.0m) | C63: cäc/m | D63: =D33&"/"&ROUND(D33*D38,2) -> 35/315 | E63: =E33&"/"&ROUND(E33*E38,2) -> 42/378 | F63: =+SUM(D63:E63) -> 0
A64: - | B64: Cäc ®Þnh vÞ 2I300, L=10m | C64: cäc/m/T | D64: =D37&"/"&D37*D32&"/"&ROUND(D37*D32*D39,2) -> 3/30/2,35 | E64: =E37&"/"&E37*E32&"/"&ROUND(E37*E32*E39,2) -> 3/30/2,35 | F64: =+SUM(D64:E64) -> 0
A65: - | B65: §ãng vµ nhæ cäc ®Þnh vÞ 2I300 (Ltb =9.0m) | C65: cäc/m | D65: =D37&"/"&ROUND(D37*D38,2) -> 3/27 | E65: =E37&"/"&ROUND(E37*E38,2) -> 3/27 | F65: =+SUM(D65:E65) -> 0
A66: - | B66: L¾p dùng nÑp ngang, thanh chèng 2I300 | C66: m/T | D66: =(D40+D42)&"/"&ROUND((D40+D42)*D43,2) -> 29,4/2,3 | E66: =(E40+E42)&"/"&ROUND((E40+E42)*E43,2) -> 33,6/2,63 | F66: =+SUM(D66:E66) -> 0
A67: - | B67: Bª t«ng bÞt ®¸y 20Mpa | C67: m3 | D67: =ROUND(D15*D18,2) -> 0 | E67: =ROUND(E15*E18,2) -> 0 | F67: =+SUM(D67:E67) -> 0
A68: - | B68: ThÐp h×nh khung chèng v¸n khu«n | C68: T | D68: =+'[3]Khung chong be'!I8 -> 3.24 | E68: =+'[3]Khung chong be'!I8 -> 3.24 | F68: =+E68 -> 3.24
A69: - | B69: TÊm BTXM 15MPa -KT (0.5x1.5x0.15) | C69: tÊm | D69: =5*2 -> 10 | E69: =5*2 -> 10 | F69: =+E69 -> 10
A70: - | B70: Gç ®Öm | C70: m3 | D70: 0.5 | E70: 0.5 | F70: =+E70 -> 0.5
A71: - | B71: B¬m n­íc hè mãng | C71: ca | D71: 5 | E71: 5 | F71: =+SUM(D71:E71) -> 10
A72: 4 | B72: Thi c«ng t­êng th©n, t­êng c¸nh:
A73: - | B73: §µ gi¸o (Lu©n chuyÓn 2 lÇn) | C73: T | D73: =+'[3]Khung chong than+xamu'!P13 -> 4.29 | E73: =+'[3]Khung chong than+xamu'!P13 -> 4.29 | F73: =+E73 -> 4.29
A74: - | B74: Gç ®Öm, sµn c«ng t¸c | C74: m3 | D74: 1.8 | E74: 1.8 | F74: =+E74 -> 1.8 | I74: =88*0.075 -> 6.6
A75: - | B75: Thanh th¶i ®Êt | C75: m3 | F75: =+SUM(D75:E75) -> 0
B77: C«ng t¸c khoan tao lç
B78: - §Êt > khoan ®Êt | D78: =1300+10 -> 1310 | E78: 1300
B79: - §¸ phong ho¸ m¹ng, RQD<50(3a, 5a,5b) -> ®¸ cÊp IV | D79: =+D78/2 -> 655 | E79: =+E78/2 -> 650
B80: - §¸ RQD>50(3b,5c,6) -> ®¸ cÊp IV

Sheet CKN T1-T3
A2: CỌC KHOAN NHỒI T1, L=62 m
A4: Hạng mục | B4: Tên thanh | C4: Đường kính | D4: Loại thép | E4: Chiều dài thanh | F4: Số lượng | G4: KLĐV | H4: Tổng dài | I4: Tổng khối lượng | J4: Ghi chú
C5: (mm) | E5: (mm) | F5: thanh | G5: kG/m | H5: m | I5: kG
A6: Cọc khoan nhồi D1200, L=62 m | B6: A1 | C6: 25 | D6: CB400-V | E6: 11700 | F6: 12 | G6: =VLOOKUP(C6,'CKN T4 '!$M$5:$N$19,2,0) -> 3.85 | H6: =ROUND(E6*F6/1000,2) -> 140.4 | I6: =ROUND(H6*G6,2) -> 540.54
B7: A2 | C7: 25 | D7: CB400-V | E7: 10700 | F7: 12 | G7: =VLOOKUP(C7,'CKN T4 '!$M$5:$N$19,2,0) -> 3.85 | H7: =ROUND(E7*F7/1000,2) -> 128.4 | I7: =ROUND(H7*G7,2) -> 494.34
B8: A3 | C8: 22 | D8: CB400-V | E8: 11700 | F8: 24 | G8: =VLOOKUP(C8,'CKN T4 '!$M$5:$N$19,2,0) -> 2.98 | H8: =ROUND(E8*F8/1000,2) -> 280.8 | I8: =ROUND(H8*G8,2) -> 836.78
B9: A4 | C9: 20 | D9: CB400-V | E9: 11700 | F9: 72 | G9: =VLOOKUP(C9,'CKN T4 '!$M$5:$N$19,2,0) -> 2.47 | H9: =ROUND(E9*F9/1000,2) -> 842.4 | I9: =ROUND(H9*G9,2) -> 2080.73
B10: B1 | C10: 20 | D10: CB400-V | E10: 8920 | F10: 12 | G10: =VLOOKUP(C10,'CKN T4 '!$M$5:$N$19,2,0) -> 2.47 | H10: =ROUND(E10*F10/1000,2) -> 107.04 | I10: =ROUND(H10*G10,2) -> 264.39
B11: B2 | C11: 20 | D11: CB400-V | E11: 9920 | F11: 12 | G11: =VLOOKUP(C11,'CKN T4 '!$M$5:$N$19,2,0) -> 2.47 | H11: =ROUND(E11*F11/1000,2) -> 119.04 | I11: =ROUND(H11*G11,2) -> 294.03
B12: B3 | C12: 18 | D12: CB400-V | E12: 1455 | F12: 4 | G12: =VLOOKUP(C12,'CKN T4 '!$M$5:$N$19,2,0) -> 2 | H12: =ROUND(E12*F12/1000,2) -> 5.82 | I12: =ROUND(H12*G12,2) -> 11.64
B13: O1 | C13: 10 | D13: CB400-T | E13: 1213880 | F13: 1 | G13: =VLOOKUP(C13,'CKN T4 '!$M$5:$N$19,2,0) -> 0.617 | H13: =ROUND(E13*F13/1000,2) -> 1213.88 | I13: =ROUND(H13*G13,2) -> 748.96
B14: N5A | C14: 25 | D14: CB400-V | E14: 3135 | F14: 5 | G14: =VLOOKUP(C14,'CKN T4 '!$M$5:$N$19,2,0) -> 3.85 | H14: =ROUND(E14*F14/1000,2) -> 15.68 | I14: =ROUND(H14*G14,2) -> 60.37
B15: N5B | C15: 25 | D15: CB400-V | E15: 3145 | F15: 5 | G15: =VLOOKUP(C15,'CKN T4 '!$M$5:$N$19,2,0) -> 3.85 | H15: =ROUND(E15*F15/1000,2) -> 15.73 | I15: =ROUND(H15*G15,2) -> 60.56
B16: N5C | C16: 25 | D16: CB400-V | E16: 3155 | F16: 22 | G16: =VLOOKUP(C16,'CKN T4 '!$M$5:$N$19,2,0) -> 3.85 | H16: =ROUND(E16*F16/1000,2) -> 69.41 | I16: =ROUND(H16*G16,2) -> 267.23
B17: N6 | C17: 16 | D17: CB400-V | E17: 2192 | F17: 1 | G17: =VLOOKUP(C17,'CKN T4 '!$M$5:$N$19,2,0) -> 1.58 | H17: =ROUND(E17*F17/1000,2) -> 2.19 | I17: =ROUND(H17*G17,2) -> 3.46
B18: A5 | C18: 12 | D18: CB400-T | E18: 500 | F18: 32 | G18: =VLOOKUP(C18,'CKN T4 '!$M$5:$N$19,2,0) -> 0.888 | H18: =ROUND(E18*F18/1000,2) -> 16 | I18: =ROUND(H18*G18,2) -> 14.21
B19: A6 | C19: 12 | D19: CB400-T | E19: 420 | F19: 96 | G19: =VLOOKUP(C19,'CKN T4 '!$M$5:$N$19,2,0) -> 0.888 | H19: =ROUND(E19*F19/1000,2) -> 40.32 | I19: =ROUND(H19*G19,2) -> 35.8
B20: N4 | C20: Thép bản 370x60x8 | F20: 128 | G20: 1.394 | I20: =F20*G20 -> 178.432
A21: Khối lượng 1 cọc | B21: Phân loại cốt thép | F21: CB240-T | H21: 10 | I21: =SUMIF($C$6:$C$19,H21,$I$6:$I$19) -> 748.96 | J21: kG
H22: 12 | I22: =SUMIF($C$6:$C$19,H22,$I$6:$I$19) -> 50.01 | J22: kG
F23: CB400-V | H23: 16 | I23: =SUMIF($C$6:$C$19,H23,$I$6:$I$19) -> 3.46 | J23: kG
H24: 18 | I24: =SUMIF($C$6:$C$19,H24,$I$6:$I$19) -> 11.64 | J24: kG
H25: 20 | I25: =SUMIF($C$6:$C$19,H25,$I$6:$I$19) -> 2639.15 | J25: kG
H26: 22 | I26: =SUMIF($C$6:$C$19,H26,$I$6:$I$19) -> 836.78 | J26: kG
H27: 25 | I27: =SUMIF($C$6:$C$19,H27,$I$6:$I$19) -> 1423.04 | J27: kG
A28: Khối lượng 4 cọc | B28: Phân loại cốt thép | F28: CB240-T | H28: 10 | I28: =I21*4 -> 2995.84 | J28: kG
H29: 12 | I29: =I22*4 -> 200.04 | J29: kG
F30: CB400-V | H30: 16 | I30: =I23*4 -> 13.84 | J30: kG
H31: 18 | I31: =I24*4 -> 46.56 | J31: kG
H32: 20 | I32: =I25*4 -> 10556.6 | J32: kG
H33: 22 | I33: =I26*4 -> 3347.12 | J33: kG
H34: 25 | I34: =I27*4 -> 5692.16 | J34: kG
B35: Cút nối D61/57 | I35: 120/34,92 | J35: cái/kg
B36: Cút nối D118/114 | I36: 40/22,88 | J36: cái/kg
B37: Cóc nối bu lông M16, L=0,213 m (Loại 1) | I37: 288/97,92 | J37: cái/kg
B38: Cóc nối bu lông M16, L=0,207 m (loại 2) | I38: 1152/380,16 | J38: cái/kg
B39: Bản thép cóc nối 104x60x14 | I39: 197.52 | J39: kg
B40: Bản thép cóc nối 100x60x14 | I40: 759.64 | J40: kg
B41: Bản thép 370x60x8 | I41: 723.8 | J41: kg
B42: Bịt đầu ống M1 | I42: 8/10,88 | J42: cái/kg
B43: Bịt đầu ống M2 | I43: 24/14,4 | J43: cái/kg
A45: CỌC KHOAN NHỒI T2, T3, L=58 m
A47: Hạng mục | B47: Tên thanh | C47: Đường kính | D47: Loại thép | E47: Chiều dài thanh | F47: Số lượng | G47: KLĐV | H47: Tổng dài | I47: Tổng khối lượng | J47: Ghi chú
C48: (mm) | E48: (mm) | F48: thanh | G48: kG/m | H48: m | I48: kG
A49: Cọc khoan nhồi D1200, L=62 m | B49: A1 | C49: 25 | D49: CB400-V | E49: 11700 | F49: 12 | G49: =VLOOKUP(C49,'CKN T4 '!$M$5:$N$19,2,0) -> 3.85 | H49: =ROUND(E49*F49/1000,2) -> 140.4 | I49: =ROUND(H49*G49,2) -> 540.54
B50: A2 | C50: 25 | D50: CB400-V | E50: 10700 | F50: 12 | G50: =VLOOKUP(C50,'CKN T4 '!$M$5:$N$19,2,0) -> 3.85 | H50: =ROUND(E50*F50/1000,2) -> 128.4 | I50: =ROUND(H50*G50,2) -> 494.34
B51: A3 | C51: 22 | D51: CB400-V | E51: 11700 | F51: 24 | G51: =VLOOKUP(C51,'CKN T4 '!$M$5:$N$19,2,0) -> 2.98 | H51: =ROUND(E51*F51/1000,2) -> 280.8 | I51: =ROUND(H51*G51,2) -> 836.78
B52: A4 | C52: 20 | D52: CB400-V | E52: 11700 | F52: 72 | G52: =VLOOKUP(C52,'CKN T4 '!$M$5:$N$19,2,0) -> 2.47 | H52: =ROUND(E52*F52/1000,2) -> 842.4 | I52: =ROUND(H52*G52,2) -> 2080.73
B53: B1 | C53: 20 | D53: CB400-V | E53: 4920 | F53: 12 | G53: =VLOOKUP(C53,'CKN T4 '!$M$5:$N$19,2,0) -> 2.47 | H53: =ROUND(E53*F53/1000,2) -> 59.04 | I53: =ROUND(H53*G53,2) -> 145.83
B54: B2 | C54: 20 | D54: CB400-V | E54: 5920 | F54: 12 | G54: =VLOOKUP(C54,'CKN T4 '!$M$5:$N$19,2,0) -> 2.47 | H54: =ROUND(E54*F54/1000,2) -> 71.04 | I54: =ROUND(H54*G54,2) -> 175.47
B55: B3 | C55: 18 | D55: CB400-V | E55: 1455 | F55: 4 | G55: =VLOOKUP(C55,'CKN T4 '!$M$5:$N$19,2,0) -> 2 | H55: =ROUND(E55*F55/1000,2) -> 5.82 | I55: =ROUND(H55*G55,2) -> 11.64
B56: O1 | C56: 10 | D56: CB240-T | E56: 1147340 | F56: 1 | G56: =VLOOKUP(C56,'CKN T4 '!$M$5:$N$19,2,0) -> 0.617 | H56: =ROUND(E56*F56/1000,2) -> 1147.34 | I56: =ROUND(H56*G56,2) -> 707.91
B57: N5A | C57: 25 | D57: CB400-V | E57: 3135 | F57: 5 | G57: =VLOOKUP(C57,'CKN T4 '!$M$5:$N$19,2,0) -> 3.85 | H57: =ROUND(E57*F57/1000,2) -> 15.68 | I57: =ROUND(H57*G57,2) -> 60.37
B58: N5B | C58: 25 | D58: CB400-V | E58: 3145 | F58: 5 | G58: =VLOOKUP(C58,'CKN T4 '!$M$5:$N$19,2,0) -> 3.85 | H58: =ROUND(E58*F58/1000,2) -> 15.73 | I58: =ROUND(H58*G58,2) -> 60.56
B59: N5C | C59: 25 | D59: CB400-V | E59: 3155 | F59: 20 | G59: =VLOOKUP(C59,'CKN T4 '!$M$5:$N$19,2,0) -> 3.85 | H59: =ROUND(E59*F59/1000,2) -> 63.1 | I59: =ROUND(H59*G59,2) -> 242.94
B60: N6 | C60: 16 | D60: CB400-V | E60: 2192 | F60: 1 | G60: =VLOOKUP(C60,'CKN T4 '!$M$5:$N$19,2,0) -> 1.58 | H60: =ROUND(E60*F60/1000,2) -> 2.19 | I60: =ROUND(H60*G60,2) -> 3.46
B61: A5 | C61: 12 | D61: CB240-T | E61: 500 | F61: 30 | G61: =VLOOKUP(C61,'CKN T4 '!$M$5:$N$19,2,0) -> 0.888 | H61: =ROUND(E61*F61/1000,2) -> 15 | I61: =ROUND(H61*G61,2) -> 13.32
B62: A6 | C62: 12 | D62: CB240-T | E62: 420 | F62: 90 | G62: =VLOOKUP(C62,'CKN T4 '!$M$5:$N$19,2,0) -> 0.888 | H62: =ROUND(E62*F62/1000,2) -> 37.8 | I62: =ROUND(H62*G62,2) -> 33.57
B63: N4 | C63: Thép bản 370x60x8 | F63: 120 | G63: 1.394 | I63: =F63*G63 -> 167.28
A64: Khối lượng 1 cọc | B64: Phân loại cốt thép | F64: CB240-T | H64: 10 | I64: =SUMIF($C$49:$C$62,H64,$I$49:$I$62) -> 707.91 | J64: kG
H65: 12 | I65: =SUMIF($C$49:$C$62,H65,$I$49:$I$62) -> 46.89 | J65: kG
F66: CB400-V | H66: 16 | I66: =SUMIF($C$49:$C$62,H66,$I$49:$I$62) -> 3.46 | J66: kG
H67: 18 | I67: =SUMIF($C$49:$C$62,H67,$I$49:$I$62) -> 11.64 | J67: kG
H68: 20 | I68: =SUMIF($C$49:$C$62,H68,$I$49:$I$62) -> 2402.03 | J68: kG
H69: 22 | I69: =SUMIF($C$49:$C$62,H69,$I$49:$I$62) -> 836.78 | J69: kG
H70: 25 | I70: =SUMIF($C$49:$C$62,H70,$I$49:$I$62) -> 1398.75 | J70: kG
A71: Khối lượng 4 cọc | B71: Phân loại cốt thép | F71: CB240-T | H71: 10 | I71: =I64*4 -> 2831.64 | J71: kG
H72: 12 | I72: =I65*4 -> 187.56 | J72: kG
F73: CB400-V | H73: 16 | I73: =I66*4 -> 13.84 | J73: kG
H74: 18 | I74: =I67*4 -> 46.56 | J74: kG
H75: 20 | I75: =I68*4 -> 9608.12 | J75: kG
H76: 22 | I76: =I69*4 -> 3347.12 | J76: kG
H77: 25 | I77: =I70*4 -> 5595 | J77: kG
B78: Cút nối D61/57 | I78: 108/31,44 | J78: cái/kg
B79: Cút nối D118/114 | I79: 36/20,6 | J79: cái/kg
B80: Cóc nối bu lông M16, L=0,213 m (Loại 1) | I80: 288/97,92 | J80: cái/kg
B81: Cóc nối bu lông M16, L=0,207 m (loại 2) | I81: 1152/380,16 | J81: cái/kg
B82: Bản thép cóc nối 104x60x14 | I82: 197.52 | J82: kg
B83: Bản thép cóc nối 100x60x14 | I83: 759.64 | J83: kg
B84: Bản thép 370x60x8 | I84: 669.2 | J84: kg
B85: Bịt đầu ống M1 | I85: 8/10,88 | J85: cái/kg
B86: Bịt đầu ống M2 | I86: 24/14,4 | J86: cái/kg

Sheet CKN T5
A3: STT | B3: H¹ng môc | C3: §¬n vÞ | D3: Tru T5 (đc) | E3: Tru T5 | G3: Quay lai | H3: ThÐp ®µ gi¸o | I3: sè thanh | J3: trong l­îng ®.vi(kg/m) | K3: Tæng céng
A4: 1 | B4: Cao ®é ®Ønh bÖ | C4: m | D4: -0.767 | E4: -0.767 | H4: - Thanh D=114, L=1.0m | I4: 0 | J4: 20.12 | K4: =+I4*J4 -> 0
A5: 2 | B5: Cao ®é ®¸y bÖ | C5: m | D5: =+D4-3.5 -> -4.267 | E5: =+E4-3 -> -3.767 | H5: - Thanh D=114, L=1.5m | I5: =15*3*4+3*3*4 -> 216 | J5: 24.44 | K5: =+I5*J5 -> 5279.04
A6: 3 | B6: Cao ®é mòi cäc khoan nhåi | C6: m | D6: =+D5-D7 -> -80.767 | E6: =+E5-E7 -> -81.767 | H6: - Thanh D=48, L=1.975m | I6: =12*3*4+2*3*4 -> 168 | J6: 6.36 | K6: =+I6*J6 -> 1068.48
A7: 4 | B7: ChiÒu dµi dù kiÕn cäc khoan nhåi | C7: m | D7: 76.5 | E7: 78 | H7: - Thanh D=48, L=1.695m | I7: =12*4*2+1*3*4+5*3*2+4 -> 142 | J7: 5.36 | K7: =+I7*J7 -> 761.12
A8: 5 | B8: Cao ®é mÆt ®Êt thiªn nhiªn TB | C8: m | D8: -10.5 | E8: -10.5 | H8: - Thanh D=48, L=1.287m | I8: 4 | J8: 3.5 | K8: =+I8*J8 -> 14
A9: 6 | B9: Sè cäc khoan nhåi D=1500 | C9: cäc | D9: 16 | E9: 14 | H9: - Thanh D=48, L=0.88m | I9: =15*4*2+5*4*2 -> 160 | J9: 2.46 | K9: =I9*J9 -> 393.6
B10: ChiÒu cao ®µo ®Êt trung b×nh | C10: m
B11: ChiÒu dµy ®æ bª t«ng bÞt ®¸y | C11: m | D11: 1.7 | E11: 1.5 | G11: =+E5-E11-0.1 -> -5.367 | H11: Thanh D=48, L=1.38m | I11: =+I6 -> 168 | J11: 3.83 | K11: =+I11*J11 -> 643.44
A12: 7 | B12: Cao ®é gÆp c¸t lÉn sái | C12: m | H12: - Thanh cét chèng | I12: =15*2+3*2 -> 36 | J12: 11.87 | K12: =+I12*J12 -> 427.32
A13: 7 | B13: Cao ®é miÖng èng v¸ch | C13: m | D13: 3 | E13: 3 | H13: Tæng | K13: =+ROUND(SUM(K4:K12),0) -> 8587
A14: 8 | B14: Cao ®é gÆp ®¸ cÊp III (kh«ng cã) | C14: m | D14: 1 | E14: 0 | F14: =+D13-D5-0.15 -> 7.117
B15: ChiÒu dµi hè mãng ®¸y | C15: m
B16: ChiÒu réng hè mãng ®¸y | C16: m
B17: S®¸y | C17: m2 | D17: =321113472/10^6 -> 321.11347 | E17: =229592417/10^6 -> 229.59242
B18: ChiÒu dµi hè mãng ®Ønh bÖ | C18: m | D18: =+D15 -> 0 | E18: =+E15 -> 0
B19: chiÒu réng hè mãng ®Ønh bÖ | C19: m | D19: =+D16 -> 0 | E19: =+E16 -> 0
B20: S ®Ønh bÖ | C20: m2 | D20: =+D19*D18 -> 0 | E20: =+E19*E18 -> 0
B21: ChiÒu dµi hè mãng tù nhiªn | C21: m | D21: =+D15 -> 0 | E21: =+E15 -> 0
B22: chiÒu réng hè mãng tù nhiªn | C22: m | D22: =+D19 -> 0 | E22: =+E19 -> 0 | H22: =+E8-E5+E11+0.1 -> -5.133
B23: S tù nhiªn | C23: m2 | D23: =+D22*D21 -> 0 | E23: =+E22*E21 -> 0 | H23: =+H22*E23 -> 0
B24: H chiÒu s©u khoan ®Êt (c¸c lo¹i ®Êt dc tÝnh trung) | C24: m | D24: =+D8-D6 -> 70.267 | E24: =+E8-E6 -> 71.267
B25: H chiÒu s©u khoan c¸t lÉn sái | C25: m
B26: H chiÒu s©u khoan ®¸ cÊp III | C26: m | D26: 0 | E26: 0
B27: CHiÒu dµi cäc v¸n thep, cäc ®Þnh vÞ | C27: m | D27: 25 | E27: 25 | G27: =3.9-E27 -> -21.1
B28: Sè cäc v¸n thÐp | C28: c¸i | D28: =+(33+25)*2+4 -> 120 | E28: =+(33+25)*2+4 -> 120
B29: chiÒu dµi ®ãng cäc v¸n thÐp ngµm trong ®Êt | C29: m | D29: 12 | E29: =14.7+E8 -> 4.2
B30: Sè cäc ®Þnh vÞ 2I400 | C30: c¸i | D30: 14 | E30: 14 | H30: =5.2-20 -> -14.8
B31: chiÒu dµi ®ãng cäc ®Þnh vÞ ngµm trong ®Êt | C31: m | D31: =+E31 -> 12.3 | E31: =22.8-10.5 -> 12.3
B32: ChiÒu dµi èng v¸ch | C32: m | D32: 25 | E32: 25
B33: chiÒu dµi h¹ èng v¸ch | C33: m | D33: =22-10.5 -> 11.5 | E33: =22-10.5 -> 11.5
A36: B¶ng tæng hîp khèi l­îng thi c«ng trô
A37: STT | B37: H¹ng môc | C37: §¬n vÞ | D37: Khèi l­îng | F37: CH£NH =(1)-(2) | G37: Ghi chó
D38: trô T5 ĐiỀU CHỈNH (1) | E38: trô T5 duYỆT (2)
A40: 1 | B40: Thi c«ng cäc khoan nhåi
A41: - | B41: Khoan sÐt dÎo vµ c¸t chÆt cäc khoan nhåi D=1.5m | C41: m | D41: =+ROUND($D$9*D24,2) -> 1124.27 | E41: =+ROUND($E$9*E24,2) -> 997.74 | F41: =+IF(D41-E41=0,"-",D41-E41) -> 126.53
A42: - | B42: èng v¸ch D=1.6m, dµy 10mm, L=25m | C42: T | D42: =+PI()*(0.8^2-0.79^2)*7850/1000*D32*D9 -> 156.84715 | E42: =+PI()*(0.8^2-0.79^2)*7850/1000*E32*E9 -> 137.24126 | F42: =+IF(D42-E42=0,"-",D42-E42) -> 19.605894
A43: - | B43: èng v¸ch D=1.6m ®Ó l¹i (KhÊu hao hoµn toµn) | C43: T | D43: =+PI()*(0.8^2-0.79^2)*7850/1000*(D32-(D13-D5+0.15))*D9 -> 110.31374 | E43: =+PI()*(0.8^2-0.79^2)*7850/1000*(E32-(E13-E5+0.15))*E9 -> 99.269349 | F43: =+IF(D43-E43=0,"-",D43-E43) -> 11.044392
A44: - | B44: H¹ èng v¸ch trong ®Êt D=1.6m( LngËp ®Êt=8.5m ) | C44: lÇn/m | D44: =D9&"/"&D9*D33 -> 16/184 | E44: =E9&"/"&E9*E33 -> 14/161 | F44: =2&"/"&184-161 -> 2/23
A45: - | B45: H¹ èng v¸ch trong n­íc D=1.6m | C45: lÇn/m | D45: =D9&"/"&D9*(D32-D33) -> 16/216 | E45: =E9&"/"&E9*(E32-E33) -> 14/189 | F45: =2&"/"&216-189 -> 2/27
A46: - | B46: Khoan BT kiÓm tra mòi cäc | C46: cäc/m | D46: =D9&"/"&D9*1 -> 16/16 | E46: =E9&"/"&E9*1 -> 14/14 | F46: =2&"/"&2*1 -> 2/2
A47: - | B47: èng v¸ch D=1.6m thu håi | C47: T | D47: =ROUND(D42-D43,2) -> 46.53 | E47: =ROUND(E42-E43,2) -> 37.97 | F47: =+IF(D47-E47=0,"-",D47-E47) -> 8.56
A48: - | B48: Siªu ©m cäc (6 mÆt c¾t/ cäc) | C48: cäc/m | D48: =D9&"/"&D9*(D7+1.43) -> 16/1246,88 | E48: =E9&"/"&E9*(E7+1.43) -> 14/1112,02 | F48: =2&"/"&1246-1112.02 -> 2/133,98
A49: - | B49: §Ëp bªt«ng ®Çu cäc | C49: m3 | D49: =ROUND(PI()*0.75^2*1.28*D9,2) -> 36.19 | E49: =ROUND(PI()*0.75^2*1.28*E9,2) -> 31.67 | F49: =+IF(D49-E49=0,"-",D49-E49) -> 4.52
A50: - | B50: V÷a Bent«nite gi÷ æn ®Þnh lç khoan (thu håi 60%) | C50: m3 | D50: =ROUND(0.75^2*PI()*(D13-D6)*D9,2) -> 2368.46 | E50: =ROUND(0.75^2*PI()*(E13-E6)*E9,2) -> 2097.14 | F50: =+IF(D50-E50=0,"-",D50-E50) -> 271.32
A51: - | B51: ThÝ nghiÖm PDA | C51: cäc | D51: 1 | E51: 1 | F51: =+IF(D51-E51=0,"-",D51-E51) -> -
A52: =+A40+1 -> 2 | B52: Thi c«ng mãng | F52: =+IF(D52-E52=0,"-",D52-E52) -> -
A53: - | B53: ThÐp h×nh thïng chôp | C53: T | D53: =+ROUND('[4]Thung chup T5 DIEU CHINH'!I24/1000,2) -> 26.08 | E53: =ROUND('[4]Thung chup T5 DUYET'!I24/1000,2) -> 22.26 | F53: =+IF(D53-E53=0,"-",D53-E53) -> 3.82 | H53: =+E53 -> 22.26
A54: - | B54: ThÐp b¶n thïng chôp | C54: T | D54: =+ROUND('[4]Thung chup T5 DIEU CHINH'!I25/1000,2) -> 53.87 | E54: =ROUND('[4]Thung chup T5 DUYET'!I25/1000,2) -> 40.94 | F54: =+IF(D54-E54=0,"-",D54-E54) -> 12.93 | H54: =+E54 -> 40.94
A55: - | B55: Gi¸ n©ng h¹ thïng chôp | C55: Bé | F55: =+IF(D55-E55=0,"-",D55-E55) -> -
A56: + | B56: ThÐp h×nh | C56: T | D56: =+'[4]Gia p«c tich '!H22/1000 -> 9.07044 | E56: =+'[4]Gia p«c tich '!H10/1000 -> 7.78664 | F56: =+IF(D56-E56=0,"-",D56-E56) -> 1.2838
A57: + | B57: ThÐp b¶n + thÐp èng nèi dµi ( bao gåm thÐp b¶n liªn kÕt ) | C57: T | D57: =+'[4]Gia p«c tich '!H23/1000 -> 15.69555 | E57: =+'[4]Gia p«c tich '!H11/1000 -> 14.20599 | F57: =+IF(D57-E57=0,"-",D57-E57) -> 1.48956
A58: + | B58: Thanh thÐp C§C D32, L=9.5m (®ång bé) | C58: thanh/T | D58: =+E58 -> 4/0,38 | E58: =4&"/"&+ROUND(PI()*(0.032^2/4)*7850/1000,2)*9.5*4 -> 4/0,38 | F58: -
A59: - | B59: N©ng h¹ thïng chôp | C59: lÇn/T | D59: =1&"/"&ROUND('[4]Thung chup T5 DIEU CHINH'!N24/1000,2) -> 1/79,95 | E59: =1&"/"&ROUND('[4]Thung chup T5 DUYET'!N24/1000,2) -> 1/63,2 | F59: =1&"/"&79.95-63.2 -> 1/16,75
A60: - | B60: DÇm ®ì H500 | C60: m/T | D60: =13.6*10 &"/"&ROUND(13.6*10 *103/1000,2) -> 136/14,01 | E60: =17.2*8 &"/"&ROUND(17.2*8 *103/1000,2) -> 137,6/14,17 | F60: =ROUND(136-137.6,2)&"/"&ROUND(14.01-14.17,2) -> -1,6/-0,16 | H60: 14.17
A61: - | B61: Gi»ng ngang U300 | C61: m/T | D61: =(18.69*8-10*8*0.4)&"/"&ROUND((18.69*8-10*8*0.4)*31.8/1000,2) -> 117,52/3,74 | E61: =(2*1.62*5+4*1.62*5*3)&"/"&ROUND((2*1.62*5+4*1.62*5*3)*31.8/1000,2) -> 113,4/3,61 | F61: =ROUND(117.52-113.4,2)&"/"&ROUND(3.74-3.61,2) -> 4,12/0,13 | H61: 3.61
A62: - | B62: T«n ®¸y dµy 10mm (KhÊu hao hoµn toµn) | C62: T | D62: =+ROUND((D17-PI()*0.75^2*D9)*0.01*7850/1000,2) -> 22.99 | E62: =+ROUND((E17-PI()*0.75^2*E9)*0.01*7850/1000,2) -> 16.08 | F62: =+IF(D62-E62=0,"-",D62-E62) -> 6.91 | H62: 16.08
A63: - | B63: ThÐp b¶n liªn kÕt víi dÇm treo (t¹m tÝnh) | C63: T | D63: 1.5 | E63: 1.5 | F63: =+IF(D63-E63=0,"-",D63-E63) -> - | H63: 1.5
A64: - | B64: ThÐp h×nh sµn ®¸y I200 | C64: m/T | D64: =14*28.1&"/"&ROUND(14*28.1*27.2/1000,2) -> 393,4/10,7 | E64: =16*28&"/"&ROUND(16*28*27.2/1000,2) -> 448/12,19 | F64: =ROUND(393.4-448,2)&"/"&ROUND(10.7-12.19,2) -> -54,6/-1,49 | H64: 12.19
A65: - | B65: Bª t«ng bÞt ®¸y 20MPa | C65: m3 | D65: =+ROUND(D17*D11-PI()*0.75^2*D11*D9,2) -> 497.83 | E65: =+ROUND(E17*E11-PI()*0.75^2*E11*E9,2) -> 307.28 | F65: =+IF(D65-E65=0,"-",D65-E65) -> 190.55
A66: - | B66: ThÐp h×nh v¨ng chèng L75x75x6,L=1m, a=1.5m | C66: T | D66: =ROUND(42*3*1*6.85/1000,2) -> 0.86 | E66: =ROUND(38*3*1*6.85/1000,2) -> 0.78 | F66: =+IF(D66-E66=0,"-",D66-E66) -> 0.08
A67: - | B67: NÑp ®øng [ ] 100, L=3.5m | C67: T | D67: =ROUND(42*3.8*10.3*2/1000,2) -> 3.29 | E67: =ROUND(38*3.5*10.3*2/1000,2) -> 2.74 | F67: =+IF(D67-E67=0,"-",D67-E67) -> 0.55
A68: - | B68: B¬m n­íc hè mãng | C68: ca | D68: 50 | E68: 50 | F68: =+IF(D68-E68=0,"-",D68-E68) -> -
A69: - | B69: Gç ®Öm | C69: m3 | D69: 1 | E69: 1 | F69: =+IF(D69-E69=0,"-",D69-E69) -> -
A70: - | B70: L¾p dùng+th¸o dì hÖ khung chèng H400 (02 tÇng ) | C70: m/T | D70: =(5*11.2+12*2.3+67.4)*2&"/"&ROUND((5*11.2+12*2.3+67.4)*2*141/1000,2) -> 302/42,58 | E70: =(54.7+15.5*3+3*2*2+3.8*2*2)*2&"/"&ROUND((54.7+15.5*3+3*2*2+3.8*2*2)*2*141/1000,2) -> 256,8/36,21 | F70: =ROUND(302-256.8,2)&"/"&ROUND(42.58-36.21,2) -> 45,2/6,37 | H70: 36.21
A71: - | B71: L¾p dùng+th¸o dì khung ®øng I300, L=8.6 (a=3.75m ) | C71: m/T | D71: =18*9.2&"/"&ROUND(18*9.2*58.4/1000,2) -> 165,6/9,67 | E71: =14*8.6&"/"&ROUND(14*8.6*58.4/1000,2) -> 120,4/7,03 | F71: =ROUND(165.6-120.4,2)&"/"&ROUND(9.67-7.03,2) -> 45,2/2,64
A72: - | B72: Liªn kÕt c¸c tÇng khung chèng (t¹m tÝnh) | C72: T | D72: 1.5 | E72: 1.5 | F72: =+IF(D72-E72=0,"-",D72-E72) -> -
A73: =+A52+1 -> 3 | B73: HÖ sµn ®Þnh vÞ thi c«ng cäc khoan nhåi | F73: =+IF(D73-E73=0,"-",D73-E73) -> - | H73: =+SUM(H53:H70) -> 146.96
A74: - | B74: ThÐp h×nh H300, L=4.8m, L=21m(27m) , (LC2.5 lÇn) | C74: m/T | D74: =4.8*12+27*4&"/"&ROUND((4.8*12+27*4)*36.7/1000,2) -> 165,6/6,08 | E74: =4.8*10+21*4&"/"&ROUND((4.8*10+21*4)*36.7/1000,2) -> 132/4,84 | F74: =165.6-132&"/"&ROUND(6.08-4.84,2) -> 33,6/1,24
A75: - | B75: ThÐp h×nh liªn kÕt C200, L=21m (27m), L=3.9m, L=4.2m | C75: m/T | D75: =(27*4+6*4*3.9+6*2*4.2)&"/"&ROUND((27*4+6*4*3.9+6*2*4.2)*25.2/1000,2) -> 252/6,35 | E75: =(21*4+6*4*3.9+6*2*4.2)&"/"&ROUND((21*4+6*4*3.9+6*2*4.2)*25.2/1000,2) -> 228/5,75 | F75: =252-228&"/"&6.35-5.75 -> 24/0,6 | H75: =1.43-0.15 -> 1.28
A76: - | B76: ThÐp h×nh liªn kÕt C100, L=21m (27m), L=0.9m | C76: m/T | D76: =(27*4+5*0.9*2)&"/"&ROUND((27*4+5*0.9*2)*10.3/1000,2) -> 117/1,21 | E76: =(21*4+5*0.9*2)&"/"&ROUND((21*4+5*0.9*2)*10.3/1000,2) -> 93/0,96 | F76: =117-93&"/"&1.21-0.96 -> 24/0,25
A77: - | B77: Cäc ®Þnh vÞ 2H350, L=25m(LC 2.5 lÇn) | C77: cäc/m/T | D77: =5*2&"/"&ROUND(5*2*D27,2)&"/"&ROUND(5*2*D27*103/1000,2) -> 10/250/25,75 | E77: =5*2&"/"&ROUND(5*2*E27,2)&"/"&ROUND(5*2*E27*103/1000,2) -> 10/250/25,75 | F77: -
A78: - | B78: §ãng vµ nhæ cäc ®Þnh vÞ H350 ngµm trong ®Êt | C78: cäc/m | D78: =26&"/"&ROUND(26*D31,2) -> 26/319,8 | E78: =5*5&"/"&ROUND(5*5*E31,2) -> 25/307,5 | F78: =1&"/"&319.8-307.5 -> 1/12,3
A79: - | B79: Gç sµn c«ng t¸c (LC 8 lÇn) | C79: m3 | D79: =1*0.03*21*2*1.5 -> 1.89 | E79: =1*0.03*21*2*1.5 -> 1.89 | F79: =+IF(D79-E79=0,"-",D79-E79) -> -
A80: =+A73+1 -> 4 | B80: Thi c«ng th©n
A81: - | B81: L¾p dùng+th¸o dì ®µ gi¸o thÐp h×nh I200, L=5.5m, L=9.5m | C81: m/T | D81: =+E81 -> 240/6,53 | E81: =8*(9.5+5.5)*2&"/"&ROUND(8*(9.5+5.5)*2*27.2/1000,2) -> 240/6,53 | F81: - | H81: =63/1.5 -> 42
B82: L¾p dùng+th¸o dì ®µ gi¸o thÐp h×nh [ ] 300, L=10m | C82: m/T | D82: =+E82 -> 160/10,18 | E82: =(3+5)*2*10&"/"&ROUND((3+5)*2*10*31.8*2/1000,2) -> 160/10,18 | F82: - | H82: =6/1.5 -> 4
A83: - | B83: ThÐp h×nh v¨ng chèng I200, L=0.5m | C83: T | D83: =E83 -> 1.63 | E83: =ROUND(12*10*0.5*27.2/1000,2) -> 1.63 | F83: =+IF(D83-E83=0,"-",D83-E83) -> -
A84: - | B84: NÑp ®øng ][ 100, L=10m | C84: T | D84: =+E84 -> 2.47 | E84: =ROUND(12*10*10.3*2/1000,2) -> 2.47 | F84: =+IF(D84-E84=0,"-",D84-E84) -> -
A85: - | B85: B¶n chê, thÐp b¶n phôc vô thi c«ng | C85: T | D85: =+E85 -> 3.5 | E85: =+[4]T5!I31/1000 -> 3.5 | F85: =+IF(D85-E85=0,"-",D85-E85) -> -
A86: - | B86: Lan can ®Þnh h×nh | C86: T | D86: =+E86 -> 0.71 | E86: =+ROUND([4]T5!I34/1000,2) -> 0.71 | F86: =+IF(D86-E86=0,"-",D86-E86) -> -
A87: - | B87: ThÐp trßn xuyªn t¸o D16, L=3m, L=8.5m (KhÊu hao hoµn toµn) | C87: kg | D87: =+E87 -> 371.3 | E87: =+ROUND((5*3+8.5*1)*1.58*10,2) -> 371.3 | F87: =+IF(D87-E87=0,"-",D87-E87) -> -
A88: - | B88: Gç phôc vô thi c«ng | C88: m3 | D88: =+E88 -> 2 | E88: 2 | F88: =+IF(D88-E88=0,"-",D88-E88) -> -
D89: =6.08+6.35+1.21 -> 13.64

Sheet CKN T5(KC)
A1: CỌC KHOAN NHỒI T5, L=76,5 m
A3: Hạng mục | B3: Tên thanh | C3: Đường kính | D3: Loại thép | E3: Chiều dài thanh | F3: Số lượng | G3: KLĐV | H3: Tổng dài | I3: Tổng khối lượng | J3: Ghi chú
C4: (mm) | E4: (mm) | F4: thanh | G4: kG/m | H4: m | I4: kG
A5: Khung A1 (1 khung) | B5: A1 | C5: 32 | D5: =IF(C5>10,"CB400-V","CB400-T") -> CB400-V | E5: 10420 | F5: 32 | G5: =VLOOKUP(C5,'CKN T4 '!$M$5:$N$19,2,0) -> 6.31 | H5: =ROUND(E5*F5/1000,2) -> 333.44 | I5: =ROUND(H5*G5,2) -> 2104.01
B6: A2 | C6: 32 | D6: =IF(C6>10,"CB400-V","CB400-T") -> CB400-V | E6: 11700 | F6: 32 | G6: =VLOOKUP(C6,'CKN T4 '!$M$5:$N$19,2,0) -> 6.31 | H6: =ROUND(E6*F6/1000,2) -> 374.4 | I6: =ROUND(H6*G6,2) -> 2362.46
B7: Q4 | C7: 25 | D7: =IF(C7>10,"CB400-V","CB400-T") -> CB400-V | E7: 3707 | F7: 5 | G7: =VLOOKUP(C7,'CKN T4 '!$M$5:$N$19,2,0) -> 3.85 | H7: =ROUND(E7*F7/1000,2) -> 18.54 | I7: =ROUND(H7*G7,2) -> 71.38
B8: T5 | C8: 25 | D8: =IF(C8>10,"CB400-V","CB400-T") -> CB400-V | E8: 600 | F8: 40 | G8: =VLOOKUP(C8,'CKN T4 '!$M$5:$N$19,2,0) -> 3.85 | H8: =ROUND(E8*F8/1000,2) -> 24 | I8: =ROUND(H8*G8,2) -> 92.4
B9: Cộng | I9: =SUM(I5:I8) -> 4630.25
A10: Khung A2 (1 khung) | B10: A2 | C10: 32 | D10: =IF(C10>10,"CB400-V","CB400-T") -> CB400-V | E10: 11700 | F10: 64 | G10: =VLOOKUP(C10,'CKN T4 '!$M$5:$N$19,2,0) -> 6.31 | H10: =ROUND(E10*F10/1000,2) -> 748.8 | I10: =ROUND(H10*G10,2) -> 4724.93
B11: Q4 | C11: 25 | D11: =IF(C11>10,"CB400-V","CB400-T") -> CB400-V | E11: 3707 | F11: 5 | G11: =VLOOKUP(C11,'CKN T4 '!$M$5:$N$19,2,0) -> 3.85 | H11: =ROUND(E11*F11/1000,2) -> 18.54 | I11: =ROUND(H11*G11,2) -> 71.38
B12: T5 | C12: 25 | D12: =IF(C12>10,"CB400-V","CB400-T") -> CB400-V | E12: 600 | F12: 40 | G12: =VLOOKUP(C12,'CKN T4 '!$M$5:$N$19,2,0) -> 3.85 | H12: =ROUND(E12*F12/1000,2) -> 24 | I12: =ROUND(H12*G12,2) -> 92.4
B13: Cộng | I13: =SUM(I10:I12) -> 4888.71
A14: Khung A3 (1 khung) | B14: A2 | C14: 32 | D14: =IF(C14>10,"CB400-V","CB400-T") -> CB400-V | E14: 11700 | F14: 64 | G14: =VLOOKUP(C14,'CKN T4 '!$M$5:$N$19,2,0) -> 6.31 | H14: =ROUND(E14*F14/1000,2) -> 748.8 | I14: =ROUND(H14*G14,2) -> 4724.93
B15: Q4 | C15: 25 | D15: =IF(C15>10,"CB400-V","CB400-T") -> CB400-V | E15: 3707 | F15: 5 | G15: =VLOOKUP(C15,'CKN T4 '!$M$5:$N$19,2,0) -> 3.85 | H15: =ROUND(E15*F15/1000,2) -> 18.54 | I15: =ROUND(H15*G15,2) -> 71.38
B16: T5 | C16: 25 | D16: =IF(C16>10,"CB400-V","CB400-T") -> CB400-V | E16: 600 | F16: 40 | G16: =VLOOKUP(C16,'CKN T4 '!$M$5:$N$19,2,0) -> 3.85 | H16: =ROUND(E16*F16/1000,2) -> 24 | I16: =ROUND(H16*G16,2) -> 92.4
B17: Cộng | I17: =SUM(I14:I16) -> 4888.71
A18: Khung A4 (1 khung) | B18: A3 | C18: 28 | D18: =IF(C18>10,"CB400-V","CB400-T") -> CB400-V | E18: 11700 | F18: 32 | G18: =VLOOKUP(C18,'CKN T4 '!$M$5:$N$19,2,0) -> 4.83 | H18: =ROUND(E18*F18/1000,2) -> 374.4 | I18: =ROUND(H18*G18,2) -> 1808.35
B19: Q4A | C19: 25 | D19: =IF(C19>10,"CB400-V","CB400-T") -> CB400-V | E19: 3911 | F19: 5 | G19: =VLOOKUP(C19,'CKN T4 '!$M$5:$N$19,2,0) -> 3.85 | H19: =ROUND(E19*F19/1000,2) -> 19.56 | I19: =ROUND(H19*G19,2) -> 75.31
B20: T5 | C20: 25 | D20: =IF(C20>10,"CB400-V","CB400-T") -> CB400-V | E20: 600 | F20: 40 | G20: =VLOOKUP(C20,'CKN T4 '!$M$5:$N$19,2,0) -> 3.85 | H20: =ROUND(E20*F20/1000,2) -> 24 | I20: =ROUND(H20*G20,2) -> 92.4
B21: Cộng | I21: =SUM(I18:I20) -> 1976.06
A22: Khung A5 (1 khung) | B22: A4 | C22: 25 | D22: =IF(C22>10,"CB400-V","CB400-T") -> CB400-V | E22: 11700 | F22: 32 | G22: =VLOOKUP(C22,'CKN T4 '!$M$5:$N$19,2,0) -> 3.85 | H22: =ROUND(E22*F22/1000,2) -> 374.4 | I22: =ROUND(H22*G22,2) -> 1441.44
B23: Q4B | C23: 25 | D23: =IF(C23>10,"CB400-V","CB400-T") -> CB400-V | E23: 3924 | F23: 6 | G23: =VLOOKUP(C23,'CKN T4 '!$M$5:$N$19,2,0) -> 3.85 | H23: =ROUND(E23*F23/1000,2) -> 23.54 | I23: =ROUND(H23*G23,2) -> 90.63
B24: T5 | C24: 25 | D24: =IF(C24>10,"CB400-V","CB400-T") -> CB400-V | E24: 600 | F24: 48 | G24: =VLOOKUP(C24,'CKN T4 '!$M$5:$N$19,2,0) -> 3.85 | H24: =ROUND(E24*F24/1000,2) -> 28.8 | I24: =ROUND(H24*G24,2) -> 110.88
B25: Cộng | I25: =SUM(I22:I24) -> 1642.95
A26: Khung A6 (1 khung) | B26: A5 | C26: 22 | D26: =IF(C26>10,"CB400-V","CB400-T") -> CB400-V | E26: 11700 | F26: 32 | G26: =VLOOKUP(C26,'CKN T4 '!$M$5:$N$19,2,0) -> 2.98 | H26: =ROUND(E26*F26/1000,2) -> 374.4 | I26: =ROUND(H26*G26,2) -> 1115.71
B27: Q4C | C27: 25 | D27: =IF(C27>10,"CB400-V","CB400-T") -> CB400-V | E27: 3949 | F27: 5 | G27: =VLOOKUP(C27,'CKN T4 '!$M$5:$N$19,2,0) -> 3.85 | H27: =ROUND(E27*F27/1000,2) -> 19.75 | I27: =ROUND(H27*G27,2) -> 76.04
B28: T5 | C28: 25 | D28: =IF(C28>10,"CB400-V","CB400-T") -> CB400-V | E28: 600 | F28: 40 | G28: =VLOOKUP(C28,'CKN T4 '!$M$5:$N$19,2,0) -> 3.85 | H28: =ROUND(E28*F28/1000,2) -> 24 | I28: =ROUND(H28*G28,2) -> 92.4
B29: Cộng | I29: =SUM(I26:I28) -> 1284.15
A30: Khung A7 (1 khung) | B30: A6 | C30: 20 | D30: =IF(C30>10,"CB400-V","CB400-T") -> CB400-V | E30: 11700 | F30: 32 | G30: =VLOOKUP(C30,'CKN T4 '!$M$5:$N$19,2,0) -> 2.47 | H30: =ROUND(E30*F30/1000,2) -> 374.4 | I30: =ROUND(H30*G30,2) -> 924.77
B31: Q4D | C31: 25 | D31: =IF(C31>10,"CB400-V","CB400-T") -> CB400-V | E31: 3962 | F31: 6 | G31: =VLOOKUP(C31,'CKN T4 '!$M$5:$N$19,2,0) -> 3.85 | H31: =ROUND(E31*F31/1000,2) -> 23.77 | I31: =ROUND(H31*G31,2) -> 91.51
B32: T5 | C32: 25 | D32: =IF(C32>10,"CB400-V","CB400-T") -> CB400-V | E32: 600 | F32: 48 | G32: =VLOOKUP(C32,'CKN T4 '!$M$5:$N$19,2,0) -> 3.85 | H32: =ROUND(E32*F32/1000,2) -> 28.8 | I32: =ROUND(H32*G32,2) -> 110.88
B33: Cộng | I33: =SUM(I30:I32) -> 1127.16
A34: Khung A8 (1 khung) | B34: B1 | C34: 20 | D34: =IF(C34>10,"CB400-V","CB400-T") -> CB400-V | E34: 3746 | F34: 16 | G34: =VLOOKUP(C34,'CKN T4 '!$M$5:$N$19,2,0) -> 2.47 | H34: =ROUND(E34*F34/1000,2) -> 59.94 | I34: =ROUND(H34*G34,2) -> 148.05
B35: B2 | C35: 20 | D35: =IF(C35>10,"CB400-V","CB400-T") -> CB400-V | E35: 5026 | F35: 16 | G35: =VLOOKUP(C35,'CKN T4 '!$M$5:$N$19,2,0) -> 2.47 | H35: =ROUND(E35*F35/1000,2) -> 80.42 | I35: =ROUND(H35*G35,2) -> 198.64
B36: Q4D | C36: 25 | D36: =IF(C36>10,"CB400-V","CB400-T") -> CB400-V | E36: 3962 | F36: 1 | G36: =VLOOKUP(C36,'CKN T4 '!$M$5:$N$19,2,0) -> 3.85 | H36: =ROUND(E36*F36/1000,2) -> 3.96 | I36: =ROUND(H36*G36,2) -> 15.25
B37: T5 | C37: 25 | D37: =IF(C37>10,"CB400-V","CB400-T") -> CB400-V | E37: 600 | F37: 8 | G37: =VLOOKUP(C37,'CKN T4 '!$M$5:$N$19,2,0) -> 3.85 | H37: =ROUND(E37*F37/1000,2) -> 4.8 | I37: =ROUND(H37*G37,2) -> 18.48
B38: Q6 | C38: 25 | D38: =IF(C38>10,"CB400-V","CB400-T") -> CB400-V | E38: 2827 | F38: 1 | G38: =VLOOKUP(C38,'CKN T4 '!$M$5:$N$19,2,0) -> 3.85 | H38: =ROUND(E38*F38/1000,2) -> 2.83 | I38: =ROUND(H38*G38,2) -> 10.9
B39: Cộng | I39: =SUM(I34:I38) -> 391.32
A40: Móc lồng | B40: C1 | C40: 25 | D40: =IF(C40>10,"CB400-V","CB400-T") -> CB400-V | E40: 1250 | F40: 32 | G40: =VLOOKUP(C40,'CKN T4 '!$M$5:$N$19,2,0) -> 3.85 | H40: =ROUND(E40*F40/1000,2) -> 40 | I40: =ROUND(H40*G40,2) -> 154
A41: Cốt đai | B41: X1 | C41: 10 | D41: =IF(C41>10,"CB400-V","CB400-T") -> CB400-T | E41: 1959201 | F41: 1 | G41: =VLOOKUP(C41,'CKN T4 '!$M$5:$N$19,2,0) -> 0.617 | H41: =ROUND(E41*F41/1000,2) -> 1959.2 | I41: =ROUND(H41*G41,2) -> 1208.83
A42: Thép bản | B42: 50x132x10 | E42: 132 | F42: 342 | G42: 3.925 | H42: =ROUND(E42*F42/1000,2) -> 45.14 | I42: =ROUND(H42*G42,2) -> 177.17
A43: Thép bản | B43: 50x100x10 | E43: 100 | F43: 380 | G43: 3.925 | H43: =ROUND(E43*F43/1000,2) -> 38 | I43: =ROUND(H43*G43,2) -> 149.15
A44: Khối lượng 1 cọc | B44: Phân loại cốt thép | F44: CB240-T | H44: 10 | I44: =SUMIF($C$6:$C$43,H44,$I$6:$I$43) -> 1208.83 | J44: kG
H45: 12 | I45: =SUMIF($C$6:$C$43,H45,$I$6:$I$43) -> 0 | J45: kG
F46: CB400-V | H46: 20 | I46: =SUMIF($C$5:$C$41,H46,$I$5:$I$41) -> 1271.46 | J46: kG
H47: 22 | I47: =SUMIF($C$5:$C$41,H47,$I$5:$I$41) -> 1115.71 | J47: kG
H48: 25 | I48: =SUMIF($C$5:$C$41,H48,$I$5:$I$41) -> 2871.46 | J48: kG
H49: 28 | I49: =SUMIF($C$5:$C$41,H49,$I$5:$I$41) -> 1808.35 | J49: kG
H50: 32 | I50: =SUMIF($C$5:$C$41,H50,$I$5:$I$41) -> 13916.33 | J50: kG
A51: Khối lượng 16 cọc | B51: Phân loại cốt thép | F51: CB240-T | H51: 10 | I51: =SUMIF($C$5:$C$41,H51,$I$5:$I$41)*16 -> 19341.28 | J51: kG
H52: 12 | I52: =SUMIF($C$5:$C$41,H52,$I$5:$I$41)*16 -> 0 | J52: kG
F53: CB400-V | H53: 20 | I53: =SUMIF($C$5:$C$41,H53,$I$5:$I$41)*16 -> 20343.36 | J53: kG
H54: 22 | I54: =SUMIF($C$5:$C$41,H54,$I$5:$I$41)*16 -> 17851.36 | J54: kG
H55: 25 | I55: =SUMIF($C$5:$C$41,H55,$I$5:$I$41)*16 -> 45943.36 | J55: kG
H56: 28 | I56: =SUMIF($C$5:$C$41,H56,$I$5:$I$41)*16 -> 28933.6 | J56: kG
H57: 32 | I57: =SUMIF($C$5:$C$41,H57,$I$5:$I$41)*16 -> 222661.28 | J57: kG
B58: Thép bản 50x132x10 | I58: 2835.2 | J58: Kg
B59: Thép bản 50x100x10 | I59: 2387.2 | J59: Kg
B60: Bu lông d16,L=352mm | I60: 3648/1871,2 | J60: Bộ/kG
B61: Bu lông d16,L=350mm | I61: 1824/1007,68 | J61: Bộ/kG
B62: Bu lông d16,L=317mm | I62: 1824/912,64 | J62: Bộ/kG
B63: Bu lông d16,L=297mm | I63: 1824/855,04 | J63: Bộ/kG
B64: Bu lông d16,L=284mm | I64: 1216/545,12 | J64: Bộ/kG
B65: Bu lông d16,L=275mm | I65: 1216/527,84 | J65: Bộ/kG
B66: BT 30 MPA | I66: 2176.64 | J66: m3 | K66: =PI()*1.5^2*(76.5+0.05+1.28)*16/4 -> 2200.5914
B67: Vữa xi măng lấp ống thăm dò | I67: 23.04 | J67: m3
B68: Bê tông đầu cọc | I68: 36.16 | J68: m3
A70: CỌC KHOAN NHỒI T2, T3, L=58 m
A72: Hạng mục | B72: Tên thanh | C72: Đường kính | D72: Loại thép | E72: Chiều dài thanh | F72: Số lượng | G72: KLĐV | H72: Tổng dài | I72: Tổng khối lượng | J72: Ghi chú
C73: (mm) | E73: (mm) | F73: thanh | G73: kG/m | H73: m | I73: kG
A74: Cọc khoan nhồi D1200, L=62 m | B74: A1 | C74: 25 | D74: CB400-V | E74: 11700 | F74: 12 | G74: =VLOOKUP(C74,'CKN T4 '!$M$5:$N$19,2,0) -> 3.85 | H74: =ROUND(E74*F74/1000,2) -> 140.4 | I74: =ROUND(H74*G74,2) -> 540.54
B75: A2 | C75: 25 | D75: CB400-V | E75: 10700 | F75: 12 | G75: =VLOOKUP(C75,'CKN T4 '!$M$5:$N$19,2,0) -> 3.85 | H75: =ROUND(E75*F75/1000,2) -> 128.4 | I75: =ROUND(H75*G75,2) -> 494.34
B76: A3 | C76: 22 | D76: CB400-V | E76: 11700 | F76: 24 | G76: =VLOOKUP(C76,'CKN T4 '!$M$5:$N$19,2,0) -> 2.98 | H76: =ROUND(E76*F76/1000,2) -> 280.8 | I76: =ROUND(H76*G76,2) -> 836.78
B77: A4 | C77: 20 | D77: CB400-V | E77: 11700 | F77: 72 | G77: =VLOOKUP(C77,'CKN T4 '!$M$5:$N$19,2,0) -> 2.47 | H77: =ROUND(E77*F77/1000,2) -> 842.4 | I77: =ROUND(H77*G77,2) -> 2080.73
B78: B1 | C78: 20 | D78: CB400-V | E78: 4920 | F78: 12 | G78: =VLOOKUP(C78,'CKN T4 '!$M$5:$N$19,2,0) -> 2.47 | H78: =ROUND(E78*F78/1000,2) -> 59.04 | I78: =ROUND(H78*G78,2) -> 145.83
B79: B2 | C79: 20 | D79: CB400-V | E79: 5920 | F79: 12 | G79: =VLOOKUP(C79,'CKN T4 '!$M$5:$N$19,2,0) -> 2.47 | H79: =ROUND(E79*F79/1000,2) -> 71.04 | I79: =ROUND(H79*G79,2) -> 175.47
B80: B3 | C80: 18 | D80: CB400-V | E80: 1455 | F80: 4 | G80: =VLOOKUP(C80,'CKN T4 '!$M$5:$N$19,2,0) -> 2 | H80: =ROUND(E80*F80/1000,2) -> 5.82 | I80: =ROUND(H80*G80,2) -> 11.64
B81: O1 | C81: 10 | D81: CB240-T | E81: 1147340 | F81: 1 | G81: =VLOOKUP(C81,'CKN T4 '!$M$5:$N$19,2,0) -> 0.617 | H81: =ROUND(E81*F81/1000,2) -> 1147.34 | I81: =ROUND(H81*G81,2) -> 707.91
B82: N5A | C82: 25 | D82: CB400-V | E82: 3135 | F82: 5 | G82: =VLOOKUP(C82,'CKN T4 '!$M$5:$N$19,2,0) -> 3.85 | H82: =ROUND(E82*F82/1000,2) -> 15.68 | I82: =ROUND(H82*G82,2) -> 60.37
B83: N5B | C83: 25 | D83: CB400-V | E83: 3145 | F83: 5 | G83: =VLOOKUP(C83,'CKN T4 '!$M$5:$N$19,2,0) -> 3.85 | H83: =ROUND(E83*F83/1000,2) -> 15.73 | I83: =ROUND(H83*G83,2) -> 60.56
B84: N5C | C84: 25 | D84: CB400-V | E84: 3155 | F84: 20 | G84: =VLOOKUP(C84,'CKN T4 '!$M$5:$N$19,2,0) -> 3.85 | H84: =ROUND(E84*F84/1000,2) -> 63.1 | I84: =ROUND(H84*G84,2) -> 242.94
B85: N6 | C85: 16 | D85: CB400-V | E85: 2192 | F85: 1 | G85: =VLOOKUP(C85,'CKN T4 '!$M$5:$N$19,2,0) -> 1.58 | H85: =ROUND(E85*F85/1000,2) -> 2.19 | I85: =ROUND(H85*G85,2) -> 3.46
B86: A5 | C86: 12 | D86: CB240-T | E86: 500 | F86: 30 | G86: =VLOOKUP(C86,'CKN T4 '!$M$5:$N$19,2,0) -> 0.888 | H86: =ROUND(E86*F86/1000,2) -> 15 | I86: =ROUND(H86*G86,2) -> 13.32
B87: A6 | C87: 12 | D87: CB240-T | E87: 420 | F87: 90 | G87: =VLOOKUP(C87,'CKN T4 '!$M$5:$N$19,2,0) -> 0.888 | H87: =ROUND(E87*F87/1000,2) -> 37.8 | I87: =ROUND(H87*G87,2) -> 33.57
B88: N4 | C88: Thép bản 370x60x8 | F88: 120 | G88: 1.394 | I88: =F88*G88 -> 167.28
A89: Khối lượng 1 cọc | B89: Phân loại cốt thép | F89: CB240-T | H89: 10 | I89: =SUMIF($C$75:$C$88,H89,$I$75:$I$88) -> 707.91 | J89: kG
H90: 12 | I90: =SUMIF($C$75:$C$88,H90,$I$75:$I$88) -> 46.89 | J90: kG
F91: CB400-V | H91: 16 | I91: =SUMIF($C$75:$C$88,H91,$I$75:$I$88) -> 3.46 | J91: kG
H92: 18 | I92: =SUMIF($C$75:$C$88,H92,$I$75:$I$88) -> 11.64 | J92: kG
H93: 20 | I93: =SUMIF($C$75:$C$88,H93,$I$75:$I$88) -> 2402.03 | J93: kG
H94: 22 | I94: =SUMIF($C$75:$C$88,H94,$I$75:$I$88) -> 836.78 | J94: kG
H95: 25 | I95: =SUMIF($C$75:$C$88,H95,$I$75:$I$88) -> 858.21 | J95: kG
A96: Khối lượng 16 cọc | B96: Phân loại cốt thép | F96: CB240-T | H96: 10 | I96: =I89*4 -> 2831.64 | J96: kG
H97: 12 | I97: =I90*4 -> 187.56 | J97: kG
F98: CB400-V | H98: 16 | I98: =I91*4 -> 13.84 | J98: kG
H99: 18 | I99: =I92*4 -> 46.56 | J99: kG
H100: 20 | I100: =I93*4 -> 9608.12 | J100: kG
H101: 22 | I101: =I94*4 -> 3347.12 | J101: kG
H102: 25 | I102: =I95*4 -> 3432.84 | J102: kG
B103: Cút nối D61/57 | I103: 108/31,44 | J103: cái/kg
...

Sheet TC T1-T3
A1: STT | B1: H¹ng môc | C1: §¬n vÞ | D1: T1 | E1: T2 | F1: T3 | I1: Trô T11(H=11.53m) | J1: sè l­îng | K1: träng l­îng | N1: Quay lai
A2: 1 | B2: Cao ®é mÆt ®Êt sau san ñi (C§) | C2: m | D2: =+'[3]Bang cao do truT1-T3'!D4 -> 2 | E2: =+'[3]Bang cao do truT1-T3'!D5 -> 2 | F2: =+'[3]Bang cao do truT1-T3'!D6 -> 2 | J2: =4*(3+2+3) -> 32 | K2: 97 | L2: =+K2*J2 -> 3104
A3: 2 | B3: Cao ®é mÆt ®Êt thiªn nhiªn (C§) | C3: m | D3: 1 | E3: 0.9 | F3: 0.84
A4: 3 | B4: Cao ®é ®Ønh bÖ (C§1) | C4: m | D4: =+'[3]Bang cao do truT1-T3'!E4 -> 0.631 | E4: =+'[3]Bang cao do truT1-T3'!E5 -> 0.532 | F4: =+'[3]Bang cao do truT1-T3'!E6 -> 0.434 | I4: - Thanh cét chèng | J4: =(3+4*2) -> 11 | K4: 11.87 | L4: =+J4*K4 -> 130.57
A5: 4 | B5: Cao ®é ®¸y bÖ (C§2) | C5: m | D5: =+D4-D8 -> -1.369 | E5: =+E4-E8 -> -1.468 | F5: =+F4-F8 -> -1.566 | I5: Tæng | L5: =+L4+L2 -> 3234.57
A6: 5 | B6: ChiÒu réng bÖ mãng (Ab) | C6: m | D6: 6 | E6: 6 | F6: 6
A7: 6 | B7: ChiÒu dµi bÖ mãng (Bb) | C7: m | D7: 7 | E7: 7 | F7: 7
A8: 7 | B8: ChiÒu cao bÖ mãng (Hb) | C8: m | D8: 2 | E8: 2 | F8: 2
A9: 8 | B9: ChiÒu dµi dù kiÕn cäc khoan nhåi (L) | C9: m | D9: =+'[3]Bang cao do truT1-T3'!I4 -> 62 | E9: =+'[3]Bang cao do truT1-T3'!I5 -> 58 | F9: =+'[3]Bang cao do truT1-T3'!I6 -> 58 | G9: =+E9 -> 58
A10: 9 | B10: Cao ®é mòi cäc khoan nhåi (C§3) | C10: m | D10: =+D5-D9 -> -63.369 | E10: =+E5-E9 -> -59.468 | F10: =+F5-F9 -> -59.566
A11: 10 | B11: Sè cäc khoan nhåi D=1.2m | C11: cäc | D11: =+'[3]Bang cao do truT1-T3'!J4 -> 4 | E11: =+'[3]Bang cao do truT1-T3'!J5 -> 4 | F11: =+'[3]Bang cao do truT1-T3'!J6 -> 4 | G11: =+SUM(D11:E11) -> 8
A12: 11 | B12: Cao ®é mòi khoan gÆp cuéi sái | C12: m | D12: 0 | E12: 0 | F12: 0
B13: Cao ®é mòi khoan gÆp ®¸ cÊp IV | C13: m | D13: 0 | E13: 0 | F13: 0
B14: Cao ®é mòi khoan gÆp ®¸ cÊp III | C14: m | D14: 0 | E14: 0 | F14: 0
A15: 12 | B15: ChiÒu cao ®µo ®Êt trung b×nh (Htb) | C15: m | D15: =+ROUND(ABS(D2-D5)+D31+0.4,3) -> 3.869 | E15: =+ROUND(ABS(E2-E5)+E31+0.4,3) -> 3.968 | F15: =+ROUND(ABS(F2-F5)+F31+0.4,3) -> 4.066 | M15: =4/1.5 -> 2.6666667
B16: ChiÒu dµy líp bª t«ng bÞt ®¸y | C16: m | D16: 0 | E16: 0 | F16: 0
A17: S | B17: ChiÒu réng hè mãng (Ah) | C17: m | D17: =+D6+2*1.1 -> 8.2 | E17: =+E6+2*1.1 -> 8.2 | F17: =+F6+2*1.1 -> 8.2 | I17: =16/0.4 -> 40
B18: ChiÒu dµi hè mãng (Bh) | C18: m | D18: =+D7+2*1.1 -> 9.2 | E18: =+E7+2*1.1 -> 9.2 | F18: =+F7+2*1.1 -> 9.2
B19: DiÖn tich hè mãng (S®) | C19: m2 | D19: =+ROUND(D17*D18,2) -> 75.44 | E19: =+ROUND(E17*E18,2) -> 75.44 | F19: =+ROUND(F17*F18,2) -> 75.44
B20: ChiÒu réng hè mãng ®Ønh bÖ | C20: m | D20: =+D17+2.5*0.75*2 -> 11.95 | E20: =+E17+2.5*0.75*2 -> 11.95 | F20: =+F17+2.5*0.75*2 -> 11.95
B21: ChiÒu dµi hè mãng ®Ønh bÖ | C21: m | D21: =+D18+2.5*0.75*2 -> 12.95 | E21: =+E18+2.5*0.75*2 -> 12.95 | F21: =+F18+2.5*0.75*2 -> 12.95
B22: S ®Ønh bÖ | C22: m2 | D22: =+D21*D20 -> 154.7525 | E22: =+E21*E20 -> 154.7525 | F22: =+F21*F20 -> 154.7525
B23: ChiÒu réng hè mãng tù nhiªn | C23: m | D23: =+D17+2*D15*0.75 -> 14.0035 | E23: =+E17+2*E15*0.75 -> 14.152 | F23: =+F17+2*F15*0.75 -> 14.299
B24: chiÒu dµi hè mãng tù nhiªn | C24: m | D24: =+D18+2*D15*0.75 -> 15.0035 | E24: =+E18+2*E15*0.75 -> 15.152 | F24: =+F18+2*F15*0.75 -> 15.299
B25: S tù nhiªn | C25: m2 | D25: =+D24*D23 -> 210.10151 | E25: =+E24*E23 -> 214.4311 | F25: =+F24*F23 -> 218.7604
B26: chiÒu réng san ñi | C26: m | D26: =+D23+2*0.5+2*ABS(D3-D2) -> 17.0035 | E26: =+E23+2*0.5+2*ABS(E3-E2) -> 17.352 | F26: =+F23+2*0.5+2*ABS(F3-F2) -> 17.619
B27: chiÒu dµi san ñi | C27: m | D27: =+D24+2*0.5+2*ABS(D3-D2) -> 18.0035 | E27: =+E24+2*0.5+2*ABS(E3-E2) -> 18.352 | F27: =+F24+2*0.5+2*ABS(F3-F2) -> 18.619
B28: S san ñi | C28: m | D28: =+ROUND(D27*D26,2) -> 306.12 | E28: =+ROUND(E27*E26,2) -> 318.44 | F28: =+ROUND(F27*F26,2) -> 328.05
A29: Sbt | B29: ChiÒu réng líp bª t«ng ®Öm (Abt) | C29: m | D29: =+D6+2*0.1 -> 6.2 | E29: =+E6+2*0.1 -> 6.2 | F29: =+F6+2*0.1 -> 6.2
B30: ChiÒu dµi líp bª t«ng ®Öm (Bbt) | C30: m | D30: =+D7+2*0.1 -> 7.2 | E30: =+E7+2*0.1 -> 7.2 | F30: =+F7+2*0.1 -> 7.2
B31: ChiÒu dµy líp bª t«ng ®Öm (Hbt) | C31: m | D31: 0.1 | E31: 0.1 | F31: 0.1
B32: ThÓ tÝch líp bª t«ng ®Öm (Sbt) | C32: m2 | D32: =+ROUND(D29*D30*D31,2) -> 4.46 | E32: =+ROUND(E29*E30*E31,2) -> 4.46 | F32: =+ROUND(F29*F30*F31,2) -> 4.46
A33: 13 | B33: ChiÒu dµi khoan ®Êt (H®) | C33: m | D33: =+ABS(D2-D10) -> 65.369 | E33: =+ABS(E2-E10) -> 61.468 | F33: =+ABS(F2-F10) -> 61.566
A34: 14 | B34: ChiÒu s©u khoan cuéi sái (Hcs) | C34: m
A35: 15 | B35: ChiÒu s©u khoan ®¸ cÊp IV | C35: m
A36: 16 | B36: ChiÒu s©u khoan ®¸ cÊp III | C36: m | D36: 0 | E36: 0 | F36: 0
A37: 17 | B37: DiÖn tÝch ®· san ñi t¹o mÆt b»ng | C37: m2 | D37: =(D17+2*0.75*(D2-D5+D31+0.4))*(D18+0.75*(D2-D5+D31+0.4)) -> 169.46686 | E37: =(E17+2*0.75*(E2-E5+E31+0.4))*(E18+0.75*(E2-E5+E31+0.4)) -> 172.31475 | F37: =(F17+2*0.75*(F2-F5+F31+0.4))*(F18+0.75*(F2-F5+F31+0.4)) -> 175.1556
A38: 18 | B38: DiÖn tÝch ®Ønh bÖ | C38: m2 | D38: =(D17+2*0.75*(D8+D31+0.4))*(D18+0.75*(D8+D31+0.4)) -> 132.34625 | E38: =(E17+2*0.75*(E8+E31+0.4))*(E18+0.75*(E8+E31+0.4)) -> 132.34625 | F38: =(F17+2*0.75*(F8+F31+0.4))*(F18+0.75*(F8+F31+0.4)) -> 132.34625
A39: 19 | B39: ChiÒu dµi èng v¸ch | C39: m | D39: 8 | E39: 8 | F39: 8 | G39: =+E39 -> 8
A40: 20 | B40: DiÖn tich R·nh tho¸t n­íc (Sr) | C40: m2 | D40: 0.3 | E40: 0.3 | F40: 0.3
A41: 21 | B41: ChiÒu dµi R·nh tho¸t n­íc | C41: m | D41: =(D6+2*0.9+D7+2*0.9)*2 -> 33.2 | E41: =(E6+2*0.9+E7+2*0.9)*2 -> 33.2 | F41: =(F6+2*0.9+F7+2*0.9)*2 -> 33.2
A42: 22 | B42: chiÒu dµi cäc v¸n thÐp, cäc ®Þnh vÞ | C42: m | D42: 0 | E42: 0 | F42: 0 | G42: =+E42 -> 0
A43: 23 | B43: Sè cäc v¸n thÐp | C43: c¸i | D43: 0 | E43: 0 | F43: 0 | G43: s
B44: chiÒu dµi ®ãng cäc v¸n thÐp (LS-IV) | C44: m | D44: 0 | E44: 0 | F44: 0 | G44: =+E44 -> 0
B45: Träng l­îng riªng cäc v¸n thÐp (LS-IV) | C45: T/m | D45: 0.074 | E45: 0.074 | F45: 0.074 | G45: =+E45 -> 0.074
B46: ChiÒu dµy cäc v¸n thÐp | C46: m | D46: 0.36 | E46: 0.36 | F46: 0.36
A47: 24 | B47: Sè cäc ®Þnh vÞ (2I300) | C47: c¸i | D47: 0 | E47: 0 | F47: 0 | G47: =+SUM(D47:E47) -> 0
B48: chiÒu dµi ®ãng cäc ®Þnh vÞ | C48: m | D48: 0 | E48: 0 | F48: 0 | G48: =+E48 -> 0
B49: Träng l­îng riªng cäc ®Þnh vÞ(2I300) | C49: T/m | D49: =39.2*2/1000 -> 0.0784 | E49: =39.2*2/1000 -> 0.0784 | F49: =39.2*2/1000 -> 0.0784 | G49: =+E49 -> 0.0784
A50: 25 | B50: chiÒu dµi nÑp ngang | C50: m | D50: 0 | E50: 0 | F50: 0 | G50: =+E50 -> 0
B51: Träng l­îng riªng nÑp ngang(2I300) | C51: T/m | D51: =39.2*2/1000 -> 0.0784 | E51: =39.2*2/1000 -> 0.0784 | F51: =39.2*2/1000 -> 0.0784 | G51: =+E51 -> 0.0784
A52: 26 | B52: chiÒu dµi thanh chèng (2I300) | C52: m | D52: 0 | E52: 0 | F52: 0 | G52: =+E52 -> 0
B53: Träng l­îng riªng thanh chèng | C53: T/m | D53: =39.2*2/1000 -> 0.0784 | E53: =39.2*2/1000 -> 0.0784 | F53: =39.2*2/1000 -> 0.0784 | G53: =+E53 -> 0.0784
A54: b¶ng tæng hîp khèi l­îng thi c«ng Trô | D54: 2.95 | E54: 1.67 | G54: L ®æ th¶I ®Çu vµ cuèi cÇu
A55: stt | B55: H¹ng môc | C55: §¬n vÞ | D55: Khèi l­îng | G55: Tæng céng | H55: Ghi chó
D56: Trô T1 | E56: Trô T2 | F56: Trô T3
A57: 1 | B57: §¾p ®Êt t¹o mÆt b»ng | C57: m3 | D57: =+ROUND(1/3*ABS(D2-D3)*(D25+D28+SQRT(D25*D28))-2.39*D26,2) -> 215.97 | E57: =+ROUND(1/3*ABS(E2-E3)*(E25+E28+SQRT(E25*E28))-2.68*E26,2) -> 244.7 | F57: =+ROUND(1/3*ABS(F2-F3)*(F25+F28+SQRT(F25*F28))-5.5*F26,2) -> 218.11 | G57: =+SUM(D57:E57) -> 460.67
A58: 2 | B58: Thi c«ng cäc:
A59: - | B59: èng v¸ch D=1.3m, dµy 10mm, L=8m (tÝnh 1 èng vµ lu©n chuyÓn) | C59: èng/T | D59: =1&"/"&ROUND(PI()*(0.66^2-0.65^2)*8*7.85,2) -> 1/2,58 | E59: =1&"/"&ROUND(PI()*(0.66^2-0.65^2)*8*7.85,2) -> 1/2,58 | F59: =1&"/"&ROUND(PI()*(0.66^2-0.65^2)*8*7.85,2) -> 1/2,58 | G59: =+D59 -> 1/2,58
A60: - | B60: H¹+nhæ èng v¸ch t¹m L=8m | C60: lÇn/m | D60: =D11&"/"&D11*D39 -> 4/32 | E60: =E11&"/"&E11*E39 -> 4/32 | F60: =F11&"/"&F11*F39 -> 4/32 | G60: =G11&"/"&G11*G39 -> 8/64
A61: - | B61: Khoan ®Êt cäc khoan nhåi D=1.2m | C61: m | D61: =+ROUND(D11*D33,2) -> 261.48 | E61: =+ROUND(E11*E33,2) -> 245.87 | F61: =+ROUND(F11*F33,2) -> 246.26 | G61: =+SUM(D61:E61) -> 507.35
A62: - | B62: Thanh th¶i ®Êt mïn khoan cäc khoan nhåi | C62: m3 | D62: =+ROUND(D61*PI()*0.6^2,2) -> 295.73 | E62: =+ROUND(E61*PI()*0.6^2,2) -> 278.07 | F62: =+ROUND(F61*PI()*0.6^2,2) -> 278.51 | G62: =+SUM(D62:E62) -> 573.8
A63: - | B63: Khoan ®¸ cäc khoan nhåi D=1.2m | C63: m | D63: =+ROUND($D$11*D35,2) -> 0 | E63: =+ROUND($D$11*E35,2) -> 0 | F63: =+ROUND($D$11*F35,2) -> 0 | G63: =+SUM(D63:E63) -> 0
A64: - | B64: Khoan BT kiÓm tra mòi cäc | C64: cäc/m | D64: =1&"/"&1*1 -> 1/1 | F64: =1&"/"&1*1 -> 1/1 | G64: =2&"/"&2*1 -> 2/2
A65: - | B65: Siªu ©m cäc D=1.2m (4 mÆt c¾t/ cäc) | C65: cäc/m | D65: =D11&"/"&D11*(D9+1.15) -> 4/252,6 | E65: =E11&"/"&E11*(E9+1.15) -> 4/236,6 | F65: =F11&"/"&F11*(F9+1.15) -> 4/236,6 | G65: =D11+E11&"/"&D11*(D9+1.15)+E11*(E9+1.15) -> 8/489,2
A66: - | B66: §Ëp bª t«ng ®Çu cäc | C66: m3 | D66: =ROUND(PI()*0.6^2*1*D11,2) -> 4.52 | E66: =ROUND(PI()*0.6^2*1*E11,2) -> 4.52 | F66: =ROUND(PI()*0.6^2*1*F11,2) -> 4.52 | G66: =+SUM(D66:E66) -> 9.04
A67: - | B67: ThÝ nghiÖm PDA | C67: cọc | E67: 1 | G67: =+SUM(D67:E67) -> 1
A68: - | B68: V÷a Bent«nite gi÷ æn ®Þnh lç khoan | C68: m3 | D68: =ROUND(0.6^2*PI()*(D2-D10+0.3)*D11,2) -> 297.08 | E68: =ROUND(0.6^2*PI()*(E2-E10+0.3)*E11,2) -> 279.43 | F68: =ROUND(0.6^2*PI()*(F2-F10+0.3)*F11,2) -> 279.88 | G68: =+SUM(D68:E68) -> 576.51
A69: 3 | B69: Thi c«ng mãng:
A70: - | B70: §µo ®Êt hè mãng | C70: m3 | D70: =+ROUND(1/3*D15*(D19+D25+SQRT(D19*D25))-0.4*(D6+1)*(D7+1)-D11*PI()*0.6^2*(D2-D5+D31),2) -> 492.53 | E70: =+ROUND(1/3*E15*(E19+E25+SQRT(E19*E25))-0.4*(E6+1)*(E7+1)-E11*PI()*0.6^2*(E2-E5+E31),2) -> 513.09 | F70: =+ROUND(1/3*F15*(F19+F25+SQRT(F19*F25))-0.4*(F6+1)*(F7+1)-F11*PI()*0.6^2*(F2-F5+F31),2) -> 533.87 | G70: =+SUM(D70:E70) -> 1005.62
A71: - | B71: §¾p tr¶ hè mãng ®Êt ®Çm chÆt K95 | C71: m3 | D71: =+ROUND(D70-D6*D7*D8-D32-D57,2) -> 188.1 | E71: =+ROUND(E70-E6*E7*E8-E32-E57,2) -> 179.93 | F71: =+ROUND(F70-F6*F7*F8-F32-F57,2) -> 227.3 | G71: =+SUM(D71:E71) -> 368.03
A72: - | B72: Cäc v¸n thÐp Lasen IV,L=10m | C72: cäc/m/T | D72: =D43&"/"&D43*D42&"/"&ROUND(D43*D42*D45,2) -> 0/0/0 | E72: =E43&"/"&E43*E42&"/"&ROUND(E43*E42*E45,2) -> 0/0/0 | F72: =F43&"/"&F43*F42&"/"&ROUND(F43*F42*F45,2) -> 0/0/0 | G72: =+SUM(D72:E72) -> 0
A73: - | B73: §ãng vµ nhæ cäc v¸n thÐp (Ltb=9.0m) | C73: cäc/m | D73: =D43&"/"&ROUND(D43*D48,2) -> 0/0 | E73: =E43&"/"&ROUND(E43*E48,2) -> 0/0 | F73: =F43&"/"&ROUND(F43*F48,2) -> 0/0 | G73: =+SUM(D73:E73) -> 0
A74: - | B74: Cäc ®Þnh vÞ 2I300, L=10m | C74: cäc/m/T | D74: =D47&"/"&D47*D42&"/"&ROUND(D47*D42*D49,2) -> 0/0/0 | E74: =E47&"/"&E47*E42&"/"&ROUND(E47*E42*E49,2) -> 0/0/0 | F74: =F47&"/"&F47*F42&"/"&ROUND(F47*F42*F49,2) -> 0/0/0 | G74: =+SUM(D74:E74) -> 0
A75: - | B75: §ãng vµ nhæ cäc ®Þnh vÞ 2I300 (Ltb =9.0m) | C75: cäc/m | D75: =D47&"/"&ROUND(D47*D48,2) -> 0/0 | E75: =E47&"/"&ROUND(E47*E48,2) -> 0/0 | F75: =F47&"/"&ROUND(F47*F48,2) -> 0/0 | G75: =+SUM(D75:E75) -> 0
A76: - | B76: L¾p dùng nÑp ngang, thanh chèng 2I300 | C76: m/T | D76: =(D50+D52)&"/"&ROUND((D50+D52)*D53,2) -> 0/0 | E76: =(E50+E52)&"/"&ROUND((E50+E52)*E53,2) -> 0/0 | F76: =(F50+F52)&"/"&ROUND((F50+F52)*F53,2) -> 0/0 | G76: =+SUM(D76:E76) -> 0
A77: - | B77: Bª t«ng bÞt ®¸y 20Mpa | C77: m3 | D77: =ROUND(D16*D19,2) -> 0 | E77: =ROUND(E16*E19,2) -> 0 | F77: =ROUND(F16*F19,2) -> 0 | G77: =+SUM(D77:E77) -> 0
A78: - | B78: ThÐp h×nh khung chèng v¸n khu«n | C78: T | D78: =+'[3]Khung chong be'!$I$14 -> 3 | E78: =+'[3]Khung chong be'!$I$14 -> 3 | F78: =+'[3]Khung chong be'!$I$14 -> 3 | G78: =+E78 -> 3
A79: - | B79: TÊm BTXM 15MPa -KT (0.5x1.5x0.15) | C79: tÊm | G79: =+E79 -> 0
A80: - | B80: Gç ®Öm | C80: m3 | D80: 0.5 | E80: 0.5 | F80: 0.5 | G80: =+E80 -> 0.5
A81: - | B81: B¬m n­íc hè mãng | C81: ca | D81: 5 | E81: 5 | F81: 5 | G81: =+SUM(D81:E81) -> 10
A82: 4 | B82: Thi c«ng th©n, xµ mò:
A83: - | B83: §µ gi¸o | C83: T | D83: =+'[3]Khung chong than+xamu'!$I$9+'[3]Khung chong than+xamu'!Q13 -> 10.08 | E83: =+'[3]Khung chong than+xamu'!$I$9+'[3]Khung chong than+xamu'!R13 -> 11.1 | F83: =+'[3]Khung chong than+xamu'!$I$9+'[3]Khung chong than+xamu'!S13 -> 12.11 | G83: =+E83 -> 11.1
A84: - | B84: Gç ®Öm, sµn c«ng t¸c | C84: m3 | D84: 1.6 | E84: 1.6 | F84: 1.6 | G84: =+E84 -> 1.6 | J84: =88*0.075 -> 6.6
A85: - | B85: Thanh th¶i ®Êt | C85: m3 | G85: =+SUM(D85:E85) -> 0
B87: C«ng t¸c khoan tao lç
B88: - §Êt > khoan ®Êt | D88: =1300+10 -> 1310 | E88: 1300
B89: - §¸ phong ho¸ m¹ng, RQD<50(3a, 5a,5b) -> ®¸ cÊp IV | D89: =+D88/2 -> 655 | E89: =+E88/2 -> 650
B90: - §¸ RQD>50(3b,5c,6) -> ®¸ cÊp IV
D94: 1300 | E94: =+D94/1000/2 -> 0.65
D95: =1300+20 -> 1320 | E95: =+D95/1000/2 -> 0.66

Sheet TruT4
A2: Bệ trụ T4
A4: STT | B4: Tên thanh | C4: Đường kính (mm) | D4: Mác thép | E4: Chiều dài (mm) | F4: Số lượng (thanh) | G4: Tổng chiều dài (m) | H4: KLĐV (kG/m) | I4: Khối lượng (kG) | K4: Quay lai sheet dien giai
A5: 1 | B5: F1 | C5: 28 | D5: CB400-V | E5: 11425 | F5: 98 | G5: =E5*F5/1000 -> 1119.65 | H5: =VLOOKUP(TruT4!C5,'CKN T4 '!$M$5:$N$14,2,0) -> 4.83 | I5: =G5*H5 -> 5407.9095
A6: 2 | B6: F2 | C6: 28 | D6: CB400-V | E6: 7918 | F6: 146 | G6: =E6*F6/1000 -> 1156.028 | H6: =VLOOKUP(TruT4!C6,'CKN T4 '!$M$5:$N$14,2,0) -> 4.83 | I6: =G6*H6 -> 5583.6152
A7: 3 | B7: F3 | C7: 28 | D7: CB400-V | E7: 11425 | F7: 49 | G7: =E7*F7/1000 -> 559.825 | H7: =VLOOKUP(TruT4!C7,'CKN T4 '!$M$5:$N$14,2,0) -> 4.83 | I7: =G7*H7 -> 2703.9548
A8: 4 | B8: F4 | C8: 28 | D8: CB400-V | E8: 7918 | F8: 73 | G8: =E8*F8/1000 -> 578.014 | H8: =VLOOKUP(TruT4!C8,'CKN T4 '!$M$5:$N$14,2,0) -> 4.83 | I8: =G8*H8 -> 2791.8076
A9: 5 | B9: F5 | C9: 16 | D9: CB400-V | E9: 10900 | F9: 26 | G9: =E9*F9/1000 -> 283.4 | H9: =VLOOKUP(TruT4!C9,'CKN T4 '!$M$5:$N$14,2,0) -> 1.58 | I9: =G9*H9 -> 447.772
A10: 6 | B10: F6 | C10: 16 | D10: CB400-V | E10: 7684 | F10: 26 | G10: =E10*F10/1000 -> 199.784 | H10: =VLOOKUP(TruT4!C10,'CKN T4 '!$M$5:$N$14,2,0) -> 1.58 | I10: =G10*H10 -> 315.65872
A11: 7 | B11: F7 | C11: 18 | D11: CB400-V | E11: 2621 | F11: 171 | G11: =E11*F11/1000 -> 448.191 | H11: =VLOOKUP(TruT4!C11,'CKN T4 '!$M$5:$N$14,2,0) -> 2 | I11: =G11*H11 -> 896.382
A12: 8 | B12: F8 | C12: 16 | D12: CB400-V | E12: 2621 | F12: 98 | G12: =E12*F12/1000 -> 256.858 | H12: =VLOOKUP(TruT4!C12,'CKN T4 '!$M$5:$N$14,2,0) -> 1.58 | I12: =G12*H12 -> 405.83564
A13: 9 | B13: F9 | C13: 16 | D13: CB400-V | E13: 2621 | F13: 146 | G13: =E13*F13/1000 -> 382.666 | H13: =VLOOKUP(TruT4!C13,'CKN T4 '!$M$5:$N$14,2,0) -> 1.58 | I13: =G13*H13 -> 604.61228
B15: STT | C15: Đường kính | D15: Tổng khối lượng
C16: (mm) | D16: (tấn)
B17: 1 | C17: 16 | D17: =SUMIF($C$5:$C$13,C17,$I$5:$I$13)/1000 -> 1.7738786
B18: 2 | C18: 18 | D18: =SUMIF($C$5:$C$13,C18,$I$5:$I$13)/1000 -> 0.896382
B19: 3 | C19: 28 | D19: =SUMIF($C$5:$C$13,C19,$I$5:$I$13)/1000 -> 16.487287
A21: Thân trụ T4
A23: STT | B23: Tên thanh | C23: Đường kính (mm) | D23: Mác thép | E23: Chiều dài (mm) | F23: Số lượng (thanh) | G23: Tổng chiều dài (m) | H23: KLĐV (kG/m) | I23: Khối lượng (kG)
A24: 1 | B24: P1 | C24: 32 | D24: CB400-V | E24: 11181 | F24: 180 | G24: =E24*F24/1000 -> 2012.58 | H24: =VLOOKUP(TruT4!C24,'CKN T4 '!$M$5:$N$14,2,0) -> 6.31 | I24: =G24*H24 -> 12699.38
A25: 2 | B25: P2 | C25: 16 | D25: CB400-V | E25: 9515 | F25: 162 | G25: =E25*F25/1000 -> 1541.43 | H25: =VLOOKUP(TruT4!C25,'CKN T4 '!$M$5:$N$14,2,0) -> 1.58 | I25: =G25*H25 -> 2435.4594
A26: 3 | B26: P3 | C26: 16 | D26: CB400-V | E26: 2049 | F26: 84 | G26: =E26*F26/1000 -> 172.116 | H26: =VLOOKUP(TruT4!C26,'CKN T4 '!$M$5:$N$14,2,0) -> 1.58 | I26: =G26*H26 -> 271.94328
A27: 4 | B27: P4 | C27: 16 | D27: CB400-V | E27: 5747 | F27: 28 | G27: =E27*F27/1000 -> 160.916 | H27: =VLOOKUP(TruT4!C27,'CKN T4 '!$M$5:$N$14,2,0) -> 1.58 | I27: =G27*H27 -> 254.24728
B29: STT | C29: Đường kính | D29: Tổng khối lượng
B30: 1 | C30: 16 | D30: =SUMIF($C$24:$C$27,C30,$I$24:$I$27)/1000 -> 2.96165
B31: 2 | C31: 32 | D31: =SUMIF($C$24:$C$27,C31,$I$24:$I$27)/1000 -> 12.69938
A33: Xà mũ, tường tai, đá kê gối
A35: STT | B35: Tên thanh | C35: Đường kính (mm) | D35: Mác thép | E35: Chiều dài (mm) | F35: Số lượng (thanh) | G35: Tổng chiều dài (m) | H35: KLĐV (kG/m) | I35: Khối lượng (kG)
A36: 1 | B36: H1 | C36: 32 | D36: CB400-V | E36: 11152 | F36: 20 | G36: =E36*F36/1000 -> 223.04 | H36: =VLOOKUP(TruT4!C36,'CKN T4 '!$M$5:$N$14,2,0) -> 6.31 | I36: =G36*H36 -> 1407.3824
A37: 2 | B37: H1A | C37: 32 | D37: CB400-V | E37: 10850 | F37: 20 | G37: =E37*F37/1000 -> 217 | H37: =VLOOKUP(TruT4!C37,'CKN T4 '!$M$5:$N$14,2,0) -> 6.31 | I37: =G37*H37 -> 1369.27
A38: 3 | B38: H2 | C38: 28 | D38: CB400-V | E38: 13589 | F38: 8 | G38: =E38*F38/1000 -> 108.712 | H38: =VLOOKUP(TruT4!C38,'CKN T4 '!$M$5:$N$14,2,0) -> 4.83 | I38: =G38*H38 -> 525.07896
A39: 4 | B39: H2A | C39: 28 | D39: CB400-V | E39: 13389 | F39: 12 | G39: =E39*F39/1000 -> 160.668 | H39: =VLOOKUP(TruT4!C39,'CKN T4 '!$M$5:$N$14,2,0) -> 4.83 | I39: =G39*H39 -> 776.02644
A40: 5 | B40: H3 | C40: 25 | D40: CB400-V | E40: 6606 | F40: 90 | G40: =E40*F40/1000 -> 594.54 | H40: =VLOOKUP(TruT4!C40,'CKN T4 '!$M$5:$N$14,2,0) -> 3.85 | I40: =G40*H40 -> 2288.979
A41: 6 | B41: H3A | C41: 25 | D41: CB400-V | E41: 5686 | F41: 68 | G41: =E41*F41/1000 -> 386.648 | H41: =VLOOKUP(TruT4!C41,'CKN T4 '!$M$5:$N$14,2,0) -> 3.85 | I41: =G41*H41 -> 1488.5948
A42: 7 | B42: H4 | C42: 16 | D42: CB400-V | E42: 5290 | F42: 90 | G42: =E42*F42/1000 -> 476.1 | H42: =VLOOKUP(TruT4!C42,'CKN T4 '!$M$5:$N$14,2,0) -> 1.58 | I42: =G42*H42 -> 752.238
A43: 8 | B43: H4A | C43: 16 | D43: CB400-V | E43: 4480 | F43: 68 | G43: =E43*F43/1000 -> 304.64 | H43: =VLOOKUP(TruT4!C43,'CKN T4 '!$M$5:$N$14,2,0) -> 1.58 | I43: =G43*H43 -> 481.3312
A44: 9 | B44: H5 | C44: 16 | D44: CB400-V | E44: 10850 | F44: 5 | G44: =E44*F44/1000 -> 54.25 | H44: =VLOOKUP(TruT4!C44,'CKN T4 '!$M$5:$N$14,2,0) -> 1.58 | I44: =G44*H44 -> 85.715
A45: 10 | B45: H6 | C45: 16 | D45: CB400-V | E45: 9005 | F45: 10 | G45: =E45*F45/1000 -> 90.05 | H45: =VLOOKUP(TruT4!C45,'CKN T4 '!$M$5:$N$14,2,0) -> 1.58 | I45: =G45*H45 -> 142.279
A46: 11 | B46: H7 | C46: 16 | D46: CB400-V | E46: 1237 | F46: 81 | G46: =E46*F46/1000 -> 100.197 | H46: =VLOOKUP(TruT4!C46,'CKN T4 '!$M$5:$N$14,2,0) -> 1.58 | I46: =G46*H46 -> 158.31126
A47: 12 | B47: H8 | C47: 16 | D47: CB400-V | E47: 2987 | F47: 81 | G47: =E47*F47/1000 -> 241.947 | H47: =VLOOKUP(TruT4!C47,'CKN T4 '!$M$5:$N$14,2,0) -> 1.58 | I47: =G47*H47 -> 382.27626
... A49: 14 | B49: L2 | C49: 10 | D49: CB400-T | E49: 2900 | F49: 40 | G49: =E49*F49/1000 -> 116 | H49: =VLOOKUP(TruT4!C49,'CKN T4 '!$M$5:$N$14,2,0) -> 0.617 | I49: =G49*H49 -> 71.572
A50: 15 | B50: L3 | C50: 8 | D50: CB400-T | E50: 220 | F50: 36 | G50: =E50*F50/1000 -> 7.92 | H50: 0.395 | I50: =G50*H50 -> 3.1284
A51: 16 | B51: A1 | C51: 10 | D51: CB400-T | E51: 950 | F51: 100 | G51: =E51*F51/1000 -> 95 | H51: =VLOOKUP(TruT4!C51,'CKN T4 '!$M$5:$N$14,2,0) -> 0.617 | I51: =G51*H51 -> 58.615
A52: 17 | B52: A2 | C52: 10 | D52: CB400-T | E52: 950 | F52: 100 | G52: =E52*F52/1000 -> 95 | H52: =VLOOKUP(TruT4!C52,'CKN T4 '!$M$5:$N$14,2,0) -> 0.617 | I52: =G52*H52 -> 58.615
A53: 18 | B53: A3 | C53: 10 | D53: CB400-T | E53: 600 | F53: 60 | G53: =E53*F53/1000 -> 36 | H53: =VLOOKUP(TruT4!C53,'CKN T4 '!$M$5:$N$14,2,0) -> 0.617 | I53: =G53*H53 -> 22.212
A54: 19 | B54: A4 | C54: 10 | D54: CB400-T | E54: 600 | F54: 60 | G54: =E54*F54/1000 -> 36 | H54: =VLOOKUP(TruT4!C54,'CKN T4 '!$M$5:$N$14,2,0) -> 0.617 | I54: =G54*H54 -> 22.212
A55: 20 | B55: A5 | C55: 10 | D55: CB400-T | E55: 725 | F55: 34 | G55: =E55*F55/1000 -> 24.65 | H55: =VLOOKUP(TruT4!C55,'CKN T4 '!$M$5:$N$14,2,0) -> 0.617 | I55: =G55*H55 -> 15.20905
A56: 21 | B56: A6 | C56: 10 | D56: CB400-T | E56: 830 | F56: 30 | G56: =E56*F56/1000 -> 24.9 | H56: =VLOOKUP(TruT4!C56,'CKN T4 '!$M$5:$N$14,2,0) -> 0.617 | I56: =G56*H56 -> 15.3633
B58: STT | C58: Đường kính | D58: Tổng khối lượng
B59: 1 | C59: 8 | D59: =SUMIF($C$36:$C$56,C59,$I$36:$I$56)/1000 -> 0.0031284
B60: 2 | C60: 10 | D60: =SUMIF($C$36:$C$56,C60,$I$36:$I$56)/1000 -> 0.35264635
B61: 3 | C61: 16 | D61: =SUMIF($C$36:$C$56,C61,$I$36:$I$56)/1000 -> 2.0021507
B62: 4 | C62: 25 | D62: =SUMIF($C$36:$C$56,C62,$I$36:$I$56)/1000 -> 3.7775738
B63: 5 | C63: 28 | D63: =SUMIF($C$36:$C$56,C63,$I$36:$I$56)/1000 -> 1.3011054
B64: 6 | C64: 32 | D64: =SUMIF($C$36:$C$56,C64,$I$36:$I$56)/1000 -> 2.7766524

Sheet Mo M0
A2: Bảng tổng hợp khối lượng mố M0
A4: Hạng mục | B4: Tên thanh | C4: Đường kính | D4: Chiều dài | E4: Số lượng | F4: Tổng dài | G4: KLĐV | H4: Khối lượng | I4: Ghi chú | J4: Quay Lại
C5: (mm) | D5: (mm) | E5: thanh | F5: (mm) | G5: kG/m | H5: kG
A6: Thân mố M0 | B6: N1 | C6: 22 | D6: 5163 | E6: 78 | F6: =ROUND(D6*E6,2)/1000 -> 402.714 | G6: =VLOOKUP(C6,'CKN T4 '!$M$5:$N$14,2,0) -> 2.98 | H6: =ROUND(G6*F6,2) -> 1200.09
B7: N2 | C7: 16 | D7: 5163 | E7: 78 | F7: =ROUND(D7*E7,2)/1000 -> 402.714 | G7: =VLOOKUP(C7,'CKN T4 '!$M$5:$N$14,2,0) -> 1.58 | H7: =ROUND(G7*F7,2) -> 636.29
B8: N3 | C8: 12 | D8: 11550 | E8: 75 | F8: =ROUND(D8*E8,2)/1000 -> 866.25 | G8: =VLOOKUP(C8,'CKN T4 '!$M$5:$N$14,2,0) -> 0.888 | H8: =ROUND(G8*F8,2) -> 769.23
B9: N4 | C9: 16 | D9: 4894 | E9: 78 | F9: =ROUND(D9*E9,2)/1000 -> 381.732 | G9: =VLOOKUP(C9,'CKN T4 '!$M$5:$N$14,2,0) -> 1.58 | H9: =ROUND(G9*F9,2) -> 603.14
B10: N5 | C10: 16 | D10: 1600 | E10: 72 | F10: =ROUND(D10*E10,2)/1000 -> 115.2 | G10: =VLOOKUP(C10,'CKN T4 '!$M$5:$N$14,2,0) -> 1.58 | H10: =ROUND(G10*F10,2) -> 182.02
B11: N6 | C11: 14 | D11: 1940 | E11: 78 | F11: =ROUND(D11*E11,2)/1000 -> 151.32 | G11: =VLOOKUP(C11,'CKN T4 '!$M$5:$N$14,2,0) -> 1.21 | H11: =ROUND(G11*F11,2) -> 183.1
B12: N7 | C12: 12 | D12: 1640 | E12: 72 | F12: =ROUND(D12*E12,2)/1000 -> 118.08 | G12: =VLOOKUP(C12,'CKN T4 '!$M$5:$N$14,2,0) -> 0.888 | H12: =ROUND(G12*F12,2) -> 104.86
B13: N8 | C13: 12 | D13: 640 | E13: 18 | F13: =ROUND(D13*E13,2)/1000 -> 11.52 | G13: =VLOOKUP(C13,'CKN T4 '!$M$5:$N$14,2,0) -> 0.888 | H13: =ROUND(G13*F13,2) -> 10.23
B14: N9 | C14: 12 | D14: 3249 | E14: 38 | F14: =ROUND(D14*E14,2)/1000 -> 123.462 | G14: =VLOOKUP(C14,'CKN T4 '!$M$5:$N$14,2,0) -> 0.888 | H14: =ROUND(G14*F14,2) -> 109.63
B15: N10 | C15: 12 | D15: 1835 | E15: 10 | F15: =ROUND(D15*E15,2)/1000 -> 18.35 | G15: =VLOOKUP(C15,'CKN T4 '!$M$5:$N$14,2,0) -> 0.888 | H15: =ROUND(G15*F15,2) -> 16.29
B16: N11 | C16: 14 | D16: 4845 | E16: 7 | F16: =ROUND(D16*E16,2)/1000 -> 33.915 | G16: =VLOOKUP(C16,'CKN T4 '!$M$5:$N$14,2,0) -> 1.21 | H16: =ROUND(G16*F16,2) -> 41.04
B17: N12 | C17: 14 | D17: 5080 | E17: 7 | F17: =ROUND(D17*E17,2)/1000 -> 35.56 | G17: =VLOOKUP(C17,'CKN T4 '!$M$5:$N$14,2,0) -> 1.21 | H17: =ROUND(G17*F17,2) -> 43.03
A18: Tổng khối lượng | C18: Đường kính | D18: Tấn
C19: 12 | D19: =SUMIF($C$6:$C$17,C19,$H$6:$H$17)/1000 -> 1.01024
C20: 14 | D20: =SUMIF($C$6:$C$17,C20,$H$6:$H$17)/1000 -> 0.26717
C21: 16 | D21: =SUMIF($C$6:$C$17,C21,$H$6:$H$17)/1000 -> 1.42145
C22: 22 | D22: =SUMIF($C$6:$C$17,C22,$H$6:$H$17)/1000 -> 1.20009
A24: H¹ng môc | B24: Tªn thanh | C24: Đ­êng kÝnh | D24: M¸c thÐp | E24: ChiÒu dµi | F24: Sè l­îng | G24: Tæng chiÒu dµi | H24: Khèi l­îng ®¬n vÞ | I24: Khèi l­îng
C25: (mm) | E25: (mm) | F25: (Thanh) | G25: (m) | H25: (Kg/m) | I25: (Kg)
A26: T­êng c¸nh ph¶i mè | B26: F1 | C26: 16 | D26: =+IF(C26<=10,"CB240-T","CB400-V") -> CB400-V | E26: 7153 | F26: 17 | G26: =E26*F26/1000 -> 121.601 | H26: =HLOOKUP(C26,KLDV,2,0) -> 1.58 | I26: =G26*H26 -> 192.12958
B27: F2 | C27: 20 | D27: =+IF(C27<=10,"CB240-T","CB400-V") -> CB400-V | E27: =+E26 -> 7153 | F27: =+F26 -> 17 | G27: =E27*F27/1000 -> 121.601 | H27: =HLOOKUP(C27,KLDV,2,0) -> 2.47 | I27: =G27*H27 -> 300.35447
B28: F3 | C28: 16 | D28: =+IF(C28<=10,"CB240-T","CB400-V") -> CB400-V | E28: 3870 | F28: 15 | G28: =E28*F28/1000 -> 58.05 | H28: =HLOOKUP(C28,KLDV,2,0) -> 1.58 | I28: =G28*H28 -> 91.719
B29: F4 | C29: 20 | D29: =+IF(C29<=10,"CB240-T","CB400-V") -> CB400-V | E29: =+E28 -> 3870 | F29: 15 | G29: =E29*F29/1000 -> 58.05 | H29: =HLOOKUP(C29,KLDV,2,0) -> 2.47 | I29: =G29*H29 -> 143.3835
B30: F5 | C30: 16 | D30: =+IF(C30<=10,"CB240-T","CB400-V") -> CB400-V | E30: 4395 | F30: 7 | G30: =E30*F30/1000 -> 30.765 | H30: =HLOOKUP(C30,KLDV,2,0) -> 1.58 | I30: =G30*H30 -> 48.6087
B31: F6 | C31: 20 | D31: =+IF(C31<=10,"CB240-T","CB400-V") -> CB400-V | E31: =+E30 -> 4395 | F31: 7 | G31: =E31*F31/1000 -> 30.765 | H31: =HLOOKUP(C31,KLDV,2,0) -> 2.47 | I31: =G31*H31 -> 75.98955
B32: F7 | C32: 16 | D32: =+IF(C32<=10,"CB240-T","CB400-V") -> CB400-V | E32: 4466 | F32: 6 | G32: =E32*F32/1000 -> 26.796 | H32: =HLOOKUP(C32,KLDV,2,0) -> 1.58 | I32: =G32*H32 -> 42.33768
B33: F8 | C33: 20 | D33: =+IF(C33<=10,"CB240-T","CB400-V") -> CB400-V | E33: 4610 | F33: =+F32 -> 6 | G33: =E33*F33/1000 -> 27.66 | H33: =HLOOKUP(C33,KLDV,2,0) -> 2.47 | I33: =G33*H33 -> 68.3202
B34: F9 | C34: 16 | D34: =+IF(C34<=10,"CB240-T","CB400-V") -> CB400-V | E34: 4966 | F34: 7 | G34: =E34*F34/1000 -> 34.762 | H34: =HLOOKUP(C34,KLDV,2,0) -> 1.58 | I34: =G34*H34 -> 54.92396
B35: F10 | C35: 20 | D35: =+IF(C35<=10,"CB240-T","CB400-V") -> CB400-V | E35: 5110 | F35: =+F34 -> 7 | G35: =E35*F35/1000 -> 35.77 | H35: =HLOOKUP(C35,KLDV,2,0) -> 2.47 | I35: =G35*H35 -> 88.3519
B36: F11 | C36: 16 | D36: =+IF(C36<=10,"CB240-T","CB400-V") -> CB400-V | E36: 4745 | F36: 3 | G36: =E36*F36/1000 -> 14.235 | H36: =HLOOKUP(C36,KLDV,2,0) -> 1.58 | I36: =G36*H36 -> 22.4913
B37: F12 | C37: 12 | D37: =+IF(C37<=10,"CB240-T","CB400-V") -> CB400-V | E37: 730 | F37: 97 | G37: =E37*F37/1000 -> 70.81 | H37: =HLOOKUP(C37,KLDV,2,0) -> 0.888 | I37: =G37*H37 -> 62.87928
B38: F13 | C38: 14 | D38: =+IF(C38<=10,"CB240-T","CB400-V") -> CB400-V | E38: 1715 | F38: 26 | G38: =E38*F38/1000 -> 44.59 | H38: =HLOOKUP(C38,KLDV,2,0) -> 1.21 | I38: =G38*H38 -> 53.9539
B39: F14 | C39: 14 | D39: =+IF(C39<=10,"CB240-T","CB400-V") -> CB400-V | E39: 2430 | F39: 33 | G39: =E39*F39/1000 -> 80.19 | H39: =HLOOKUP(C39,KLDV,2,0) -> 1.21 | I39: =G39*H39 -> 97.0299
B40: F15 | C40: 14 | D40: =+IF(C40<=10,"CB240-T","CB400-V") -> CB400-V | E40: 1488 | F40: 33 | G40: =E40*F40/1000 -> 49.104 | H40: =HLOOKUP(C40,KLDV,2,0) -> 1.21 | I40: =G40*H40 -> 59.41584
B41: F16 | C41: 12 | D41: =+IF(C41<=10,"CB240-T","CB400-V") -> CB400-V | E41: 4880 | F41: 8 | G41: =E41*F41/1000 -> 39.04 | H41: =HLOOKUP(C41,KLDV,2,0) -> 0.888 | I41: =G41*H41 -> 34.66752
A42: Tæng khèi l­îng
A43: Ph©n lo¹i thÐp | H43: 12 | I43: =SUMIF(C26:C41,H43,I26:I41) -> 97.5468
H44: 14 | I44: =SUMIF(C26:C41,H44,I26:I41) -> 210.39964
H45: 16 | I45: =SUMIF(C26:C41,H45,I26:I41) -> 452.21022
H46: 20 | I46: =SUMIF($D$6:$D$21,H46,$J$6:$J$21) -> 0
B47: Tæng khèi l­îng cèt thÐp (kg) | I47: =SUM(I26:I41) -> 1436.5563
B48: Bª t«ng t­êng c¸nh mè 30Mpa (m3) | I48: =ROUND(18*0.5,2) -> 9
B49: Bª t«ng gê lan can mè 30Mpa (m3) | I49: =ROUND(0.322*5,2) -> 1.61
B50: V¸n khu«n (m2) | I50: =ROUND(18*2+6.04*0.5,2)+ROUND(0.322*2+1.93*5,2) -> 49.31
B51: QuÐt nhùa (m2) | I51: =ROUND(18*1.5+6.3*0.5,2) -> 30.15
A54: H¹ng môc | B54: Tªn thanh | C54: Đ­êng kÝnh | D54: M¸c thÐp | E54: ChiÒu dµi | F54: Sè l­îng | G54: Tæng chiÒu dµi | H54: Khèi l­îng ®¬n vÞ | I54: Khèi l­îng
C55: (mm) | E55: (mm) | F55: (Thanh) | G55: (m) | H55: (Kg/m) | I55: (Kg)
A56: T­êng c¸nh tr¸I mè | B56: F1 | C56: 16 | D56: =+IF(C56<=10,"CB240-T","CB400-V") -> CB400-V | E56: 6933 | F56: 17 | G56: =E56*F56/1000 -> 117.861 | H56: =HLOOKUP(C56,KLDV,2,0) -> 1.58 | I56: =G56*H56 -> 186.22038
B57: F2 | C57: 20 | D57: =+IF(C57<=10,"CB240-T","CB400-V") -> CB400-V | E57: 6933 | F57: =+F56 -> 17 | G57: =E57*F57/1000 -> 117.861 | H57: =HLOOKUP(C57,KLDV,2,0) -> 2.47 | I57: =G57*H57 -> 291.11667
B58: F3 | C58: 16 | D58: =+IF(C58<=10,"CB240-T","CB400-V") -> CB400-V | E58: 3870 | F58: 14 | G58: =E58*F58/1000 -> 54.18 | H58: =HLOOKUP(C58,KLDV,2,0) -> 1.58 | I58: =G58*H58 -> 85.6044
B59: F4 | C59: 20 | D59: =+IF(C59<=10,"CB240-T","CB400-V") -> CB400-V | E59: =+E58 -> 3870 | F59: =+F58 -> 14 | G59: =E59*F59/1000 -> 54.18 | H59: =HLOOKUP(C59,KLDV,2,0) -> 2.47 | I59: =G59*H59 -> 133.8246
B60: F5 | C60: 16 | D60: =+IF(C60<=10,"CB240-T","CB400-V") -> CB400-V | E60: 4395 | F60: 7 | G60: =E60*F60/1000 -> 30.765 | H60: =HLOOKUP(C60,KLDV,2,0) -> 1.58 | I60: =G60*H60 -> 48.6087
B61: F6 | C61: 20 | D61: =+IF(C61<=10,"CB240-T","CB400-V") -> CB400-V | E61: =+E60 -> 4395 | F61: =+F60 -> 7 | G61: =E61*F61/1000 -> 30.765 | H61: =HLOOKUP(C61,KLDV,2,0) -> 2.47 | I61: =G61*H61 -> 75.98955
B62: F7 | C62: 16 | D62: =+IF(C62<=10,"CB240-T","CB400-V") -> CB400-V | E62: 4466 | F62: 6 | G62: =E62*F62/1000 -> 26.796 | H62: =HLOOKUP(C62,KLDV,2,0) -> 1.58 | I62: =G62*H62 -> 42.33768
B63: F8 | C63: 20 | D63: =+IF(C63<=10,"CB240-T","CB400-V") -> CB400-V | E63: 4610 | F63: =+F62 -> 6 | G63: =E63*F63/1000 -> 27.66 | H63: =HLOOKUP(C63,KLDV,2,0) -> 2.47 | I63: =G63*H63 -> 68.3202
B64: F9 | C64: 16 | D64: =+IF(C64<=10,"CB240-T","CB400-V") -> CB400-V | E64: 4966 | F64: 7 | G64: =E64*F64/1000 -> 34.762 | H64: =HLOOKUP(C64,KLDV,2,0) -> 1.58 | I64: =G64*H64 -> 54.92396
B65: F10 | C65: 20 | D65: =+IF(C65<=10,"CB240-T","CB400-V") -> CB400-V | E65: 5110 | F65: =+F64 -> 7 | G65: =E65*F65/1000 -> 35.77 | H65: =HLOOKUP(C65,KLDV,2,0) -> 2.47 | I65: =G65*H65 -> 88.3519
B66: F11 | C66: 16 | D66: =+IF(C66<=10,"CB240-T","CB400-V") -> CB400-V | E66: 4745 | F66: 3 | G66: =E66*F66/1000 -> 14.235 | H66: =HLOOKUP(C66,KLDV,2,0) -> 1.58 | I66: =G66*H66 -> 22.4913
B67: F12 | C67: 12 | D67: =+IF(C67<=10,"CB240-T","CB400-V") -> CB400-V | E67: 730 | F67: 96 | G67: =E67*F67/1000 -> 70.08 | H67: =HLOOKUP(C67,KLDV,2,0) -> 0.888 | I67: =G67*H67 -> 62.23104
B68: F13 | C68: 14 | D68: =+IF(C68<=10,"CB240-T","CB400-V") -> CB400-V | E68: 1715 | F68: 26 | G68: =E68*F68/1000 -> 44.59 | H68: =HLOOKUP(C68,KLDV,2,0) -> 1.21 | I68: =G68*H68 -> 53.9539
B69: F14 | C69: 14 | D69: =+IF(C69<=10,"CB240-T","CB400-V") -> CB400-V | E69: 2430 | F69: 34 | G69: =E69*F69/1000 -> 82.62 | H69: =HLOOKUP(C69,KLDV,2,0) -> 1.21 | I69: =G69*H69 -> 99.9702
B70: F15 | C70: 14 | D70: =+IF(C70<=10,"CB240-T","CB400-V") -> CB400-V | E70: 1488 | F70: =+F69 -> 34 | G70: =E70*F70/1000 -> 50.592 | H70: =HLOOKUP(C70,KLDV,2,0) -> 1.21 | I70: =G70*H70 -> 61.21632
B71: F16 | C71: 12 | D71: =+IF(C71<=10,"CB240-T","CB400-V") -> CB400-V | E71: 4800 | F71: 8 | G71: =E71*F71/1000 -> 38.4 | H71: =HLOOKUP(C71,KLDV,2,0) -> 0.888 | I71: =G71*H71 -> 34.0992
A72: Tæng khèi l­îng
A73: Ph©n lo¹i thÐp | H73: 12 | I73: =SUMIF(C56:C71,H73,I56:I71) -> 96.33024
H74: 14 | I74: =SUMIF(C56:C71,H74,I56:I71) -> 215.14042
H75: 16 | I75: =SUMIF(C56:C71,H75,I56:I71) -> 440.18642
H76: 20 | I76: =SUMIF($D$6:$D$21,H76,$J$6:$J$21) -> 0
B77: Tæng khèi l­îng cèt thÐp (kg) | I77: =SUM(I56:I71) -> 1409.26
B78: Bª t«ng t­êng c¸nh mè 30Mpa (m3) | I78: =ROUND(17.43*0.5,2) -> 8.72
B79: Bª t«ng gê lan can mè 30Mpa (m3) | I79: =ROUND(0.322*5,2) -> 1.61
B80: V¸n khu«n (m2) | I80: =ROUND(17.43*2+5.82*0.5,2)+ROUND(0.322*2+1.93*5,2) -> 48.06
B81: QuÐt nhùa (m2) | I81: =ROUND(17.43*1.5+5.82*0.5,2) -> 29.06
A83: H¹ng môc | B83: Tªn thanh | C83: Đ­êng kÝnh | D83: M¸c thÐp | E83: ChiÒu dµi | F83: Sè l­îng | G83: Tæng chiÒu dµi | H83: Khèi l­îng ®¬n vÞ | I83: Khèi l­îng
C84: (mm) | E84: (mm) | F84: (Thanh) | G84: (m) | H84: (Kg/m) | I84: (Kg)
A85: BÖ mè | B85: F1 | C85: 20 | D85: =+IF(C85<=10,"CB240-T","CB400-V") -> CB400-V | E85: 6292 | F85: 77 | G85: =E85*F85/1000 -> 484.484 | H85: =HLOOKUP(C85,KLDV,2,0) -> 2.47 | I85: =G85*H85 -> 1196.6755
B86: F2 | C86: 18 | D86: =+IF(C86<=10,"CB240-T","CB400-V") -> CB400-V | E86: 12637 | F86: 39 | G86: =E86*F86/1000 -> 492.843 | H86: =HLOOKUP(C86,KLDV,2,0) -> 2 | I86: =G86*H86 -> 985.686
B87: F3 | C87: 22 | D87: =+IF(C87<=10,"CB240-T","CB400-V") -> CB400-V | E87: 6540 | F87: =+F85 -> 77 | G87: =E87*F87/1000 -> 503.58 | H87: =HLOOKUP(C87,KLDV,2,0) -> 2.98 | I87: =G87*H87 -> 1500.6684
B88: F4 | C88: 20 | D88: =+IF(C88<=10,"CB240-T","CB400-V") -> CB400-V | E88: 12765 | F88: =+F86 -> 39 | G88: =E88*F88/1000 -> 497.835 | H88: =HLOOKUP(C88,KLDV,2,0) -> 2.47 | I88: =G88*H88 -> 1229.6525
B89: F5 | C89: 14 | D89: =+IF(C89<=10,"CB240-T","CB400-V") -> CB400-V | E89: 12381 | F89: 20 | G89: =E89*F89/1000 -> 247.62 | H89: =HLOOKUP(C89,KLDV,2,0) -> 1.21 | I89: =G89*H89 -> 299.6202
B90: F6 | C90: 14 | D90: =+IF(C90<=10,"CB240-T","CB400-V") -> CB400-V | E90: 6196 | F90: =+F89 -> 20 | G90: =E90*F90/1000 -> 123.92 | H90: =HLOOKUP(C90,KLDV,2,0) -> 1.21 | I90: =G90*H90 -> 149.9432
B91: F7 | C91: 14 | D91: =+IF(C91<=10,"CB240-T","CB400-V") -> CB400-V | E91: 2126 | F91: =75*2+13*2 -> 176 | G91: =E91*F91/1000 -> 374.176 | H91: =HLOOKUP(C91,KLDV,2,0) -> 1.21 | I91: =G91*H91 -> 452.75296
B92: F8 | C92: 14 | D92: =+IF(C92<=10,"CB240-T","CB400-V") -> CB400-V | E92: =+E91 -> 2126 | F92: =19*7 -> 133 | G92: =E92*F92/1000 -> 282.758 | H92: =HLOOKUP(C92,KLDV,2,0) -> 1.21 | I92: =G92*H92 -> 342.13718
A93: Tæng khèi l­îng
A94: Ph©n lo¹i thÐp | H94: 14 | I94: =SUMIF(C85:C92,H94,I85:I92) -> 1244.4535
H95: 20 | I95: =SUMIF(C85:C92,H95,I85:I92) -> 2426.3279
H96: 22 | I96: =SUMIF(C85:C92,H96,I85:I92) -> 1500.6684
H97: 25 | I97: =SUMIF($D$6:$D$13,H97,$J$6:$J$13) -> 0
B98: Tæng khèi l­îng cèt thÐp (kg) | I98: =SUM(I85:I92) -> 6157.1359
B99: Bª t«ng bÖ mè 30Mpa (m3) | I99: =ROUND(D103*D104*D105-PI()*D107*D107/4*D106*0.15,2) -> 139.55
B100: Bª t«ng ®Öm 10Mpa (m3) | I100: =ROUND((D103+0.2)*(D104+0.2)*0.1-PI()*D107*D107/4*D106*0.1,2) -> 6.81
B101: V¸n khu«n (m2) | I101: =ROUND((D103+D104)*2*D105,2) -> 70.8
B102: QuÐt nhùa (m2) | I102: =ROUND(I101+2*11.7+2.6*10.7,2) -> 122.02
C103: B | D103: 11.7 | E103: m
C104: L | D104: 6 | E104: m
C105: H | D105: 2 | E105: m
C106: sè cäc | D106: 5 | E106: cäc
...

Sheet Tru T1-T3
A2: BỆ TRỤ T1, T2, T3
A4: H¹ng môc | B4: Tªn thanh | C4: Đ­êng kÝnh | D4: M¸c thÐp | E4: ChiÒu dµi | F4: Sè l­îng | G4: Tæng chiÒu dµi | H4: Khèi l­îng ®¬n vÞ | I4: Khèi l­îng | J4: Ghi chó | K4: Quay lai
C5: (mm) | E5: (mm) | F5: (Thanh) | G5: (m) | H5: (Kg/m) | I5: (Kg)
A6: BÖ trô | B6: F1 | C6: 25 | D6: =+IF(C6<=10,"CB240-T","CB400-V") -> CB400-V | E6: 7320 | F6: 39 | G6: =E6*F6/1000 -> 285.48 | H6: =HLOOKUP(C6,KLDV,2,0) -> 3.85 | I6: =ROUND(G6*H6,2) -> 1099.1
B7: F2 | C7: 25 | D7: =+IF(C7<=10,"CB240-T","CB400-V") -> CB400-V | E7: 6320 | F7: 46 | G7: =E7*F7/1000 -> 290.72 | H7: =HLOOKUP(C7,KLDV,2,0) -> 3.85 | I7: =ROUND(G7*H7,2) -> 1119.27
B8: F3 | C8: 20 | D8: =+IF(C8<=10,"CB240-T","CB400-V") -> CB400-V | E8: 7320 | F8: =+F6 -> 39 | G8: =E8*F8/1000 -> 285.48 | H8: =HLOOKUP(C8,KLDV,2,0) -> 2.47 | I8: =ROUND(G8*H8,2) -> 705.14
B9: F4 | C9: 20 | D9: =+IF(C9<=10,"CB240-T","CB400-V") -> CB400-V | E9: 6320 | F9: =+F7 -> 46 | G9: =E9*F9/1000 -> 290.72 | H9: =HLOOKUP(C9,KLDV,2,0) -> 2.47 | I9: =ROUND(G9*H9,2) -> 718.08
B10: F5 | C10: 16 | D10: =+IF(C10<=10,"CB240-T","CB400-V") -> CB400-V | E10: 6820 | F10: =10*2 -> 20 | G10: =E10*F10/1000 -> 136.4 | H10: =HLOOKUP(C10,KLDV,2,0) -> 1.58 | I10: =ROUND(G10*H10,2) -> 215.51
B11: F6 | C11: 16 | D11: =+IF(C11<=10,"CB240-T","CB400-V") -> CB400-V | E11: 6220 | F11: =+F10 -> 20 | G11: =E11*F11/1000 -> 124.4 | H11: =HLOOKUP(C11,KLDV,2,0) -> 1.58 | I11: =ROUND(G11*H11,2) -> 196.55
B12: F7 | C12: 16 | D12: =+IF(C12<=10,"CB240-T","CB400-V") -> CB400-V | E12: 1915 | F12: 72 | G12: =E12*F12/1000 -> 137.88 | H12: =HLOOKUP(C12,KLDV,2,0) -> 1.58 | I12: =ROUND(G12*H12,2) -> 217.85
B13: F8 | C13: 16 | D13: =+IF(C13<=10,"CB240-T","CB400-V") -> CB400-V | E13: =+E12 -> 1915 | F13: =38*2 -> 76 | G13: =E13*F13/1000 -> 145.54 | H13: =HLOOKUP(C13,KLDV,2,0) -> 1.58 | I13: =ROUND(G13*H13,2) -> 229.95
B14: F9 | C14: 16 | D14: =+IF(C14<=10,"CB240-T","CB400-V") -> CB400-V | E14: =+E13 -> 1915 | F14: =+F9*2 -> 92 | G14: =E14*F14/1000 -> 176.18 | H14: =HLOOKUP(C14,KLDV,2,0) -> 1.58 | I14: =ROUND(G14*H14,2) -> 278.36
A15: Tæng khèi l­îng
A16: Ph©n lo¹i thÐp | H16: 16 | I16: =SUMIF($C$6:$C$14,H16,$I$6:$I$14) -> 1138.22
H17: 20 | I17: =SUMIF($C$6:$C$14,H17,$I$6:$I$14) -> 1423.22
H18: 25 | I18: =SUMIF($C$6:$C$14,H18,$I$6:$I$14) -> 2218.37
B19: Tæng khèi l­îng cèt thÐp (kg) | I19: =SUM(I6:I14) -> 4779.81
B20: Bª t«ng bÖ trô 30Mpa (m3) | I20: =ROUND(D26*D27*D28-0.15*D29*PI()*D30*D30/4,2) -> 83.32
B21: Bª t«ng ®Öm 10Mpa (m3) | I21: =ROUND(((D26+0.2)*(D27+0.2)-D29*PI()*D30*D30/4)*0.1,2) -> 4.01
B22: Bª t«ng ®Öm 10Mpa (m3) | I22: =ROUND((D26+0.2)*(D27+0.2)*0.1-PI()*1.2^2*4/4*0.1,2) -> 4.01
B23: QuÐt nhùa (m2) | I23: =I24+D26*D27-9.05 -> 84.95
B24: V¸n khu«n (m2) | I24: =ROUND((D26+D27)*2*D28,2) -> 52
C26: B | D26: 7 | E26: m | F26: =ROUND(8.6*6.2*0.1-5*PI()*0.6*0.6*0.1,2) -> 4.77
C27: L | D27: 6 | E27: m
C28: H | D28: 2 | E28: m
C29: sè cäc | D29: 4 | E29: Cäc
C30: D | D30: 1.2 | E30: m
A32: THÂN TRỤ T1
A34: H¹ng môc | B34: Tªn thanh | C34: Đ­êng kÝnh | D34: M¸c thÐp | E34: ChiÒu dµi | F34: Sè l­îng | G34: Tæng chiÒu dµi | H34: Khèi l­îng ®¬n vÞ | I34: Khèi l­îng | J34: Ghi chó
C35: (mm) | E35: (mm) | F35: (Thanh) | G35: (m) | H35: (Kg/m) | I35: (Kg)
A36: Th©n trô | B36: P1 | C36: 22 | D36: =+IF(C36<=10,"CB240-T","CB400-V") -> CB400-V | E36: 9155 | F36: 88 | G36: =E36*F36/1000 -> 805.64 | H36: =HLOOKUP(C36,KLDV,2,0) -> 2.98 | I36: =G36*H36 -> 2400.8072
B37: P2 | C37: 16 | D37: =+IF(C37<=10,"CB240-T","CB400-V") -> CB400-V | E37: 8887 | F37: 142 | G37: =E37*F37/1000 -> 1261.954 | H37: =HLOOKUP(C37,KLDV,2,0) -> 1.58 | I37: =G37*H37 -> 1993.8873
B38: P3 | C38: 14 | D38: =+IF(C38<=10,"CB240-T","CB400-V") -> CB400-V | E38: 1735 | F38: 60 | G38: =E38*F38/1000 -> 104.1 | H38: =HLOOKUP(C38,KLDV,2,0) -> 1.21 | I38: =G38*H38 -> 125.961
B39: P4 | C39: 14 | D39: =+IF(C39<=10,"CB240-T","CB400-V") -> CB400-V | E39: 6005 | F39: =+F38/3 -> 20 | G39: =E39*F39/1000 -> 120.1 | H39: =HLOOKUP(C39,KLDV,2,0) -> 1.21 | I39: =G39*H39 -> 145.321
A40: Tæng khèi l­îng
A41: Ph©n lo¹i thÐp | H41: 14 | I41: =SUMIF(C36:C39,H41,I36:I39) -> 271.282
H42: 16 | I42: =SUMIF(C36:C39,H42,I36:I39) -> 1993.8873 | K42: =I44 -> 4665.9765 | L42: =SUM(I41:I43) -> 2265.1693 | M42: =IF(K42=L42,"ok","notok") -> notok
H43: 22 | I43: =SUMIF($D$5:$D$8,H43,$J$5:$J$8) -> 0
B44: Tæng khèi l­îng cèt thÐp (kg) | I44: =SUM(I36:I39) -> 4665.9765 | K44: S | L44: =9.05062 -> 9.05062
B45: Bª t«ng th©n trô 30Mpa (m3) | I45: =ROUND(L44*L46,2) -> 54.3 | K45: L | L45: 13.827
B46: V¸n khu«n (m2) | I46: =ROUND(L45*L46,2) -> 82.96 | K46: Htru | L46: 6 | M46: m
A51: THÂN TRỤ T2
A53: H¹ng môc | B53: Tªn thanh | C53: Đ­êng kÝnh | D53: M¸c thÐp | E53: ChiÒu dµi | F53: Sè l­îng | G53: Tæng chiÒu dµi | H53: Khèi l­îng ®¬n vÞ | I53: Khèi l­îng
C54: (mm) | E54: (mm) | F54: (Thanh) | G54: (m) | H54: (Kg/m) | I54: (Kg)
A55: Th©n trô | B55: P1 | C55: 22 | D55: =+IF(C55<=10,"CB240-T","CB400-V") -> CB400-V | E55: 7655 | F55: 88 | G55: =E55*F55/1000 -> 673.64 | H55: =HLOOKUP(C55,KLDV,2,0) -> 2.98 | I55: =G55*H55 -> 2007.4472
B56: P2 | C56: 16 | D56: =+IF(C56<=10,"CB240-T","CB400-V") -> CB400-V | E56: 8887 | F56: 122 | G56: =E56*F56/1000 -> 1084.214 | H56: =HLOOKUP(C56,KLDV,2,0) -> 1.58 | I56: =G56*H56 -> 1713.0581
B57: P3 | C57: 14 | D57: =+IF(C57<=10,"CB240-T","CB400-V") -> CB400-V | E57: 1735 | F57: 42 | G57: =E57*F57/1000 -> 72.87 | H57: =HLOOKUP(C57,KLDV,2,0) -> 1.21 | I57: =G57*H57 -> 88.1727
B58: P4 | C58: 14 | D58: =+IF(C58<=10,"CB240-T","CB400-V") -> CB400-V | E58: 6005 | F58: =+F57/3 -> 14 | G58: =E58*F58/1000 -> 84.07 | H58: =HLOOKUP(C58,KLDV,2,0) -> 1.21 | I58: =G58*H58 -> 101.7247
A59: Tæng khèi l­îng
A60: Ph©n lo¹i thÐp | H60: 14 | I60: =SUMIF(C55:C58,H60,I55:I58) -> 189.8974
H61: 16 | I61: =SUMIF(C55:C58,H61,I55:I58) -> 1713.0581 | K61: =I63 -> 3910.4027 | L61: =SUM(I60:I62) -> 1902.9555 | M61: =IF(K61=L61,"ok","notok") -> notok
H62: 28 | I62: =SUMIF($D$5:$D$8,H62,$J$5:$J$8) -> 0
B63: Tæng khèi l­îng cèt thÐp (kg) | I63: =SUM(I55:I58) -> 3910.4027 | K63: S | L63: =9.05062 -> 9.05062
B64: Bª t«ng th©n trô 30Mpa (m3) | I64: =ROUND(L63*L65,2) -> 40.73 | K64: L | L64: 13.827
B65: V¸n khu«n (m2) | I65: =ROUND(L64*L65,2) -> 62.22 | K65: Htru | L65: 4.5 | M65: m
A67: Th©n trô T3
A69: H¹ng môc | B69: Tªn thanh | C69: Đ­êng kÝnh | D69: M¸c thÐp | E69: ChiÒu dµi | F69: Sè l­îng | G69: Tæng chiÒu dµi | H69: Khèi l­îng ®¬n vÞ | I69: Khèi l­îng | J69: Ghi chó
C70: (mm) | E70: (mm) | F70: (Thanh) | G70: (m) | H70: (Kg/m) | I70: (Kg)
A71: Th©n trô | B71: P1 | C71: 25 | D71: =+IF(C71<=10,"CB240-T","CB400-V") -> CB400-V | E71: 10700 | F71: 88 | G71: =E71*F71/1000 -> 941.6 | H71: =HLOOKUP(C71,KLDV,2,0) -> 3.85 | I71: =G71*H71 -> 3625.16
B72: P2 | C72: 16 | D72: =+IF(C72<=10,"CB240-T","CB400-V") -> CB400-V | E72: 8887 | F72: 162 | G72: =E72*F72/1000 -> 1439.694 | H72: =HLOOKUP(C72,KLDV,2,0) -> 1.58 | I72: =G72*H72 -> 2274.7165
B73: P3 | C73: 14 | D73: =+IF(C73<=10,"CB240-T","CB400-V") -> CB400-V | E73: 1735 | F73: 72 | G73: =E73*F73/1000 -> 124.92 | H73: =HLOOKUP(C73,KLDV,2,0) -> 1.21 | I73: =G73*H73 -> 151.1532
B74: P4 | C74: 14 | D74: =+IF(C74<=10,"CB240-T","CB400-V") -> CB400-V | E74: 6005 | F74: =+F73/3 -> 24 | G74: =E74*F74/1000 -> 144.12 | H74: =HLOOKUP(C74,KLDV,2,0) -> 1.21 | I74: =G74*H74 -> 174.3852
A75: Tæng khèi l­îng
A76: Ph©n lo¹i thÐp | H76: 14 | I76: =SUMIF(C71:C74,H76,I71:I74) -> 325.5384
H77: 16 | I77: =SUMIF(C71:C74,H77,I71:I74) -> 2274.7165 | K77: =I79 -> 6225.4149 | L77: =SUM(I76:I78) -> 2600.2549 | M77: =IF(K77=L77,"ok","notok") -> notok
H78: 28 | I78: =SUMIF($D$5:$D$8,H78,$J$5:$J$8) -> 0
B79: Tæng khèi l­îng cèt thÐp (kg) | I79: =SUM(I71:I74) -> 6225.4149 | K79: S | L79: =9.05062 -> 9.05062
B80: Bª t«ng th©n trô 30Mpa (m3) | I80: =ROUND(L79*L81,2) -> 67.88 | K80: L | L80: 13.827
B81: V¸n khu«n (m2) | I81: =ROUND(L80*L81,2) -> 103.7 | K81: Htru | L81: 7.5 | M81: m
A83: XÀ MŨ, TƯỜNG TAI, ĐÁ KÊ T1, T2, T3
A85: H¹ng môc | B85: Tªn thanh | C85: Đ­êng kÝnh | D85: M¸c thÐp | E85: ChiÒu dµi | F85: Sè l­îng | G85: Tæng chiÒu dµi | H85: Khèi l­îng ®¬n vÞ | I85: Khèi l­îng | J85: Ghi chó
C86: (mm) | E86: (mm) | F86: (Thanh) | G86: (m) | H86: (Kg/m) | I86: (Kg)
A87: Xµ mò trô | B87: H1 | C87: 32 | D87: =+IF(C87<=10,"CB240-T","CB400-V") -> CB400-V | E87: 11452 | F87: 13 | G87: =E87*F87/1000 -> 148.876 | H87: =HLOOKUP(C87,KLDV,2,0) -> 6.31 | I87: =G87*H87 -> 939.40756
B88: H2 | C88: 32 | D88: =+IF(C88<=10,"CB240-T","CB400-V") -> CB400-V | E88: 10850 | F88: =+F87 -> 13 | G88: =E88*F88/1000 -> 141.05 | H88: =HLOOKUP(C88,KLDV,2,0) -> 6.31 | I88: =G88*H88 -> 890.0255
B89: H3 | C89: 25 | D89: =+IF(C89<=10,"CB240-T","CB400-V") -> CB400-V | E89: 13483 | F89: 11 | G89: =E89*F89/1000 -> 148.313 | H89: =HLOOKUP(C89,KLDV,2,0) -> 3.85 | I89: =G89*H89 -> 571.00505
B90: H4 | C90: 16 | D90: =+IF(C90<=10,"CB240-T","CB400-V") -> CB400-V | E90: 9005 | F90: =5*2 -> 10 | G90: =E90*F90/1000 -> 90.05 | H90: =HLOOKUP(C90,KLDV,2,0) -> 1.58 | I90: =G90*H90 -> 142.279 | J90: Trung b×nh
B91: H5 | C91: 16 | D91: =+IF(C91<=10,"CB240-T","CB400-V") -> CB400-V | E91: 10850 | F91: =3*2 -> 6 | G91: =E91*F91/1000 -> 65.1 | H91: =HLOOKUP(C91,KLDV,2,0) -> 1.58 | I91: =G91*H91 -> 102.858
B92: H6 | C92: 16 | D92: =+IF(C92<=10,"CB240-T","CB400-V") -> CB400-V | E92: 5461 | F92: =38*2 -> 76 | G92: =E92*F92/1000 -> 415.036 | H92: =HLOOKUP(C92,KLDV,2,0) -> 1.58 | I92: =G92*H92 -> 655.75688 | J92: Trung b×nh
B93: H7 | C93: 16 | D93: =+IF(C93<=10,"CB240-T","CB400-V") -> CB400-V | E93: 4514 | F93: =14*2 -> 28 | G93: =E93*F93/1000 -> 126.392 | H93: =HLOOKUP(C93,KLDV,2,0) -> 1.58 | I93: =G93*H93 -> 199.69936 | J93: Trung b×nh
B94: H8 | C94: 16 | D94: =+IF(C94<=10,"CB240-T","CB400-V") -> CB400-V | E94: 5069 | F94: =+F93 -> 28 | G94: =E94*F94/1000 -> 141.932 | H94: =HLOOKUP(C94,KLDV,2,0) -> 1.58 | I94: =G94*H94 -> 224.25256 | J94: Trung b×nh
B95: H9 | C95: 25 | D95: =+IF(C95<=10,"CB240-T","CB400-V") -> CB400-V | E95: 2039 | F95: =5*5 -> 25 | G95: =E95*F95/1000 -> 50.975 | H95: =HLOOKUP(C95,KLDV,2,0) -> 3.85 | I95: =G95*H95 -> 196.25375 | J95: Trung b×nh
B96: H10 | C96: 25 | D96: =+IF(C96<=10,"CB240-T","CB400-V") -> CB400-V | E96: 1831 | F96: =5*5 -> 25 | G96: =E96*F96/1000 -> 45.775 | H96: =HLOOKUP(C96,KLDV,2,0) -> 3.85 | I96: =G96*H96 -> 176.23375 | J96: Trung b×nh
A97: BÖ kª gèi | B97: A1 | C97: 10 | D97: =+IF(C97<=10,"CB240-T","CB400-V") -> CB240-T | E97: 950 | F97: =10*2*5 -> 100 | G97: =E97*F97/1000 -> 95 | H97: =HLOOKUP(C97,KLDV,2,0) -> 0.617 | I97: =G97*H97 -> 58.615
B98: A2 | C98: 10 | D98: =+IF(C98<=10,"CB240-T","CB400-V") -> CB240-T | E98: 950 | F98: =10*2*5 -> 100 | G98: =E98*F98/1000 -> 95 | H98: =HLOOKUP(C98,KLDV,2,0) -> 0.617 | I98: =G98*H98 -> 58.615
B99: A3 | C99: 10 | D99: =+IF(C99<=10,"CB240-T","CB400-V") -> CB240-T | E99: 600 | F99: =12*5 -> 60 | G99: =E99*F99/1000 -> 36 | H99: =HLOOKUP(C99,KLDV,2,0) -> 0.617 | I99: =G99*H99 -> 22.212
B100: A4 | C100: 10 | D100: =+IF(C100<=10,"CB240-T","CB400-V") -> CB240-T | E100: 600 | F100: =+F99 -> 60 | G100: =E100*F100/1000 -> 36 | H100: =HLOOKUP(C100,KLDV,2,0) -> 0.617 | I100: =G100*H100 -> 22.212
A101: T­êng tai ( tÝnh cho 2 t­êng tai) | B101: L1 | C101: 10 | D101: =+IF(C101<=10,"CB240-T","CB400-V") -> CB240-T | E101: 1700 | F101: =7*2*2 -> 28 | G101: =E101*F101/1000 -> 47.6 | H101: =HLOOKUP(C101,KLDV,2,0) -> 0.617 | I101: =G101*H101 -> 29.3692
B102: L2 | C102: 10 | D102: =+IF(C102<=10,"CB240-T","CB400-V") -> CB240-T | E102: 1110 | F102: =4*2*2 -> 16 | G102: =E102*F102/1000 -> 17.76 | H102: =HLOOKUP(C102,KLDV,2,0) -> 0.617 | I102: =G102*H102 -> 10.95792
B103: L3 | C103: 10 | D103: =+IF(C103<=10,"CB240-T","CB400-V") -> CB240-T | E103: 4498 | F103: =1*2*2 -> 4 | G103: =E103*F103/1000 -> 17.992 | H103: =HLOOKUP(C103,KLDV,2,0) -> 0.617 | I103: =G103*H103 -> 11.101064
B104: L4 | C104: 8 | D104: =+IF(C104<=10,"CB240-T","CB400-V") -> CB240-T | E104: 220 | F104: =11*2 -> 22 | G104: =E104*F104/1000 -> 4.84 | H104: =HLOOKUP(C104,KLDV,2,0) -> 0.395 | I104: =G104*H104 -> 1.9118
B105: L5 | C105: 10 | D105: =+IF(C105<=10,"CB240-T","CB400-V") -> CB240-T | E105: 1410 | F105: =8*2*2 -> 32 | G105: =E105*F105/1000 -> 45.12 | H105: =HLOOKUP(C105,KLDV,2,0) -> 0.617 | I105: =G105*H105 -> 27.83904
A106: Tæng khèi l­îng
A107: Ph©n lo¹i thÐp | H107: 8 | I107: =SUMIF($C$87:$C$105,H107,$I$87:$I$105) -> 1.9118
H108: 10 | I108: =SUMIF($C$87:$C$105,H108,$I$87:$I$105) -> 240.92122
H109: 16 | I109: =SUMIF($C$87:$C$105,H109,$I$87:$I$105) -> 1324.8458
H110: 20 | I110: =SUMIF($C$87:$C$105,H110,$I$87:$I$105) -> 0
H111: 25 | I111: =SUMIF($C$87:$C$105,H111,$I$87:$I$105) -> 943.49255 | L111: Check thÐp
H112: 32 | I112: =SUMIF($C$87:$C$105,H112,$I$87:$I$105) -> 1829.4331 | L112: =SUM(I107:I112) -> 4340.6044 | M112: =+I113-L112 -> 0 | N112: =IF(M112=0,"ok","Notok") -> ok
B113: Tæng khèi l­îng cèt thÐp (kg) | I113: =SUM(I87:I105) -> 4340.6044
B114: Bª t«ng xµ mò 30Mpa (m3) | I114: =ROUND(O114,2) -> 30.43 | L114: Xa mò | M114: =8.91534*2 -> 17.83068 | N114: =7*1.8 -> 12.6 | O114: =SUM(M114:N114) -> 30.43068
...

Sheet Dam I35

Sheet Khoichongchuyenvi
B3: H¹ng môc | C3: Tªn thanh | D3: Đ­êng kÝnh | E3: M¸c thÐp | F3: ChiÒu dµi | G3: Sè l­îng | H3: Tæng chiÒu dµi | I3: Khèi l­îng ®¬n vÞ | J3: Khèi l­îng | K3: Bª t«ng 30Mpa (m3) | L3: V¸n khu«n (m2)
D4: (mm) | F4: (mm) | G4: (Thanh) | H4: (m) | I4: (Kg/m) | J4: (Kg)
B5: Khèi chèng chuyÓn vÞ trªn trô dÉn (tÝnh cho 1 khèi) | C5: E1 | D5: 16 | E5: =+IF(D5<=10,"CB240-T","CB400-V") -> CB400-V | F5: 1800 | G5: 6 | H5: =F5*G5/1000 -> 10.8 | I5: =HLOOKUP(D5,KLDV,2,0) -> 1.58 | J5: =ROUND(H5*I5,2) -> 17.06 | K5: =ROUND(0.4*1*0.4,2) -> 0.16 | L5: =ROUND((0.4+1)*2*0.4,2) -> 1.12
C6: E2 | D6: 16 | E6: =+IF(D6<=10,"CB240-T","CB400-V") -> CB400-V | F6: 2400 | G6: 4 | H6: =F6*G6/1000 -> 9.6 | I6: =HLOOKUP(D6,KLDV,2,0) -> 1.58 | J6: =ROUND(H6*I6,2) -> 15.17
C7: E3 | D7: 14 | E7: =+IF(D7<=10,"CB240-T","CB400-V") -> CB400-V | F7: 2900 | G7: 3 | H7: =F7*G7/1000 -> 8.7 | I7: =HLOOKUP(D7,KLDV,2,0) -> 1.21 | J7: =ROUND(H7*I7,2) -> 10.53 | O7: =0.22*PI()*0.08*0.08/4*4 -> 0.0044233625
C8: E4 | D8: 8 | E8: =+IF(D8<=10,"CB240-T","CB400-V") -> CB240-T | F8: 1260 | G8: 2 | H8: =F8*G8/1000 -> 2.52 | I8: =HLOOKUP(D8,KLDV,2,0) -> 0.395 | J8: =ROUND(H8*I8,2) -> 1
C9: E5 | D9: 8 | E9: =+IF(D9<=10,"CB240-T","CB400-V") -> CB240-T | F9: 1080 | G9: =+G8 -> 2 | H9: =F9*G9/1000 -> 2.16 | I9: =HLOOKUP(D9,KLDV,2,0) -> 0.395 | J9: =ROUND(H9*I9,2) -> 0.85 | O9: =+K10-O7 -> 0.23557664
B10: Khèi chèng chuyÓn vÞ trªn trô T4, T7 (phÝa dÇm hép) - TÝnh cho 1 khèi | C10: M1 | D10: 18 | E10: =+IF(D10<=10,"CB240-T","CB400-V") -> CB400-V | F10: 2346 | G10: 7 | H10: =F10*G10/1000 -> 16.422 | I10: =HLOOKUP(D10,KLDV,2,0) -> 2 | J10: =ROUND(H10*I10,2) -> 32.84 | K10: =ROUND(1.1*1*0.22,2) -> 0.24 | L10: =ROUND((1.1+1)*2*0.22,2) -> 0.92
C11: M2 | D11: 18 | E11: =+IF(D11<=10,"CB240-T","CB400-V") -> CB400-V | F11: 2496 | G11: 8 | H11: =F11*G11/1000 -> 19.968 | I11: =HLOOKUP(D11,KLDV,2,0) -> 2 | J11: =ROUND(H11*I11,2) -> 39.94
C12: M3 | D12: 18 | E12: =+IF(D12<=10,"CB240-T","CB400-V") -> CB400-V | F12: 4100 | G12: 3 | H12: =F12*G12/1000 -> 12.3 | I12: =HLOOKUP(D12,KLDV,2,0) -> 2 | J12: =ROUND(H12*I12,2) -> 24.6
C13: M4 | D13: 8 | E13: =+IF(D13<=10,"CB240-T","CB400-V") -> CB240-T | F13: 3940 | G13: 4 | H13: =F13*G13/1000 -> 15.76 | I13: =HLOOKUP(D13,KLDV,2,0) -> 0.395 | J13: =ROUND(H13*I13,2) -> 6.23
C14: M5 | D14: 8 | E14: =+IF(D14<=10,"CB240-T","CB400-V") -> CB240-T | F14: 1970 | G14: =+G13 -> 4 | H14: =F14*G14/1000 -> 7.88 | I14: =HLOOKUP(D14,KLDV,2,0) -> 0.395 | J14: =ROUND(H14*I14,2) -> 3.11
B15: Chi tiÕt chèt cè ®Þnh (vÞ trÝ dÇm I) | C15: Thanh chèt m¹ kÏm D32, L=0.7m | F15: 700 | G15: 2 | H15: =+F15/1000*G15 -> 1.4 | I15: =HLOOKUP(32,KLDV,2,0) -> 6.31 | J15: =H15*I15 -> 8.834
C16: èng thÐp m¹ kÏm T1, 154x310x3mm | G16: 2 | I16: =ROUND(154*310*3*7850/(10^9),2) -> 1.12 | J16: =G16*I16 -> 2.24
C17: ThÐp b¶n T4, dµy 3mm | G17: 2 | I17: =ROUND(2124*3*7850/(10^9),2) -> 0.05 | J17: =G17*I17 -> 0.1
C18: TÊm cao su dµy 20mm (m2) | G18: 2 | J18: =0.4*1.2*G18 -> 0.96
C19: Bitum chÌn kÝn (m3) | G19: =+G17 -> 2 | I19: =MAX(ROUND(0.000857655*0.31,2),0.0003) -> 0.0003 | J19: =G19*I19 -> 0.0006
B20: Chi tiÕt chèt di ®éng (vÞ trÝ dÇm I) | C20: Thanh chèt m¹ kÏm D32, L=0.7m | F20: 700 | G20: 2 | H20: =+F20/1000*G20 -> 1.4 | I20: =HLOOKUP(32,KLDV,2,0) -> 6.31 | J20: =H20*I20 -> 8.834
C21: èng thÐp m¹ kÏm T2, 326x310x3mm | G21: 2 | I21: =ROUND(326*310*3*7850/(10^9),2) -> 2.38 | J21: =G21*I21 -> 4.76
C22: ThÐp b¶n T5, dµy 3mm | G22: 2 | I22: =ROUND(6596*3*7850/(10^9),2) -> 0.16 | J22: =G22*I22 -> 0.32
C23: TÊm cao su dµy 20mm (m2) | G23: 2 | J23: =0.4*1.2*G23 -> 0.96
C24: Bitum chÌn kÝn (m3) | G24: =+G22 -> 2 | I24: =MAX(ROUND(0.005*0.31,2),0.0006) -> 0.0006 | J24: =G24*I24 -> 0.0012
B25: Chi tiÕt chèt vÞ trÝ dÇm hép | C25: Thanh chèt m¹ kÏm D80, L=1.2m | F25: 1200 | G25: 4 | H25: =+F25/1000*G25 -> 4.8 | I25: =PI()*0.04*0.04*7850 -> 39.458404 | J25: =H25*I25 -> 189.40034
C26: èng thÐp m¹ kÏm T3, 757x485xx3mm | G26: 4 | I26: =ROUND(757*485*3*7850/(10^9),2) -> 8.65 | J26: =G26*I26 -> 34.6
C27: ThÐp b¶n T6, dµy 3mm | G27: 4 | I27: =ROUND(30454*3*7850/(10^9),2) -> 0.72 | J27: =G27*I27 -> 2.88
C28: TÊm cao su dµy 20mm (m2) | G28: 1 | J28: =1*1.1*G28 -> 1.1 | O28: TæNG HîP KHèI l­îng
C29: Bitum chÌn kÝn (m3) | G29: =+G27 -> 4 | I29: =MAX(ROUND(0.023157*0.435,2),0.0005) -> 0.01 | J29: =G29*I29 -> 0.04
B30: Tæng cho 1 khèi | C30: Tæng khèi chèng chuyÓn vÞ cè ®Þnh cña dÇm I (tÝnh cho 1 khèi) | F30: 8 | G30: =SUMIF($D$5:$D$9,F30,$J$5:$J$9) -> 1.85 | I30: ThÐp b¶n | J30: =J16+J17 -> 2.34 | K30: Bitum | L30: =J19 -> 0.0006 | O30: Hạng mục | P30: Đơn vị | Q30: Phần đầu cầu | S30: Tổng
F31: 14 | G31: =SUMIF($D$5:$D$9,F31,$J$5:$J$9) -> 10.53 | I31: Bª t«ng 30Mpa | J31: =K5 -> 0.16 | Q31: số lượng chốt cố định | R31: Số lượng chốt di động
F32: 16 | G32: =SUMIF($D$5:$D$9,F32,$J$5:$J$9) -> 32.23 | I32: V¸n khu«n | J32: =L5 -> 1.12 | Q32: 7 | R32: 7
F33: ThÐp m¹ kÏm D32 | G33: =J15 -> 8.834 | I33: TÊm cao su dµy 20mm | J33: =J18 -> 0.96 | O33: 8 | P33: T | Q33: =ROUND(G30*$Q$32/1000,2) -> 0.01 | R33: =ROUND(G34*$R$32/1000,2) -> 0.01 | S33: =Q33+R33+Q41 -> 0.03
C34: Tæng khèi chèng chuyÓn vÞ di ®éng cña dÇm I (tÝnh cho 1 khèi) | F34: 8 | G34: =SUMIF($D$5:$D$9,F34,$J$5:$J$9) -> 1.85 | I34: ThÐp b¶n | J34: =J21+J22 -> 5.08 | K34: Bitum | L34: =J24 -> 0.0012 | O34: 14 | P34: T | Q34: =ROUND(G31*$Q$32/1000,2) -> 0.07 | R34: =ROUND(G35*$R$32/1000,2) -> 0.07 | S34: =ROUND(SUM(Q34:R34),2) -> 0.14
F35: 14 | G35: =SUMIF($D$5:$D$9,F35,$J$5:$J$9) -> 10.53 | I35: Bª t«ng 30Mpa | J35: =K5 -> 0.16 | O35: 16 | P35: T | Q35: =ROUND(G32*$Q$32/1000,2) -> 0.23 | R35: =ROUND(G36*$R$32/1000,2) -> 0.23 | S35: =ROUND(SUM(Q35:R35),2) -> 0.46
F36: 16 | G36: =SUMIF($D$5:$D$9,F36,$J$5:$J$9) -> 32.23 | I36: V¸n khu«n | J36: =L5 -> 1.12 | O36: ThÐp m¹ kÏm D32 | P36: T | Q36: =ROUND(G33*$Q$32/1000,2) -> 0.06 | R36: =ROUND(G37*$R$32/1000,2) -> 0.06 | S36: =ROUND(SUM(Q36:R36),2) -> 0.12
F37: ThÐp m¹ kÏm D32 | G37: =J20 -> 8.834 | I37: TÊm cao su dµy 20mm | J37: =J23 -> 0.96
C38: Tæng khèi chèng chuyÓn vÞ cña hép (tÝnh cho 1 khèi) | F38: 8 | G38: =SUMIF($D$10:$D$14,F38,$J$10:$J$14) -> 9.34 | I38: Bitum | J38: =J29 -> 0.04
F39: 18 | G39: =SUMIF($D$10:$D$14,F39,$J$10:$J$14) -> 97.38 | I39: Bª t«ng 30Mpa | J39: =K10 -> 0.24 | O39: Chốt dầm hộp
F40: ThÐp m¹ kÏm D80 | G40: =J25 -> 189.40034 | I40: V¸n khu«n | J40: =L10 -> 0.92 | Q40: 1
F41: ThÐp b¶n | G41: =J26+J27 -> 37.48 | I41: TÊm cao su dµy 20mm | J41: =J28 -> 1.1 | O41: 8 | P41: T | Q41: =ROUND(G38*$Q$40/1000,2) -> 0.01
B42: Tæng cho toµn cÇu | C42: Tæng khèi chèng chuyÓn vÞ cè ®Þnh cña dÇm I (toµn cÇu cã 20 khèi) | F42: 8 | G42: =G30*$M$42 -> 33.3 | I42: ThÐp b¶n | J42: =J30*$M$42 -> 42.12 | K42: Bitum | L42: =L30*$M$42 -> 0.0108 | M42: 18 | O42: 18 | P42: T | Q42: =ROUND(G39*$Q$40/1000,2) -> 0.1
F43: 14 | G43: =G31*$M$42 -> 189.54 | I43: Bª t«ng 30Mpa | J43: =J31*$M$42 -> 2.88 | O43: ThÐp m¹ kÏm D80 | P43: T | Q43: =ROUND(G40*$Q$40/1000,2) -> 0.19 | S43: =Q43 -> 0.19
F44: 16 | G44: =G32*$M$42 -> 580.14 | I44: V¸n khu«n | J44: =J32*$M$42 -> 20.16 | O44: ThÐp b¶n | P44: T | Q44: =ROUND(G41*$Q$40/1000,2) -> 0.04 | S44: =Q44*2 -> 0.08
F45: ThÐp m¹ kÏm D32 | G45: =G33*$M$42 -> 159.012 | I45: TÊm cao su dµy 20mm | J45: =J33*$M$42 -> 17.28
C46: Tæng khèi chèng chuyÓn vÞ di ®éng cña dÇm I (toµn cÇu cã 20 khèi) | F46: 8 | G46: =G34*$M$46 -> 33.3 | I46: ThÐp b¶n | J46: =J34*$M$46 -> 91.44 | K46: Bitum | L46: =L34*M46 -> 0.0216 | M46: 18 | O46: v¸n khu«n | P46: =J32*7+J36*7+J40 -> 16.6 | Q46: m2
F47: 14 | G47: =G35*$M$46 -> 189.54 | I47: Bª t«ng 30Mpa | J47: =J35*$M$46 -> 2.88 | O47: TÊm cao su dµy 20mm | P47: =J33*$Q$32+J37*$R$32+J41*$Q$40 -> 14.54 | Q47: m2
F48: 16 | G48: =G36*$M$46 -> 580.14 | I48: V¸n khu«n | J48: =J36*$M$46 -> 20.16 | O48: Bitum | P48: =L30*Q32+L34*R32+J38*Q40 -> 0.0526 | Q48: m3
F49: ThÐp m¹ kÏm D32 | G49: =G37*$M$46 -> 159.012 | I49: TÊm cao su dµy 20mm | J49: =J37*$M$46 -> 17.28 | O49: Bª t«ng | P49: =J31*Q32+J35*R32+J39*Q40 -> 2.48 | Q49: m3
C50: Tæng khèi chèng chuyÓn vÞ cña hép (toµn cÇu cã 2 khèi) | F50: 8 | G50: =G38*$M$50 -> 18.68 | I50: Bitum | J50: =J38*$M$50 -> 0.08 | M50: 2
F51: 18 | G51: =G39*$M$50 -> 194.76 | I51: Bª t«ng 30Mpa | J51: =J39*$M$50 -> 0.48
F52: ThÐp m¹ kÏm D80 | G52: =G40*$M$50 -> 378.80068 | I52: V¸n khu«n | J52: =J40*$M$50 -> 1.84
F53: ThÐp b¶n | G53: =G41*$M$50 -> 74.96 | I53: TÊm cao su dµy 20mm | J53: =J41*$M$50 -> 2.2

Sheet Golancan_Tayvin
A1: H¹ng môc | B1: Tªn thanh | C1: §uêng kÝnh (mm) | D1: Khèi l­îng ®¬n vÞ (kg/m) | E1: Khèi G1 | I1: Khèi G2 | M1: Khèi G3
E2: Sè l­îng thanh (mm) | F2: ChiÒu dµi 1 thanh (mm) | G2: Tæng chiÒu dµi (m) | H2: Tæng K.L­îng (kg) | I2: Sè l­îng thanh (mm) | J2: ChiÒu dµi 1 thanh (mm) | K2: Tæng chiÒu dµi (m) | L2: Tæng K.L­îng (kg) | M2: Sè l­îng thanh (mm) | N2: ChiÒu dµi 1 thanh (mm) | O2: Tæng chiÒu dµi (m) | P2: Tæng K.L­îng (kg)
A3: TÝnh1 khèi gê lan can | B3: C1 | C3: 14 | D3: =HLOOKUP(C3,'[5]Bang tra'!$A$2:$L$4,3) -> 1.21 | E3: =+'[5]Khoi go LC'!G13 -> 79 | F3: =+'[5]Khoi go LC'!$I$22 -> 1017 | G3: =E3*F3/1000 -> 80.343 | H3: =G3*$D$3 -> 97.21503 | I3: =+'[5]Khoi go LC'!G14 -> 69 | J3: =+'[5]Khoi go LC'!$I$22 -> 1017 | K3: =I3*J3/1000 -> 70.173 | L3: =K3*$D3 -> 84.90933 | M3: =+'[5]Khoi go LC'!G15 -> 80 | N3: =+'[5]Khoi go LC'!$I$22 -> 1017 | O3: =M3*N3/1000 -> 81.36 | P3: =O3*$D3 -> 98.4456
B4: C2 | C4: 14 | D4: =HLOOKUP(C4,'[5]Bang tra'!$A$2:$L$4,3) -> 1.21 | E4: =+$E$3 -> 79 | F4: =+'[5]Khoi go LC'!$I$23 -> 1095 | G4: =E4*F4/1000 -> 86.505 | H4: =G4*$D$3 -> 104.67105 | I4: =+$I$3 -> 69 | J4: =+'[5]Khoi go LC'!$I$23 -> 1095 | K4: =I4*J4/1000 -> 75.555 | L4: =K4*$D4 -> 91.42155 | M4: =+M3 -> 80 | N4: =+'[5]Khoi go LC'!$I$23 -> 1095 | O4: =M4*N4/1000 -> 87.6 | P4: =O4*$D4 -> 105.996
B5: C3 | C5: 14 | D5: =HLOOKUP(C5,'[5]Bang tra'!$A$2:$L$4,3) -> 1.21 | E5: =+$E$3 -> 79 | F5: =+'[5]Khoi go LC'!$I$24 -> 1330 | G5: =E5*F5/1000 -> 105.07 | H5: =G5*$D$3 -> 127.1347 | I5: =+$I$3 -> 69 | J5: =+'[5]Khoi go LC'!$I$24 -> 1330 | K5: =I5*J5/1000 -> 91.77 | L5: =K5*$D5 -> 111.0417 | M5: =+M3 -> 80 | N5: =+'[5]Khoi go LC'!$I$24 -> 1330 | O5: =M5*N5/1000 -> 106.4 | P5: =O5*$D5 -> 128.744
B6: C4 | C6: 14 | D6: =HLOOKUP(C6,'[5]Bang tra'!$A$2:$L$4,3) -> 1.21 | E6: =+'[5]Khoi go LC'!$M$13 -> 8 | F6: =+'[5]Khoi go LC'!N13 -> 11700 | G6: =E6*F6/1000 -> 93.6 | H6: =G6*$D$3 -> 113.256 | I6: =+'[5]Khoi go LC'!$M$13 -> 8 | J6: =+'[5]Khoi go LC'!N14 -> 10032 | K6: =I6*J6/1000 -> 80.256 | L6: =K6*$D6 -> 97.10976 | M6: =+'[5]Khoi go LC'!$M$13 -> 8 | N6: =+'[5]Khoi go LC'!N15 -> 11725 | O6: =M6*N6/1000 -> 93.8 | P6: =O6*$D6 -> 113.498
B7: Tæng | C7: èng PVC D100 (m): | D7: =+'[5]Khoi go LC'!B2/10^3 -> 11.8 | F7: D14-CB400-V (kg): | G7: =SUM(H3:H6) -> 442.27678 | I7: èng PVC D100 (m): | J7: =+'[5]Khoi go LC'!B3/10^3 -> 10.132 | K7: D14-CB400-V (kg): | L7: =+SUM(L3:L6) -> 384.48234 | M7: èng PVC D100 (m): | N7: =+'[5]Khoi go LC'!B4/10^3 -> 11.825 | O7: D14-CB400-V (kg): | P7: =+SUM(P3:P6) -> 446.6836
C8: Bªt«ng 30MPa (m3): | D8: =+$E$19*D7 -> 3.1915578 | F8: V¸n khu«n (m2): | G8: =D7*$E$20 -> 28.792 | I8: Bªt«ng 30MPa (m3): | J8: =+$E$19*J7 -> 2.7404122 | K8: V¸n khu«n (m2): | L8: =J7*$E$20 -> 24.72208 | M8: Bªt«ng 30MPa (m3): | N8: =+$E$19*N7 -> 3.1983196 | O8: V¸n khu«n (m2): | P8: =N7*$E$20 -> 28.853
A11: §Çu cÇu | C11: èng PVC D100 (m): | D11: =+D7*$D$25+J7*$D$26+N7*$D$27 -> 468.714 | F11: D14-CB400-V (kg): | G11: =+G7*$D$25+L7*$D$26+P7*$D$27 -> 17584.296
C12: Bªt«ng 30MPa (m3): | D12: =+D8*$D$25+J8*$D$26+N8*$D$27 -> 126.77354 | F12: V¸n khu«n (m2): | G12: =+G8*$D$25+L8*$D$26+P8*$D$27 -> 1143.6622
J16: Quay lai
B17: Ghi chó: | C17: Thanh C4 cña khèi G7 ®uîc nèi, chiÒu dµi thanh ®· tÝnh c¶ chiÒu dµi ®o¹n nèi (40d)
B19: DiÖn tÝch mÆt c¾t ngang lan can (trõ èng trßn): | E19: =270471/1000000 -> 0.270471 | F19: m2
B20: Chu vi mÆt c¾t ngang ch©n lan can: | E20: =2440/10^3 -> 2.44 | F20: m
B21: ChiÒu dµi èng PVC b»ng chiÒu dµi mçi ®¬n nguyªn ch©n lan can | I21: =507*2 -> 1014
C24: Tªn khèi gê lan can | D24: Sè l­îng
C25: =+'[5]Khoi go LC'!A2 -> G1 | D25: =+(11+7)*2 -> 36
C26: =+'[5]Khoi go LC'!A3 -> G2 | D26: =+'[5]Khoi go LC'!C3 -> 2
C27: =+'[5]Khoi go LC'!A4 -> G3 | D27: 2
A31: Hạng mục | B31: Tªn thanh | D31: §­êng kÝnh | E31: Lo¹i thÐp | F31: C.dµi 1 thanh | G31: Sè l­îng | H31: Tæng dµi | I31: KL§V | J31: Tæng khèi l­îng
C33: C1 | D33: 18 | F33: 2200 | G33: 2 | H33: =ROUND(F33*G33/1000,2) -> 4.4 | I33: =VLOOKUP(D33,'CKN T4 '!$M$5:$N$19,2,0) -> 2 | J33: =ROUND(H33*I33,2) -> 8.8
A34: BÖ ®ì cét ®Ìn | C34: C2a | D34: 16 | F34: 1820 | G34: 1 | H34: =ROUND(F34*G34/1000,2) -> 1.82 | I34: =VLOOKUP(D34,'CKN T4 '!$M$5:$N$19,2,0) -> 1.58 | J34: =ROUND(H34*I34,2) -> 2.88
C35: C2b | D35: 16 | F35: 2300 | G35: 1 | H35: =ROUND(F35*G35/1000,2) -> 2.3 | I35: =VLOOKUP(D35,'CKN T4 '!$M$5:$N$19,2,0) -> 1.58 | J35: =ROUND(H35*I35,2) -> 3.63
C36: C3 | D36: 18 | F36: 2200 | G36: 2 | H36: =ROUND(F36*G36/1000,2) -> 4.4 | I36: =VLOOKUP(D36,'CKN T4 '!$M$5:$N$19,2,0) -> 2 | J36: =ROUND(H36*I36,2) -> 8.8
C37: C4 | D37: 16 | F37: 565 | G37: 2 | H37: =ROUND(F37*G37/1000,2) -> 1.13 | I37: =VLOOKUP(D37,'CKN T4 '!$M$5:$N$19,2,0) -> 1.58 | J37: =ROUND(H37*I37,2) -> 1.79
C38: C5 | D38: 16 | F38: 690 | G38: 2 | H38: =ROUND(F38*G38/1000,2) -> 1.38 | I38: =VLOOKUP(D38,'CKN T4 '!$M$5:$N$19,2,0) -> 1.58 | J38: =ROUND(H38*I38,2) -> 2.18
A40: Khèi l­îng 1 bÖ ®ì | D40: ThÐp | E40: 16 | F40: =SUMIF($D$33:$D$38,E40,$J$33:$J$38) -> 10.48
E41: 18 | F41: =SUMIF($D$33:$D$38,E41,$J$33:$J$38) -> 17.6
B43: b¶ng tæng hîp khèi l­îng
B44: H¹ng môc | C44: Tªn thanh | D44: §­êng kÝnh | E44: Lo¹i thÐp | F44: C.dµi | G44: S. l­îng | H44: Tæng dµi | I44: Tr.l­îng | J44: Tr.l­îng | K44: Bª t«ng
F45: 1 thanh | G45: thanh | I45: ®.v | J45: tæng céng | K45: 30Mpa
D46: mm | F46: mm | H46: m | I46: kg/m | J46: kg | K46: m3
B47: BÖ ®ì cét ®Ìn | C47: C1 | D47: 18 | E47: CB400-V | F47: 2200 | G47: 2 | H47: =+G47*F47/1000 -> 4.4 | I47: =HLOOKUP(D47,'[6]Bang tra'!$A$2:$L$4,3) -> 2 | J47: =+I47*H47 -> 8.8 | K47: =+ROUND(0.267*(0.37+0.933)/2,2) -> 0.17
C48: C2a | D48: 16 | E48: CB400-V | F48: 1820 | G48: 1 | H48: =+G48*F48/1000 -> 1.82 | I48: =HLOOKUP(D48,'[6]Bang tra'!$A$2:$L$4,3) -> 1.58 | J48: =+I48*H48 -> 2.8756
C49: C2b | D49: 16 | E49: CB400-V | F49: 2300 | G49: 1 | H49: =+G49*F49/1000 -> 2.3 | I49: =HLOOKUP(D49,'[6]Bang tra'!$A$2:$L$4,3) -> 1.58 | J49: =+I49*H49 -> 3.634
C50: C3 | D50: 18 | E50: CB400-V | F50: 2200 | G50: 2 | H50: =+G50*F50/1000 -> 4.4 | I50: =HLOOKUP(D50,'[6]Bang tra'!$A$2:$L$4,3) -> 2 | J50: =+I50*H50 -> 8.8
C51: C4 | D51: 16 | E51: CB400-V | F51: 565 | G51: 2 | H51: =+G51*F51/1000 -> 1.13 | I51: =HLOOKUP(D51,'[6]Bang tra'!$A$2:$L$4,3) -> 1.58 | J51: =+I51*H51 -> 1.7854
C52: C5 | D52: 16 | E52: CB400-V | F52: 690 | G52: 2 | H52: =+G52*F52/1000 -> 1.38 | I52: =HLOOKUP(D52,'[6]Bang tra'!$A$2:$L$4,3) -> 1.58 | J52: =+I52*H52 -> 2.1804
B53: Khèi l­îng 1 bÖ ®ì | C53: CB400-V | E53: =+ROUND(SUMIF(E47:E52,C53,J47:J52),2) -> 28.08 | F53: 16 | I53: =+ROUND(SUMIF(D47:D52,F53,J47:J52),2) -> 10.48 | K53: =+K47 -> 0.17
C54: CB240-T | E54: =+ROUND(SUMIF(E48:E53,C54,J48:J53),2) -> 0 | F54: 18 | I54: =+ROUND(SUMIF(D47:D52,F54,J47:J52),2) -> 17.6
C55: V¸n khu«n (m2) : | E55: =+ROUND(2*0.267+0.964*(0.37+0.933)/2,2) -> 1.16 | F55: Bª t«ng 30MPa (m3) : | I55: =+K53 -> 0.17
B56: Khèi l­îng ®Çu cÇu | C56: CB400-V | E56: =E53*$L$56 -> 280.8 | F56: 16 | I56: =I53*$L$56 -> 104.8 | K56: =K53*L56 -> 1.7 | L56: 10
C57: CB240-T | E57: =E54*$L$56 -> 0 | F57: 18 | I57: =I54*$L$56 -> 176
C58: V¸n khu«n (m2) : | E58: =E55*$L$56 -> 11.6 | F58: Bª t«ng 30MPa (m3) : | I58: =I55*$L$56 -> 1.7

Sheet Caucongvu
B1: CÇu c«ng vô phÝa ®I h¶I phßng
A2: STT | B2: H¹ng môc | C2: chiÒu dµi (m) | D2: sè l­îng (thanh) | E2: Khèi l­îng ®¬n vÞ (kg) | F2: Tæng KL (T) | G2: Ghi chó | I2: Quay lai
A3: 1 | B3: ThÐp h×nh I360x150x12x24 | C3: 18 | D3: =12*2 -> 24 | E3: =48.6*2 -> 97.2 | F3: =+ROUND(C3*D3*E3/1000,2) -> 41.99 | G3: Cäc
A4: =+A3+1 -> 2 | B4: Cäc V¸n thÐp Lasen IV | C4: 55 | D4: 4 | E4: 74 | F4: =+ROUND(C4*D4*E4/1000,2) -> 16.28 | G4: DÇm chñ
A5: =+A4+1 -> 3 | B5: ThÐp h×nh 2I300x150x10x18.5 | C5: 2.5 | D5: =+D3/2 -> 12 | E5: =+E4*2 -> 148 | F5: =+ROUND(C5*D5*E5/1000,2) -> 4.44 | G5: DÇm ngang
A6: =+A5+1 -> 4 | B6: ThÐp h×nh C100x50x5x7.5 | C6: 2 | D6: =D3 -> 24 | E6: =9.36 -> 9.36 | F6: =+ROUND(C6*D6*E6/1000,2) -> 0.45
A7: =+A6+1 -> 5 | B7: ThÐp h×nh L75x75x7 | C7: 1.1 | D7: =29*2 -> 58 | E7: 7.65 | F7: =+ROUND(C7*D7*E7/1000,2) -> 0.49 | G7: Lan can
A8: =+A7+1 -> 6 | B8: ThÐp trßn D14 | C8: =+C4 -> 55 | D8: 4 | E8: =+ROUND(PI()*(0.014^2/4)*7850,2) -> 1.21 | F8: =+ROUND(C8*D8*E8/1000,2) -> 0.27 | G8: Lan can
A9: =+A8+1 -> 7 | B9: ThÐp b¶n 1500x1000x4 ®ôc lç | D9: =+C4 -> 55 | E9: =1.5*1*0.004*7850 -> 47.1 | F9: =+ROUND(D9*E9/1000,2) -> 2.59 | G9: MÆt cÇu
A10: =+A9+1 -> 8 | B10: ThÐp b¶n 150x150x5 | D10: =+D5*4 -> 48 | E10: =0.15*0.15*0.005*7850 -> 0.883125 | F10: =+ROUND(D10*E10/1000,2) -> 0.04 | G10: b¶n liªn kÕt
A11: =+A10+1 -> 9 | B11: C¸c lo¹i thÐp liªn kÕt kh¸c (t¹m tÝnh) | F11: 0.3
A12: =+A11+1 -> 10 | B12: §ãng/nhæ cäc I360 ngµm trong ®Êt (cäc/m) | F12: =D3&"/"&ROUND(D3*7.5,2) -> 24/180 | G12: L®ãng/nhæ=7.5m
B13: CÇu c«ng vô phÝa ®I th¸I b×nh
A14: STT | B14: H¹ng môc | C14: chiÒu dµi (m) | D14: sè l­îng (thanh) | E14: Khèi l­îng ®¬n vÞ (kg) | F14: Tæng KL (T) | G14: Ghi chó
A15: 1 | B15: ThÐp h×nh I350x150x12x24 | C15: 18 | D15: =12*2 -> 24 | E15: =48.6*2 -> 97.2 | F15: =+ROUND(C15*D15*E15/1000,2) -> 41.99 | G15: Cäc
A16: =+A15+1 -> 2 | B16: Cäc V¸n thÐp Lasen IV | C16: 55 | D16: 4 | E16: 74 | F16: =+ROUND(C16*D16*E16/1000,2) -> 16.28 | G16: DÇm chñ
A17: =+A16+1 -> 3 | B17: ThÐp h×nh 2I300x150x10x18.5 | C17: 2.5 | D17: =+D15/2 -> 12 | E17: =+E16*2 -> 148 | F17: =+ROUND(C17*D17*E17/1000,2) -> 4.44 | G17: DÇm ngang
A18: =+A17+1 -> 4 | B18: ThÐp h×nh C100x50x5x7.5 | C18: 2 | D18: =D15 -> 24 | E18: =9.36 -> 9.36 | F18: =+ROUND(C18*D18*E18/1000,2) -> 0.45
A19: =+A18+1 -> 5 | B19: ThÐp h×nh L75x75x7 | C19: 1.1 | D19: =29*2 -> 58 | E19: 7.65 | F19: =+ROUND(C19*D19*E19/1000,2) -> 0.49 | G19: Lan can
A20: =+A19+1 -> 6 | B20: ThÐp trßn D14 | C20: =+C16 -> 55 | D20: 4 | E20: =+ROUND(PI()*(0.014^2/4)*7850,2) -> 1.21 | F20: =+ROUND(C20*D20*E20/1000,2) -> 0.27 | G20: Lan can
A21: =+A20+1 -> 7 | B21: ThÐp b¶n 1500x1000x4 ®ôc lç | D21: =+C16 -> 55 | E21: =1.5*1*0.004*7850 -> 47.1 | F21: =+ROUND(D21*E21/1000,2) -> 2.59 | G21: MÆt cÇu
A22: =+A21+1 -> 8 | B22: ThÐp b¶n 150x150x5 | D22: =+D17*4 -> 48 | E22: =0.15*0.15*0.005*7850 -> 0.883125 | F22: =+ROUND(D22*E22/1000,2) -> 0.04 | G22: b¶n liªn kÕt
A23: =+A22+1 -> 9 | B23: C¸c lo¹i thÐp liªn kÕt kh¸c (t¹m tÝnh) | F23: 0.3
A24: =+A23+1 -> 10 | B24: §ãng/nhæ cäc I360 ngµm trong ®Êt (cäc/m) | F24: =D15&"/"&ROUND(D15*7,2) -> 24/168 | G24: L®ãng/nhæ=7.5m
A30: 9 | B30: Lan can ®Þnh h×nh sµn c«ng t¸c | C30: 1 | D30: =+(15*2+11*2) -> 52 | E30: 11.87 | F30: =+ROUND(#REF!*E30/1000,2) -> #REF!
B31: Tæng céng | F31: =+SUM(F3:F17) -> 129.56

Sheet Monho
C3: STT | D3: Tªn thanh | E3: H×nh d¹ng | F3: ChiÒu dµi (mm) | G3: Sè l­îng | H3: Träng l­îng ®¬n vÞ(kg/m) | I3: Khèi l­îng mè nh« ®Çu cÇu(kg) | J3: Khèi l­îng mè nh« cuèi cÇu(kg) | M3: STT | N3: Hạng mục | O3: Đơn vị | P3: Khối l­îng
C4: KÕt cÊu phÇn trªn | P4: §Çu cÇu | Q4: Cuèi cÇu
C5: 1 | D5: T«n tÊm dµy 6mm, b=3000 | E5: tÊm | F5: 12000 | G5: 2 | H5: =ROUND(3*12*0.006*7850,2) -> 1695.6 | I5: =ROUND(G5*H5,2) -> 3391.2 | J5: =+I5 -> 3391.2 | M5: 1 | N5: §ãng/ nhæ cäc thÐp h×nh 2I360 | O5: cäc/m | P5: =12&"/"&4*(33.64-0.49)+8*(34-4.78) -> 12/366,36 | Q5: =12&"/"&4*(33.64-0.52)+8*(34-5.58) -> 12/359,84
C6: =C5+1 -> 2 | D6: ThÐp U160 | E6: thanh | F6: 12000 | G6: 2 | H6: 14.2 | I6: =ROUND(F6/1000*G6*H6,2) -> 340.8 | J6: =+I6 -> 340.8 | M6: 2 | N6: CÈu l¾p/ th¸o dì hÖ dÇm | O6: T | P6: =(J32-J29)/1000 -> 13.85835 | Q6: =P6 -> 13.85835
C7: =C6+1 -> 3 | D7: ThÐp h×nh I360 | E7: thanh | F7: 3000 | G7: 2 | H7: 48.6 | I7: =ROUND(F7/1000*G7*H7,2) -> 291.6 | J7: =+I7 -> 291.6 | M7: 3 | N7: Hè thÕ | O7: hè | P7: 2 | Q7: 2
C8: =C7+1 -> 4 | D8: ThÐp h×nh I360 | E8: thanh | F8: 12000 | G8: 12 | H8: =H7 -> 48.6 | I8: =ROUND(F8/1000*G8*H8,2) -> 6998.4 | J8: =+I8 -> 6998.4 | M8: - | N8: §µo ®Êt hè thÕ | O8: m3 | P8: 10 | Q8: 10
C9: =C8+1 -> 5 | D9: ThÐp U160 | E9: thanh | F9: 550 | G9: =10*6 -> 60 | H9: =H6 -> 14.2 | I9: =ROUND(F9/1000*G9*H9,2) -> 468.6 | J9: =+I9 -> 468.6 | M9: - | N9: Tµ vÑt gç hè thÕ | O9: m3 | P9: 2 | Q9: 2
C10: =C9+1 -> 6 | D10: ThÐp b¶n 10x60x335 | E10: tÊm | F10: =335 -> 335 | G10: =G8*6 -> 72 | H10: =ROUND(0.06*0.335*0.01*7850,2) -> 1.58 | I10: =ROUND(F10/1000*G10*H10,2) -> 38.11 | J10: =+I10 -> 38.11 | M10: - | N10: §¸ héc hè thÕ | O10: m3 | P10: 10 | Q10: 10
C11: =C10+1 -> 7 | D11: ThÐp h×nh 2I360 | E11: thanh | F11: 8000 | G11: 2 | H11: =H8*2 -> 97.2 | I11: =ROUND(F11/1000*G11*H11,2) -> 1555.2 | J11: =+I11 -> 1555.2
C12: =C11+1 -> 8 | D12: ThÐp b¶n 10x250x300 | E12: tÊm | F12: 300 | G12: =4*2 -> 8 | H12: =ROUND(0.25*0.3*0.01*7850,2) -> 5.89 | I12: =ROUND(F12/1000*G12*H12,2) -> 14.14 | J12: =+I12 -> 14.14
C13: =C12+1 -> 9 | D13: ThÐp L75 | E13: thanh | F13: 2100 | G13: =2*5 -> 10 | H13: 7.96 | I13: =ROUND(F13/1000*G13*H13,2) -> 167.16 | J13: =+I13 -> 167.16
C14: =C13+1 -> 10 | D14: ThÐp U160 | E14: thanh | F14: 1180 | G14: =1*6 -> 6 | H14: =H6 -> 14.2 | I14: =ROUND(F14/1000*G14*H14,2) -> 100.54 | J14: =+I14 -> 100.54
C15: =C14+1 -> 11 | D15: ThÐp b¶n 10x140x350 | E15: tÊm | F15: 350 | G15: =G13*2 -> 20 | H15: =ROUND(0.14*0.4*0.01*7850,2) -> 4.4 | I15: =ROUND(F15/1000*G15*H15,2) -> 30.8 | J15: =+I15 -> 30.8
C16: KÕt cÊu phÇn d­íi | J16: =+I16 -> 0
C17: =C15+1 -> 12 | D17: Mèi nèi s­ên 20x285x500 | E17: tÊm | F17: 500 | G17: =4*2 -> 8 | H17: =ROUND(0.285*0.5*0.02*7850,2) -> 22.37 | I17: =ROUND(F17/1000*G17*H17,2) -> 89.48 | J17: =+I17 -> 89.48
C18: =+C17+1 -> 13 | D18: Mèi nèi c¸nh 20x300x500 | E18: tÊm | F18: 500 | G18: 282 | H18: =ROUND(0.3*0.5*0.02*7850,2) -> 23.55 | I18: =ROUND(F18/1000*G18*H18,2) -> 3320.55 | J18: =+I18 -> 3320.55
C19: =+C18+1 -> 14 | D19: B¶n t¸p 10x300x400 | E19: tÊm | F19: =400 -> 400 | G19: =4*4*2+4*2 -> 40 | H19: =ROUND(0.3*0.4*0.01*7850,2) -> 9.42 | I19: =ROUND(F19/1000*G19*H19,2) -> 150.72 | J19: =+I19 -> 150.72
C20: =+C19+1 -> 15 | D20: B¶n t¸p 10x360x400 | E20: tÊm | F20: =400 -> 400 | G20: =2*4*4 -> 32 | H20: =ROUND(0.36*0.4*0.01*7850,2) -> 11.3 | I20: =ROUND(F20/1000*G20*H20,2) -> 144.64 | J20: =+I20 -> 144.64
C21: =+C20+1 -> 16 | D21: ThÐp L75 | E21: thanh | F21: 1200 | G21: =4*4 -> 16 | H21: =H13 -> 7.96 | I21: =ROUND(F21/1000*G21*H21,2) -> 152.83 | J21: =+I21 -> 152.83
C22: =+C21+1 -> 17 | D22: ThÐp L75 | E22: thanh | F22: 2400 | G22: =4*4*2 -> 32 | H22: =H14 -> 14.2 | I22: =ROUND(F22/1000*G22*H22,2) -> 1090.56 | J22: =+I22 -> 1090.56
C23: =+C22+1 -> 18 | D23: ThÐp L75 | E23: thanh | F23: 2455 | G23: =3*4*2 -> 24 | H23: =H15 -> 4.4 | I23: =ROUND(F23/1000*G23*H23,2) -> 259.25 | J23: =+I23 -> 259.25
C24: =+C23+1 -> 19 | D24: ThÐp L75 | E24: thanh | F24: 1510 | G24: =3*4 -> 12 | H24: =H16 -> 0 | I24: =ROUND(F24/1000*G24*H24,2) -> 0 | J24: =+I24 -> 0
C25: =+C24+1 -> 20 | D25: ThÐp 2U300 | E25: thanh | F25: 3970 | G25: 4 | H25: =31.8*2 -> 63.6 | I25: =ROUND(F25/1000*G25*H25,2) -> 1009.97 | J25: =+I25 -> 1009.97
C26: =+C25+1 -> 21 | D26: ThÐp 2U300 | E26: thanh | F26: 3150 | G26: 4 | H26: =31.8*2 -> 63.6 | I26: =ROUND(F26/1000*G26*H26,2) -> 801.36 | J26: =+I26 -> 801.36
C27: =C26+1 -> 22 | D27: ThÐp h×nh 2I360 | E27: thanh | F27: 1600 | G27: 4 | H27: =H7*2 -> 97.2 | I27: =ROUND(F27/1000*G27*H27,2) -> 622.08 | J27: =+I27 -> 622.08
C28: 8 | D28: ThÐp b¶n 10x250x300 | E28: tÊm | F28: 300 | G28: =4*2 -> 8 | H28: =ROUND(0.25*0.3*0.01*7850,2) -> 5.89 | I28: =ROUND(F28/1000*G28*H28,2) -> 14.14 | J28: =+I28 -> 14.14
C29: =C27+1 -> 23 | D29: Cäc 2I360 | E29: thanh | F29: 36000 | G29: =12 -> 12 | H29: =H27 -> 97.2 | I29: =ROUND(F29/1000*G29*H29,2) -> 41990.4 | J29: =+I29 -> 41990.4
D30: §¸ héc xÕp khan | E30: m3 | F30: 7500 | G30: 1 | H30: 2.3 | I30: =7.2*2.3 -> 16.56 | J30: =+I30 -> 16.56
D31: Rä ®¸ 1.5x1x1 | E31: m3 | F31: 1500 | G31: =5*2+5+7 -> 22 | H31: 1.5 | I31: =+H31*G31 -> 33 | J31: =+I31 -> 33 | L31: =3*2+5+7 -> 18
C32: Tæng céng | D32: ThÐp h×nh | E32: kg | I32: =SUMIF($E$6:$E$15,E6,$I$6:$I$15)+SUMIF($E$17:$E$29,E21,$I$17:$I$29) -> 55848.75 | J32: =+I32 -> 55848.75
D33: ThÐp b¶n | E33: kg | I33: =SUMIF($E$6:$E$15,E28,$I$6:$I$15)+SUMIF($E$17:$E$29,E28,$I$17:$I$29) -> 3802.58 | J33: =+I33 -> 3802.58
D34: T«n dÇy 6mm | E34: kg | I34: =I5 -> 3391.2 | J34: =+I34 -> 3391.2
D35: §¸ héc xÕp khan | E35: m3 | I35: =I30 -> 16.56 | J35: =J30 -> 16.56
D36: Rä ®¸ 1.5x1x1 | E36: m3 | I36: =I31 -> 33 | J36: =J31 -> 33
I37: =I32-I29 -> 13858.35
I38: =SUM(I5:I15)+SUM(I17:I29)-I29 -> 21052.13

Sheet Thicongnhip
B2: STT 1 | C2: H¹ng môc | D2: §¬n vÞ | E2: Sè l­îng
B3: STT 1 | C3: Bª ®óc
B4: STT 1 | C4: Bª t«ng 30Mpa | E4: 5.44
B5: STT 1 | C5: ThÐp trßn | E5: =72.72+223.34+12.48 -> 308.54
B6: STT 1 | C6: §¸ d¨m | E6: 6.93
B7: STT 1 | E7: §Çu cÇu | F7: Cuèi cÇu
B8: 1 | C8: §­êng lao dÇm trªn b·I | D8: m | E8: 140 | F8: 250
C9: §¸ d¨m dµy 25cm (trªn b·i) | D9: m3 | E9: =E8*(2.5+3)/2*0.25 -> 96.25 | F9: =F8*(2.5+3)/2*0.25 -> 171.875
C10: Tµ vÑt 20x20x200cm | D10: thanh/m3 | E10: =+ROUND(E8/0.5+1,0)&"/"&ROUND(E8/0.5+1,0)*0.2*0.2*2 -> 281/22,48 | F10: =+ROUND(F8/0.5+1,0)&"/"&ROUND(F8/0.5+1,0)*0.2*0.2*2 -> 501/40,08
C11: Ray P43 | D11: m/kg | E11: =E8*2&"/"&ROUND(E8*2*43.61,0) -> 280/12211 | F11: =F8*2&"/"&ROUND(F8*2*43.61,0) -> 500/21805 | H11: Quay lai
C12: §inh Cr¨mp«ng | D12: con | E12: =+ROUND(E8/0.5+1,2)*4 -> 1124 | F12: =+ROUND(F8/0.5+1,2)*4 -> 2004
C13: LËp l¸ch nèi ray | D13: bé | E13: =+ROUND(E8*2/12+1,0) -> 24 | F13: =+ROUND(F8*2/12+1,0) -> 43
B14: 2 | C14: Hè thÕ | D14: hè | E14: 4 | F14: 4
C15: §Êt ®µo/®¾p hè thÕ | D15: m3 | E15: =+E14*5 -> 20 | F15: =+F14*5 -> 20
C16: §¸ héc xÕp/dì hè thÕ | D16: m3 | E16: =E15 -> 20 | F16: =F15 -> 20
C17: Tµ vÑt hè thÕ | D17: m3 | E17: =+E14*1 -> 4 | F17: =+F14*1 -> 4
B18: =+B14+1 -> 3 | C18: Gç chång nÒ (§Çu cÇu LC 4 lÇn, cuèi cÇu LC 5 lÇn) | D18: m3 | E18: 3 | F18: 3
B19: =B18+1 -> 4 | C19: CÈu dÇm tõ b·I chøa dÇm ra ®­êng di chuyÓn dÇm | D19: dÇm/T | E19: =4*5&"/"&ROUND(4*5*26.41*2.5,2) -> 20/1320,5 | F19: =5*5&"/"&ROUND(5*5*26.41*2.5,2) -> 25/1650,63
B20: =+B19+1 -> 5 | C20: Lao kÐo tõ b·I ®óc ra vÞ trÝ nhÞp | D20: dÇm/m | E20: =4*5&"/"&ROUND(4*5*35,2) -> 20/700 | F20: =5*5&"/"&ROUND(5*5*35,2) -> 25/875
B21: =+B20+1 -> 6 | C21: Sang ngang dÇm vµo gèi (sµng ngang b»ng cÈu) | D21: dÇm/T | E21: =4*5&"/"&ROUND(4*5*26.41*2.5,2) -> 20/1320,5 | F21: =5*5&"/"&ROUND(5*5*26.41*2.5,2) -> 25/1650,63

Sheet Thanglendam
A1: TT | B1: Tªn | C1: Quy C¸ch | G1: §¬n VÞ | H1: Sè L­îng | I1: Träng l­îng ®¬n vÞ (Kg/m) | J1: Khèi l­îng (Kg) | K1: Ghi Chó
C2: H×nh D¹ng | D2: Réng | E2: Dµy | F2: Dµi | M2: Quay lai
A3: 1 | B3: 1 | C3: L75x75x9 , L=4400 | F3: 4400 | G3: Thanh | H3: 2 | I3: 10.11 | J3: =+F3/10^3*I3*H3 -> 88.968
A4: 1' | B4: 1' | C4: L75x75x9 , L=4000 | F4: 4000 | G4: Thanh | H4: 2 | I4: 10.11 | J4: =+F4/10^3*I4*H4 -> 80.88
A5: 2 | B5: 2 | C5: L75x75x9 , L=8200 | F5: 5300 | G5: Thanh | H5: 2 | I5: 10.11 | J5: =+F5/10^3*I5*H5 -> 107.166
A6: 3 | B6: 3 | C6: ThÐp trßn D20 , L=600 | F6: 600 | G6: Thanh | H6: 50 | I6: =+HLOOKUP(M6,'[7]Bang tra'!$A$2:$L$4,3) -> 2.47 | J6: =+F6/10^3*I6*H6 -> 74.1 | M6: 20
A7: 4 | B7: 4 | C7: ThÐp trßn D8 , L=3000 | F7: 3000 | G7: Thanh | H7: 5 | I7: =+HLOOKUP(M7,'[7]Bang tra'!$A$2:$L$4,3) -> 0.395 | J7: =+F7/10^3*I7*H7 -> 5.925 | M7: 8
A8: 5 | B8: 5 | C8: ThÐp trßn D8 , L=2588 | F8: 2588 | G8: Thanh | H8: 7 | I8: =+HLOOKUP(M8,'[7]Bang tra'!$A$2:$L$4,3) -> 0.395 | J8: =+F8/10^3*I8*H8 -> 7.15582 | M8: 8
A9: 6 | B9: 6 | C9: [ 100x50x5x7.5 -L=3431 | F9: 3431 | G9: Thanh | H9: 3 | I9: 9.36 | J9: =+F9/10^3*I9*H9 -> 96.34248
A10: 7 | B10: 7 | C10: [ 100x50x5x7.5 -L=2000 | F10: 2000 | G10: Thanh | H10: 3 | I10: 9.36 | J10: =+F10/10^3*I10*H10 -> 56.16
A11: 8 | B11: 8 | C11: [ 100x50x5x7.5 -L=1799 | F11: 1799 | G11: Thanh | H11: 3 | I11: 9.36 | J11: =+F11/10^3*I11*H11 -> 50.51592
A12: 9 | B12: 9 | C12: [ 100x50x5x7.5 -L=1500 | F12: 1500 | G12: Thanh | H12: 5 | I12: 9.36 | J12: =+F12/10^3*I12*H12 -> 70.2
A13: 10 | B13: 10 | C13: L75x75x9 - L=1559 | F13: 1559 | G13: Thanh | H13: 3 | I13: 10.11 | J13: =+F13/10^3*I13*H13 -> 47.28447
A14: 11 | B14: 11 | C14: L75x75x9 - L=950 | F14: 950 | G14: Thanh | H14: 3 | I14: 10.11 | J14: =+F14/10^3*I14*H14 -> 28.8135
A15: 12 | B15: 12 | C15: □ 3431x1500 , δ=5 | D15: 1500 | E15: 5 | F15: 3431 | G15: TÊm | H15: 1 | I15: 51.369863 | J15: =+F15/10^3*I15*H15 -> 176.25
A16: 13 | B16: 13 | C16: □ 150x45 , δ=10 | D16: 45 | E16: 10 | F16: 150 | G16: TÊm | H16: 12 | I16: 3.5333333 | J16: =+F16/10^3*I16*H16 -> 6.36
A17: 14 | B17: 14 | C17: □ 400x400 , δ=15 | D17: 400 | E17: 15 | F17: 400 | G17: TÊm | H17: 6 | I17: 47.1 | J17: =+F17/10^3*I17*H17 -> 113.04
A18: 15 | B18: 15 | C18: L75x75x9 - L=1100 | F18: 1100 | G18: Thanh | H18: 6 | I18: 10.11 | J18: =+F18/10^3*I18*H18 -> 66.726
A19: 16 | B19: 16 | C19: L75x75x9 - L=3220 | F19: 3220 | G19: Thanh | H19: 2 | I19: 10.11 | J19: =+F19/10^3*I19*H19 -> 65.1084
A20: 17 | B20: 17 | C20: ThÐp trßn D8 , L=3190 | F20: 3190 | G20: Thanh | H20: 4 | I20: =+HLOOKUP(M20,'[7]Bang tra'!$A$2:$L$4,3) -> 0.395 | J20: =+F20/10^3*I20*H20 -> 5.0402 | M20: 8
A21: 18 | B21: 18 | C21: L75x75x9 - L=1500 | F21: 1500 | G21: Thanh | H21: 1 | I21: 10.11 | J21: =+F21/10^3*I21*H21 -> 15.165
A22: 19 | B22: 19 | C22: ThÐp trßn D8 , L=1390 | F22: 1390 | G22: Thanh | H22: 2 | I22: =+HLOOKUP(M22,'[7]Bang tra'!$A$2:$L$4,3) -> 0.395 | J22: =+F22/10^3*I22*H22 -> 1.0981 | M22: 8
A23: 20 | B23: 20 | C23: □ 400x400 , δ=10 | D23: 400 | E23: 10 | F23: 400 | G23: TÊm | H23: 6 | I23: 31.4 | J23: =+F23/10^3*I23*H23 -> 75.36
A24: 21 | B24: 21 | C24: Bu l«ng M20 , L=958 | F24: 958 | G24: ChiÕc | H24: 12 | I24: 2.4634656 | J24: =+F24/10^3*I24*H24 -> 28.32
A25: 22 | B25: 21A | C25: §ai èc M20 ,TCVN 1905-76 | E25: 16 | G25: ChiÕc | H25: =+H24*4 -> 48 | I25: 0.06 | J25: =I25*H25 -> 2.88
A26: 23 | B26: 21B | C26: Vßng ®Öm 20 - TCVN 2061-77 | E26: 4 | G26: ChiÕc | H26: =+H24*2 -> 24 | I26: 0.01 | J26: =I26*H26 -> 0.24
A27: 24 | B27: 22 | C27: L75x75x9 - L=600 | F27: 600 | G27: Thanh | H27: =6*2 -> 12 | I27: 10.11 | J27: =+F27/10^3*I27*H27 -> 72.792
A28: 01 CÇu thang | C28: ThÐp h×nh (Kg) : | K28: =J3+J4+J5+J9+J10+J11+J12+J13+J14+J18+J19+J21+J25+J26+J27 -> 849.24177
C29: ThÐp b¶n (Kg) : | K29: =+J15+J16+J17+J23 -> 371.01
C30: ThÐp trßn D8 (Kg) : | K30: =+J7+J8+J22+J20 -> 19.21912
C31: ThÐp trßn D20 (Kg) : | K31: =+J6 -> 74.1
C32: Bu l«ng (Bé/Kg) : | K32: =+$H$24&"/"&$J$24 -> 12/28,32
A33: 02 CÇu thang | C33: ThÐp h×nh (Kg) : | K33: =K28*2 -> 1698.4835
C34: ThÐp b¶n (Kg) : | K34: =K29*2 -> 742.02
C35: ThÐp trßn D8 (Kg) : | K35: =K30*2 -> 38.43824
C36: ThÐp trßn D20 (Kg) : | K36: =K31*2 -> 148.2
C37: Bu l«ng (Bé/Kg) : | K37: =+$H$24*2&"/"&$J$24*2 -> 24/56,64
A42: TT | B42: Tªn | C42: Quy C¸ch | G42: §¬n VÞ | H42: Sè L­îng | I42: Khèi L­îng (KG) | K42: Ghi Chó
C43: H×nh D¹ng | D43: Réng | E43: Dµy | F43: Dµi | I43: §¬n VÞ | J43: Tæng
A44: 1 | B44: 1 | C44: [ 75x40x5x7 - L=2100 | F44: 2100 | G44: Thanh | H44: 2 | I44: 14.53 | J44: =I44*H44 -> 29.06
A45: 2 | B45: 2 | C45: L50x50x6 - L=1080 | F45: 1080 | G45: Thanh | H45: 3 | I45: 4.75 | J45: =I45*H45 -> 14.25
A46: 3 | B46: 3 | C46: L90x150x9 - L=1080 | F46: 1080 | G46: Thanh | H46: 2 | I46: 15.34 | J46: =I46*H46 -> 30.68
A47: 4 | B47: 4 | C47: L90x150x9 - L=2100 | F47: 2100 | G47: Thanh | H47: 2 | I47: 29.82 | J47: =I47*H47 -> 59.64
A48: 5 | B48: 5 | C48: □ 1050x1050 , δ=3 | D48: 1050 | E48: 3 | F48: 1050 | G48: TÊm | H48: 1 | I48: 25.96 | J48: =I48*H48 -> 25.96
A49: 6 | B49: 6 | C49: L50x50x6 -L=950 | F49: 950 | G49: Thanh | H49: 2 | I49: 4.18 | J49: =I49*H49 -> 8.36
A50: 7 | B50: 7 | C50: L50x50x6 -L=1050 | F50: 1050 | G50: Thanh | H50: 2 | I50: 4.62 | J50: =I50*H50 -> 9.24
A51: 8 | B51: 8 | C51: L50x50x6 -L=950 | F51: 950 | G51: Thanh | H51: 1 | I51: 4.18 | J51: =I51*H51 -> 4.18
A52: 9 | B52: 9 | C52: ThÐp trßn D16 , L=950 | F52: 950 | G52: Thanh | H52: 1 | I52: =+HLOOKUP(M52,'[7]Bang tra'!$A$2:$L$4,3) -> 1.58 | J52: =I52*H52 -> 1.58 | M52: 16
A53: 10 | B53: 10 | C53: □ 109x30 , δ=2 | D53: 30 | E53: 2 | F53: 109 | G53: TÊm | H53: 10 | I53: 0.05 | J53: =I53*H53 -> 0.5
A54: 11 | B54: 11 | C54: ThÐp trßn D16 , L=565 | F54: 565 | G54: Thanh | H54: 1 | I54: =+HLOOKUP(M54,'[7]Bang tra'!$A$2:$L$4,3) -> 1.58 | J54: =I54*H54 -> 1.58 | K54: Ch«n s½n | M54: 16
A55: 01 cöa thÐp | C55: Khèi l­îng thÐp h×nh | G55: KG | I55: =J44+J45+J46+J47+J49+J50+J51 -> 155.41
C56: Khèi l­îng thÐp b¶n | G56: KG | I56: =+J48+J53 -> 26.46
C57: Khèi l­îng thÐp trßn | G57: KG | I57: =J54+J52 -> 3.16
C58: B¸nh xe thÐp D33 (B¸nh xe ,vßng bi , o trôc) | G58: Bé | I58: 10
C59: D©y xÝch | G59: M/KG | I59: 1/0.69
C60: æ kho¸ | G60: C¸i | I60: 1
C61: VÝt në thÐp M16 | G61: Bé | I61: 10
C62: V÷a t¹o ph¼ng 20Mpa | G62: M3 | I62: 0.02
A63: 02 cöa thÐp | C63: Khèi l­îng thÐp h×nh | G63: KG | I63: =I55*2 -> 310.82
C64: Khèi l­îng thÐp b¶n | G64: KG | I64: =I56*2 -> 52.92
C65: Khèi l­îng thÐp trßn D16 | G65: KG | I65: =I57*2 -> 6.32
C66: B¸nh xe thÐp D33 (B¸nh xe ,vßng bi , o trôc) | G66: Bé | I66: =I58*2 -> 20
C67: D©y xÝch | G67: M/KG | I67: 2/1.38
C68: æ kho¸ | G68: C¸i | I68: =I60*2 -> 2
C69: VÝt në thÐp M16 | G69: Bé | I69: =I61*2 -> 20
C70: V÷a t¹o ph¼ng 20Mpa | G70: M3 | I70: =I62*2 -> 0.04

Sheet Phatsinh
A2: PHÁT SINH KHỐI LƯỢNG CỌC PDA
A3: (Biên bản phát sinh ngày 13/1/2016)
A4: STT | B4: Kí hiệu thanh | C4: Đường kính | D4: Chiều dài | E4: Đơn vị | F4: Số lượng | G4: KLĐV | H4: Khối lượng | I4: Ghi chú
C5: (mm) | D5: (mm) | G5: kG/m | H5: kG
A6: 1 | B6: A1 | C6: 20 | D6: 4220 | E6: thanh | F6: 32 | G6: 3.85 | H6: =G6*D6*F6*10^-3 -> 519.904 | I6: Trụ T2
A7: 2 | B7: A2 | C7: 20 | D7: 3135 | E7: thanh | F7: 2 | G7: 3.85 | H7: =G7*D7*F7*10^-3 -> 24.1395
A8: 3 | B8: A3 | C8: 10 | D8: 330 | E8: thanh | F8: 4 | G8: =VLOOKUP(C8,'CKN T4 '!$M$5:$N$19,2,0) -> 0.617 | H8: =G8*D8*F8*10^-3 -> 0.81444
A9: 4 | B9: A4 | C9: 10 | D9: 72000 | E9: m | F9: 1 | G9: =VLOOKUP(C9,'CKN T4 '!$M$5:$N$19,2,0) -> 0.617 | H9: =G9*D9*F9*10^-3 -> 44.424
A10: 5 | B10: Lưới A5 | C10: 10 | D10: 15188 | E10: m | F10: 1 | G10: =VLOOKUP(C10,'CKN T4 '!$M$5:$N$19,2,0) -> 0.617 | H10: =G10*D10*F10*10^-3 -> 9.370996
B11: Tổng cộng khối lượng thép | H11: =SUM(H6:H10) -> 598.65294
B12: Ống thép D50/57 | E12: m | H12: =H13*3 -> 12.66
B13: Ống thép D107/114 | E13: m | H13: 4.22
B14: Bê tông 30 MPA | E14: m3 | H14: 5.72
A15: 1 | B15: A1 | C15: 20 | D15: 3120 | E15: thanh | F15: 32 | G15: 3.85 | H15: =G15*D15*F15*10^-3 -> 384.384 | I15: Trụ T4
A16: 2 | B16: A2 | C16: 20 | D16: 3899 | E16: thanh | F16: 2 | G16: 3.85 | H16: =G16*D16*F16*10^-3 -> 30.0223
A17: 3 | B17: A3 | C17: 10 | D17: 330 | E17: thanh | F17: 4 | G17: =VLOOKUP(C17,'CKN T4 '!$M$5:$N$19,2,0) -> 0.617 | H17: =G17*D17*F17*10^-3 -> 0.81444
A18: 4 | B18: A4 | C18: 10 | D18: 69000 | E18: m | F18: 1 | G18: =VLOOKUP(C18,'CKN T4 '!$M$5:$N$19,2,0) -> 0.617 | H18: =G18*D18*F18*10^-3 -> 42.573
A19: 5 | B19: Lưới A5 | C19: 10 | D19: 24764 | E19: m | F19: 1 | G19: =VLOOKUP(C19,'CKN T4 '!$M$5:$N$19,2,0) -> 0.617 | H19: =G19*D19*F19*10^-3 -> 15.279388
B20: Tổng cộng khối lượng thép | H20: =SUM(H15:H19) -> 473.07313
B21: Ống thép D50/57 | E21: m | H21: =H22*3 -> 9.36
B22: Ống thép D107/114 | E22: m | H22: 3.12
B23: Bê tông 30 MPA | E23: m3 | H23: 6.57
A24: 1 | B24: A1 | C24: 20 | D24: 6430 | E24: thanh | F24: 32 | G24: 3.85 | H24: =G24*D24*F24*10^-3 -> 792.176 | I24: Trụ T5
A25: 2 | B25: A2 | C25: 20 | D25: 3707 | E25: thanh | F25: 2 | G25: 3.85 | H25: =G25*D25*F25*10^-3 -> 28.5439
A26: 3 | B26: A3 | C26: 10 | D26: 330 | E26: thanh | F26: 4 | G26: =VLOOKUP(C26,'CKN T4 '!$M$5:$N$19,2,0) -> 0.617 | H26: =G26*D26*F26*10^-3 -> 0.81444
A27: 4 | B27: A4 | C27: 10 | D27: 142000 | E27: m | F27: 1 | G27: =VLOOKUP(C27,'CKN T4 '!$M$5:$N$19,2,0) -> 0.617 | H27: =G27*D27*F27*10^-3 -> 87.614
A28: 5 | B28: Lưới A5 | C28: 10 | D28: 24764 | E28: m | F28: 1 | G28: =VLOOKUP(C28,'CKN T4 '!$M$5:$N$19,2,0) -> 0.617 | H28: =G28*D28*F28*10^-3 -> 15.279388
B29: Tổng cộng khối lượng thép | H29: =SUM(H24:H28) -> 924.42773
B30: Ống thép D50/57 | E30: m | H30: =H31*3 -> 19.29
B31: Ống thép D107/114 | E31: m | H31: 6.43
B32: Bê tông 30 MPA | E32: m3 | H32: 13.09
A35: KHỐI LƯỢNG LỒNG THÉP THI CÔNG (Biên bản phát sinh ngày 29/12/2015)
A37: STT | B37: Kí hiệu thanh | C37: Đường kính | D37: Chiều dài | E37: Đơn vị | F37: Số lượng | G37: KLĐV | H37: Khối lượng | I37: Ghi chú
C38: (mm) | D38: (mm) | G38: kG/m | H38: kG
A39: 1 | B39: A1 | C39: 20 | D39: 1910 | E39: thanh | F39: 6 | G39: 3.85 | H39: =G39*D39*F39*10^-3 -> 44.121 | I39: Mố M0
A40: 2 | B40: A2 | C40: 20 | D40: 3135 | E40: thanh | F40: 1 | G40: 3.85 | H40: =G40*D40*F40*10^-3 -> 12.06975
A41: 3 | B41: A3 | C41: 10 | D41: 330 | E41: thanh | F41: 4 | G41: =VLOOKUP(C41,'CKN T4 '!$M$5:$N$19,2,0) -> 0.617 | H41: =G41*D41*F41*10^-3 -> 0.81444
B42: Tổng cộng khối lượng thép | H42: =SUM(H39:H41) -> 57.00519
B43: Ống thép D50/57 | E43: m | H43: =H44*3 -> 4.23
B44: Ống thép D107/114 | E44: m | H44: 1.41
B45: Cóc nối 2D32+D20, L=350mm | E45: bộ | H45: 18
A46: 1 | B46: A1 | C46: 20 | D46: 3620 | E46: thanh | F46: 6 | G46: 3.85 | H46: =G46*D46*F46*10^-3 -> 83.622 | I46: Trụ T4
A47: 2 | B47: A2 | C47: 20 | D47: 3899 | E47: thanh | F47: 2 | G47: 3.85 | H47: =G47*D47*F47*10^-3 -> 30.0223
A48: 3 | B48: A3 | C48: 10 | D48: 330 | E48: thanh | F48: 8 | G48: =VLOOKUP(C48,'CKN T4 '!$M$5:$N$19,2,0) -> 0.617 | H48: =G48*D48*F48*10^-3 -> 1.62888
B49: Tổng cộng khối lượng thép | H49: =SUM(H46:H48) -> 115.27318
B50: Ống thép D50/57 | E50: m | H50: =H51*3 -> 9.36
B51: Ống thép D107/114 | E51: m | H51: 3.12
B52: Cóc nối 2D32+D20, L=350mm | E52: bộ | H52: 18
A53: 1 | B53: A1 | C53: 20 | D53: 6620 | E53: thanh | F53: 6 | G53: 3.85 | H53: =G53*D53*F53*10^-3 -> 152.922 | I53: Trụ T5
A54: 2 | B54: A2 | C54: 20 | D54: 3707 | E54: thanh | F54: 2 | G54: 3.85 | H54: =G54*D54*F54*10^-3 -> 28.5439
A55: 3 | B55: A3 | C55: 10 | D55: 330 | E55: thanh | F55: 8 | G55: =VLOOKUP(C55,'CKN T4 '!$M$5:$N$19,2,0) -> 0.617 | H55: =G55*D55*F55*10^-3 -> 1.62888
B56: Tổng cộng khối lượng thép | H56: =SUM(H53:H55) -> 183.09478
B57: Ống thép D50/57 | E57: m | H57: =H58*3 -> 18.36
B58: Ống thép D107/114 | E58: m | H58: 6.12
B59: Cóc nối 2D32+D20, L=350mm | E59: bộ | H59: 18
