Workbook
Name Arial: #REF!
Name Arial: #REF!
Name Arial: #REF!
Name KLDV: [1]KLDV!$C$8:$N$9

Sheet bia
A2: CÔNG TY TNHH MTV TASCO HẢI PHÒNG
A13: THUYẾT MINH KHỐI LƯỢNG HOÀN CÔNG
B15: Dự án: Đầu tư xây dựng công trình cải tạo nâng cấp QL 10 đoạn cầu Quán Toan đến cầu Nghìn, thành phố Hải Phòng, theo hình thức hợp đồng BOT.
B16: Gói thầu: Gói thầu số 08 “Thi công xây dựng công trình đoạn từ Km25+500 – Km36+900 và Km38+900 – Km58+200”.
B17: Hạng mục: "Ghi rõ tên của hạng mục công việc được giao như trong phụ lục hợp đồng".
B18: Hợp đồng số: 20/2015/HĐTC-TASCO.HP ngày 18/7/2015.
B19: Phụ lục hợp đồng số: "Ghi rõ số phụ lục, ngày tháng năm giữa CĐT, nhà thầu chính và nhà thầu phụ".
B20: Chủ đầu tư: Công ty TNHH MTV Tasco Hải Phòng.
B21: Nhà thầu: Tổng Công ty Thăng Long – CTCP.
B22: Nhà thầu phụ: "Ghi tên nhà thầu phụ".
A35: Hải Phòng, Tháng…./201…

Sheet Bảng TH KL hoan cong
A1: BẢNG TỔNG HỢP KHỐI LƯỢNG HOÀN CÔNG
A2: Dự án: Đầu tư xây dựng công trình cải tạo, nâng cấp Quốc lộ10, đoạn từ cầu Quán Toan đến cầu Nghìn, thành phố Hải Phòng, theo hình thức hợp đồng BOT.
A3: Gói thầu: Gói thầu số 08 “Thi công xây dựng công trình đoạn từ Km25+500 – Km36+900 và Km38+900 – Km58+200”.
A4: Hạng mục: "Ghi rõ Tấn của hạng mục công việc được giao như trong Phụ lục hợp đồng".
A5: Hợp đồng số: 20/2015/HĐTC-TASCO.HP ngày 18/7/2015.
A6: Phụ lục hợp đồng số: "Ghi rõ số phụ lục, ngày tháng năm giữa CĐT, nhà thầu chính và nhà thầu phụ".
A7: Chủ đầu tư: Công ty TNHH MTV Tasco Hải Phòng
A8: Nhà thầu: Tổng Công ty Thăng Long – CTCP.
A9: Nhà thầu phụ: "Ghi Tấn nhà thầu phụ".
K10: Chiều dài ống sonic
A11: TT | B11: Tấn công việc | C11: Đơn vị tính | D11: Khối lượng | F11: Ghi chú | H11: 1 đơn vị
K12: D113,5 | L12: =64000-1000+1500 -> 64500
D13: Thiết kế | E13: Hoàn công
A14: (1) | B14: (2) | C14: (3) | D14: (4) | E14: (5) | F14: (6) | K14: Bê tông
A15: I | B15: Kết cấu phần trên nhịp liên tục
A16: 1 | B16: Đốt K0 (dưới nước) | C16: đốt | E16: =D16 -> 0
B17: Khối Ko (BT, CT, VK dưới nước) | C17: đốt | D17: 1 | E17: =D17 -> 1
B18: Côt thép D14; CB400V | C18: tấn | D18: 4.72284 | E18: =D18 -> 4.72284
B19: Côt thép D16; CB400V | C19: tấn | D19: 9.26454 | E19: =D19 -> 9.26454
B20: Côt thép D18; CB400V | C20: tấn | D20: 0.8 | E20: =D20 -> 0.8
B21: Côt thép D20; CB400V | C21: tấn | D21: 2.5688 | E21: =D21 -> 2.5688
B22: Côt thép D22; CB400V | C22: tấn | D22: 3.04675 | E22: =D22 -> 3.04675
B23: Côt thép D25; CB400V | C23: tấn | D23: 12.82899 | E23: =D23 -> 12.82899
B24: Côt thép D28; CB400V | C24: tấn | D24: 9.55762 | E24: =D24 -> 9.55762
B25: Bê tông 40MPa | C25: m3 | D25: 197.9 | E25: =D25 -> 197.9
B26: Ván khuôn | C26: m2 | D26: 435.3 | E26: =D26 -> 435.3
B27: DƯL | C27: toàn bộ | E27: =D27 -> 0
B28: Thép DƯL f15,2 | C28: tấn | D28: 0.380182 | E28: =D28 -> 0.380182
B29: ống gen D90/D97 | C29: m | D29: 359.4 | E29: =D29 -> 359.4
B30: ống gen nối D100/D107 | C30: m | D30: 11.2 | E30: =D30 -> 11.2
B31: ống thoát khí | C31: bộ | D31: 4 | E31: =D31 -> 4
B32: Neo cáp DƯL 12tao 15,2mm | C32: bộ | D32: 4 | E32: =D32 -> 4
B33: Vữa XM 45Mpa | C33: m3 | D33: 1.683 | E33: =D33 -> 1.683
A34: 2 | B34: Đốt K1 (dưới nước) | C34: đốt | D34: 1 | E34: =D34 -> 1
B35: Khối K1 (BT, CT, VK dưới nước) | C35: đốt | D35: 1 | E35: =D35 -> 1
B36: Thép tròn D14 CB400-V | C36: tấn | D36: 0.94457 | E36: =D36 -> 0.94457
B37: Thép tròn D16 CB400-V | C37: tấn | D37: 1.58433 | E37: =D37 -> 1.58433
B38: Thép tròn D18 CB400-V | C38: tấn | D38: 0.22 | E38: =D38 -> 0.22
B39: Thép tròn D20 CB400-V | C39: tấn | D39: 0.70642 | E39: =D39 -> 0.70642
B40: Thép tròn D22 CB400-V | C40: tấn | D40: 0.83786 | E40: =D40 -> 0.83786
...

Sheet Bảng dien giai KL hoan cong
A1: BẢNG DIỄN GIẢI KHỐI LƯỢNG HOÀN CÔNG
A2: Dự án: Đầu tư xây dựng công trình cải tạo, nâng cấp Quốc lộ10, đoạn từ cầu Quán Toan đến cầu Nghìn, thành phố Hải Phòng, theo hình thức hợp đồng BOT.
A3: Gói thầu: Gói thầu số 08 “Thi công xây dựng công trình đoạn từ Km25+500 – Km36+900 và Km38+900 – Km58+200”.
A4: Hạng mục: "Ghi rõ Tấn của hạng mục công việc được giao như trong Phụ lục hợp đồng".
A5: Hợp đồng số: 20/2015/HĐTC-TASCO.HP ngày 18/7/2015.
A6: Phụ lục hợp đồng số: "Ghi rõ số phụ lục, ngày tháng năm giữa CĐT, nhà thầu chính và nhà thầu phụ".
A7: Chủ đầu tư: Công ty TNHH MTV Tasco Hải Phòng
A8: Nhà thầu: Tổng Công ty Thăng Long – CTCP.
A9: Nhà thầu phụ: "Ghi Tấn nhà thầu phụ".
A11: TT | B11: Tấn công việc | C11: Đơn vị tính | D11: Khối lượng | F11: Diễn giải khối lượng | G11: Ghi chú
D13: Thiết kế | E13: Hoàn công
A14: (1) | B14: (2) | C14: (3) | D14: (4) | E14: (5) | F14: (6) | G14: (7)
A15: I | B15: Kết cấu phần trên nhịp liên tục | E15: =D15 -> 0
A16: 1 | B16: Đốt K0 (dưới nước) | C16: đốt | E16: =D16 -> 0
B17: Khối Ko (BT, CT, VK dưới nước) | C17: đốt | D17: 1 | E17: =D17 -> 1
B18: Côt thép D14; CB400V | C18: tấn | D18: 4.72284 | E18: =D18 -> 4.72284
B19: Côt thép D16; CB400V | C19: tấn | D19: 9.26454 | E19: =D19 -> 9.26454
B20: Côt thép D18; CB400V | C20: tấn | D20: 0.8 | E20: =D20 -> 0.8
B21: Côt thép D20; CB400V | C21: tấn | D21: 2.5688 | E21: =D21 -> 2.5688
B22: Côt thép D22; CB400V | C22: tấn | D22: 3.04675 | E22: =D22 -> 3.04675
B23: Côt thép D25; CB400V | C23: tấn | D23: 12.82899 | E23: =D23 -> 12.82899
B24: Côt thép D28; CB400V | C24: tấn | D24: 9.55762 | E24: =D24 -> 9.55762
B25: Bê tông 40MPa | C25: m3 | D25: 197.9 | E25: =D25 -> 197.9
B26: Ván khuôn | C26: m2 | D26: 435.3 | E26: =D26 -> 435.3
B27: DƯL | C27: toàn bộ | E27: =D27 -> 0
B28: Thép DƯL f15,2 | C28: tấn | D28: 0.380182 | E28: =D28 -> 0.380182
B29: ống gen D90/D97 | C29: m | D29: 359.4 | E29: =D29 -> 359.4
B30: ống gen nối D100/D107 | C30: m | D30: 11.2 | E30: =D30 -> 11.2
B31: ống thoát khí | C31: bộ | D31: 4 | E31: =D31 -> 4
B32: Neo cáp DƯL 12tao 15,2mm | C32: bộ | D32: 4 | E32: =D32 -> 4
B33: Vữa XM 45Mpa | C33: m3 | D33: 1.683 | E33: =D33 -> 1.683
A34: 2 | B34: Đốt K1 (dưới nước) | C34: đốt | D34: 1 | E34: =D34 -> 1
B35: Khối K1 (BT, CT, VK dưới nước) | C35: đốt | D35: 1 | E35: =D35 -> 1
B36: Thép tròn D14 CB400-V | C36: tấn | D36: 0.94457 | E36: =D36 -> 0.94457
B37: Thép tròn D16 CB400-V | C37: tấn | D37: 1.58433 | E37: =D37 -> 1.58433
B38: Thép tròn D18 CB400-V | C38: tấn | D38: 0.22 | E38: =D38 -> 0.22
B39: Thép tròn D20 CB400-V | C39: tấn | D39: 0.70642 | E39: =D39 -> 0.70642
B40: Thép tròn D22 CB400-V | C40: tấn | D40: 0.83786 | E40: =D40 -> 0.83786
B41: Thép tròn D25 CB400-V | C41: tấn | D41: 0.62216 | E41: =D41 -> 0.62216
B42: Thép tròn D28 CB400-V | C42: tấn | D42: 2.37492 | E42: =D42 -> 2.37492
...

Sheet CKN T4 
A1: BẢNG KHỐI LƯỢNG CỌC KHOAN NHỒI TRỤ T4
A3: STT | B3: Hạng mục | C3: Tên thanh | D3: Đường kính | E3: Chiều dài 1 thanh | F3: Số lượng | G3: KLĐV | H3: Tổng khối lượng | I3: Về sheet diễn giải | L3: STT | M3: Đường kính thép | N3: KLDV
D4: (mm) | E4: (mm) | F4: thanh | G4: kG/m | H4: kG
A5: 1 | B5: Khung A1 | C5: A1 | D5: 32 | E5: 10420 | F5: 14 | G5: =VLOOKUP(D5,$M$5:$N$14,2,0) -> 6.31 | H5: =ROUND(E5*F5*G5/1000,2) -> 920.5 | L5: 1 | M5: 10 | N5: 0.617
A6: 2 | C6: A2 | D6: 32 | E6: 11700 | F6: 14 | G6: =VLOOKUP(D6,$M$5:$N$14,2,0) -> 6.31 | H6: =ROUND(E6*F6*G6/1000,2) -> 1033.58 | L6: 2 | M6: 12 | N6: 0.888
A7: 3 | C7: Q4 | D7: 25 | E7: 3899 | F7: 5 | G7: =VLOOKUP(D7,$M$5:$N$14,2,0) -> 3.85 | H7: =ROUND(E7*F7*G7/1000,2) -> 75.06 | L7: 3 | M7: 14 | N7: 1.21
A8: 4 | C8: T5 | D8: 25 | E8: 600 | F8: 40 | G8: =VLOOKUP(D8,$M$5:$N$14,2,0) -> 3.85 | H8: =ROUND(E8*F8*G8/1000,2) -> 92.4 | L8: 4 | M8: 16 | N8: 1.58
A9: 5 | B9: Khung A2 | C9: A3 | D9: 28 | E9: 11700 | F9: 28 | G9: =VLOOKUP(D9,$M$5:$N$14,2,0) -> 4.83 | H9: =ROUND(E9*F9*G9/1000,2) -> 1582.31 | L9: 5 | M9: 18 | N9: 2
A10: 6 | C10: Q4A | D10: 25 | E10: 3924 | F10: 5 | G10: =VLOOKUP(D10,$M$5:$N$14,2,0) -> 3.85 | H10: =ROUND(E10*F10*G10/1000,2) -> 75.54 | L10: 6 | M10: 20 | N10: 2.47
A11: 7 | C11: T5 | D11: 25 | E11: 600 | F11: 40 | G11: =VLOOKUP(D11,$M$5:$N$14,2,0) -> 3.85 | H11: =ROUND(E11*F11*G11/1000,2) -> 92.4 | L11: 7 | M11: 22 | N11: 2.98
A12: 8 | B12: Khung A3 | C12: A4 | D12: 25 | E12: 11700 | F12: 28 | G12: =VLOOKUP(D12,$M$5:$N$14,2,0) -> 3.85 | H12: =ROUND(E12*F12*G12/1000,2) -> 1261.26 | L12: 8 | M12: 25 | N12: 3.85
A13: 9 | C13: Q4B | D13: 25 | E13: 3943 | F13: 6 | G13: =VLOOKUP(D13,$M$5:$N$14,2,0) -> 3.85 | H13: =ROUND(E13*F13*G13/1000,2) -> 91.08 | L13: 9 | M13: 28 | N13: 4.83
A14: 10 | C14: T5 | D14: 25 | E14: 600 | F14: 48 | G14: =VLOOKUP(D14,$M$5:$N$14,2,0) -> 3.85 | H14: =ROUND(E14*F14*G14/1000,2) -> 110.88 | L14: 10 | M14: 32 | N14: 6.31
A15: 11 | B15: Khung A4 | C15: A5 | D15: 22 | E15: 11700 | F15: 28 | G15: =VLOOKUP(D15,$M$5:$N$14,2,0) -> 2.98 | H15: =ROUND(E15*F15*G15/1000,2) -> 976.25
A16: 12 | C16: Q4C | D16: 25 | E16: 3962 | F16: 5 | G16: =VLOOKUP(D16,$M$5:$N$14,2,0) -> 3.85 | H16: =ROUND(E16*F16*G16/1000,2) -> 76.27 | M16: 4
A17: 13 | C17: T5 | D17: 25 | E17: 600 | F17: 40 | G17: =VLOOKUP(D17,$M$5:$N$14,2,0) -> 3.85 | H17: =ROUND(E17*F17*G17/1000,2) -> 92.4 | M17: 6 | N17: 0.222
A18: 14 | B18: Khung A5 | C18: A6 | D18: 20 | E18: 11700 | F18: 28 | G18: =VLOOKUP(D18,$M$5:$N$14,2,0) -> 2.47 | H18: =ROUND(E18*F18*G18/1000,2) -> 809.17 | M18: 8 | N18: 0.395
A19: 15 | C19: Q4D | D19: 25 | E19: 3974 | F19: 5 | G19: =VLOOKUP(D19,$M$5:$N$14,2,0) -> 3.85 | H19: =ROUND(E19*F19*G19/1000,2) -> 76.5 | M19: 10 | N19: 0.617
A20: 16 | C20: T5 | D20: 25 | E20: 600 | F20: 40 | G20: =VLOOKUP(D20,$M$5:$N$14,2,0) -> 3.85 | H20: =ROUND(E20*F20*G20/1000,2) -> 92.4
A21: 17 | B21: Khung A6 | C21: A7 | D21: 20 | E21: 5850 | F21: 28 | G21: =VLOOKUP(D21,$M$5:$N$14,2,0) -> 2.47 | H21: =ROUND(E21*F21*G21/1000,2) -> 404.59
A22: 18 | C22: Q4D | D22: 25 | E22: 3974 | F22: 3 | G22: =VLOOKUP(D22,$M$5:$N$14,2,0) -> 3.85 | H22: =ROUND(E22*F22*G22/1000,2) -> 45.9
A23: 19 | C23: T5 | D23: 25 | E23: 600 | F23: 24 | G23: =VLOOKUP(D23,$M$5:$N$14,2,0) -> 3.85 | H23: =ROUND(E23*F23*G23/1000,2) -> 55.44
A24: 20 | B24: Khung A7 | C24: B1 | D24: 20 | E24: 7036 | F24: 14 | G24: =VLOOKUP(D24,$M$5:$N$14,2,0) -> 2.47 | H24: =ROUND(E24*F24*G24/1000,2) -> 243.3
A25: 21 | C25: B2 | D25: 20 | E25: 8316 | F25: 14 | G25: =VLOOKUP(D25,$M$5:$N$14,2,0) -> 2.47 | H25: =ROUND(E25*F25*G25/1000,2) -> 287.57
A26: 22 | C26: Q4D | D26: 25 | E26: 3974 | F26: 3 | G26: =VLOOKUP(D26,$M$5:$N$14,2,0) -> 3.85 | H26: =ROUND(E26*F26*G26/1000,2) -> 45.9
A27: 23 | C27: T5 | D27: 25 | E27: 600 | F27: 24 | G27: =VLOOKUP(D27,$M$5:$N$14,2,0) -> 3.85 | H27: =ROUND(E27*F27*G27/1000,2) -> 55.44
A28: 24 | C28: Q6 | D28: 25 | E28: 2827 | F28: 1 | G28: =VLOOKUP(D28,$M$5:$N$14,2,0) -> 3.85 | H28: =ROUND(E28*F28*G28/1000,2) -> 10.88
A29: 25 | B29: Móc lồng | C29: C1 | D29: 25 | E29: 1250 | F29: 28 | G29: =VLOOKUP(D29,$M$5:$N$14,2,0) -> 3.85 | H29: =ROUND(E29*F29*G29/1000,2) -> 134.75
A30: 26 | B30: Cốt đai | C30: X1 | D30: 10 | E30: 1676831 | F30: 1 | G30: =VLOOKUP(D30,$M$5:$N$14,2,0) -> 0.617 | H30: =ROUND(E30*F30*G30/1000,2) -> 1034.6
A31: 27 | B31: Thép bản | C31: 50x100x10 | E31: 100 | F31: 420 | G31: 3.925 | H31: =ROUND(E31*F31*G31/1000,2) -> 164.85
A33: Ống kiểm tra
A35: STT | B35: Quy cách | D35: Dài | E35: Số lượng | F35: KLĐV | G35: Tổng KL
D36: mm | F36: kG/m | G36: m | H36: kG
A37: 1 | B37: Ống D59,0/65,6 | D37: 65230 | E37: 3 | G37: =D37*E37/1000 -> 195.69
A38: 2 | B38: Ống D113,5/119,5 | D38: 64430 | E38: 1 | G38: =D38*E38/1000 -> 64.43
A39: 3 | B39: Thép bản 205x118x5 | D39: 205 | E39: 66 | F39: 4.632 | H39: =D39*E39*F39/1000 -> 62.67096
A40: 4 | B40: Thép bản 205x180x5 | D40: 205 | E40: 22 | F40: 7.065 | H40: =D40*E40*F40/1000 -> 31.86315
A41: 5 | B41: Nút ống D59,5/65,9 | E41: 6
A42: 6 | B42: Nút ống D113,5/119,5 | E42: 2
A43: 7 | B43: D10 | D43: 330 | E43: 96 | F43: 0.617 | H43: =F43*E43*D43/1000 -> 19.54656
...

Sheet TC T4
A1: STT | B1: H¹ng môc | C1: §¬n vÞ | D1: T4 | E1: T7
A2: 1 | B2: Cao ®é ®Ønh bÖ | C2: m | D2: =+'[2]Bang cao do T4, T7'!H5 -> 1.732 | E2: =+'[2]Bang cao do T4, T7'!H6 -> 0.231
A3: 2 | B3: Cao ®é ®¸y bÖ | C3: m | D3: =+'[2]Bang cao do T4, T7'!I5 -> -0.768 | E3: =+'[2]Bang cao do T4, T7'!I6 -> -2.269
A4: 3 | B4: Cao ®é san ñi | C4: m | D4: 2.7 | E4: 2.7
A5: 4 | B5: Cao ®é mòi cäc khoan nhåi | C5: m | D5: =+D3-D6 -> -64.768 | E5: =+E3-E6 -> -65.269
A6: 5 | B6: ChiÒu dµi dù kiÕn cäc khoan nhåi | C6: m | D6: =+'[2]Bang cao do T4, T7'!L5 -> 64 | E6: =+'[2]Bang cao do T4, T7'!L6 -> 63
A7: 6 | B7: Cao ®é mÆt ®Êt thiªn nhiªn TB | C7: m | D7: 2.14 | E7: =+'[2]Bang cao do T4, T7'!G6 -> 2
A8: 7 | B8: Sè cäc khoan nhåi D=1500 | C8: cäc | D8: 6 | E8: 6
B9: ChiÒu cao ®µo ®Êt trung b×nh | C9: m | D9: =+D4-D3+D10 -> 3.968 | E9: =+E4-E3+0.5 -> 5.469
B10: ChiÒu dµy ®æ bª t«ng bÞt ®¸y | C10: m | D10: 0.5 | E10: 0.5
A11: 7 | B11: Cao ®é gÆp c¸t chÆt, sÐt dÎo cøng | C11: m | D11: -61.42
A12: 7 | B12: Cao ®é miÖng èng v¸ch | C12: m | D12: 2.7 | E12: 2.7
A13: 8 | B13: Cao ®é gÆp ®¸ cÊp III (kh«ng cã) | C13: m | D13: 0 | E13: 1
B14: ChiÒu dµi hè mãng ®¸y | C14: m | D14: =11+1.18*2 -> 13.36 | E14: =11+1.18*2 -> 13.36
B15: ChiÒu réng hè mãng ®¸y | C15: m | D15: =7.5+1.18*2 -> 9.86 | E15: =7.5+1.18*2 -> 9.86
B16: S®¸y | C16: m2 | D16: =+D15*D14 -> 131.7296 | E16: =+E15*E14 -> 131.7296
B17: ChiÒu dµi hè mãng ®Ønh bÖ | C17: m | D17: =11+1.18*2 -> 13.36 | E17: =11+1.18*2 -> 13.36
B18: chiÒu réng hè mãng ®Ønh bÖ | C18: m | D18: =7.5+1.18*2 -> 9.86 | E18: =7.5+1.18*2 -> 9.86
B19: S ®Ønh bÖ | C19: m2 | D19: =+D18*D17 -> 131.7296 | E19: =+E18*E17 -> 131.7296
B20: ChiÒu dµi hè mãng tù nhiªn | C20: m | D20: =11+1.18*2 -> 13.36 | E20: =11+1.18*2 -> 13.36
B21: chiÒu réng hè mãng tù nhiªn | C21: m | D21: =7.5+1.18*2 -> 9.86 | E21: =7.5+1.18*2 -> 9.86
B22: S tù nhiªn | C22: m2 | D22: =+D21*D20 -> 131.7296 | E22: =+E21*E20 -> 131.7296
B23: chiÒu dµi san ñi | C23: m | D23: 17.296 | E23: 17.296
B24: ChiÒu réng san ñi | C24: m | D24: 16.772 | E24: 16.772
B25: S san ñi | C25: m | D25: =+ROUND(D24*D23,2) -> 290.09 | E25: =+ROUND(E24*E23,2) -> 290.09
B26: H chiÒu s©u khoan ®Êt (c¸c lo¹i ®Êt dc tÝnh trung) | C26: m | D26: =+D4-D5-D27 -> 64.12 | E26: =+E4-E5 -> 67.969
B27: H chiÒu s©u khoan c¸t lÉn sái | C27: m | D27: =+D11-D5 -> 3.348
C28: m | D28: 0 | E28: 0
B29: CHiÒu dµi cäc v¸n thep, cäc ®Þnh vÞ | C29: m | D29: 6 | E29: 6
B30: Sè cäc v¸n thÐp | C30: c¸i | D30: =+(23+31)*2+4 -> 112 | E30: =+(23+31)*2+4 -> 112
B31: chiÒu dµi ®ãng cäc v¸n thÐp ngµm trong ®Êt | C31: m | D31: 5.7 | E31: 5.7
B32: Sè cäc ®Þnh vÞ 2I400 | C32: c¸i | D32: =3*2+2*2 -> 10 | E32: =3*2+2*2 -> 10
B33: chiÒu dµi ®ãng cäc ®Þnh vÞ ngµm trong ®Êt | C33: m | D33: =D31 -> 5.7 | E33: =E31 -> 5.7
B34: ChiÒu dµi èng v¸ch | C34: m | D34: 10 | E34: 10
B35: chiÒu dµi h¹ èng v¸ch | C35: m | D35: =+D34 -> 10 | E35: =+E34 -> 10
A38: b¶ng tæng hîp khèi l­îng thi c«ng trô
A39: STT | B39: H¹ng môc | C39: §¬n vÞ | D39: Khèi l­îng
D40: trô T4 | E40: trô T7
A41: 1 | B41: §¾p ®Êt t¹o mÆt b»ng thi c«ng | C41: m3 | D41: =+ROUND(1/3*ABS(D4-D7)*(D22+D25+SQRT(D22*D25)),2) -> 115.23 | E41: =+ROUND(1/3*ABS(E4-E7)*(E22+E25+SQRT(E22*E25)),2) -> 144.04
A42: =+A41+1 -> 2 | B42: Thi c«ng cäc khoan nhåi
...

Sheet CKN M0
A2: BẢNG KHỐI LƯỢNG CỌC KHOAN NHỒI MỐ M0
A4: Hạng mục | B4: Tên thanh | C4: Đường kính | D4: Chiều dài | E4: Sô lượng thanh | F4: KLĐV | G4: Tổng chiều dài | H4: Tổng khối lượng | I4: Ghi chú | K4: Quaylai
C5: (mm) | D5: (mm) | F5: kG/m | G5: m | H5: kG
A6: Cọc khoan nhồi mố M0 | B6: A1 | C6: 28 | D6: 11700 | E6: 12 | F6: =VLOOKUP(C6,'CKN T4 '!$M$5:$N$14,2,0) -> 4.83 | G6: =D6*E6/1000 -> 140.4 | H6: =ROUND(F6*G6,2) -> 678.13
B7: A2 | C7: 28 | D7: 10580 | E7: 12 | F7: =VLOOKUP(C7,'CKN T4 '!$M$5:$N$14,2,0) -> 4.83 | G7: =D7*E7/1000 -> 126.96 | H7: =ROUND(F7*G7,2) -> 613.22
B8: A3 | C8: 25 | D8: 11700 | E8: 24 | F8: =VLOOKUP(C8,'CKN T4 '!$M$5:$N$14,2,0) -> 3.85 | G8: =D8*E8/1000 -> 280.8 | H8: =ROUND(F8*G8,2) -> 1081.08
B9: A4 | C9: 22 | D9: 11700 | E9: 24 | F9: =VLOOKUP(C9,'CKN T4 '!$M$5:$N$14,2,0) -> 2.98 | G9: =D9*E9/1000 -> 280.8 | H9: =ROUND(F9*G9,2) -> 836.78
B10: A5 | C10: 20 | D10: 11700 | E10: 48 | F10: =VLOOKUP(C10,'CKN T4 '!$M$5:$N$14,2,0) -> 2.47 | G10: =D10*E10/1000 -> 561.6 | H10: =ROUND(F10*G10,2) -> 1387.15
B11: B1 | C11: 20 | D11: 9240 | E11: 12 | F11: =VLOOKUP(C11,'CKN T4 '!$M$5:$N$14,2,0) -> 2.47 | G11: =D11*E11/1000 -> 110.88 | H11: =ROUND(F11*G11,2) -> 273.87
B12: B2 | C12: 20 | D12: 10360 | E12: 12 | F12: =VLOOKUP(C12,'CKN T4 '!$M$5:$N$14,2,0) -> 2.47 | G12: =D12*E12/1000 -> 124.32 | H12: =ROUND(F12*G12,2) -> 307.07
B13: B3 | C13: 18 | D13: 1455 | E13: 4 | F13: =VLOOKUP(C13,'CKN T4 '!$M$5:$N$14,2,0) -> 2 | G13: =D13*E13/1000 -> 5.82 | H13: =ROUND(F13*G13,2) -> 11.64
B14: O1 | C14: 10 | D14: 1207250 | E14: 1 | F14: =VLOOKUP(C14,'CKN T4 '!$M$5:$N$14,2,0) -> 0.617 | G14: =D14*E14/1000 -> 1207.25 | H14: =ROUND(F14*G14,2) -> 744.87
B15: N5B | C15: 25 | D15: 3125 | E15: 5 | F15: =VLOOKUP(C15,'CKN T4 '!$M$5:$N$14,2,0) -> 3.85 | G15: =D15*E15/1000 -> 15.625 | H15: =ROUND(F15*G15,2) -> 60.16
B16: N5C | C16: 25 | D16: 3135 | E16: 5 | F16: =VLOOKUP(C16,'CKN T4 '!$M$5:$N$14,2,0) -> 3.85 | G16: =D16*E16/1000 -> 15.675 | H16: =ROUND(F16*G16,2) -> 60.35
B17: N5D | C17: 25 | D17: 3145 | E17: 6 | F17: =VLOOKUP(C17,'CKN T4 '!$M$5:$N$14,2,0) -> 3.85 | G17: =D17*E17/1000 -> 18.87 | H17: =ROUND(F17*G17,2) -> 72.65
B18: N5E | C18: 25 | D18: 3155 | E18: 13 | F18: =VLOOKUP(C18,'CKN T4 '!$M$5:$N$14,2,0) -> 3.85 | G18: =D18*E18/1000 -> 41.015 | H18: =ROUND(F18*G18,2) -> 157.91
... B21: A6 | C21: 12 | D21: 420 | E21: 87 | F21: =VLOOKUP(C21,'CKN T4 '!$M$5:$N$14,2,0) -> 0.888 | G21: =D21*E21/1000 -> 36.54 | H21: =ROUND(F21*G21,2) -> 32.45
B22: N4 | C22: Thép bản 370x60x8 | E22: 116 | F22: 1.394 | H22: =E22*F22 -> 161.704
A24: Tổng hợp | C24: 1 cọc | D24: 5 cọc
A25: HẠNG MỤC | B25: Ống thép D50/57 | C25: =(62-0.2+1.5)*3 -> 189.9 | D25: =ROUND(C25*5,2) -> 949.5 | I25: L | J25: 62
B26: Ống thép 107/114 | C26: =(62-1+1.5) -> 62.5 | D26: =ROUND(C26*5,2) -> 312.5
B27: Cóc nối M16,L0,226 | C27: 72 | D27: =ROUND(C27*5,2) -> 360
B28: Cóc nối M16, L=0,213 | C28: 72 | D28: =ROUND(C28*5,2) -> 360
B29: Cóc nối M16, L=0,207 | C29: 216 | D29: =ROUND(C29*5,2) -> 1080
B30: Bản thép 106x60x14 | C30: 50.33 | D30: =ROUND(C30*5,2) -> 251.65
B31: Bản thép 104x60x14 | C31: 49.38 | D31: =ROUND(C31*5,2) -> 246.9
B32: Bản thép 100x30x14 | C32: 142.43 | D32: =ROUND(C32*5,2) -> 712.15
B33: Bản thép 370x60x8 | C33: 161.72 | D33: =ROUND(C33*5,2) -> 808.6
B34: Bịt đầu M1 | C34: 2 | D34: =ROUND(C34*5,2) -> 10
B35: Bịt đầu M2 | C35: 6 | D35: =ROUND(C35*5,2) -> 30
B36: D10 | C36: =SUMIF($C$6:$C$21,RIGHT(B36,2),$H$6:$H$21)/1000 -> 0.74487 | D36: =ROUND(C36*5,2) -> 3.72
B37: D12 | C37: =SUMIF($C$6:$C$21,RIGHT(B37,2),$H$6:$H$21)/1000 -> 0.04533 | D37: =ROUND(C37*5,2) -> 0.23
B38: D16 | C38: =SUMIF($C$6:$C$21,RIGHT(B38,2),$H$6:$H$21)/1000 -> 0.00346 | D38: =ROUND(C38*5,2) -> 0.02
B39: D18 | C39: =SUMIF($C$6:$C$21,RIGHT(B39,2),$H$6:$H$21)/1000 -> 0.01164 | D39: =ROUND(C39*5,2) -> 0.06
B40: D20 | C40: =SUMIF($C$6:$C$21,RIGHT(B40,2),$H$6:$H$21)/1000 -> 1.96809 | D40: =ROUND(C40*5,2) -> 9.84
B41: D22 | C41: =SUMIF($C$6:$C$21,RIGHT(B41,2),$H$6:$H$21)/1000 -> 0.83678 | D41: =ROUND(C41*5,2) -> 4.18
B42: D25 | C42: =SUMIF($C$6:$C$21,RIGHT(B42,2),$H$6:$H$21)/1000 -> 1.43215 | D42: =ROUND(C42*5,2) -> 7.16
B43: D28 | C43: =SUMIF($C$6:$C$21,RIGHT(B43,2),$H$6:$H$21)/1000 -> 1.29135 | D43: =ROUND(C43*5,2) -> 6.46

Sheet TC mo M0
A1: STT | B1: H¹ng môc | C1: §¬n vÞ | D1: M0 | E1: M12 | H1: Trô T11(H=11.53m) | I1: sè l­îng | J1: träng l­îng
A2: 1 | B2: Cao ®é mÆt ®Êt thiªn nhiªn sau san ñi (C§) | C2: m | D2: 2.241 | E2: 2.52 | I2: =4*(3+2+3) -> 32 | J2: 97 | K2: =+J2*I2 -> 3104 | M2: Quay lai
A3: 2 | B3: Cao ®é ®Ønh bÖ (C§1) | C3: m | D3: 2.241 | E3: 0.815 | H3: - Thanh cét chèng | I3: =(3+4*2) -> 11 | J3: 11.87 | K3: =+I3*J3 -> 130.57
A4: 3 | B4: Cao ®é ®¸y bÖ (C§2) | C4: m | D4: =+D3-D7 -> 0.241 | E4: =+E3-E7 -> -1.185 | H4: Tæng | K4: =+K3+K2 -> 3234.57
A5: 4 | B5: ChiÒu réng bÖ mãng (Ab) | C5: m | D5: 6 | E5: 6
A6: 5 | B6: ChiÒu dµi bÖ mãng (Bb) | C6: m | D6: 11.7 | E6: 11.7
A7: 6 | B7: ChiÒu cao bÖ mãng (Hb) | C7: m | D7: 2 | E7: 2
A8: 6 | B8: ChiÒu dµi dù kiÕn cäc khoan nhåi (L) | C8: m | D8: 62 | E8: 61.5 | F8: =+E8 -> 61.5
A9: 7 | B9: Cao ®é mòi cäc khoan nhåi (C§3) | C9: m | D9: =+D4-D8 -> -61.759 | E9: =+E4-E8 -> -62.685
A10: 8 | B10: Sè cäc khoan nhåi D=1.2m | C10: cäc | D10: 5 | E10: 5 | F10: =+SUM(D10:E10) -> 10
A11: 9 | B11: Cao ®é mòi khoan gÆp cuéi sái | C11: m | D11: 0 | E11: 0
B12: Cao ®é mòi khoan gÆp ®¸ cÊp IV | C12: m | D12: 0 | E12: 0
B13: Cao ®é mòi khoan gÆp ®¸ cÊp III | C13: m | D13: 0 | E13: 0
A14: 10 | B14: ChiÒu cao ®µo ®Êt trung b×nh (Htb) | C14: m | D14: =+ROUND(ABS(D3-D4)+D21+D15,3) -> 2.1 | E14: =+ROUND(ABS(E2-E4)+E21+E15,3) -> 3.805 | L14: =4/1.5 -> 2.6666667
B15: ChiÒu dµy líp bª t«ng bÞt ®¸y | C15: m | D15: 0 | E15: 0
A16: S | B16: ChiÒu réng hè mãng (Ah) | C16: m | D16: =8.2+0.75*0.4 -> 8.5 | E16: =8.2+0.75*0.4 -> 8.5 | H16: =16/0.4 -> 40
B17: ChiÒu dµi hè mãng (Bh) | C17: m | D17: =13.8+0.75*0.4 -> 14.1 | E17: =13.8+0.75*0.4 -> 14.1
B18: DiÖn tich hè mãng (S®) | C18: m2 | D18: =+ROUND(D16*D17,2) -> 119.85 | E18: =+ROUND(E16*E17,2) -> 119.85
A19: Sbt | B19: ChiÒu réng líp bª t«ng ®Öm (Abt) | C19: m | D19: =+D5+2*0.1 -> 6.2 | E19: =+E5+2*0.1 -> 6.2
B20: ChiÒu dµi líp bª t«ng ®Öm (Bbt) | C20: m | D20: =+D6+2*0.1 -> 11.9 | E20: =+E6+2*0.1 -> 11.9
B21: ChiÒu dµy líp bª t«ng ®Öm (Hbt) | C21: m | D21: 0.1 | E21: 0.1
B22: ThÓ tÝch líp bª t«ng ®Öm (Sbt) | C22: m2 | D22: =+ROUND(D19*D20*D21,2) -> 7.38 | E22: =+ROUND(E19*E20*E21,2) -> 7.38
A23: 11 | B23: ChiÒu dµi khoan ®Êt (H®) | C23: m | D23: =+ABS(D2-D9) -> 64 | E23: =+ABS(E2-E9) -> 65.205
A24: 12 | B24: ChiÒu s©u khoan cuéi sái (Hcs) | C24: m
A25: 13 | B25: ChiÒu s©u khoan ®¸ cÊp IV | C25: m
A26: 14 | B26: ChiÒu s©u khoan ®¸ cÊp III | C26: m | D26: 0 | E26: 0
A27: 15 | B27: DiÖn tÝch ®· san ñi t¹o mÆt b»ng | C27: m2 | D27: =(D16+2*0.75*(D2-D4+D21+0.4))*(D17+0.75*(D2-D4+D21+0.4)) -> 195.69375 | E27: =17.256*14.358 -> 247.76165
B28: DiÖn tÝch ®Ønh bÖ | C28: m2 | D28: =(D16+2*0.75*(D7+D21+0.4))*(D17+0.75*(D7+D21+0.4)) -> 195.69375 | E28: =(E16+2*0.75*(E7+E21+0.4))*(E17+0.75*(E7+E21+0.4)) -> 195.69375
A29: 16 | B29: ChiÒu dµi èng v¸ch | C29: m | D29: 8 | E29: =+D29 -> 8 | F29: =+E29 -> 8
A30: 17 | B30: DiÖn tich R·nh tho¸t n­íc (Sr) | C30: m2 | D30: 0.3 | E30: =+D30 -> 0.3
B31: ChiÒu dµi R·nh tho¸t n­íc | C31: m | D31: =13.4*2+7.8 -> 34.6 | E31: =+D31 -> 34.6
A32: 18 | B32: chiÒu dµi cäc v¸n thÐp, cäc ®Þnh vÞ | C32: m | D32: 10 | E32: =+D32 -> 10 | F32: =+E32 -> 10
A33: 19 | B33: Sè cäc v¸n thÐp | C33: c¸i | D33: 35 | E33: 42 | F33: =+SUM(D33:E33) -> 77
B34: chiÒu dµi ®ãng cäc v¸n thÐp (LS-IV) | C34: m | D34: 9 | E34: =+D34 -> 9 | F34: =+E34 -> 9
B35: Träng l­îng riªng cäc v¸n thÐp (LS-IV) | C35: T/m | D35: 0.074 | E35: 0.074 | F35: =+E35 -> 0.074
B36: ChiÒu dµy cäc v¸n thÐp | C36: m | D36: 0.36 | E36: 0.36
A37: 20 | B37: Sè cäc ®Þnh vÞ (2I300) | C37: c¸i | D37: 3 | E37: 3 | F37: =+SUM(D37:E37) -> 6
B38: chiÒu dµi ®ãng cäc ®Þnh vÞ | C38: m | D38: =+D34 -> 9 | E38: =+D38 -> 9 | F38: =+E38 -> 9
B39: Träng l­îng riªng cäc ®Þnh vÞ(2I300) | C39: T/m | D39: =39.2*2/1000 -> 0.0784 | E39: =39.2*2/1000 -> 0.0784 | F39: =+E39 -> 0.0784
A40: 21 | B40: chiÒu dµi nÑp ngang | C40: m | D40: =14.7*2 -> 29.4 | E40: =16.8*2 -> 33.6 | F40: =+E40 -> 33.6
...

Sheet CKN T1-T3
A2: CỌC KHOAN NHỒI T1, L=62 m
A4: Hạng mục | B4: Tên thanh | C4: Đường kính | D4: Loại thép | E4: Chiều dài thanh | F4: Số lượng | G4: KLĐV | H4: Tổng dài | I4: Tổng khối lượng | J4: Ghi chú
C5: (mm) | E5: (mm) | F5: thanh | G5: kG/m | H5: m | I5: kG
A6: Cọc khoan nhồi D1200, L=62 m | B6: A1 | C6: 25 | D6: CB400-V | E6: 11700 | F6: 12 | G6: =VLOOKUP(C6,'CKN T4 '!$M$5:$N$19,2,0) -> 3.85 | H6: =ROUND(E6*F6/1000,2) -> 140.4 | I6: =ROUND(H6*G6,2) -> 540.54
B7: A2 | C7: 25 | D7: CB400-V | E7: 10700 | F7: 12 | G7: =VLOOKUP(C7,'CKN T4 '!$M$5:$N$19,2,0) -> 3.85 | H7: =ROUND(E7*F7/1000,2) -> 128.4 | I7: =ROUND(H7*G7,2) -> 494.34
B8: A3 | C8: 22 | D8: CB400-V | E8: 11700 | F8: 24 | G8: =VLOOKUP(C8,'CKN T4 '!$M$5:$N$19,2,0) -> 2.98 | H8: =ROUND(E8*F8/1000,2) -> 280.8 | I8: =ROUND(H8*G8,2) -> 836.78
B9: A4 | C9: 20 | D9: CB400-V | E9: 11700 | F9: 72 | G9: =VLOOKUP(C9,'CKN T4 '!$M$5:$N$19,2,0) -> 2.47 | H9: =ROUND(E9*F9/1000,2) -> 842.4 | I9: =ROUND(H9*G9,2) -> 2080.73
B10: B1 | C10: 20 | D10: CB400-V | E10: 8920 | F10: 12 | G10: =VLOOKUP(C10,'CKN T4 '!$M$5:$N$19,2,0) -> 2.47 | H10: =ROUND(E10*F10/1000,2) -> 107.04 | I10: =ROUND(H10*G10,2) -> 264.39
B11: B2 | C11: 20 | D11: CB400-V | E11: 9920 | F11: 12 | G11: =VLOOKUP(C11,'CKN T4 '!$M$5:$N$19,2,0) -> 2.47 | H11: =ROUND(E11*F11/1000,2) -> 119.04 | I11: =ROUND(H11*G11,2) -> 294.03
B12: B3 | C12: 18 | D12: CB400-V | E12: 1455 | F12: 4 | G12: =VLOOKUP(C12,'CKN T4 '!$M$5:$N$19,2,0) -> 2 | H12: =ROUND(E12*F12/1000,2) -> 5.82 | I12: =ROUND(H12*G12,2) -> 11.64
B13: O1 | C13: 10 | D13: CB400-T | E13: 1213880 | F13: 1 | G13: =VLOOKUP(C13,'CKN T4 '!$M$5:$N$19,2,0) -> 0.617 | H13: =ROUND(E13*F13/1000,2) -> 1213.88 | I13: =ROUND(H13*G13,2) -> 748.96
B14: N5A | C14: 25 | D14: CB400-V | E14: 3135 | F14: 5 | G14: =VLOOKUP(C14,'CKN T4 '!$M$5:$N$19,2,0) -> 3.85 | H14: =ROUND(E14*F14/1000,2) -> 15.68 | I14: =ROUND(H14*G14,2) -> 60.37
B15: N5B | C15: 25 | D15: CB400-V | E15: 3145 | F15: 5 | G15: =VLOOKUP(C15,'CKN T4 '!$M$5:$N$19,2,0) -> 3.85 | H15: =ROUND(E15*F15/1000,2) -> 15.73 | I15: =ROUND(H15*G15,2) -> 60.56
B16: N5C | C16: 25 | D16: CB400-V | E16: 3155 | F16: 22 | G16: =VLOOKUP(C16,'CKN T4 '!$M$5:$N$19,2,0) -> 3.85 | H16: =ROUND(E16*F16/1000,2) -> 69.41 | I16: =ROUND(H16*G16,2) -> 267.23
B17: N6 | C17: 16 | D17: CB400-V | E17: 2192 | F17: 1 | G17: =VLOOKUP(C17,'CKN T4 '!$M$5:$N$19,2,0) -> 1.58 | H17: =ROUND(E17*F17/1000,2) -> 2.19 | I17: =ROUND(H17*G17,2) -> 3.46
B18: A5 | C18: 12 | D18: CB400-T | E18: 500 | F18: 32 | G18: =VLOOKUP(C18,'CKN T4 '!$M$5:$N$19,2,0) -> 0.888 | H18: =ROUND(E18*F18/1000,2) -> 16 | I18: =ROUND(H18*G18,2) -> 14.21
B19: A6 | C19: 12 | D19: CB400-T | E19: 420 | F19: 96 | G19: =VLOOKUP(C19,'CKN T4 '!$M$5:$N$19,2,0) -> 0.888 | H19: =ROUND(E19*F19/1000,2) -> 40.32 | I19: =ROUND(H19*G19,2) -> 35.8
B20: N4 | C20: Thép bản 370x60x8 | F20: 128 | G20: 1.394 | I20: =F20*G20 -> 178.432
A21: Khối lượng 1 cọc | B21: Phân loại cốt thép | F21: CB240-T | H21: 10 | I21: =SUMIF($C$6:$C$19,H21,$I$6:$I$19) -> 748.96 | J21: kG
H22: 12 | I22: =SUMIF($C$6:$C$19,H22,$I$6:$I$19) -> 50.01 | J22: kG
F23: CB400-V | H23: 16 | I23: =SUMIF($C$6:$C$19,H23,$I$6:$I$19) -> 3.46 | J23: kG
H24: 18 | I24: =SUMIF($C$6:$C$19,H24,$I$6:$I$19) -> 11.64 | J24: kG
H25: 20 | I25: =SUMIF($C$6:$C$19,H25,$I$6:$I$19) -> 2639.15 | J25: kG
H26: 22 | I26: =SUMIF($C$6:$C$19,H26,$I$6:$I$19) -> 836.78 | J26: kG
H27: 25 | I27: =SUMIF($C$6:$C$19,H27,$I$6:$I$19) -> 1423.04 | J27: kG
A28: Khối lượng 4 cọc | B28: Phân loại cốt thép | F28: CB240-T | H28: 10 | I28: =I21*4 -> 2995.84 | J28: kG
H29: 12 | I29: =I22*4 -> 200.04 | J29: kG
F30: CB400-V | H30: 16 | I30: =I23*4 -> 13.84 | J30: kG
H31: 18 | I31: =I24*4 -> 46.56 | J31: kG
H32: 20 | I32: =I25*4 -> 10556.6 | J32: kG
H33: 22 | I33: =I26*4 -> 3347.12 | J33: kG
H34: 25 | I34: =I27*4 -> 5692.16 | J34: kG
B35: Cút nối D61/57 | I35: 120/34,92 | J35: cái/kg
B36: Cút nối D118/114 | I36: 40/22,88 | J36: cái/kg
B37: Cóc nối bu lông M16, L=0,213 m (Loại 1) | I37: 288/97,92 | J37: cái/kg
B38: Cóc nối bu lông M16, L=0,207 m (loại 2) | I38: 1152/380,16 | J38: cái/kg
B39: Bản thép cóc nối 104x60x14 | I39: 197.52 | J39: kg
B40: Bản thép cóc nối 100x60x14 | I40: 759.64 | J40: kg
B41: Bản thép 370x60x8 | I41: 723.8 | J41: kg
B42: Bịt đầu ống M1 | I42: 8/10,88 | J42: cái/kg
...

Sheet CKN T5
A3: STT | B3: H¹ng môc | C3: §¬n vÞ | D3: Tru T5 (đc) | E3: Tru T5 | G3: Quay lai | H3: ThÐp ®µ gi¸o | I3: sè thanh | J3: trong l­îng ®.vi(kg/m) | K3: Tæng céng
A4: 1 | B4: Cao ®é ®Ønh bÖ | C4: m | D4: -0.767 | E4: -0.767 | H4: - Thanh D=114, L=1.0m | I4: 0 | J4: 20.12 | K4: =+I4*J4 -> 0
A5: 2 | B5: Cao ®é ®¸y bÖ | C5: m | D5: =+D4-3.5 -> -4.267 | E5: =+E4-3 -> -3.767 | H5: - Thanh D=114, L=1.5m | I5: =15*3*4+3*3*4 -> 216 | J5: 24.44 | K5: =+I5*J5 -> 5279.04
A6: 3 | B6: Cao ®é mòi cäc khoan nhåi | C6: m | D6: =+D5-D7 -> -80.767 | E6: =+E5-E7 -> -81.767 | H6: - Thanh D=48, L=1.975m | I6: =12*3*4+2*3*4 -> 168 | J6: 6.36 | K6: =+I6*J6 -> 1068.48
A7: 4 | B7: ChiÒu dµi dù kiÕn cäc khoan nhåi | C7: m | D7: 76.5 | E7: 78 | H7: - Thanh D=48, L=1.695m | I7: =12*4*2+1*3*4+5*3*2+4 -> 142 | J7: 5.36 | K7: =+I7*J7 -> 761.12
A8: 5 | B8: Cao ®é mÆt ®Êt thiªn nhiªn TB | C8: m | D8: -10.5 | E8: -10.5 | H8: - Thanh D=48, L=1.287m | I8: 4 | J8: 3.5 | K8: =+I8*J8 -> 14
A9: 6 | B9: Sè cäc khoan nhåi D=1500 | C9: cäc | D9: 16 | E9: 14 | H9: - Thanh D=48, L=0.88m | I9: =15*4*2+5*4*2 -> 160 | J9: 2.46 | K9: =I9*J9 -> 393.6
B10: ChiÒu cao ®µo ®Êt trung b×nh | C10: m
B11: ChiÒu dµy ®æ bª t«ng bÞt ®¸y | C11: m | D11: 1.7 | E11: 1.5 | G11: =+E5-E11-0.1 -> -5.367 | H11: Thanh D=48, L=1.38m | I11: =+I6 -> 168 | J11: 3.83 | K11: =+I11*J11 -> 643.44
A12: 7 | B12: Cao ®é gÆp c¸t lÉn sái | C12: m | H12: - Thanh cét chèng | I12: =15*2+3*2 -> 36 | J12: 11.87 | K12: =+I12*J12 -> 427.32
A13: 7 | B13: Cao ®é miÖng èng v¸ch | C13: m | D13: 3 | E13: 3 | H13: Tæng | K13: =+ROUND(SUM(K4:K12),0) -> 8587
A14: 8 | B14: Cao ®é gÆp ®¸ cÊp III (kh«ng cã) | C14: m | D14: 1 | E14: 0 | F14: =+D13-D5-0.15 -> 7.117
B15: ChiÒu dµi hè mãng ®¸y | C15: m
B16: ChiÒu réng hè mãng ®¸y | C16: m
B17: S®¸y | C17: m2 | D17: =321113472/10^6 -> 321.11347 | E17: =229592417/10^6 -> 229.59242
B18: ChiÒu dµi hè mãng ®Ønh bÖ | C18: m | D18: =+D15 -> 0 | E18: =+E15 -> 0
B19: chiÒu réng hè mãng ®Ønh bÖ | C19: m | D19: =+D16 -> 0 | E19: =+E16 -> 0
B20: S ®Ønh bÖ | C20: m2 | D20: =+D19*D18 -> 0 | E20: =+E19*E18 -> 0
B21: ChiÒu dµi hè mãng tù nhiªn | C21: m | D21: =+D15 -> 0 | E21: =+E15 -> 0
B22: chiÒu réng hè mãng tù nhiªn | C22: m | D22: =+D19 -> 0 | E22: =+E19 -> 0 | H22: =+E8-E5+E11+0.1 -> -5.133
B23: S tù nhiªn | C23: m2 | D23: =+D22*D21 -> 0 | E23: =+E22*E21 -> 0 | H23: =+H22*E23 -> 0
B24: H chiÒu s©u khoan ®Êt (c¸c lo¹i ®Êt dc tÝnh trung) | C24: m | D24: =+D8-D6 -> 70.267 | E24: =+E8-E6 -> 71.267
B25: H chiÒu s©u khoan c¸t lÉn sái | C25: m
B26: H chiÒu s©u khoan ®¸ cÊp III | C26: m | D26: 0 | E26: 0
B27: CHiÒu dµi cäc v¸n thep, cäc ®Þnh vÞ | C27: m | D27: 25 | E27: 25 | G27: =3.9-E27 -> -21.1
B28: Sè cäc v¸n thÐp | C28: c¸i | D28: =+(33+25)*2+4 -> 120 | E28: =+(33+25)*2+4 -> 120
B29: chiÒu dµi ®ãng cäc v¸n thÐp ngµm trong ®Êt | C29: m | D29: 12 | E29: =14.7+E8 -> 4.2
B30: Sè cäc ®Þnh vÞ 2I400 | C30: c¸i | D30: 14 | E30: 14 | H30: =5.2-20 -> -14.8
B31: chiÒu dµi ®ãng cäc ®Þnh vÞ ngµm trong ®Êt | C31: m | D31: =+E31 -> 12.3 | E31: =22.8-10.5 -> 12.3
B32: ChiÒu dµi èng v¸ch | C32: m | D32: 25 | E32: 25
B33: chiÒu dµi h¹ èng v¸ch | C33: m | D33: =22-10.5 -> 11.5 | E33: =22-10.5 -> 11.5
A36: B¶ng tæng hîp khèi l­îng thi c«ng trô
A37: STT | B37: H¹ng môc | C37: §¬n vÞ | D37: Khèi l­îng | F37: CH£NH =(1)-(2) | G37: Ghi chó
D38: trô T5 ĐiỀU CHỈNH (1) | E38: trô T5 duYỆT (2)
A40: 1 | B40: Thi c«ng cäc khoan nhåi
A41: - | B41: Khoan sÐt dÎo vµ c¸t chÆt cäc khoan nhåi D=1.5m | C41: m | D41: =+ROUND($D$9*D24,2) -> 1124.27 | E41: =+ROUND($E$9*E24,2) -> 997.74 | F41: =+IF(D41-E41=0,"-",D41-E41) -> 126.53
A42: - | B42: èng v¸ch D=1.6m, dµy 10mm, L=25m | C42: T | D42: =+PI()*(0.8^2-0.79^2)*7850/1000*D32*D9 -> 156.84715 | E42: =+PI()*(0.8^2-0.79^2)*7850/1000*E32*E9 -> 137.24126 | F42: =+IF(D42-E42=0,"-",D42-E42) -> 19.605894
A43: - | B43: èng v¸ch D=1.6m ®Ó l¹i (KhÊu hao hoµn toµn) | C43: T | D43: =+PI()*(0.8^2-0.79^2)*7850/1000*(D32-(D13-D5+0.15))*D9 -> 110.31374 | E43: =+PI()*(0.8^2-0.79^2)*7850/1000*(E32-(E13-E5+0.15))*E9 -> 99.269349 | F43: =+IF(D43-E43=0,"-",D43-E43) -> 11.044392
A44: - | B44: H¹ èng v¸ch trong ®Êt D=1.6m( LngËp ®Êt=8.5m ) | C44: lÇn/m | D44: =D9&"/"&D9*D33 -> 16/184 | E44: =E9&"/"&E9*E33 -> 14/161 | F44: =2&"/"&184-161 -> 2/23
A45: - | B45: H¹ èng v¸ch trong n­íc D=1.6m | C45: lÇn/m | D45: =D9&"/"&D9*(D32-D33) -> 16/216 | E45: =E9&"/"&E9*(E32-E33) -> 14/189 | F45: =2&"/"&216-189 -> 2/27
...

Sheet CKN T5(KC)
A1: CỌC KHOAN NHỒI T5, L=76,5 m
A3: Hạng mục | B3: Tên thanh | C3: Đường kính | D3: Loại thép | E3: Chiều dài thanh | F3: Số lượng | G3: KLĐV | H3: Tổng dài | I3: Tổng khối lượng | J3: Ghi chú
C4: (mm) | E4: (mm) | F4: thanh | G4: kG/m | H4: m | I4: kG
A5: Khung A1 (1 khung) | B5: A1 | C5: 32 | D5: =IF(C5>10,"CB400-V","CB400-T") -> CB400-V | E5: 10420 | F5: 32 | G5: =VLOOKUP(C5,'CKN T4 '!$M$5:$N$19,2,0) -> 6.31 | H5: =ROUND(E5*F5/1000,2) -> 333.44 | I5: =ROUND(H5*G5,2) -> 2104.01
B6: A2 | C6: 32 | D6: =IF(C6>10,"CB400-V","CB400-T") -> CB400-V | E6: 11700 | F6: 32 | G6: =VLOOKUP(C6,'CKN T4 '!$M$5:$N$19,2,0) -> 6.31 | H6: =ROUND(E6*F6/1000,2) -> 374.4 | I6: =ROUND(H6*G6,2) -> 2362.46
B7: Q4 | C7: 25 | D7: =IF(C7>10,"CB400-V","CB400-T") -> CB400-V | E7: 3707 | F7: 5 | G7: =VLOOKUP(C7,'CKN T4 '!$M$5:$N$19,2,0) -> 3.85 | H7: =ROUND(E7*F7/1000,2) -> 18.54 | I7: =ROUND(H7*G7,2) -> 71.38
B8: T5 | C8: 25 | D8: =IF(C8>10,"CB400-V","CB400-T") -> CB400-V | E8: 600 | F8: 40 | G8: =VLOOKUP(C8,'CKN T4 '!$M$5:$N$19,2,0) -> 3.85 | H8: =ROUND(E8*F8/1000,2) -> 24 | I8: =ROUND(H8*G8,2) -> 92.4
B9: Cộng | I9: =SUM(I5:I8) -> 4630.25
A10: Khung A2 (1 khung) | B10: A2 | C10: 32 | D10: =IF(C10>10,"CB400-V","CB400-T") -> CB400-V | E10: 11700 | F10: 64 | G10: =VLOOKUP(C10,'CKN T4 '!$M$5:$N$19,2,0) -> 6.31 | H10: =ROUND(E10*F10/1000,2) -> 748.8 | I10: =ROUND(H10*G10,2) -> 4724.93
B11: Q4 | C11: 25 | D11: =IF(C11>10,"CB400-V","CB400-T") -> CB400-V | E11: 3707 | F11: 5 | G11: =VLOOKUP(C11,'CKN T4 '!$M$5:$N$19,2,0) -> 3.85 | H11: =ROUND(E11*F11/1000,2) -> 18.54 | I11: =ROUND(H11*G11,2) -> 71.38
B12: T5 | C12: 25 | D12: =IF(C12>10,"CB400-V","CB400-T") -> CB400-V | E12: 600 | F12: 40 | G12: =VLOOKUP(C12,'CKN T4 '!$M$5:$N$19,2,0) -> 3.85 | H12: =ROUND(E12*F12/1000,2) -> 24 | I12: =ROUND(H12*G12,2) -> 92.4
B13: Cộng | I13: =SUM(I10:I12) -> 4888.71
A14: Khung A3 (1 khung) | B14: A2 | C14: 32 | D14: =IF(C14>10,"CB400-V","CB400-T") -> CB400-V | E14: 11700 | F14: 64 | G14: =VLOOKUP(C14,'CKN T4 '!$M$5:$N$19,2,0) -> 6.31 | H14: =ROUND(E14*F14/1000,2) -> 748.8 | I14: =ROUND(H14*G14,2) -> 4724.93
B15: Q4 | C15: 25 | D15: =IF(C15>10,"CB400-V","CB400-T") -> CB400-V | E15: 3707 | F15: 5 | G15: =VLOOKUP(C15,'CKN T4 '!$M$5:$N$19,2,0) -> 3.85 | H15: =ROUND(E15*F15/1000,2) -> 18.54 | I15: =ROUND(H15*G15,2) -> 71.38
B16: T5 | C16: 25 | D16: =IF(C16>10,"CB400-V","CB400-T") -> CB400-V | E16: 600 | F16: 40 | G16: =VLOOKUP(C16,'CKN T4 '!$M$5:$N$19,2,0) -> 3.85 | H16: =ROUND(E16*F16/1000,2) -> 24 | I16: =ROUND(H16*G16,2) -> 92.4
B17: Cộng | I17: =SUM(I14:I16) -> 4888.71
A18: Khung A4 (1 khung) | B18: A3 | C18: 28 | D18: =IF(C18>10,"CB400-V","CB400-T") -> CB400-V | E18: 11700 | F18: 32 | G18: =VLOOKUP(C18,'CKN T4 '!$M$5:$N$19,2,0) -> 4.83 | H18: =ROUND(E18*F18/1000,2) -> 374.4 | I18: =ROUND(H18*G18,2) -> 1808.35
B19: Q4A | C19: 25 | D19: =IF(C19>10,"CB400-V","CB400-T") -> CB400-V | E19: 3911 | F19: 5 | G19: =VLOOKUP(C19,'CKN T4 '!$M$5:$N$19,2,0) -> 3.85 | H19: =ROUND(E19*F19/1000,2) -> 19.56 | I19: =ROUND(H19*G19,2) -> 75.31
B20: T5 | C20: 25 | D20: =IF(C20>10,"CB400-V","CB400-T") -> CB400-V | E20: 600 | F20: 40 | G20: =VLOOKUP(C20,'CKN T4 '!$M$5:$N$19,2,0) -> 3.85 | H20: =ROUND(E20*F20/1000,2) -> 24 | I20: =ROUND(H20*G20,2) -> 92.4
B21: Cộng | I21: =SUM(I18:I20) -> 1976.06
A22: Khung A5 (1 khung) | B22: A4 | C22: 25 | D22: =IF(C22>10,"CB400-V","CB400-T") -> CB400-V | E22: 11700 | F22: 32 | G22: =VLOOKUP(C22,'CKN T4 '!$M$5:$N$19,2,0) -> 3.85 | H22: =ROUND(E22*F22/1000,2) -> 374.4 | I22: =ROUND(H22*G22,2) -> 1441.44
B23: Q4B | C23: 25 | D23: =IF(C23>10,"CB400-V","CB400-T") -> CB400-V | E23: 3924 | F23: 6 | G23: =VLOOKUP(C23,'CKN T4 '!$M$5:$N$19,2,0) -> 3.85 | H23: =ROUND(E23*F23/1000,2) -> 23.54 | I23: =ROUND(H23*G23,2) -> 90.63
B24: T5 | C24: 25 | D24: =IF(C24>10,"CB400-V","CB400-T") -> CB400-V | E24: 600 | F24: 48 | G24: =VLOOKUP(C24,'CKN T4 '!$M$5:$N$19,2,0) -> 3.85 | H24: =ROUND(E24*F24/1000,2) -> 28.8 | I24: =ROUND(H24*G24,2) -> 110.88
B25: Cộng | I25: =SUM(I22:I24) -> 1642.95
A26: Khung A6 (1 khung) | B26: A5 | C26: 22 | D26: =IF(C26>10,"CB400-V","CB400-T") -> CB400-V | E26: 11700 | F26: 32 | G26: =VLOOKUP(C26,'CKN T4 '!$M$5:$N$19,2,0) -> 2.98 | H26: =ROUND(E26*F26/1000,2) -> 374.4 | I26: =ROUND(H26*G26,2) -> 1115.71
B27: Q4C | C27: 25 | D27: =IF(C27>10,"CB400-V","CB400-T") -> CB400-V | E27: 3949 | F27: 5 | G27: =VLOOKUP(C27,'CKN T4 '!$M$5:$N$19,2,0) -> 3.85 | H27: =ROUND(E27*F27/1000,2) -> 19.75 | I27: =ROUND(H27*G27,2) -> 76.04
B28: T5 | C28: 25 | D28: =IF(C28>10,"CB400-V","CB400-T") -> CB400-V | E28: 600 | F28: 40 | G28: =VLOOKUP(C28,'CKN T4 '!$M$5:$N$19,2,0) -> 3.85 | H28: =ROUND(E28*F28/1000,2) -> 24 | I28: =ROUND(H28*G28,2) -> 92.4
B29: Cộng | I29: =SUM(I26:I28) -> 1284.15
A30: Khung A7 (1 khung) | B30: A6 | C30: 20 | D30: =IF(C30>10,"CB400-V","CB400-T") -> CB400-V | E30: 11700 | F30: 32 | G30: =VLOOKUP(C30,'CKN T4 '!$M$5:$N$19,2,0) -> 2.47 | H30: =ROUND(E30*F30/1000,2) -> 374.4 | I30: =ROUND(H30*G30,2) -> 924.77
B31: Q4D | C31: 25 | D31: =IF(C31>10,"CB400-V","CB400-T") -> CB400-V | E31: 3962 | F31: 6 | G31: =VLOOKUP(C31,'CKN T4 '!$M$5:$N$19,2,0) -> 3.85 | H31: =ROUND(E31*F31/1000,2) -> 23.77 | I31: =ROUND(H31*G31,2) -> 91.51
B32: T5 | C32: 25 | D32: =IF(C32>10,"CB400-V","CB400-T") -> CB400-V | E32: 600 | F32: 48 | G32: =VLOOKUP(C32,'CKN T4 '!$M$5:$N$19,2,0) -> 3.85 | H32: =ROUND(E32*F32/1000,2) -> 28.8 | I32: =ROUND(H32*G32,2) -> 110.88
B33: Cộng | I33: =SUM(I30:I32) -> 1127.16
A34: Khung A8 (1 khung) | B34: B1 | C34: 20 | D34: =IF(C34>10,"CB400-V","CB400-T") -> CB400-V | E34: 3746 | F34: 16 | G34: =VLOOKUP(C34,'CKN T4 '!$M$5:$N$19,2,0) -> 2.47 | H34: =ROUND(E34*F34/1000,2) -> 59.94 | I34: =ROUND(H34*G34,2) -> 148.05
B35: B2 | C35: 20 | D35: =IF(C35>10,"CB400-V","CB400-T") -> CB400-V | E35: 5026 | F35: 16 | G35: =VLOOKUP(C35,'CKN T4 '!$M$5:$N$19,2,0) -> 2.47 | H35: =ROUND(E35*F35/1000,2) -> 80.42 | I35: =ROUND(H35*G35,2) -> 198.64
B36: Q4D | C36: 25 | D36: =IF(C36>10,"CB400-V","CB400-T") -> CB400-V | E36: 3962 | F36: 1 | G36: =VLOOKUP(C36,'CKN T4 '!$M$5:$N$19,2,0) -> 3.85 | H36: =ROUND(E36*F36/1000,2) -> 3.96 | I36: =ROUND(H36*G36,2) -> 15.25
B37: T5 | C37: 25 | D37: =IF(C37>10,"CB400-V","CB400-T") -> CB400-V | E37: 600 | F37: 8 | G37: =VLOOKUP(C37,'CKN T4 '!$M$5:$N$19,2,0) -> 3.85 | H37: =ROUND(E37*F37/1000,2) -> 4.8 | I37: =ROUND(H37*G37,2) -> 18.48
B38: Q6 | C38: 25 | D38: =IF(C38>10,"CB400-V","CB400-T") -> CB400-V | E38: 2827 | F38: 1 | G38: =VLOOKUP(C38,'CKN T4 '!$M$5:$N$19,2,0) -> 3.85 | H38: =ROUND(E38*F38/1000,2) -> 2.83 | I38: =ROUND(H38*G38,2) -> 10.9
B39: Cộng | I39: =SUM(I34:I38) -> 391.32
A40: Móc lồng | B40: C1 | C40: 25 | D40: =IF(C40>10,"CB400-V","CB400-T") -> CB400-V | E40: 1250 | F40: 32 | G40: =VLOOKUP(C40,'CKN T4 '!$M$5:$N$19,2,0) -> 3.85 | H40: =ROUND(E40*F40/1000,2) -> 40 | I40: =ROUND(H40*G40,2) -> 154
A41: Cốt đai | B41: X1 | C41: 10 | D41: =IF(C41>10,"CB400-V","CB400-T") -> CB400-T | E41: 1959201 | F41: 1 | G41: =VLOOKUP(C41,'CKN T4 '!$M$5:$N$19,2,0) -> 0.617 | H41: =ROUND(E41*F41/1000,2) -> 1959.2 | I41: =ROUND(H41*G41,2) -> 1208.83
...

Sheet TC T1-T3
A1: STT | B1: H¹ng môc | C1: §¬n vÞ | D1: T1 | E1: T2 | F1: T3 | I1: Trô T11(H=11.53m) | J1: sè l­îng | K1: träng l­îng | N1: Quay lai
A2: 1 | B2: Cao ®é mÆt ®Êt sau san ñi (C§) | C2: m | D2: =+'[3]Bang cao do truT1-T3'!D4 -> 2 | E2: =+'[3]Bang cao do truT1-T3'!D5 -> 2 | F2: =+'[3]Bang cao do truT1-T3'!D6 -> 2 | J2: =4*(3+2+3) -> 32 | K2: 97 | L2: =+K2*J2 -> 3104
A3: 2 | B3: Cao ®é mÆt ®Êt thiªn nhiªn (C§) | C3: m | D3: 1 | E3: 0.9 | F3: 0.84
A4: 3 | B4: Cao ®é ®Ønh bÖ (C§1) | C4: m | D4: =+'[3]Bang cao do truT1-T3'!E4 -> 0.631 | E4: =+'[3]Bang cao do truT1-T3'!E5 -> 0.532 | F4: =+'[3]Bang cao do truT1-T3'!E6 -> 0.434 | I4: - Thanh cét chèng | J4: =(3+4*2) -> 11 | K4: 11.87 | L4: =+J4*K4 -> 130.57
A5: 4 | B5: Cao ®é ®¸y bÖ (C§2) | C5: m | D5: =+D4-D8 -> -1.369 | E5: =+E4-E8 -> -1.468 | F5: =+F4-F8 -> -1.566 | I5: Tæng | L5: =+L4+L2 -> 3234.57
A6: 5 | B6: ChiÒu réng bÖ mãng (Ab) | C6: m | D6: 6 | E6: 6 | F6: 6
A7: 6 | B7: ChiÒu dµi bÖ mãng (Bb) | C7: m | D7: 7 | E7: 7 | F7: 7
A8: 7 | B8: ChiÒu cao bÖ mãng (Hb) | C8: m | D8: 2 | E8: 2 | F8: 2
A9: 8 | B9: ChiÒu dµi dù kiÕn cäc khoan nhåi (L) | C9: m | D9: =+'[3]Bang cao do truT1-T3'!I4 -> 62 | E9: =+'[3]Bang cao do truT1-T3'!I5 -> 58 | F9: =+'[3]Bang cao do truT1-T3'!I6 -> 58 | G9: =+E9 -> 58
A10: 9 | B10: Cao ®é mòi cäc khoan nhåi (C§3) | C10: m | D10: =+D5-D9 -> -63.369 | E10: =+E5-E9 -> -59.468 | F10: =+F5-F9 -> -59.566
A11: 10 | B11: Sè cäc khoan nhåi D=1.2m | C11: cäc | D11: =+'[3]Bang cao do truT1-T3'!J4 -> 4 | E11: =+'[3]Bang cao do truT1-T3'!J5 -> 4 | F11: =+'[3]Bang cao do truT1-T3'!J6 -> 4 | G11: =+SUM(D11:E11) -> 8
A12: 11 | B12: Cao ®é mòi khoan gÆp cuéi sái | C12: m | D12: 0 | E12: 0 | F12: 0
B13: Cao ®é mòi khoan gÆp ®¸ cÊp IV | C13: m | D13: 0 | E13: 0 | F13: 0
B14: Cao ®é mòi khoan gÆp ®¸ cÊp III | C14: m | D14: 0 | E14: 0 | F14: 0
A15: 12 | B15: ChiÒu cao ®µo ®Êt trung b×nh (Htb) | C15: m | D15: =+ROUND(ABS(D2-D5)+D31+0.4,3) -> 3.869 | E15: =+ROUND(ABS(E2-E5)+E31+0.4,3) -> 3.968 | F15: =+ROUND(ABS(F2-F5)+F31+0.4,3) -> 4.066 | M15: =4/1.5 -> 2.6666667
B16: ChiÒu dµy líp bª t«ng bÞt ®¸y | C16: m | D16: 0 | E16: 0 | F16: 0
A17: S | B17: ChiÒu réng hè mãng (Ah) | C17: m | D17: =+D6+2*1.1 -> 8.2 | E17: =+E6+2*1.1 -> 8.2 | F17: =+F6+2*1.1 -> 8.2 | I17: =16/0.4 -> 40
B18: ChiÒu dµi hè mãng (Bh) | C18: m | D18: =+D7+2*1.1 -> 9.2 | E18: =+E7+2*1.1 -> 9.2 | F18: =+F7+2*1.1 -> 9.2
B19: DiÖn tich hè mãng (S®) | C19: m2 | D19: =+ROUND(D17*D18,2) -> 75.44 | E19: =+ROUND(E17*E18,2) -> 75.44 | F19: =+ROUND(F17*F18,2) -> 75.44
B20: ChiÒu réng hè mãng ®Ønh bÖ | C20: m | D20: =+D17+2.5*0.75*2 -> 11.95 | E20: =+E17+2.5*0.75*2 -> 11.95 | F20: =+F17+2.5*0.75*2 -> 11.95
B21: ChiÒu dµi hè mãng ®Ønh bÖ | C21: m | D21: =+D18+2.5*0.75*2 -> 12.95 | E21: =+E18+2.5*0.75*2 -> 12.95 | F21: =+F18+2.5*0.75*2 -> 12.95
B22: S ®Ønh bÖ | C22: m2 | D22: =+D21*D20 -> 154.7525 | E22: =+E21*E20 -> 154.7525 | F22: =+F21*F20 -> 154.7525
B23: ChiÒu réng hè mãng tù nhiªn | C23: m | D23: =+D17+2*D15*0.75 -> 14.0035 | E23: =+E17+2*E15*0.75 -> 14.152 | F23: =+F17+2*F15*0.75 -> 14.299
B24: chiÒu dµi hè mãng tù nhiªn | C24: m | D24: =+D18+2*D15*0.75 -> 15.0035 | E24: =+E18+2*E15*0.75 -> 15.152 | F24: =+F18+2*F15*0.75 -> 15.299
B25: S tù nhiªn | C25: m2 | D25: =+D24*D23 -> 210.10151 | E25: =+E24*E23 -> 214.4311 | F25: =+F24*F23 -> 218.7604
B26: chiÒu réng san ñi | C26: m | D26: =+D23+2*0.5+2*ABS(D3-D2) -> 17.0035 | E26: =+E23+2*0.5+2*ABS(E3-E2) -> 17.352 | F26: =+F23+2*0.5+2*ABS(F3-F2) -> 17.619
B27: chiÒu dµi san ñi | C27: m | D27: =+D24+2*0.5+2*ABS(D3-D2) -> 18.0035 | E27: =+E24+2*0.5+2*ABS(E3-E2) -> 18.352 | F27: =+F24+2*0.5+2*ABS(F3-F2) -> 18.619
B28: S san ñi | C28: m | D28: =+ROUND(D27*D26,2) -> 306.12 | E28: =+ROUND(E27*E26,2) -> 318.44 | F28: =+ROUND(F27*F26,2) -> 328.05
A29: Sbt | B29: ChiÒu réng líp bª t«ng ®Öm (Abt) | C29: m | D29: =+D6+2*0.1 -> 6.2 | E29: =+E6+2*0.1 -> 6.2 | F29: =+F6+2*0.1 -> 6.2
B30: ChiÒu dµi líp bª t«ng ®Öm (Bbt) | C30: m | D30: =+D7+2*0.1 -> 7.2 | E30: =+E7+2*0.1 -> 7.2 | F30: =+F7+2*0.1 -> 7.2
B31: ChiÒu dµy líp bª t«ng ®Öm (Hbt) | C31: m | D31: 0.1 | E31: 0.1 | F31: 0.1
B32: ThÓ tÝch líp bª t«ng ®Öm (Sbt) | C32: m2 | D32: =+ROUND(D29*D30*D31,2) -> 4.46 | E32: =+ROUND(E29*E30*E31,2) -> 4.46 | F32: =+ROUND(F29*F30*F31,2) -> 4.46
A33: 13 | B33: ChiÒu dµi khoan ®Êt (H®) | C33: m | D33: =+ABS(D2-D10) -> 65.369 | E33: =+ABS(E2-E10) -> 61.468 | F33: =+ABS(F2-F10) -> 61.566
A34: 14 | B34: ChiÒu s©u khoan cuéi sái (Hcs) | C34: m
A35: 15 | B35: ChiÒu s©u khoan ®¸ cÊp IV | C35: m
A36: 16 | B36: ChiÒu s©u khoan ®¸ cÊp III | C36: m | D36: 0 | E36: 0 | F36: 0
A37: 17 | B37: DiÖn tÝch ®· san ñi t¹o mÆt b»ng | C37: m2 | D37: =(D17+2*0.75*(D2-D5+D31+0.4))*(D18+0.75*(D2-D5+D31+0.4)) -> 169.46686 | E37: =(E17+2*0.75*(E2-E5+E31+0.4))*(E18+0.75*(E2-E5+E31+0.4)) -> 172.31475 | F37: =(F17+2*0.75*(F2-F5+F31+0.4))*(F18+0.75*(F2-F5+F31+0.4)) -> 175.1556
A38: 18 | B38: DiÖn tÝch ®Ønh bÖ | C38: m2 | D38: =(D17+2*0.75*(D8+D31+0.4))*(D18+0.75*(D8+D31+0.4)) -> 132.34625 | E38: =(E17+2*0.75*(E8+E31+0.4))*(E18+0.75*(E8+E31+0.4)) -> 132.34625 | F38: =(F17+2*0.75*(F8+F31+0.4))*(F18+0.75*(F8+F31+0.4)) -> 132.34625
A39: 19 | B39: ChiÒu dµi èng v¸ch | C39: m | D39: 8 | E39: 8 | F39: 8 | G39: =+E39 -> 8
A40: 20 | B40: DiÖn tich R·nh tho¸t n­íc (Sr) | C40: m2 | D40: 0.3 | E40: 0.3 | F40: 0.3
...

Sheet TruT4
A2: Bệ trụ T4
A4: STT | B4: Tên thanh | C4: Đường kính (mm) | D4: Mác thép | E4: Chiều dài (mm) | F4: Số lượng (thanh) | G4: Tổng chiều dài (m) | H4: KLĐV (kG/m) | I4: Khối lượng (kG) | K4: Quay lai sheet dien giai
A5: 1 | B5: F1 | C5: 28 | D5: CB400-V | E5: 11425 | F5: 98 | G5: =E5*F5/1000 -> 1119.65 | H5: =VLOOKUP(TruT4!C5,'CKN T4 '!$M$5:$N$14,2,0) -> 4.83 | I5: =G5*H5 -> 5407.9095
A6: 2 | B6: F2 | C6: 28 | D6: CB400-V | E6: 7918 | F6: 146 | G6: =E6*F6/1000 -> 1156.028 | H6: =VLOOKUP(TruT4!C6,'CKN T4 '!$M$5:$N$14,2,0) -> 4.83 | I6: =G6*H6 -> 5583.6152
A7: 3 | B7: F3 | C7: 28 | D7: CB400-V | E7: 11425 | F7: 49 | G7: =E7*F7/1000 -> 559.825 | H7: =VLOOKUP(TruT4!C7,'CKN T4 '!$M$5:$N$14,2,0) -> 4.83 | I7: =G7*H7 -> 2703.9548
A8: 4 | B8: F4 | C8: 28 | D8: CB400-V | E8: 7918 | F8: 73 | G8: =E8*F8/1000 -> 578.014 | H8: =VLOOKUP(TruT4!C8,'CKN T4 '!$M$5:$N$14,2,0) -> 4.83 | I8: =G8*H8 -> 2791.8076
A9: 5 | B9: F5 | C9: 16 | D9: CB400-V | E9: 10900 | F9: 26 | G9: =E9*F9/1000 -> 283.4 | H9: =VLOOKUP(TruT4!C9,'CKN T4 '!$M$5:$N$14,2,0) -> 1.58 | I9: =G9*H9 -> 447.772
A10: 6 | B10: F6 | C10: 16 | D10: CB400-V | E10: 7684 | F10: 26 | G10: =E10*F10/1000 -> 199.784 | H10: =VLOOKUP(TruT4!C10,'CKN T4 '!$M$5:$N$14,2,0) -> 1.58 | I10: =G10*H10 -> 315.65872
A11: 7 | B11: F7 | C11: 18 | D11: CB400-V | E11: 2621 | F11: 171 | G11: =E11*F11/1000 -> 448.191 | H11: =VLOOKUP(TruT4!C11,'CKN T4 '!$M$5:$N$14,2,0) -> 2 | I11: =G11*H11 -> 896.382
A12: 8 | B12: F8 | C12: 16 | D12: CB400-V | E12: 2621 | F12: 98 | G12: =E12*F12/1000 -> 256.858 | H12: =VLOOKUP(TruT4!C12,'CKN T4 '!$M$5:$N$14,2,0) -> 1.58 | I12: =G12*H12 -> 405.83564
A13: 9 | B13: F9 | C13: 16 | D13: CB400-V | E13: 2621 | F13: 146 | G13: =E13*F13/1000 -> 382.666 | H13: =VLOOKUP(TruT4!C13,'CKN T4 '!$M$5:$N$14,2,0) -> 1.58 | I13: =G13*H13 -> 604.61228
B15: STT | C15: Đường kính | D15: Tổng khối lượng
C16: (mm) | D16: (tấn)
B17: 1 | C17: 16 | D17: =SUMIF($C$5:$C$13,C17,$I$5:$I$13)/1000 -> 1.7738786
B18: 2 | C18: 18 | D18: =SUMIF($C$5:$C$13,C18,$I$5:$I$13)/1000 -> 0.896382
B19: 3 | C19: 28 | D19: =SUMIF($C$5:$C$13,C19,$I$5:$I$13)/1000 -> 16.487287
A21: Thân trụ T4
A23: STT | B23: Tên thanh | C23: Đường kính (mm) | D23: Mác thép | E23: Chiều dài (mm) | F23: Số lượng (thanh) | G23: Tổng chiều dài (m) | H23: KLĐV (kG/m) | I23: Khối lượng (kG)
A24: 1 | B24: P1 | C24: 32 | D24: CB400-V | E24: 11181 | F24: 180 | G24: =E24*F24/1000 -> 2012.58 | H24: =VLOOKUP(TruT4!C24,'CKN T4 '!$M$5:$N$14,2,0) -> 6.31 | I24: =G24*H24 -> 12699.38
A25: 2 | B25: P2 | C25: 16 | D25: CB400-V | E25: 9515 | F25: 162 | G25: =E25*F25/1000 -> 1541.43 | H25: =VLOOKUP(TruT4!C25,'CKN T4 '!$M$5:$N$14,2,0) -> 1.58 | I25: =G25*H25 -> 2435.4594
A26: 3 | B26: P3 | C26: 16 | D26: CB400-V | E26: 2049 | F26: 84 | G26: =E26*F26/1000 -> 172.116 | H26: =VLOOKUP(TruT4!C26,'CKN T4 '!$M$5:$N$14,2,0) -> 1.58 | I26: =G26*H26 -> 271.94328
A27: 4 | B27: P4 | C27: 16 | D27: CB400-V | E27: 5747 | F27: 28 | G27: =E27*F27/1000 -> 160.916 | H27: =VLOOKUP(TruT4!C27,'CKN T4 '!$M$5:$N$14,2,0) -> 1.58 | I27: =G27*H27 -> 254.24728
B29: STT | C29: Đường kính | D29: Tổng khối lượng
B30: 1 | C30: 16 | D30: =SUMIF($C$24:$C$27,C30,$I$24:$I$27)/1000 -> 2.96165
B31: 2 | C31: 32 | D31: =SUMIF($C$24:$C$27,C31,$I$24:$I$27)/1000 -> 12.69938
A33: Xà mũ, tường tai, đá kê gối
A35: STT | B35: Tên thanh | C35: Đường kính (mm) | D35: Mác thép | E35: Chiều dài (mm) | F35: Số lượng (thanh) | G35: Tổng chiều dài (m) | H35: KLĐV (kG/m) | I35: Khối lượng (kG)
A36: 1 | B36: H1 | C36: 32 | D36: CB400-V | E36: 11152 | F36: 20 | G36: =E36*F36/1000 -> 223.04 | H36: =VLOOKUP(TruT4!C36,'CKN T4 '!$M$5:$N$14,2,0) -> 6.31 | I36: =G36*H36 -> 1407.3824
A37: 2 | B37: H1A | C37: 32 | D37: CB400-V | E37: 10850 | F37: 20 | G37: =E37*F37/1000 -> 217 | H37: =VLOOKUP(TruT4!C37,'CKN T4 '!$M$5:$N$14,2,0) -> 6.31 | I37: =G37*H37 -> 1369.27
A38: 3 | B38: H2 | C38: 28 | D38: CB400-V | E38: 13589 | F38: 8 | G38: =E38*F38/1000 -> 108.712 | H38: =VLOOKUP(TruT4!C38,'CKN T4 '!$M$5:$N$14,2,0) -> 4.83 | I38: =G38*H38 -> 525.07896
A39: 4 | B39: H2A | C39: 28 | D39: CB400-V | E39: 13389 | F39: 12 | G39: =E39*F39/1000 -> 160.668 | H39: =VLOOKUP(TruT4!C39,'CKN T4 '!$M$5:$N$14,2,0) -> 4.83 | I39: =G39*H39 -> 776.02644
A40: 5 | B40: H3 | C40: 25 | D40: CB400-V | E40: 6606 | F40: 90 | G40: =E40*F40/1000 -> 594.54 | H40: =VLOOKUP(TruT4!C40,'CKN T4 '!$M$5:$N$14,2,0) -> 3.85 | I40: =G40*H40 -> 2288.979
A41: 6 | B41: H3A | C41: 25 | D41: CB400-V | E41: 5686 | F41: 68 | G41: =E41*F41/1000 -> 386.648 | H41: =VLOOKUP(TruT4!C41,'CKN T4 '!$M$5:$N$14,2,0) -> 3.85 | I41: =G41*H41 -> 1488.5948
A42: 7 | B42: H4 | C42: 16 | D42: CB400-V | E42: 5290 | F42: 90 | G42: =E42*F42/1000 -> 476.1 | H42: =VLOOKUP(TruT4!C42,'CKN T4 '!$M$5:$N$14,2,0) -> 1.58 | I42: =G42*H42 -> 752.238
A43: 8 | B43: H4A | C43: 16 | D43: CB400-V | E43: 4480 | F43: 68 | G43: =E43*F43/1000 -> 304.64 | H43: =VLOOKUP(TruT4!C43,'CKN T4 '!$M$5:$N$14,2,0) -> 1.58 | I43: =G43*H43 -> 481.3312
A44: 9 | B44: H5 | C44: 16 | D44: CB400-V | E44: 10850 | F44: 5 | G44: =E44*F44/1000 -> 54.25 | H44: =VLOOKUP(TruT4!C44,'CKN T4 '!$M$5:$N$14,2,0) -> 1.58 | I44: =G44*H44 -> 85.715
A45: 10 | B45: H6 | C45: 16 | D45: CB400-V | E45: 9005 | F45: 10 | G45: =E45*F45/1000 -> 90.05 | H45: =VLOOKUP(TruT4!C45,'CKN T4 '!$M$5:$N$14,2,0) -> 1.58 | I45: =G45*H45 -> 142.279
A46: 11 | B46: H7 | C46: 16 | D46: CB400-V | E46: 1237 | F46: 81 | G46: =E46*F46/1000 -> 100.197 | H46: =VLOOKUP(TruT4!C46,'CKN T4 '!$M$5:$N$14,2,0) -> 1.58 | I46: =G46*H46 -> 158.31126
A47: 12 | B47: H8 | C47: 16 | D47: CB400-V | E47: 2987 | F47: 81 | G47: =E47*F47/1000 -> 241.947 | H47: =VLOOKUP(TruT4!C47,'CKN T4 '!$M$5:$N$14,2,0) -> 1.58 | I47: =G47*H47 -> 382.27626
... A49: 14 | B49: L2 | C49: 10 | D49: CB400-T | E49: 2900 | F49: 40 | G49: =E49*F49/1000 -> 116 | H49: =VLOOKUP(TruT4!C49,'CKN T4 '!$M$5:$N$14,2,0) -> 0.617 | I49: =G49*H49 -> 71.572
...

Sheet Mo M0
A2: Bảng tổng hợp khối lượng mố M0
A4: Hạng mục | B4: Tên thanh | C4: Đường kính | D4: Chiều dài | E4: Số lượng | F4: Tổng dài | G4: KLĐV | H4: Khối lượng | I4: Ghi chú | J4: Quay Lại
C5: (mm) | D5: (mm) | E5: thanh | F5: (mm) | G5: kG/m | H5: kG
A6: Thân mố M0 | B6: N1 | C6: 22 | D6: 5163 | E6: 78 | F6: =ROUND(D6*E6,2)/1000 -> 402.714 | G6: =VLOOKUP(C6,'CKN T4 '!$M$5:$N$14,2,0) -> 2.98 | H6: =ROUND(G6*F6,2) -> 1200.09
B7: N2 | C7: 16 | D7: 5163 | E7: 78 | F7: =ROUND(D7*E7,2)/1000 -> 402.714 | G7: =VLOOKUP(C7,'CKN T4 '!$M$5:$N$14,2,0) -> 1.58 | H7: =ROUND(G7*F7,2) -> 636.29
B8: N3 | C8: 12 | D8: 11550 | E8: 75 | F8: =ROUND(D8*E8,2)/1000 -> 866.25 | G8: =VLOOKUP(C8,'CKN T4 '!$M$5:$N$14,2,0) -> 0.888 | H8: =ROUND(G8*F8,2) -> 769.23
B9: N4 | C9: 16 | D9: 4894 | E9: 78 | F9: =ROUND(D9*E9,2)/1000 -> 381.732 | G9: =VLOOKUP(C9,'CKN T4 '!$M$5:$N$14,2,0) -> 1.58 | H9: =ROUND(G9*F9,2) -> 603.14
B10: N5 | C10: 16 | D10: 1600 | E10: 72 | F10: =ROUND(D10*E10,2)/1000 -> 115.2 | G10: =VLOOKUP(C10,'CKN T4 '!$M$5:$N$14,2,0) -> 1.58 | H10: =ROUND(G10*F10,2) -> 182.02
B11: N6 | C11: 14 | D11: 1940 | E11: 78 | F11: =ROUND(D11*E11,2)/1000 -> 151.32 | G11: =VLOOKUP(C11,'CKN T4 '!$M$5:$N$14,2,0) -> 1.21 | H11: =ROUND(G11*F11,2) -> 183.1
B12: N7 | C12: 12 | D12: 1640 | E12: 72 | F12: =ROUND(D12*E12,2)/1000 -> 118.08 | G12: =VLOOKUP(C12,'CKN T4 '!$M$5:$N$14,2,0) -> 0.888 | H12: =ROUND(G12*F12,2) -> 104.86
B13: N8 | C13: 12 | D13: 640 | E13: 18 | F13: =ROUND(D13*E13,2)/1000 -> 11.52 | G13: =VLOOKUP(C13,'CKN T4 '!$M$5:$N$14,2,0) -> 0.888 | H13: =ROUND(G13*F13,2) -> 10.23
B14: N9 | C14: 12 | D14: 3249 | E14: 38 | F14: =ROUND(D14*E14,2)/1000 -> 123.462 | G14: =VLOOKUP(C14,'CKN T4 '!$M$5:$N$14,2,0) -> 0.888 | H14: =ROUND(G14*F14,2) -> 109.63
B15: N10 | C15: 12 | D15: 1835 | E15: 10 | F15: =ROUND(D15*E15,2)/1000 -> 18.35 | G15: =VLOOKUP(C15,'CKN T4 '!$M$5:$N$14,2,0) -> 0.888 | H15: =ROUND(G15*F15,2) -> 16.29
B16: N11 | C16: 14 | D16: 4845 | E16: 7 | F16: =ROUND(D16*E16,2)/1000 -> 33.915 | G16: =VLOOKUP(C16,'CKN T4 '!$M$5:$N$14,2,0) -> 1.21 | H16: =ROUND(G16*F16,2) -> 41.04
B17: N12 | C17: 14 | D17: 5080 | E17: 7 | F17: =ROUND(D17*E17,2)/1000 -> 35.56 | G17: =VLOOKUP(C17,'CKN T4 '!$M$5:$N$14,2,0) -> 1.21 | H17: =ROUND(G17*F17,2) -> 43.03
A18: Tổng khối lượng | C18: Đường kính | D18: Tấn
C19: 12 | D19: =SUMIF($C$6:$C$17,C19,$H$6:$H$17)/1000 -> 1.01024
C20: 14 | D20: =SUMIF($C$6:$C$17,C20,$H$6:$H$17)/1000 -> 0.26717
C21: 16 | D21: =SUMIF($C$6:$C$17,C21,$H$6:$H$17)/1000 -> 1.42145
C22: 22 | D22: =SUMIF($C$6:$C$17,C22,$H$6:$H$17)/1000 -> 1.20009
A24: H¹ng môc | B24: Tªn thanh | C24: Đ­êng kÝnh | D24: M¸c thÐp | E24: ChiÒu dµi | F24: Sè l­îng | G24: Tæng chiÒu dµi | H24: Khèi l­îng ®¬n vÞ | I24: Khèi l­îng
C25: (mm) | E25: (mm) | F25: (Thanh) | G25: (m) | H25: (Kg/m) | I25: (Kg)
A26: T­êng c¸nh ph¶i mè | B26: F1 | C26: 16 | D26: =+IF(C26<=10,"CB240-T","CB400-V") -> CB400-V | E26: 7153 | F26: 17 | G26: =E26*F26/1000 -> 121.601 | H26: =HLOOKUP(C26,KLDV,2,0) -> 1.58 | I26: =G26*H26 -> 192.12958
B27: F2 | C27: 20 | D27: =+IF(C27<=10,"CB240-T","CB400-V") -> CB400-V | E27: =+E26 -> 7153 | F27: =+F26 -> 17 | G27: =E27*F27/1000 -> 121.601 | H27: =HLOOKUP(C27,KLDV,2,0) -> 2.47 | I27: =G27*H27 -> 300.35447
B28: F3 | C28: 16 | D28: =+IF(C28<=10,"CB240-T","CB400-V") -> CB400-V | E28: 3870 | F28: 15 | G28: =E28*F28/1000 -> 58.05 | H28: =HLOOKUP(C28,KLDV,2,0) -> 1.58 | I28: =G28*H28 -> 91.719
B29: F4 | C29: 20 | D29: =+IF(C29<=10,"CB240-T","CB400-V") -> CB400-V | E29: =+E28 -> 3870 | F29: 15 | G29: =E29*F29/1000 -> 58.05 | H29: =HLOOKUP(C29,KLDV,2,0) -> 2.47 | I29: =G29*H29 -> 143.3835
B30: F5 | C30: 16 | D30: =+IF(C30<=10,"CB240-T","CB400-V") -> CB400-V | E30: 4395 | F30: 7 | G30: =E30*F30/1000 -> 30.765 | H30: =HLOOKUP(C30,KLDV,2,0) -> 1.58 | I30: =G30*H30 -> 48.6087
B31: F6 | C31: 20 | D31: =+IF(C31<=10,"CB240-T","CB400-V") -> CB400-V | E31: =+E30 -> 4395 | F31: 7 | G31: =E31*F31/1000 -> 30.765 | H31: =HLOOKUP(C31,KLDV,2,0) -> 2.47 | I31: =G31*H31 -> 75.98955
B32: F7 | C32: 16 | D32: =+IF(C32<=10,"CB240-T","CB400-V") -> CB400-V | E32: 4466 | F32: 6 | G32: =E32*F32/1000 -> 26.796 | H32: =HLOOKUP(C32,KLDV,2,0) -> 1.58 | I32: =G32*H32 -> 42.33768
B33: F8 | C33: 20 | D33: =+IF(C33<=10,"CB240-T","CB400-V") -> CB400-V | E33: 4610 | F33: =+F32 -> 6 | G33: =E33*F33/1000 -> 27.66 | H33: =HLOOKUP(C33,KLDV,2,0) -> 2.47 | I33: =G33*H33 -> 68.3202
B34: F9 | C34: 16 | D34: =+IF(C34<=10,"CB240-T","CB400-V") -> CB400-V | E34: 4966 | F34: 7 | G34: =E34*F34/1000 -> 34.762 | H34: =HLOOKUP(C34,KLDV,2,0) -> 1.58 | I34: =G34*H34 -> 54.92396
B35: F10 | C35: 20 | D35: =+IF(C35<=10,"CB240-T","CB400-V") -> CB400-V | E35: 5110 | F35: =+F34 -> 7 | G35: =E35*F35/1000 -> 35.77 | H35: =HLOOKUP(C35,KLDV,2,0) -> 2.47 | I35: =G35*H35 -> 88.3519
B36: F11 | C36: 16 | D36: =+IF(C36<=10,"CB240-T","CB400-V") -> CB400-V | E36: 4745 | F36: 3 | G36: =E36*F36/1000 -> 14.235 | H36: =HLOOKUP(C36,KLDV,2,0) -> 1.58 | I36: =G36*H36 -> 22.4913
B37: F12 | C37: 12 | D37: =+IF(C37<=10,"CB240-T","CB400-V") -> CB400-V | E37: 730 | F37: 97 | G37: =E37*F37/1000 -> 70.81 | H37: =HLOOKUP(C37,KLDV,2,0) -> 0.888 | I37: =G37*H37 -> 62.87928
B38: F13 | C38: 14 | D38: =+IF(C38<=10,"CB240-T","CB400-V") -> CB400-V | E38: 1715 | F38: 26 | G38: =E38*F38/1000 -> 44.59 | H38: =HLOOKUP(C38,KLDV,2,0) -> 1.21 | I38: =G38*H38 -> 53.9539
B39: F14 | C39: 14 | D39: =+IF(C39<=10,"CB240-T","CB400-V") -> CB400-V | E39: 2430 | F39: 33 | G39: =E39*F39/1000 -> 80.19 | H39: =HLOOKUP(C39,KLDV,2,0) -> 1.21 | I39: =G39*H39 -> 97.0299
B40: F15 | C40: 14 | D40: =+IF(C40<=10,"CB240-T","CB400-V") -> CB400-V | E40: 1488 | F40: 33 | G40: =E40*F40/1000 -> 49.104 | H40: =HLOOKUP(C40,KLDV,2,0) -> 1.21 | I40: =G40*H40 -> 59.41584
B41: F16 | C41: 12 | D41: =+IF(C41<=10,"CB240-T","CB400-V") -> CB400-V | E41: 4880 | F41: 8 | G41: =E41*F41/1000 -> 39.04 | H41: =HLOOKUP(C41,KLDV,2,0) -> 0.888 | I41: =G41*H41 -> 34.66752
A42: Tæng khèi l­îng
A43: Ph©n lo¹i thÐp | H43: 12 | I43: =SUMIF(C26:C41,H43,I26:I41) -> 97.5468
...

Sheet Tru T1-T3
A2: BỆ TRỤ T1, T2, T3
A4: H¹ng môc | B4: Tªn thanh | C4: Đ­êng kÝnh | D4: M¸c thÐp | E4: ChiÒu dµi | F4: Sè l­îng | G4: Tæng chiÒu dµi | H4: Khèi l­îng ®¬n vÞ | I4: Khèi l­îng | J4: Ghi chó | K4: Quay lai
C5: (mm) | E5: (mm) | F5: (Thanh) | G5: (m) | H5: (Kg/m) | I5: (Kg)
A6: BÖ trô | B6: F1 | C6: 25 | D6: =+IF(C6<=10,"CB240-T","CB400-V") -> CB400-V | E6: 7320 | F6: 39 | G6: =E6*F6/1000 -> 285.48 | H6: =HLOOKUP(C6,KLDV,2,0) -> 3.85 | I6: =ROUND(G6*H6,2) -> 1099.1
B7: F2 | C7: 25 | D7: =+IF(C7<=10,"CB240-T","CB400-V") -> CB400-V | E7: 6320 | F7: 46 | G7: =E7*F7/1000 -> 290.72 | H7: =HLOOKUP(C7,KLDV,2,0) -> 3.85 | I7: =ROUND(G7*H7,2) -> 1119.27
B8: F3 | C8: 20 | D8: =+IF(C8<=10,"CB240-T","CB400-V") -> CB400-V | E8: 7320 | F8: =+F6 -> 39 | G8: =E8*F8/1000 -> 285.48 | H8: =HLOOKUP(C8,KLDV,2,0) -> 2.47 | I8: =ROUND(G8*H8,2) -> 705.14
B9: F4 | C9: 20 | D9: =+IF(C9<=10,"CB240-T","CB400-V") -> CB400-V | E9: 6320 | F9: =+F7 -> 46 | G9: =E9*F9/1000 -> 290.72 | H9: =HLOOKUP(C9,KLDV,2,0) -> 2.47 | I9: =ROUND(G9*H9,2) -> 718.08
B10: F5 | C10: 16 | D10: =+IF(C10<=10,"CB240-T","CB400-V") -> CB400-V | E10: 6820 | F10: =10*2 -> 20 | G10: =E10*F10/1000 -> 136.4 | H10: =HLOOKUP(C10,KLDV,2,0) -> 1.58 | I10: =ROUND(G10*H10,2) -> 215.51
B11: F6 | C11: 16 | D11: =+IF(C11<=10,"CB240-T","CB400-V") -> CB400-V | E11: 6220 | F11: =+F10 -> 20 | G11: =E11*F11/1000 -> 124.4 | H11: =HLOOKUP(C11,KLDV,2,0) -> 1.58 | I11: =ROUND(G11*H11,2) -> 196.55
B12: F7 | C12: 16 | D12: =+IF(C12<=10,"CB240-T","CB400-V") -> CB400-V | E12: 1915 | F12: 72 | G12: =E12*F12/1000 -> 137.88 | H12: =HLOOKUP(C12,KLDV,2,0) -> 1.58 | I12: =ROUND(G12*H12,2) -> 217.85
B13: F8 | C13: 16 | D13: =+IF(C13<=10,"CB240-T","CB400-V") -> CB400-V | E13: =+E12 -> 1915 | F13: =38*2 -> 76 | G13: =E13*F13/1000 -> 145.54 | H13: =HLOOKUP(C13,KLDV,2,0) -> 1.58 | I13: =ROUND(G13*H13,2) -> 229.95
B14: F9 | C14: 16 | D14: =+IF(C14<=10,"CB240-T","CB400-V") -> CB400-V | E14: =+E13 -> 1915 | F14: =+F9*2 -> 92 | G14: =E14*F14/1000 -> 176.18 | H14: =HLOOKUP(C14,KLDV,2,0) -> 1.58 | I14: =ROUND(G14*H14,2) -> 278.36
A15: Tæng khèi l­îng
A16: Ph©n lo¹i thÐp | H16: 16 | I16: =SUMIF($C$6:$C$14,H16,$I$6:$I$14) -> 1138.22
H17: 20 | I17: =SUMIF($C$6:$C$14,H17,$I$6:$I$14) -> 1423.22
H18: 25 | I18: =SUMIF($C$6:$C$14,H18,$I$6:$I$14) -> 2218.37
B19: Tæng khèi l­îng cèt thÐp (kg) | I19: =SUM(I6:I14) -> 4779.81
B20: Bª t«ng bÖ trô 30Mpa (m3) | I20: =ROUND(D26*D27*D28-0.15*D29*PI()*D30*D30/4,2) -> 83.32
B21: Bª t«ng ®Öm 10Mpa (m3) | I21: =ROUND(((D26+0.2)*(D27+0.2)-D29*PI()*D30*D30/4)*0.1,2) -> 4.01
B22: Bª t«ng ®Öm 10Mpa (m3) | I22: =ROUND((D26+0.2)*(D27+0.2)*0.1-PI()*1.2^2*4/4*0.1,2) -> 4.01
B23: QuÐt nhùa (m2) | I23: =I24+D26*D27-9.05 -> 84.95
B24: V¸n khu«n (m2) | I24: =ROUND((D26+D27)*2*D28,2) -> 52
C26: B | D26: 7 | E26: m | F26: =ROUND(8.6*6.2*0.1-5*PI()*0.6*0.6*0.1,2) -> 4.77
C27: L | D27: 6 | E27: m
C28: H | D28: 2 | E28: m
C29: sè cäc | D29: 4 | E29: Cäc
C30: D | D30: 1.2 | E30: m
A32: THÂN TRỤ T1
A34: H¹ng môc | B34: Tªn thanh | C34: Đ­êng kÝnh | D34: M¸c thÐp | E34: ChiÒu dµi | F34: Sè l­îng | G34: Tæng chiÒu dµi | H34: Khèi l­îng ®¬n vÞ | I34: Khèi l­îng | J34: Ghi chó
C35: (mm) | E35: (mm) | F35: (Thanh) | G35: (m) | H35: (Kg/m) | I35: (Kg)
A36: Th©n trô | B36: P1 | C36: 22 | D36: =+IF(C36<=10,"CB240-T","CB400-V") -> CB400-V | E36: 9155 | F36: 88 | G36: =E36*F36/1000 -> 805.64 | H36: =HLOOKUP(C36,KLDV,2,0) -> 2.98 | I36: =G36*H36 -> 2400.8072
B37: P2 | C37: 16 | D37: =+IF(C37<=10,"CB240-T","CB400-V") -> CB400-V | E37: 8887 | F37: 142 | G37: =E37*F37/1000 -> 1261.954 | H37: =HLOOKUP(C37,KLDV,2,0) -> 1.58 | I37: =G37*H37 -> 1993.8873
B38: P3 | C38: 14 | D38: =+IF(C38<=10,"CB240-T","CB400-V") -> CB400-V | E38: 1735 | F38: 60 | G38: =E38*F38/1000 -> 104.1 | H38: =HLOOKUP(C38,KLDV,2,0) -> 1.21 | I38: =G38*H38 -> 125.961
