Workbook
Name _: NA()
Name _?????: NA()
Name ___TB1: #REF!
Name ___TB1: #REF!
Name ___TB1: #REF!
Name ___TB1: #REF!
Name ___TB1: #REF!
Name ___TB1: #REF!
Name ___TB1: #REF!
Name ___TB1: #REF!
Name __0DATA_DATA2_L: NA()
Name __TB1: #REF!
Name __TB1: #REF!
Name __TB1: #REF!
Name __TB1: #REF!
Name __TB1: #REF!
Name __TB1: #REF!
Name __TB1: #REF!
Name __TB1: #REF!
Name _hsm2: 1.1289
Name _L6: NA()
Name _T12: {"Thuxm2.xls","Sheet1"}
Name _TB1: #REF!
Name _TB1: #REF!
Name _TB1: #REF!
Name _TB1: #REF!
Name _TB1: #REF!
Name _TB1: #REF!
Name _TB1: #REF!
Name _TB1: #REF!
Name ao: NA()
Name Arrival_rate: NA()
Name ASDFfg: {"Thuxm2.xls","Sheet1"}
Name beta: 20
Name BetongM150: '[1]chiet tinh'!$B$18:$D$23,'[1]chiet tinh'!$F$18:$F$23
Name BetongM200: '[1]chiet tinh'!$B$35:$D$39,'[1]chiet tinh'!$F$35:$F$39
Name BetongM50: '[1]chiet tinh'!$B$6:$D$8,'[1]chiet tinh'!$F$6:$F$8
Name BocXep: #REF!
Name BocXep: #REF!
Name BocXep: #REF!
Name BocXep: #REF!
Name BocXep: #REF!
Name BocXep: #REF!
Name BocXep: #REF!
Name BocXep: #REF!
Name bùc: {"Book1","Dt tonghop.xls"}
Name BuGia: #REF!
Name BuGia: #REF!
Name BuGia: #REF!
Name BuGia: #REF!
Name BuGia: #REF!
Name BuGia: #REF!
Name BuGia: #REF!
Name BuGia: #REF!
Name Button_1: "FORM_Bao_cao_cong_no_List"
Name camay: [2]maythicong!$B$7:$I$154
Name Capcongtrinh: [3]HESO!#REF!
Name Capcongtrinh: [3]HESO!#REF!
Name Capcongtrinh: [3]HESO!#REF!
Name Capcongtrinh: [3]HESO!#REF!

Sheet DULIEUDAUVAO
A1: Thiết kế bởi Kỹ Sư: Nguyễn Ngọc Cầm - ĐT: 0944.280.369
A2: Công trình : | B2: Dự toán mẫu
A3: Hạng mục : | B3: Dự toán mẫu
A4: C:\Users\Administrator\Google Drive\DTC2018\DON GIA BEN TRE\DON GIA-BEN TRE-2018.xls
A5: - Cộng Vật Liệu (VL) | B5: Đồng | C5: A_Vật Liệu
A6: - Cộng Nhân Công (NC) | B6: Đồng | C6: B_Nhân Công
A7: - Cộng Máy Thi Công (XM) | B7: Đồng | C7: C_Máy Thi Công
A8: Tổng VL - NC - XM
A9: Hệ Số Nhân Công Theo Nhóm | B9: =#REF! -> #REF!
A10: Hệ Số Trượt Giá Nhân Công | B10: =#REF! -> #REF!
A11: Hệ Số Máy Thi Công Theo Nhóm
A12: Hệ Số Trượt Giá Máy Thi Công | B12: =#REF! -> #REF!
A13: Chi phí trực tiếp khác (%) | B13: =#REF! -> #REF!
A14: Chi Phí Chung (%) | B14: =#REF! -> #REF!
A15: Thu Nhập Chịu Thuế Tính Trước (%) | B15: =#REF! -> #REF!
A16: Thuế Giá Trị Gia Tăng (%) | B16: =#REF! -> #REF!
A17: Tỷ Lệ Chi Phí Xây Dựng Nhà Tạm (%) | B17: =#REF! -> #REF!
A18: MHĐG
A19: ĐVT
A20: STT | B20: DIỄN GIẢI | C20: ĐVT | D20: ĐỊNH MỨC | E20: ĐƠN GIÁ | F20: HỢP GIÁ | G20: HỆ SỐ | H20: THÀNH TIỀN
A21: Chi Phí Trực Tiếp Khác (TT)
A22: * Cộng Chi Phí Trực Tiếp (T)
A23: Chi Phí Chung (C)
A24: Thu Nhập Chịu Thuế Tính Trước (TL)
A25: * Chi Phí Xây Dựng Trước Thuế (G)
A26: Chi Phí Xây Dựng Nhà Tạm (Gxdnt)
A27: * Cộng CPXD Trước Thuế (Gxd)
A28: Thuế Giá Trị Gia Tăng (GTGT)
A29: * Cộng Đơn Giá Đấu Thầu (W)
A30: TỔNG GIÁ TRỊ DỰ THẦU :

Sheet DGXDCT_1
A1: BẢNG ĐƠN GIÁ XÂY DỰNG CHI TIẾT TẠM
A2: =DULIEUDAUVAO!A2&DULIEUDAUVAO!B2 -> Công trình :Dự toán mẫu
A3: =DULIEUDAUVAO!A3&DULIEUDAUVAO!B3 -> Hạng mục :Dự toán mẫu
A5: STT | B5: MHĐM | C5: KH | D5: TÊN CÔNG VIỆC | E5: ĐVT | F5: ĐỊNH MỨC | G5: ĐƠN GIÁ | H5: KHỐI LƯỢNG
A6: =#REF! -> #REF! | B6: * | D6: BÊ TÔNG LỘ ĐÊ | H6: =#REF! -> #REF!
A7: =#REF! -> #REF! | B7: AB.24111 | D7: Đào xúc đất mặt bờ bao | E7: 100m3 | H7: =#REF! -> #REF!
C8: 2 | D8: Công nhân XD, nhóm I - bậc 3,0/7 | E8: công | F8: 0.5 | G8: =VLOOKUP(DGXDCT_1!$D$8,#REF!,4,0) -> #REF!
C9: 3 | D9: Máy đào BX 0,4m3 | E9: ca | F9: 0.416 | G9: =VLOOKUP(DGXDCT_1!$D$9,#REF!,4,0) -> #REF!
C10: 3 | D10: Máy ủi 110cv | E10: ca | F10: 0.027 | G10: =VLOOKUP(DGXDCT_1!$D$10,#REF!,4,0) -> #REF!
A11: =#REF! -> #REF! | B11: AB.24111 | D11: Đào xúc đất đắp vị trí tránh xe | E11: 100m3 | H11: =#REF! -> #REF!
C12: 2 | D12: Công nhân XD, nhóm I - bậc 3,0/7 | E12: công | F12: 0.5 | G12: =VLOOKUP(DGXDCT_1!$D$12,#REF!,4,0) -> #REF!
C13: 3 | D13: Máy đào BX 0,4m3 | E13: ca | F13: 0.416 | G13: =VLOOKUP(DGXDCT_1!$D$13,#REF!,4,0) -> #REF!
C14: 3 | D14: Máy ủi 110cv | E14: ca | F14: 0.027 | G14: =VLOOKUP(DGXDCT_1!$D$14,#REF!,4,0) -> #REF!
A15: =#REF! -> #REF! | B15: ĐĐ.0202 | D15: Đắp bờ bao tạo thềm bằng máy đào 0,65m3 và đầm cóc 50kg, K=0,90 | E15: 100m3 | H15: =#REF! -> #REF!
C16: 2 | D16: Công nhân XD, nhóm I - bậc 3,0/7 | E16: công | F16: 1.74 | G16: =VLOOKUP(DGXDCT_1!$D$16,#REF!,4,0) -> #REF!
C17: 3 | D17: Máy đào BX 0,65m3 | E17: ca | F17: 0.415 | G17: =VLOOKUP(DGXDCT_1!$D$17,#REF!,4,0) -> #REF!
C18: 3 | D18: Máy đầm cóc | E18: ca | F18: 4.42 | G18: =VLOOKUP(DGXDCT_1!$D$18,#REF!,4,0) -> #REF!
A19: =#REF! -> #REF! | B19: AB.24111 | D19: Đào xúc đất đổ lên ô tô vận chuyển | E19: 100m3 | H19: =#REF! -> #REF!
C20: 2 | D20: Công nhân XD, nhóm I - bậc 3,0/7 | E20: công | F20: 0.5 | G20: =VLOOKUP(DGXDCT_1!$D$20,#REF!,4,0) -> #REF!
C21: 3 | D21: Máy đào BX 0,4m3 | E21: ca | F21: 0.416 | G21: =VLOOKUP(DGXDCT_1!$D$21,#REF!,4,0) -> #REF!
C22: 3 | D22: Máy ủi 110cv | E22: ca | F22: 0.027 | G22: =VLOOKUP(DGXDCT_1!$D$22,#REF!,4,0) -> #REF!
A23: =#REF! -> #REF! | B23: AB.42111/2 | D23: Vận chuyển đất 2km ô tô 5T | E23: 100m3 | H23: =#REF! -> #REF!
C24: 3 | D24: Ô tô tự đổ 5T | E24: ca | F24: 1.771 | G24: =VLOOKUP(DGXDCT_1!$D$24,#REF!,4,0) -> #REF!
A25: =#REF! -> #REF! | B25: AD.25121 | D25: Lu lèn lại mặt đường cũ, K≥0,95 | E25: 100m2 | H25: =#REF! -> #REF!
C26: 2 | D26: Công nhân XD, nhóm I - bậc 3,5/7 | E26: công | F26: 1.2 | G26: =VLOOKUP(DGXDCT_1!$D$26,#REF!,4,0) -> #REF!
C27: 3 | D27: Ô tô tưới nước 5m3 | E27: ca | F27: 0.15 | G27: =VLOOKUP(DGXDCT_1!$D$27,#REF!,4,0) -> #REF!
C28: 3 | D28: Máy đầm BH tự hành 25T | E28: ca | F28: 0.3 | G28: =VLOOKUP(DGXDCT_1!$D$28,#REF!,4,0) -> #REF!
C29: 3 | D29: Máy san tự hành 108cv | E29: ca | F29: 0.15 | G29: =VLOOKUP(DGXDCT_1!$D$29,#REF!,4,0) -> #REF!
C30: 3 | D30: MTC# | E30: % | F30: 2 | G30: =VLOOKUP(DGXDCT_1!$D$30,#REF!,4,0) -> #REF!
A31: =#REF! -> #REF! | B31: AD.11212A | D31: Trải CPĐD Dmax=37,5mm | E31: 100m3 | H31: =#REF! -> #REF!
C32: 1 | D32: CPĐD Dmax=37.5mm | E32: m3 | F32: 142 | G32: =VLOOKUP(DGXDCT_1!$D$32,#REF!,4,0) -> #REF!
C33: 2 | D33: Công nhân XD, nhóm I - bậc 4,0/7 | E33: công | F33: 3.9 | G33: =VLOOKUP(DGXDCT_1!$D$33,#REF!,4,0) -> #REF!
C34: 3 | D34: Máy ủi 110cv | E34: ca | F34: 0.42 | G34: =VLOOKUP(DGXDCT_1!$D$34,#REF!,4,0) -> #REF!
C35: 3 | D35: Máy san tự hành 108cv | E35: ca | F35: 0.08 | G35: =VLOOKUP(DGXDCT_1!$D$35,#REF!,4,0) -> #REF!
C36: 3 | D36: Máy đầm rung tự hành 25T | E36: ca | F36: 0.21 | G36: =VLOOKUP(DGXDCT_1!$D$36,#REF!,4,0) -> #REF!
C37: 3 | D37: Máy đầm BH tự hành 16T | E37: ca | F37: 0.34 | G37: =VLOOKUP(DGXDCT_1!$D$37,#REF!,4,0) -> #REF!
C38: 3 | D38: Máy đầm bánh thép tự hành 10T | E38: ca | F38: 0.21 | G38: =VLOOKUP(DGXDCT_1!$D$38,#REF!,4,0) -> #REF!
C39: 3 | D39: Ô tô tưới nước 5m3 | E39: ca | F39: 0.21 | G39: =VLOOKUP(DGXDCT_1!$D$39,#REF!,4,0) -> #REF!
C40: 3 | D40: MTC# | E40: % | F40: 0.5 | G40: =VLOOKUP(DGXDCT_1!$D$40,#REF!,4,0) -> #REF!
A41: =#REF! -> #REF! | B41: AL.16121C | D41: Trải vải nhựa lót đổ bê tông mặt đê | E41: 100m2 | H41: =#REF! -> #REF!
C42: 1 | D42: Vải nhựa | E42: m2 | F42: 110 | G42: =VLOOKUP(DGXDCT_1!$D$42,#REF!,4,0) -> #REF!
C43: 1 | D43: VL# | E43: % | F43: 0.2 | G43: =VLOOKUP(DGXDCT_1!$D$43,#REF!,4,0) -> #REF!
C44: 2 | D44: Công nhân XD, nhóm I - bậc 3,5/7 | E44: công | F44: 1.18 | G44: =VLOOKUP(DGXDCT_1!$D$44,#REF!,4,0) -> #REF!
A45: =#REF! -> #REF! | B45: AF.82411 | D45: Ván khuôn đổ bê tông mặt đê | E45: 100m2 | H45: =#REF! -> #REF!
C46: 1 | D46: Thép tấm | E46: kg | F46: 31.5 | G46: =VLOOKUP(DGXDCT_1!$D$46,#REF!,4,0) -> #REF!
C47: 1 | D47: VL# | E47: % | F47: 5 | G47: =VLOOKUP(DGXDCT_1!$D$47,#REF!,4,0) -> #REF!
C48: 2 | D48: Công nhân XD, nhóm I - bậc 4,5/7 | E48: công | F48: 11.5 | G48: =VLOOKUP(DGXDCT_1!$D$48,#REF!,4,0) -> #REF!
A49: =#REF! -> #REF! | B49: AF.15414 | D49: Bê tông mặt đê đá 1x2 M250 | E49: m3 | H49: =#REF! -> #REF!
C50: 1 | D50: Xi măng PC40 | E50: kg | F50: 335.175 | G50: =VLOOKUP(DGXDCT_1!$D$50,#REF!,4,0) -> #REF!
C51: 1 | D51: Cát vàng hạt to | E51: m3 | F51: 0.486875 | G51: =VLOOKUP(DGXDCT_1!$D$51,#REF!,4,0) -> #REF!
C52: 1 | D52: Đá 1x2 | E52: m3 | F52: 0.903025 | G52: =VLOOKUP(DGXDCT_1!$D$52,#REF!,4,0) -> #REF!
C53: 1 | D53: Nước | E53: lít | F53: 189.625 | G53: =VLOOKUP(DGXDCT_1!$D$53,#REF!,4,0) -> #REF!
C54: 1 | D54: Gỗ làm khe co dãn | E54: m3 | F54: 0.014 | G54: =VLOOKUP(DGXDCT_1!$D$54,#REF!,4,0) -> #REF!
C55: 1 | D55: Nhựa đường | E55: kg | F55: 3.5 | G55: =VLOOKUP(DGXDCT_1!$D$55,#REF!,4,0) -> #REF!
C56: 1 | D56: VL# | E56: % | F56: 1.5 | G56: =VLOOKUP(DGXDCT_1!$D$56,#REF!,4,0) -> #REF!
C57: 2 | D57: Công nhân XD, nhóm I - bậc 4,0/7 | E57: công | F57: 1.82 | G57: =VLOOKUP(DGXDCT_1!$D$57,#REF!,4,0) -> #REF!
C58: 3 | D58: Máy trộn BT 500lít | E58: ca | F58: 0.095 | G58: =VLOOKUP(DGXDCT_1!$D$58,#REF!,4,0) -> #REF!
C59: 3 | D59: Máy đầm bàn BT 1Kw | E59: ca | F59: 0.089 | G59: =VLOOKUP(DGXDCT_1!$D$59,#REF!,4,0) -> #REF!
C60: 3 | D60: Máy đầm dùi BT 1,5Kw | E60: ca | F60: 0.089 | G60: =VLOOKUP(DGXDCT_1!$D$60,#REF!,4,0) -> #REF!
C61: 3 | D61: MTC# | E61: % | F61: 5 | G61: =VLOOKUP(DGXDCT_1!$D$61,#REF!,4,0) -> #REF!
A62: =#REF! -> #REF! | B62: * | D62: CỌC TIÊU VÀ BIỂN BÁO | H62: =#REF! -> #REF!
A63: =#REF! -> #REF! | B63: AG.13111/Ø6 | D63: Cốt thép cọc tiêu Ø6mm | E63: tấn | H63: =#REF! -> #REF!
C64: 1 | D64: Thép tròn D=6mm | E64: kg | F64: 1005 | G64: =VLOOKUP(DGXDCT_1!$D$64,#REF!,4,0) -> #REF!
C65: 1 | D65: Kẽm buộc | E65: kg | F65: 21.42 | G65: =VLOOKUP(DGXDCT_1!$D$65,#REF!,4,0) -> #REF!
C66: 2 | D66: Công nhân XD, nhóm I - bậc 3,5/7 | E66: công | F66: 14.25 | G66: =VLOOKUP(DGXDCT_1!$D$66,#REF!,4,0) -> #REF!
C67: 3 | D67: Máy cắt uốn C/T 5Kw | E67: ca | F67: 0.4 | G67: =VLOOKUP(DGXDCT_1!$D$67,#REF!,4,0) -> #REF!
A68: =#REF! -> #REF! | B68: AG.13111/Ø10 | D68: Cốt thép cọc tiêu Ø10mm | E68: tấn | H68: =#REF! -> #REF!
C69: 1 | D69: Thép tròn D=10mm | E69: kg | F69: 1005 | G69: =VLOOKUP(DGXDCT_1!$D$69,#REF!,4,0) -> #REF!
C70: 1 | D70: Kẽm buộc | E70: kg | F70: 21.42 | G70: =VLOOKUP(DGXDCT_1!$D$70,#REF!,4,0) -> #REF!
C71: 2 | D71: Công nhân XD, nhóm I - bậc 3,5/7 | E71: công | F71: 14.25 | G71: =VLOOKUP(DGXDCT_1!$D$71,#REF!,4,0) -> #REF!
C72: 3 | D72: Máy cắt uốn C/T 5Kw | E72: ca | F72: 0.4 | G72: =VLOOKUP(DGXDCT_1!$D$72,#REF!,4,0) -> #REF!
A73: =#REF! -> #REF! | B73: AG.11113A | D73: Bê tông cọc đá 1x2 M200 | E73: m3 | H73: =#REF! -> #REF!
C74: 1 | D74: Xi măng PC40 | E74: kg | F74: 300.44 | G74: =VLOOKUP(DGXDCT_1!$D$74,#REF!,4,0) -> #REF!
C75: 1 | D75: Cát vàng hạt to | E75: m3 | F75: 0.482125 | G75: =VLOOKUP(DGXDCT_1!$D$75,#REF!,4,0) -> #REF!
C76: 1 | D76: Đá 1x2 | E76: m3 | F76: 0.894215 | G76: =VLOOKUP(DGXDCT_1!$D$76,#REF!,4,0) -> #REF!
C77: 1 | D77: Nước | E77: lít | F77: 197.925 | G77: =VLOOKUP(DGXDCT_1!$D$77,#REF!,4,0) -> #REF!
C78: 1 | D78: VL# | E78: % | F78: 0.5 | G78: =VLOOKUP(DGXDCT_1!$D$78,#REF!,4,0) -> #REF!
C79: 2 | D79: Công nhân XD, nhóm I - bậc 3,0/7 | E79: công | F79: 1.83 | G79: =VLOOKUP(DGXDCT_1!$D$79,#REF!,4,0) -> #REF!
C80: 3 | D80: Máy trộn BT 250lít | E80: ca | F80: 0.095 | G80: =VLOOKUP(DGXDCT_1!$D$80,#REF!,4,0) -> #REF!
C81: 3 | D81: Máy đầm dùi BT 1,5Kw | E81: ca | F81: 0.18 | G81: =VLOOKUP(DGXDCT_1!$D$81,#REF!,4,0) -> #REF!
C82: 3 | D82: MTC# | E82: % | F82: 10 | G82: =VLOOKUP(DGXDCT_1!$D$82,#REF!,4,0) -> #REF!
A83: =#REF! -> #REF! | B83: AG.32321 | D83: Ván khuôn đổ bê tông cọc tiêu | E83: 100m2 | H83: =#REF! -> #REF!
C84: 1 | D84: Thép tấm | E84: kg | F84: 34.54 | G84: =VLOOKUP(DGXDCT_1!$D$84,#REF!,4,0) -> #REF!
C85: 1 | D85: Thép hình | E85: kg | F85: 13.95 | G85: =VLOOKUP(DGXDCT_1!$D$85,#REF!,4,0) -> #REF!
C86: 1 | D86: Que hàn | E86: kg | F86: 1.22 | G86: =VLOOKUP(DGXDCT_1!$D$86,#REF!,4,0) -> #REF!
C87: 1 | D87: VL# | E87: % | F87: 5 | G87: =VLOOKUP(DGXDCT_1!$D$87,#REF!,4,0) -> #REF!
C88: 2 | D88: Công nhân XD, nhóm I - bậc 3,5/7 | E88: công | F88: 25.84 | G88: =VLOOKUP(DGXDCT_1!$D$88,#REF!,4,0) -> #REF!
C89: 3 | D89: Máy hàn xoay chiều 23 KW | E89: ca | F89: 0.44 | G89: =VLOOKUP(DGXDCT_1!$D$89,#REF!,4,0) -> #REF!
C90: 3 | D90: MTC# | E90: % | F90: 10 | G90: =VLOOKUP(DGXDCT_1!$D$90,#REF!,4,0) -> #REF!
A91: =#REF! -> #REF! | B91: AK.84423A | D91: Sơn dầu 2 lớp | E91: m2 | H91: =#REF! -> #REF!
C92: 1 | D92: Sơn dầu | E92: kg | F92: 0.27 | G92: =VLOOKUP(DGXDCT_1!$D$92,#REF!,4,0) -> #REF!
C93: 1 | D93: VL# | E93: % | F93: 1 | G93: =VLOOKUP(DGXDCT_1!$D$93,#REF!,4,0) -> #REF!
C94: 2 | D94: Công nhân XD, nhóm I - bậc 3,5/7 | E94: công | F94: 0.051 | G94: =VLOOKUP(DGXDCT_1!$D$94,#REF!,4,0) -> #REF!
A95: =#REF! -> #REF! | B95: AB.11411 | D95: Đào đất trồng cọc tiêu và biển báo | E95: m3 | H95: =#REF! -> #REF!
C96: 2 | D96: Công nhân XD, nhóm I - bậc 3,0/7 | E96: công | F96: 0.76 | G96: =VLOOKUP(DGXDCT_1!$D$96,#REF!,4,0) -> #REF!
A97: =#REF! -> #REF! | B97: AF.11212 | D97: Bê tông móng cọc đá 1x2 M150 | E97: m3 | H97: =#REF! -> #REF!
C98: 1 | D98: Xi măng PC40 | E98: kg | F98: 238.825 | G98: =VLOOKUP(DGXDCT_1!$D$98,#REF!,4,0) -> #REF!
C99: 1 | D99: Cát vàng hạt to | E99: m3 | F99: 0.52275 | G99: =VLOOKUP(DGXDCT_1!$D$99,#REF!,4,0) -> #REF!
C100: 1 | D100: Đá 1x2 | E100: m3 | F100: 0.925575 | G100: =VLOOKUP(DGXDCT_1!$D$100,#REF!,4,0) -> #REF!
C101: 1 | D101: Nước | E101: lít | F101: 189.625 | G101: =VLOOKUP(DGXDCT_1!$D$101,#REF!,4,0) -> #REF!
...

Sheet THDGDT
A1: BẢNG TỔNG HỢP ĐƠN GIÁ DỰ THẦU
A2: =#REF! -> #REF!
A3: =#REF! -> #REF!
F4: Đơn vị tính: đồng
A5: STT | B5: TÊN HẠNG MỤC CÔNG VIỆC | C5: ĐƠN VỊ | D5: KHỐI LƯỢNG | E5: ĐƠN GIÁ | F5: THÀNH TIỀN
A6: * | B6: NHẬP TÊN HẠNG MỤC CÔNG VIỆC
A7: ** | B7: NHẬP TÊN CỦA HẠNG MỤC CÔNG VIỆC
A8: =DGCTDT!A9 -> #REF! | B8: Rải vải địa kỹ thuật làm nền đường | C8: 100m2 | D8: =DGCTDT!O7 -> #REF! | E8: =DGCTDT!K24 -> #REF! | F8: =ROUND(D8*E8,0) -> #REF!
A9: =DGCTDT!A28 -> #REF! | B9: Đắp cát công trình bằng máy đầm 9T, K=0,95 | C9: 100m3 | D9: =DGCTDT!O26 -> #REF! | E9: =DGCTDT!K47 -> #REF! | F9: =ROUND(D9*E9,0) -> #REF!
A10: ** | B10: NHẬP TÊN CỦA HẠNG MỤC CÔNG VIỆC
A11: =DGCTDT!A52 -> #REF! | B11: Đóng cọc gỗ (hoặc cọc tràm) ngập đất, cọc >2,5m, đất C1 | C11: 100m | D11: =DGCTDT!O50 -> #REF! | E11: =DGCTDT!K69 -> #REF! | F11: =ROUND(D11*E11,0) -> #REF!
A12: =DGCTDT!A73 -> #REF! | B12: Rải vải địa kỹ thuật làm nền đường | C12: 100m2 | D12: =DGCTDT!O71 -> #REF! | E12: =DGCTDT!K88 -> #REF! | F12: =ROUND(D12*E12,0) -> #REF!
B13: TỔNG GIÁ TRỊ DỰ THẦU : | F13: =SUM(F6:F12) -> #REF!

Sheet DGCTDT
A1: BẢNG ĐƠN GIÁ CHI TIẾT DỰ THẦU
A2: =#REF! -> #REF!
A3: =#REF! -> #REF!
A5: * NHẬP TÊN HẠNG MỤC CÔNG VIỆC | L5: * | M5: NHẬP TÊN HẠNG MỤC CÔNG VIỆC | O5: =DGXDCT_1!#REF! -> #REF! | P5: HM
A6: ** NHẬP TÊN CỦA HẠNG MỤC CÔNG VIỆC | L6: ** | M6: NHẬP TÊN CỦA HẠNG MỤC CÔNG VIỆC | O6: =DGXDCT_1!#REF! -> #REF! | P6: HM
A7: MHĐG : AL.16121 Rải vải địa kỹ thuật làm nền đường | K7: ĐVT : 100m2 | L7: AL.16121 | M7: Rải vải địa kỹ thuật làm nền đường | N7: 100m2 | O7: =DGXDCT_1!#REF! -> #REF! | P7: A
A8: STT | B8: DIỄN GIẢI | C8: ĐVT | D8: ĐỊNH MỨC | E8: ĐƠN GIÁ | F8: HỢP GIÁ | G8: HỆ SỐ | K8: THÀNH TIỀN | P8: B
A9: =DGXDCT_1!#REF! -> #REF! | B9: A_Vật Liệu | P9: 1
B10: Vải địa kỹ thuật | C10: m2 | D10: 110 | E10: =VLOOKUP(DGCTDT!$B$10,#REF!,4,0) -> #REF! | F10: =ROUND(D10*E10,0) -> #REF! | P10: 1
B11: VL# | C11: % | D11: 0.2 | E11: =SUM(F10:F10) -> #REF! | F11: =ROUND(D11*E11/100,0) -> #REF! | P11: 1
B12: - Cộng Vật Liệu (VL) | C12: Đồng | F12: =SUM(F10:F11) -> #REF! | K12: =F12 -> #REF! | P12: VL
B13: B_Nhân Công | P13: 2
B14: Nhân công 3,5/7 | C14: công | D14: 1.18 | E14: =VLOOKUP(DGCTDT!$B$14,#REF!,4,0) -> #REF! | F14: =ROUND(D14*E14,0) -> #REF! | P14: 2
B15: - Cộng Nhân Công (NC) | C15: Đồng | F15: =SUM(F14:F14) -> #REF! | G15: * | H15: =DULIEUDAUVAO!B10 -> #REF! | I15: * | J15: =DULIEUDAUVAO!B9 -> #REF! | K15: =ROUND(F15*H15*J15,0) -> #REF! | P15: NC
B16: Chi Phí Trực Tiếp Khác (TT) | C16: Đồng | D16: (VL+NC+XM) | G16: * | H16: =DULIEUDAUVAO!B13 -> #REF! | I16: % | K16: =ROUND((K12+K15)*H16/100,0) -> #REF! | P16: TT
B17: * Cộng Chi Phí Trực Tiếp (T) | C17: Đồng | D17: (VL+NC+XM+TT) | K17: =K12+K15+K16 -> #REF! | P17: T
B18: Chi Phí Chung (C) | C18: Đồng | D18: T | G18: * | H18: =DULIEUDAUVAO!B14 -> #REF! | I18: % | K18: =ROUND(K17*H18/100,0) -> #REF! | P18: C
B19: Thu Nhập Chịu Thuế Tính Trước (TL) | C19: Đồng | D19: (T+C) | G19: * | H19: =DULIEUDAUVAO!B15 -> #REF! | I19: % | K19: =ROUND((K17+K18)*H19/100,0) -> #REF! | P19: TL
B20: * Chi Phí Xây Dựng Trước Thuế (G) | C20: Đồng | D20: T+C+TL | K20: =K17+K18+K19 -> #REF! | P20: G
B21: Chi Phí Xây Dựng Nhà Tạm (Gxdnt) | C21: Đồng | D21: G | G21: * | H21: =DULIEUDAUVAO!B17 -> #REF! | I21: % | K21: =ROUND(K20*H21/100,0) -> #REF! | P21: Gxdnt
B22: * Cộng CPXD Trước Thuế (Gxd) | C22: Đồng | D22: G+Gxdnt | K22: =K20+K21 -> #REF! | P22: Gxd
B23: Thuế Giá Trị Gia Tăng (GTGT) | C23: Đồng | D23: Gxd | G23: * | H23: =DULIEUDAUVAO!B16 -> #REF! | I23: % | K23: =ROUND(K22*H23/100,0) -> #REF! | P23: GTGT
B24: * Cộng Đơn Giá Đấu Thầu (W) | C24: Đồng | D24: Gxd+GTGT | K24: =K22+K23 -> #REF! | P24: W
P25: END
A26: MHĐG : AB.66113 Đắp cát công trình bằng máy đầm 9T, K=0,95 | K26: ĐVT : 100m3 | L26: AB.66113 | M26: Đắp cát công trình bằng máy đầm 9T, K=0,95 | N26: 100m3 | O26: =DGXDCT_1!#REF! -> #REF! | P26: A
A27: STT | B27: DIỄN GIẢI | C27: ĐVT | D27: ĐỊNH MỨC | E27: ĐƠN GIÁ | F27: HỢP GIÁ | G27: HỆ SỐ | K27: THÀNH TIỀN | P27: B
A28: =DGXDCT_1!#REF! -> #REF! | B28: A_Vật Liệu | P28: 1
B29: Cát sông | C29: m3 | D29: 122 | E29: =VLOOKUP(DGCTDT!$B$29,#REF!,4,0) -> #REF! | F29: =ROUND(D29*E29,0) -> #REF! | P29: 1
B30: - Cộng Vật Liệu (VL) | C30: Đồng | F30: =SUM(F29:F29) -> #REF! | K30: =F30 -> #REF! | P30: VL
B31: B_Nhân Công | P31: 2
B32: Nhân công 3,0/7 | C32: công | D32: 1.5 | E32: =VLOOKUP(DGCTDT!$B$32,#REF!,4,0) -> #REF! | F32: =ROUND(D32*E32,0) -> #REF! | P32: 2
B33: - Cộng Nhân Công (NC) | C33: Đồng | F33: =SUM(F32:F32) -> #REF! | G33: * | H33: =DULIEUDAUVAO!B10 -> #REF! | I33: * | J33: =DULIEUDAUVAO!B9 -> #REF! | K33: =ROUND(F33*H33*J33,0) -> #REF! | P33: NC
B34: C_Máy Thi Công | P34: 3
B35: Máy đầm BH tự hành 9T | C35: ca | D35: 0.342 | E35: =VLOOKUP(DGCTDT!$B$35,#REF!,4,0) -> #REF! | F35: =ROUND(D35*E35,0) -> #REF! | P35: 3
B36: Máy ủi 108cv | C36: ca | D36: 0.171 | E36: =VLOOKUP(DGCTDT!$B$36,#REF!,4,0) -> #REF! | F36: =ROUND(D36*E36,0) -> #REF! | P36: 3
B37: MTC# | C37: % | D37: 1.5 | E37: =SUM(F35:F36) -> #REF! | F37: =ROUND(D37*E37/100,0) -> #REF! | P37: 3
B38: - Cộng Máy Thi Công (XM) | C38: Đồng | F38: =SUM(F35:F37) -> #REF! | G38: * | H38: =DULIEUDAUVAO!B12 -> #REF! | K38: =ROUND(F38*H38,0) -> #REF! | P38: XM
B39: Chi Phí Trực Tiếp Khác (TT) | C39: Đồng | D39: (VL+NC+XM) | G39: * | H39: =DULIEUDAUVAO!B13 -> #REF! | I39: % | K39: =ROUND((K30+K33+K38)*H39/100,0) -> #REF! | P39: TT
B40: * Cộng Chi Phí Trực Tiếp (T) | C40: Đồng | D40: (VL+NC+XM+TT) | K40: =K30+K33+K38+K39 -> #REF! | P40: T
B41: Chi Phí Chung (C) | C41: Đồng | D41: T | G41: * | H41: =DULIEUDAUVAO!B14 -> #REF! | I41: % | K41: =ROUND(K40*H41/100,0) -> #REF! | P41: C
B42: Thu Nhập Chịu Thuế Tính Trước (TL) | C42: Đồng | D42: (T+C) | G42: * | H42: =DULIEUDAUVAO!B15 -> #REF! | I42: % | K42: =ROUND((K40+K41)*H42/100,0) -> #REF! | P42: TL
B43: * Chi Phí Xây Dựng Trước Thuế (G) | C43: Đồng | D43: T+C+TL | K43: =K40+K41+K42 -> #REF! | P43: G
B44: Chi Phí Xây Dựng Nhà Tạm (Gxdnt) | C44: Đồng | D44: G | G44: * | H44: =DULIEUDAUVAO!B17 -> #REF! | I44: % | K44: =ROUND(K43*H44/100,0) -> #REF! | P44: Gxdnt
B45: * Cộng CPXD Trước Thuế (Gxd) | C45: Đồng | D45: G+Gxdnt | K45: =K43+K44 -> #REF! | P45: Gxd
B46: Thuế Giá Trị Gia Tăng (GTGT) | C46: Đồng | D46: Gxd | G46: * | H46: =DULIEUDAUVAO!B16 -> #REF! | I46: % | K46: =ROUND(K45*H46/100,0) -> #REF! | P46: GTGT
B47: * Cộng Đơn Giá Đấu Thầu (W) | C47: Đồng | D47: Gxd+GTGT | K47: =K45+K46 -> #REF! | P47: W
P48: END
A49: ** NHẬP TÊN CỦA HẠNG MỤC CÔNG VIỆC | L49: ** | M49: NHẬP TÊN CỦA HẠNG MỤC CÔNG VIỆC | O49: =DGXDCT_1!#REF! -> #REF! | P49: HM
A50: MHĐG : AC.11221 Đóng cọc gỗ (hoặc cọc tràm) ngập đất, cọc >2,5m, đất C1 | K50: ĐVT : 100m | L50: AC.11221 | M50: Đóng cọc gỗ (hoặc cọc tràm) ngập đất, cọc >2,5m, đất C1 | N50: 100m | O50: =DGXDCT_1!#REF! -> #REF! | P50: A
A51: STT | B51: DIỄN GIẢI | C51: ĐVT | D51: ĐỊNH MỨC | E51: ĐƠN GIÁ | F51: HỢP GIÁ | G51: HỆ SỐ | K51: THÀNH TIỀN | P51: B
A52: =DGXDCT_1!#REF! -> #REF! | B52: A_Vật Liệu | P52: 1
B53: Cừ tràm | C53: m | D53: 105 | E53: =VLOOKUP(DGCTDT!$B$53,#REF!,4,0) -> #REF! | F53: =ROUND(D53*E53,0) -> #REF! | P53: 1
B54: Cây chống | C54: cây | D54: 1.73 | E54: =VLOOKUP(DGCTDT!$B$54,#REF!,4,0) -> #REF! | F54: =ROUND(D54*E54,0) -> #REF! | P54: 1
B55: Gỗ ván khuôn | C55: m3 | D55: 0.012 | E55: =VLOOKUP(DGCTDT!$B$55,#REF!,4,0) -> #REF! | F55: =ROUND(D55*E55,0) -> #REF! | P55: 1
B56: VL# | C56: % | D56: 3 | E56: =SUM(F53:F55) -> #REF! | F56: =ROUND(D56*E56/100,0) -> #REF! | P56: 1
B57: - Cộng Vật Liệu (VL) | C57: Đồng | F57: =SUM(F53:F56) -> #REF! | K57: =F57 -> #REF! | P57: VL
B58: B_Nhân Công | P58: 2
B59: Nhân công 3,5/7 | C59: công | D59: 3.27 | E59: =VLOOKUP(DGCTDT!$B$59,#REF!,4,0) -> #REF! | F59: =ROUND(D59*E59,0) -> #REF! | P59: 2
B60: - Cộng Nhân Công (NC) | C60: Đồng | F60: =SUM(F59:F59) -> #REF! | G60: * | H60: =DULIEUDAUVAO!B10 -> #REF! | I60: * | J60: =DULIEUDAUVAO!B9 -> #REF! | K60: =ROUND(F60*H60*J60,0) -> #REF! | P60: NC
B61: Chi Phí Trực Tiếp Khác (TT) | C61: Đồng | D61: (VL+NC+XM) | G61: * | H61: =DULIEUDAUVAO!B13 -> #REF! | I61: % | K61: =ROUND((K57+K60)*H61/100,0) -> #REF! | P61: TT
B62: * Cộng Chi Phí Trực Tiếp (T) | C62: Đồng | D62: (VL+NC+XM+TT) | K62: =K57+K60+K61 -> #REF! | P62: T
B63: Chi Phí Chung (C) | C63: Đồng | D63: T | G63: * | H63: =DULIEUDAUVAO!B14 -> #REF! | I63: % | K63: =ROUND(K62*H63/100,0) -> #REF! | P63: C
B64: Thu Nhập Chịu Thuế Tính Trước (TL) | C64: Đồng | D64: (T+C) | G64: * | H64: =DULIEUDAUVAO!B15 -> #REF! | I64: % | K64: =ROUND((K62+K63)*H64/100,0) -> #REF! | P64: TL
B65: * Chi Phí Xây Dựng Trước Thuế (G) | C65: Đồng | D65: T+C+TL | K65: =K62+K63+K64 -> #REF! | P65: G
B66: Chi Phí Xây Dựng Nhà Tạm (Gxdnt) | C66: Đồng | D66: G | G66: * | H66: =DULIEUDAUVAO!B17 -> #REF! | I66: % | K66: =ROUND(K65*H66/100,0) -> #REF! | P66: Gxdnt
B67: * Cộng CPXD Trước Thuế (Gxd) | C67: Đồng | D67: G+Gxdnt | K67: =K65+K66 -> #REF! | P67: Gxd
B68: Thuế Giá Trị Gia Tăng (GTGT) | C68: Đồng | D68: Gxd | G68: * | H68: =DULIEUDAUVAO!B16 -> #REF! | I68: % | K68: =ROUND(K67*H68/100,0) -> #REF! | P68: GTGT
B69: * Cộng Đơn Giá Đấu Thầu (W) | C69: Đồng | D69: Gxd+GTGT | K69: =K67+K68 -> #REF! | P69: W
P70: END
A71: MHĐG : AL.16121 Rải vải địa kỹ thuật làm nền đường | K71: ĐVT : 100m2 | L71: AL.16121 | M71: Rải vải địa kỹ thuật làm nền đường | N71: 100m2 | O71: =DGXDCT_1!#REF! -> #REF! | P71: A
A72: STT | B72: DIỄN GIẢI | C72: ĐVT | D72: ĐỊNH MỨC | E72: ĐƠN GIÁ | F72: HỢP GIÁ | G72: HỆ SỐ | K72: THÀNH TIỀN | P72: B
A73: =DGXDCT_1!#REF! -> #REF! | B73: A_Vật Liệu | P73: 1
B74: Vải địa kỹ thuật | C74: m2 | D74: 110 | E74: =VLOOKUP(DGCTDT!$B$74,#REF!,4,0) -> #REF! | F74: =ROUND(D74*E74,0) -> #REF! | P74: 1
B75: VL# | C75: % | D75: 0.2 | E75: =SUM(F74:F74) -> #REF! | F75: =ROUND(D75*E75/100,0) -> #REF! | P75: 1
B76: - Cộng Vật Liệu (VL) | C76: Đồng | F76: =SUM(F74:F75) -> #REF! | K76: =F76 -> #REF! | P76: VL
B77: B_Nhân Công | P77: 2
B78: Nhân công 3,5/7 | C78: công | D78: 1.18 | E78: =VLOOKUP(DGCTDT!$B$78,#REF!,4,0) -> #REF! | F78: =ROUND(D78*E78,0) -> #REF! | P78: 2
B79: - Cộng Nhân Công (NC) | C79: Đồng | F79: =SUM(F78:F78) -> #REF! | G79: * | H79: =DULIEUDAUVAO!B10 -> #REF! | I79: * | J79: =DULIEUDAUVAO!B9 -> #REF! | K79: =ROUND(F79*H79*J79,0) -> #REF! | P79: NC
B80: Chi Phí Trực Tiếp Khác (TT) | C80: Đồng | D80: (VL+NC+XM) | G80: * | H80: =DULIEUDAUVAO!B13 -> #REF! | I80: % | K80: =ROUND((K76+K79)*H80/100,0) -> #REF! | P80: TT
B81: * Cộng Chi Phí Trực Tiếp (T) | C81: Đồng | D81: (VL+NC+XM+TT) | K81: =K76+K79+K80 -> #REF! | P81: T
B82: Chi Phí Chung (C) | C82: Đồng | D82: T | G82: * | H82: =DULIEUDAUVAO!B14 -> #REF! | I82: % | K82: =ROUND(K81*H82/100,0) -> #REF! | P82: C
B83: Thu Nhập Chịu Thuế Tính Trước (TL) | C83: Đồng | D83: (T+C) | G83: * | H83: =DULIEUDAUVAO!B15 -> #REF! | I83: % | K83: =ROUND((K81+K82)*H83/100,0) -> #REF! | P83: TL
B84: * Chi Phí Xây Dựng Trước Thuế (G) | C84: Đồng | D84: T+C+TL | K84: =K81+K82+K83 -> #REF! | P84: G
B85: Chi Phí Xây Dựng Nhà Tạm (Gxdnt) | C85: Đồng | D85: G | G85: * | H85: =DULIEUDAUVAO!B17 -> #REF! | I85: % | K85: =ROUND(K84*H85/100,0) -> #REF! | P85: Gxdnt
B86: * Cộng CPXD Trước Thuế (Gxd) | C86: Đồng | D86: G+Gxdnt | K86: =K84+K85 -> #REF! | P86: Gxd
B87: Thuế Giá Trị Gia Tăng (GTGT) | C87: Đồng | D87: Gxd | G87: * | H87: =DULIEUDAUVAO!B16 -> #REF! | I87: % | K87: =ROUND(K86*H87/100,0) -> #REF! | P87: GTGT
B88: * Cộng Đơn Giá Đấu Thầu (W) | C88: Đồng | D88: Gxd+GTGT | K88: =K86+K87 -> #REF! | P88: W
P89: END

Sheet HE SO
A1: BẢNG HỆ SỐ NỘI SUY THEO QUYẾT ĐỊNH SỐ 79/QĐ-BXD NGÀY 15/02/2017 CỦA BỘ XÂY DỰNG
A2: Bảng 1 | B2: Định mức chi phí quản lý dự án
C3: Lọai công trình | D3: =(#REF!+#REF!)/10^9 -> #REF! | E3: Chi phí xây dựng và thiết bị trước thuế(tỷ đồng)
E4: 10 | F4: 20 | G4: 50 | H4: 100 | I4: 200 | J4: 500 | K4: 1000 | L4: 2000 | M4: 5000 | N4: 10000 | O4: 20000 | P4: 30000 | Q4: =INDEX(E4:P4,MATCH(D3,E4:P4,1)) -> #REF! | R4: =INDEX(E4:P4,MATCH(D3,E4:P4,1)+1) -> #REF!
B5: =#REF! -> #REF! | D5: =IF($D$3<=$E$4,E5,ROUND(FORECAST($D$3,Q5:R5,$Q$4:$R$4),3)) -> #REF! | E5: 3.282 | F5: 2.784 | G5: 2.486 | H5: 1.921 | I5: 1.796 | J5: 1.442 | K5: 1.18 | L5: 0.912 | M5: 0.677 | N5: 0.486 | O5: 0.363 | P5: 0.29 | Q5: =INDEX(E5:P5,MATCH($D$3,$E$4:$P$4,1)) -> #REF! | R5: =INDEX(E5:P5,MATCH($D$3,$E$4:$P$4,1)+1) -> #REF!
B6: =#REF! -> #REF! | D6: =IF($D$3<=$E$4,E6,ROUND(FORECAST($D$3,Q6:R6,$Q$4:$R$4),3)) -> #REF! | E6: 3.453 | F6: 2.93 | G6: 2.616 | H6: 2.021 | I6: 1.89 | J6: 1.518 | K6: 1.242 | L6: 1.071 | M6: 0.713 | N6: 0.512 | O6: 0.382 | P6: 0.305 | Q6: =INDEX(E6:P6,MATCH($D$3,$E$4:$P$4,1)) -> #REF! | R6: =INDEX(E6:P6,MATCH($D$3,$E$4:$P$4,1)+1) -> #REF!
B7: =#REF! -> #REF! | D7: =IF($D$3<=$E$4,E7,ROUND(FORECAST($D$3,Q7:R7,$Q$4:$R$4),3)) -> #REF! | E7: 2.936 | F7: 2.491 | G7: 2.225 | H7: 1.719 | I7: 1.607 | J7: 1.29 | K7: 1.056 | L7: 0.91 | M7: 0.606 | N7: 0.435 | O7: 0.325 | P7: 0.26 | Q7: =INDEX(E7:P7,MATCH($D$3,$E$4:$P$4,1)) -> #REF! | R7: =INDEX(E7:P7,MATCH($D$3,$E$4:$P$4,1)+1) -> #REF!
B8: =#REF! -> #REF! | D8: =IF($D$3<=$E$4,E8,ROUND(FORECAST($D$3,Q8:R8,$Q$4:$R$4),3)) -> #REF! | E8: 3.108 | F8: 2.637 | G8: 2.355 | H8: 1.819 | I8: 1.701 | J8: 1.366 | K8: 1.118 | L8: 0.964 | M8: 0.642 | N8: 0.461 | O8: 0.344 | P8: 0.275 | Q8: =INDEX(E8:P8,MATCH($D$3,$E$4:$P$4,1)) -> #REF! | R8: =INDEX(E8:P8,MATCH($D$3,$E$4:$P$4,1)+1) -> #REF!
B9: =#REF! -> #REF! | D9: =IF($D$3<=$E$4,E9,ROUND(FORECAST($D$3,Q9:R9,$Q$4:$R$4),3)) -> #REF! | E9: 2.763 | F9: 2.344 | G9: 2.093 | H9: 1.517 | I9: 1.486 | J9: 1.214 | K9: 1.02 | L9: 0.856 | M9: 0.57 | N9: 0.409 | O9: 0.306 | P9: 0.245 | Q9: =INDEX(E9:P9,MATCH($D$3,$E$4:$P$4,1)) -> #REF! | R9: =INDEX(E9:P9,MATCH($D$3,$E$4:$P$4,1)+1) -> #REF!
A10: Bảng 2 | B10: Định mức chi phí báo cáo nghiên cứu tiền khả thi
C11: Lọai công trình | D11: =D3 -> #REF! | E11: Chi phí xây dựng và thiết bị trước thuế(tỷ đồng)
E12: 15 | F12: 20 | G12: 50 | H12: 100 | I12: 200 | J12: 500 | K12: 1000 | L12: 2000 | M12: 5000 | N12: 10000 | O12: 20000 | P12: 30000 | Q12: =INDEX(E12:P12,MATCH(D11,E12:P12,1)) -> #REF! | R12: =INDEX(E12:P12,MATCH(D11,E12:P12,1)+1) -> #REF!
B13: =$B$5 -> #REF! | D13: =IF($D$11<=$E$12,E13,ROUND(FORECAST($D$11,Q13:R13,$Q$12:$R$12),3)) -> #REF! | E13: 0.668 | F13: 0.503 | G13: 0.376 | H13: 0.24 | I13: 0.161 | J13: 0.1 | K13: 0.086 | L13: 0.073 | M13: 0.05 | N13: 0.04 | O13: 0.026 | P13: 0.022 | Q13: =INDEX(E13:P13,MATCH($D$11,$E$12:$P$12,1)) -> #REF! | R13: =INDEX(E13:P13,MATCH($D$11,$E$12:$P$12,1)+1) -> #REF!
B14: =$B$6 -> #REF! | D14: =IF($D$11<=$E$12,E14,ROUND(FORECAST($D$11,Q14:R14,$Q$12:$R$12),3)) -> #REF! | E14: 0.757 | F14: 0.612 | G14: 0.441 | H14: 0.294 | I14: 0.206 | J14: 0.163 | K14: 0.141 | L14: 0.11 | M14: 0.074 | N14: 0.057 | O14: 0.034 | P14: 0.027 | Q14: =INDEX(E14:P14,MATCH($D$11,$E$12:$P$12,1)) -> #REF! | R14: =INDEX(E14:P14,MATCH($D$11,$E$12:$P$12,1)+1) -> #REF!
B15: =$B$7 -> #REF! | D15: =IF($D$11<=$E$12,E15,ROUND(FORECAST($D$11,Q15:R15,$Q$12:$R$12),3)) -> #REF! | E15: 0.413 | F15: 0.345 | G15: 0.251 | H15: 0.177 | I15: 0.108 | J15: 0.071 | K15: 0.062 | L15: 0.053 | M15: 0.036 | N15: 0.029 | O15: 0.019 | P15: 0.016 | Q15: =INDEX(E15:P15,MATCH($D$11,$E$12:$P$12,1)) -> #REF! | R15: =INDEX(E15:P15,MATCH($D$11,$E$12:$P$12,1)+1) -> #REF!
B16: =$B$8 -> #REF! | D16: =IF($D$11<=$E$12,E16,ROUND(FORECAST($D$11,Q16:R16,$Q$12:$R$12),3)) -> #REF! | E16: 0.566 | F16: 0.472 | G16: 0.343 | H16: 0.216 | I16: 0.144 | J16: 0.096 | K16: 0.082 | L16: 0.07 | M16: 0.048 | N16: 0.039 | O16: 0.025 | P16: 0.021 | Q16: =INDEX(E16:P16,MATCH($D$11,$E$12:$P$12,1)) -> #REF! | R16: =INDEX(E16:P16,MATCH($D$11,$E$12:$P$12,1)+1) -> #REF!
B17: =$B$9 -> #REF! | D17: =IF($D$11<=$E$12,E17,ROUND(FORECAST($D$11,Q17:R17,$Q$12:$R$12),3)) -> #REF! | E17: 0.431 | F17: 0.36 | G17: 0.262 | H17: 0.183 | I17: 0.112 | J17: 0.074 | K17: 0.065 | L17: 0.055 | M17: 0.038 | N17: 0.03 | O17: 0.02 | P17: 0.017 | Q17: =INDEX(E17:P17,MATCH($D$11,$E$12:$P$12,1)) -> #REF! | R17: =INDEX(E17:P17,MATCH($D$11,$E$12:$P$12,1)+1) -> #REF!
A18: Bảng 3 | B18: Định mức chi phí báo cáo nghiên cứu khả thi
C19: Lọai công trình | D19: =D3 -> #REF! | E19: Chi phí xây dựng và thiết bị trước thuế(tỷ đồng)
E20: 15 | F20: 20 | G20: 50 | H20: 100 | I20: 200 | J20: 500 | K20: 1000 | L20: 2000 | M20: 5000 | N20: 10000 | O20: 20000 | P20: 30000 | Q20: =INDEX(E20:P20,MATCH(D19,E20:P20,1)) -> #REF! | R20: =INDEX(E20:P20,MATCH(D19,E20:P20,1)+1) -> #REF!
B21: =$B$5 -> #REF! | D21: =IF($D$19<=$E$20,E21,ROUND(FORECAST($D$19,Q21:R21,$Q$20:$R$20),3)) -> #REF! | E21: 1.114 | F21: 0.914 | G21: 0.751 | H21: 0.534 | I21: 0.402 | J21: 0.287 | K21: 0.246 | L21: 0.209 | M21: 0.167 | N21: 0.134 | O21: 0.102 | P21: 0.086 | Q21: =INDEX(E21:P21,MATCH($D$19,$E$20:$P$20,1)) -> #REF! | R21: =INDEX(E21:P21,MATCH($D$19,$E$20:$P$20,1)+1) -> #REF!
B22: =$B$6 -> #REF! | D22: =IF($D$19<=$E$20,E22,ROUND(FORECAST($D$19,Q22:R22,$Q$20:$R$20),3)) -> #REF! | E22: 1.261 | F22: 1.112 | G22: 0.882 | H22: 0.654 | I22: 0.515 | J22: 0.466 | K22: 0.404 | L22: 0.315 | M22: 0.248 | N22: 0.189 | O22: 0.135 | P22: 0.107 | Q22: =INDEX(E22:P22,MATCH($D$19,$E$20:$P$20,1)) -> #REF! | R22: =INDEX(E22:P22,MATCH($D$19,$E$20:$P$20,1)+1) -> #REF!
B23: =$B$7 -> #REF! | D23: =IF($D$19<=$E$20,E23,ROUND(FORECAST($D$19,Q23:R23,$Q$20:$R$20),3)) -> #REF! | E23: 0.689 | F23: 0.628 | G23: 0.501 | H23: 0.393 | I23: 0.271 | J23: 0.203 | K23: 0.177 | L23: 0.151 | M23: 0.12 | N23: 0.097 | O23: 0.075 | P23: 0.063 | Q23: =INDEX(E23:P23,MATCH($D$19,$E$20:$P$20,1)) -> #REF! | R23: =INDEX(E23:P23,MATCH($D$19,$E$20:$P$20,1)+1) -> #REF!
B24: =$B$8 -> #REF! | D24: =IF($D$19<=$E$20,E24,ROUND(FORECAST($D$19,Q24:R24,$Q$20:$R$20),3)) -> #REF! | E24: 0.943 | F24: 0.858 | G24: 0.685 | H24: 0.48 | I24: 0.361 | J24: 0.273 | K24: 0.234 | L24: 0.201 | M24: 0.161 | N24: 0.129 | O24: 0.1 | P24: 0.084 | Q24: =INDEX(E24:P24,MATCH($D$19,$E$20:$P$20,1)) -> #REF! | R24: =INDEX(E24:P24,MATCH($D$19,$E$20:$P$20,1)+1) -> #REF!
B25: =$B$9 -> #REF! | D25: =IF($D$19<=$E$20,E25,ROUND(FORECAST($D$19,Q25:R25,$Q$20:$R$20),3)) -> #REF! | E25: 0.719 | F25: 0.654 | G25: 0.524 | H25: 0.407 | I25: 0.28 | J25: 0.211 | K25: 0.185 | L25: 0.158 | M25: 0.127 | N25: 0.101 | O25: 0.078 | P25: 0.065 | Q25: =INDEX(E25:P25,MATCH($D$19,$E$20:$P$20,1)) -> #REF! | R25: =INDEX(E25:P25,MATCH($D$19,$E$20:$P$20,1)+1) -> #REF!
A26: Bảng 4 | B26: Định mức chi phí báo cáo kinh tế kỹ thuật
C27: Lọai công trình | D27: =D3 -> #REF! | E27: Chi phí xây dựng và thiết bị trước thuế(tỷ đồng)
E28: 1 | F28: 3 | G28: 7 | H28: 15 | Q28: =INDEX(E28:H28,MATCH(D27,E28:H28,1)) -> #REF! | R28: =INDEX(E28:H28,MATCH(D27,E28:H28,1)+1) -> #REF!
B29: =$B$5 -> #REF! | D29: =IF($D$27<=$E$28,E29,IF($D$27>=$H$28,"Xem lại",ROUND(FORECAST($D$27,Q29:R29,$Q$28:$R$28),3))) -> #REF! | E29: 6.5 | F29: 4.7 | G29: 4.2 | H29: 3.6 | Q29: =INDEX(E29:H29,MATCH($D$27,$E$28:$H$28,1)) -> #REF! | R29: =INDEX(E29:H29,MATCH($D$27,$E$28:$H$28,1)+1) -> #REF!
B30: =$B$6 -> #REF! | D30: =IF($D$27<=$E$28,E30,IF($D$27>=$H$28,"Xem lại",ROUND(FORECAST($D$27,Q30:R30,$Q$28:$R$28),3))) -> #REF! | E30: 6.7 | F30: 4.8 | G30: 4.3 | H30: 3.8 | Q30: =INDEX(E30:H30,MATCH($D$27,$E$28:$H$28,1)) -> #REF! | R30: =INDEX(E30:H30,MATCH($D$27,$E$28:$H$28,1)+1) -> #REF!
B31: =$B$7 -> #REF! | D31: =IF($D$27<=$E$28,E31,IF($D$27>=$H$28,"Xem lại",ROUND(FORECAST($D$27,Q31:R31,$Q$28:$R$28),3))) -> #REF! | E31: 5.4 | F31: 3.6 | G31: 2.7 | H31: 2.5 | Q31: =INDEX(E31:H31,MATCH($D$27,$E$28:$H$28,1)) -> #REF! | R31: =INDEX(E31:H31,MATCH($D$27,$E$28:$H$28,1)+1) -> #REF!
B32: =$B$8 -> #REF! | D32: =IF($D$27<=$E$28,E32,IF($D$27>=$H$28,"Xem lại",ROUND(FORECAST($D$27,Q32:R32,$Q$28:$R$28),3))) -> #REF! | E32: 6.2 | F32: 4.4 | G32: 3.9 | H32: 3.6 | Q32: =INDEX(E32:H32,MATCH($D$27,$E$28:$H$28,1)) -> #REF! | R32: =INDEX(E32:H32,MATCH($D$27,$E$28:$H$28,1)+1) -> #REF!
B33: =$B$9 -> #REF! | D33: =IF($D$27<=$E$28,E33,IF($D$27>=$H$28,"Xem lại",ROUND(FORECAST($D$27,Q33:R33,$Q$28:$R$28),3))) -> #REF! | E33: 5.8 | F33: 4.2 | G33: 3.4 | H33: 3 | Q33: =INDEX(E33:H33,MATCH($D$27,$E$28:$H$28,1)) -> #REF! | R33: =INDEX(E33:H33,MATCH($D$27,$E$28:$H$28,1)+1) -> #REF!
A34: Bảng 6 | B34: Định mức chi phí Thiết kế BVTC công trình cấp đặc biệt (Thiết kế 2 bước)
C35: Lọai công trình | D35: =#REF!/10^9 -> #REF! | E35: Chi phí xây dựng trước thuế(tỷ đồng)
E36: 10 | F36: 20 | G36: 50 | H36: 100 | I36: 200 | J36: 500 | K36: 1000 | L36: 2000 | M36: 5000 | N36: 8000 | O36: 10000 | Q36: =INDEX(E36:P36,MATCH(D35,E36:P36,1)) -> #REF! | R36: =INDEX(E36:P36,MATCH(D35,E36:P36,1)+1) -> #REF!
B37: =$B$5 -> #REF! | D37: =IF($D$35<=$E$36,E37,ROUND(FORECAST($D$35,Q37:R37,$Q$36:$R$36),3)) -> #REF! | E37: 4.66 | F37: 4.05 | G37: 3.41 | H37: 3.1 | I37: 2.83 | J37: 2.39 | K37: 1.93 | L37: 1.65 | M37: 1.28 | N37: 0.99 | O37: 0.91 | Q37: =INDEX(E37:O37,MATCH($D$35,$E$36:$O$36,1)) -> #REF! | R37: =INDEX(E37:O37,MATCH($D$35,$E$36:$O$36,1)+1) -> #REF!
A38: =#REF! -> #REF! | B38: =$B$6 -> #REF! | D38: =IF($D$35<=$E$36,E38,ROUND(FORECAST($D$35,Q38:R38,$Q$36:$R$36),3)) -> #REF! | E38: 4.7 | F38: 4.27 | G38: 3.66 | H38: 3.32 | I38: 3.01 | J38: 2.75 | K38: 2.4 | L38: 2.03 | M38: 1.52 | N38: 1.21 | O38: 1.04 | Q38: =INDEX(E38:O38,MATCH($D$35,$E$36:$O$36,1)) -> #REF! | R38: =INDEX(E38:O38,MATCH($D$35,$E$36:$O$36,1)+1) -> #REF!
B39: =$B$7 -> #REF! | D39: =IF($D$35<=$E$36,E39,ROUND(FORECAST($D$35,Q39:R39,$Q$36:$R$36),3)) -> #REF! | E39: 3.01 | F39: 2.76 | G39: 2.36 | H39: 2.15 | I39: 1.95 | J39: 1.78 | K39: 1.52 | L39: 1.32 | M39: 1.02 | N39: 0.75 | O39: 0.66 | Q39: =INDEX(E39:O39,MATCH($D$35,$E$36:$O$36,1)) -> #REF! | R39: =INDEX(E39:O39,MATCH($D$35,$E$36:$O$36,1)+1) -> #REF!
B40: =$B$8 -> #REF! | D40: =IF($D$35<=$E$36,E40,ROUND(FORECAST($D$35,Q40:R40,$Q$36:$R$36),3)) -> #REF! | E40: 4.29 | F40: 3.75 | G40: 3.17 | H40: 2.85 | I40: 2.6 | J40: 2.21 | K40: 1.87 | L40: 1.58 | M40: 1.22 | N40: 0.95 | O40: 0.83 | Q40: =INDEX(E40:O40,MATCH($D$35,$E$36:$O$36,1)) -> #REF! | R40: =INDEX(E40:O40,MATCH($D$35,$E$36:$O$36,1)+1) -> #REF!
B41: =$B$9 -> #REF! | D41: =IF($D$35<=$E$36,E41,ROUND(FORECAST($D$35,Q41:R41,$Q$36:$R$36),3)) -> #REF! | E41: 3.23 | F41: 2.79 | G41: 2.35 | H41: 2.13 | I41: 1.95 | J41: 1.64 | K41: 1.39 | L41: 1.19 | M41: 0.9 | N41: 0.7 | O41: 0.63 | Q41: =INDEX(E41:O41,MATCH($D$35,$E$36:$O$36,1)) -> #REF! | R41: =INDEX(E41:O41,MATCH($D$35,$E$36:$O$36,1)+1) -> #REF!
A42: Bảng | B42: Định mức chi phí Thiết kế BVTC công trình cấp I (Thiết kế 2 bước)
C43: Lọai công trình | D43: =D35 -> #REF! | E43: Chi phí xây dựng trước thuế(tỷ đồng)
E44: 10 | F44: 20 | G44: 50 | H44: 100 | I44: 200 | J44: 500 | K44: 1000 | L44: 2000 | M44: 5000 | N44: 8000 | O44: 10000 | Q44: =INDEX(E44:P44,MATCH(D43,E44:P44,1)) -> #REF! | R44: =INDEX(E44:P44,MATCH(D43,E44:P44,1)+1) -> #REF!
B45: =$B$5 -> #REF! | D45: =IF($D$43<=$E$44,E45,ROUND(FORECAST($D$43,Q45:R45,$Q$44:$R$44),3)) -> #REF! | E45: 4.22 | F45: 3.66 | G45: 3.1 | H45: 2.82 | I45: 2.57 | J45: 2.17 | K45: 1.76 | L45: 1.51 | M45: 1.16 | N45: 0.9 | O45: 0.8 | Q45: =INDEX(E45:O45,MATCH($D$43,$E$44:$O$44,1)) -> #REF! | R45: =INDEX(E45:O45,MATCH($D$43,$E$44:$O$44,1)+1) -> #REF!
A46: =#REF! -> #REF! | B46: =$B$6 -> #REF! | D46: =IF($D$43<=$E$44,E46,ROUND(FORECAST($D$43,Q46:R46,$Q$44:$R$44),3)) -> #REF! | E46: 3.87 | F46: 3.57 | G46: 3.02 | H46: 2.77 | I46: 2.5 | J46: 2.28 | K46: 2.01 | L46: 1.7 | M46: 1.26 | N46: 1.02 | O46: 0.88 | Q46: =INDEX(E46:O46,MATCH($D$43,$E$44:$O$44,1)) -> #REF! | R46: =INDEX(E46:O46,MATCH($D$43,$E$44:$O$44,1)+1) -> #REF!
B47: =$B$7 -> #REF! | D47: =IF($D$43<=$E$44,E47,ROUND(FORECAST($D$43,Q47:R47,$Q$44:$R$44),3)) -> #REF! | E47: 2.27 | F47: 2.15 | G47: 1.83 | H47: 1.67 | I47: 1.51 | J47: 1.38 | K47: 1.21 | L47: 1.03 | M47: 0.79 | N47: 1.61 | O47: 0.49 | Q47: =INDEX(E47:O47,MATCH($D$43,$E$44:$O$44,1)) -> #REF! | R47: =INDEX(E47:O47,MATCH($D$43,$E$44:$O$44,1)+1) -> #REF!
B48: =$B$8 -> #REF! | D48: =IF($D$43<=$E$44,E48,ROUND(FORECAST($D$43,Q48:R48,$Q$44:$R$44),3)) -> #REF! | E48: 3.89 | F48: 3.4 | G48: 2.87 | H48: 2.57 | I48: 2.36 | J48: 2 | K48: 1.69 | L48: 1.43 | M48: 1.1 | N48: 0.85 | O48: 0.74 | Q48: =INDEX(E48:O48,MATCH($D$43,$E$44:$O$44,1)) -> #REF! | R48: =INDEX(E48:O48,MATCH($D$43,$E$44:$O$44,1)+1) -> #REF!
B49: =$B$9 -> #REF! | D49: =IF($D$43<=$E$44,E49,ROUND(FORECAST($D$43,Q49:R49,$Q$44:$R$44),3)) -> #REF! | E49: 3.01 | F49: 2.63 | G49: 2.21 | H49: 1.99 | I49: 1.82 | J49: 1.49 | K49: 1.28 | L49: 1.07 | M49: 0.79 | N49: 0.58 | O49: 0.49 | Q49: =INDEX(E49:O49,MATCH($D$43,$E$44:$O$44,1)) -> #REF! | R49: =INDEX(E49:O49,MATCH($D$43,$E$44:$O$44,1)+1) -> #REF!
A50: Bảng | B50: Định mức chi phí Thiết kế BVTC công trình cấp II (Thiết kế 2 bước)
C51: Lọai công trình | D51: =D35 -> #REF! | E51: Chi phí xây dựng trước thuế(tỷ đồng)
E52: 10 | F52: 20 | G52: 50 | H52: 100 | I52: 200 | J52: 500 | K52: 1000 | L52: 2000 | M52: 5000 | N52: 8000 | O52: 10000 | Q52: =INDEX(E52:P52,MATCH(D51,E52:P52,1)) -> #REF! | R52: =INDEX(E52:P52,MATCH(D51,E52:P52,1)+1) -> #REF!
B53: =$B$5 -> #REF! | D53: =IF($D$51<=$E$52,E53,ROUND(FORECAST($D$51,Q53:R53,$Q$52:$R$52),3)) -> #REF! | E53: 3.85 | F53: 3.33 | G53: 2.8 | H53: 2.54 | I53: 2.34 | J53: 1.98 | K53: 1.61 | L53: 1.36 | M53: 1.06 | N53: 0.82 | O53: 0.72 | Q53: =INDEX(E53:O53,MATCH($D$51,$E$52:$O$52,1)) -> #REF! | R53: =INDEX(E53:O53,MATCH($D$51,$E$52:$O$52,1)+1) -> #REF!
A54: =#REF! -> #REF! | B54: =$B$6 -> #REF! | D54: =IF($D$51<=$E$52,E54,ROUND(FORECAST($D$51,Q54:R54,$Q$52:$R$52),3)) -> #REF! | E54: 3.13 | F54: 2.9 | G54: 2.43 | H54: 2.24 | I54: 2.03 | J54: 1.9 | K54: 1.66 | L54: 1.42 | M54: 1.04 | N54: 0.82 | O54: 0.72 | Q54: =INDEX(E54:O54,MATCH($D$51,$E$52:$O$52,1)) -> #REF! | R54: =INDEX(E54:O54,MATCH($D$51,$E$52:$O$52,1)+1) -> #REF!
B55: =$B$7 -> #REF! | D55: =IF($D$51<=$E$52,E55,ROUND(FORECAST($D$51,Q55:R55,$Q$52:$R$52),3)) -> #REF! | E55: 1.67 | F55: 1.55 | G55: 1.32 | H55: 1.2 | I55: 1.1 | J55: 1.01 | K55: 0.85 | L55: 0.72 | M55: 0.56 | N55: 0.42 | O55: 0.36 | Q55: =INDEX(E55:O55,MATCH($D$51,$E$52:$O$52,1)) -> #REF! | R55: =INDEX(E55:O55,MATCH($D$51,$E$52:$O$52,1)+1) -> #REF!
B56: =$B$8 -> #REF! | D56: =IF($D$51<=$E$52,E56,ROUND(FORECAST($D$51,Q56:R56,$Q$52:$R$52),3)) -> #REF! | E56: 3.53 | F56: 3.11 | G56: 2.62 | H56: 2.34 | I56: 2.15 | J56: 1.73 | K56: 1.48 | L56: 1.25 | M56: 0.96 | N56: 0.69 | O56: 0.58 | Q56: =INDEX(E56:O56,MATCH($D$51,$E$52:$O$52,1)) -> #REF! | R56: =INDEX(E56:O56,MATCH($D$51,$E$52:$O$52,1)+1) -> #REF!
B57: =$B$9 -> #REF! | D57: =IF($D$51<=$E$52,E57,ROUND(FORECAST($D$51,Q57:R57,$Q$52:$R$52),3)) -> #REF! | E57: 2.68 | F57: 2.33 | G57: 1.97 | H57: 1.77 | I57: 1.58 | J57: 1.32 | K57: 1.14 | L57: 0.92 | M57: 0.7 | N57: 0.51 | O57: 0.43 | Q57: =INDEX(E57:O57,MATCH($D$51,$E$52:$O$52,1)) -> #REF! | R57: =INDEX(E57:O57,MATCH($D$51,$E$52:$O$52,1)+1) -> #REF!
A58: Bảng | B58: Định mức chi phí Thiết kế BVTC công trình cấp III (Thiết kế 2 bước)
C59: Lọai công trình | D59: =D51 -> #REF! | E59: Chi phí xây dựng trước thuế(tỷ đồng)
E60: 10 | F60: 20 | G60: 50 | H60: 100 | I60: 200 | J60: 500 | K60: 1000 | L60: 2000 | M60: 5000 | N60: 8000 | O60: 10000 | Q60: =INDEX(E60:P60,MATCH(D59,E60:P60,1)) -> #REF! | R60: =INDEX(E60:P60,MATCH(D59,E60:P60,1)+1) -> #REF!
B61: =$B$5 -> #REF! | D61: =IF($D$59<=$E$60,E61,ROUND(FORECAST($D$59,Q61:R61,$Q$60:$R$60),3)) -> #REF! | E61: 3.41 | F61: 2.95 | G61: 2.48 | H61: 2.25 | I61: 2.07 | J61: 1.75 | K61: 1.43 | L61: 1.2 | M61: 0.94 | N61: 0.72 | O61: 0.63 | Q61: =INDEX(E61:O61,MATCH($D$59,$E$60:$O$60,1)) -> #REF! | R61: =INDEX(E61:O61,MATCH($D$59,$E$60:$O$60,1)+1) -> #REF!
A62: =#REF! -> #REF! | B62: =$B$6 -> #REF! | D62: =IF($D$59<=$E$60,E62,ROUND(FORECAST($D$59,Q62:R62,$Q$60:$R$60),3)) -> #REF! | E62: 2.78 | F62: 2.57 | G62: 2.16 | H62: 1.99 | I62: 1.79 | J62: 1.68 | K62: 1.47 | L62: 1.25 | M62: 0.91 | N62: 0.72 | O62: 0.64 | Q62: =INDEX(E62:O62,MATCH($D$59,$E$60:$O$60,1)) -> #REF! | R62: =INDEX(E62:O62,MATCH($D$59,$E$60:$O$60,1)+1) -> #REF!
B63: =$B$7 -> #REF! | D63: =IF($D$59<=$E$60,E63,ROUND(FORECAST($D$59,Q63:R63,$Q$60:$R$60),3)) -> #REF! | E63: 1.48 | F63: 1.37 | G63: 1.17 | H63: 1.06 | I63: 0.97 | J63: 0.82 | K63: 0.7 | L63: 0.59 | M63: 0.45 | N63: 0.33 | O63: 0.29 | Q63: =INDEX(E63:O63,MATCH($D$59,$E$60:$O$60,1)) -> #REF! | R63: =INDEX(E63:O63,MATCH($D$59,$E$60:$O$60,1)+1) -> #REF!
B64: =$B$8 -> #REF! | D64: =IF($D$59<=$E$60,E64,ROUND(FORECAST($D$59,Q64:R64,$Q$60:$R$60),3)) -> #REF! | E64: 3.13 | F64: 2.76 | G64: 2.31 | H64: 2.07 | I64: 1.79 | J64: 1.52 | K64: 1.29 | L64: 1.1 | M64: 0.83 | N64: 0.6 | O64: 0.51 | Q64: =INDEX(E64:O64,MATCH($D$59,$E$60:$O$60,1)) -> #REF! | R64: =INDEX(E64:O64,MATCH($D$59,$E$60:$O$60,1)+1) -> #REF!
B65: =$B$9 -> #REF! | D65: =IF($D$59<=$E$60,E65,ROUND(FORECAST($D$59,Q65:R65,$Q$60:$R$60),3)) -> #REF! | E65: 2.36 | F65: 2.01 | G65: 1.72 | H65: 1.55 | I65: 1.39 | J65: 1.16 | K65: 1.02 | L65: 0.81 | M65: 0.61 | N65: 0.44 | O65: 0.36 | Q65: =INDEX(E65:O65,MATCH($D$59,$E$60:$O$60,1)) -> #REF! | R65: =INDEX(E65:O65,MATCH($D$59,$E$60:$O$60,1)+1) -> #REF!
A66: Bảng | B66: Định mức chi phí Thiết kế BVTC công trình cấp IV (Thiết kế 2 bước)
C67: Lọai công trình | D67: =D59 -> #REF! | E67: Chi phí xây dựng trước thuế(tỷ đồng)
E68: 10 | F68: 20 | G68: 50 | H68: 100 | I68: 200 | J68: 500 | Q68: =INDEX(E68:J68,MATCH(D67,E68:J68,1)) -> #REF! | R68: =INDEX(E68:J68,MATCH(D67,E68:J68,1)+1) -> #REF!
B69: =$B$5 -> #REF! | D69: =IF($D$67<=$E$68,E69,ROUND(FORECAST($D$67,Q69:R69,$Q$68:$R$68),3)) -> #REF! | E69: 2.92 | F69: 2.55 | G69: 2.12 | H69: 1.86 | I69: 1.51 | J69: 1.3 | Q69: =INDEX(E69:J69,MATCH($D$67,$E$68:$J$68,1)) -> #REF! | R69: =INDEX(E69:J69,MATCH($D$67,$E$68:$J$68,1)+1) -> #REF!
A70: =#REF! -> #REF! | B70: =$B$6 -> #REF! | D70: =IF($D$67<=$E$68,E70,ROUND(FORECAST($D$67,Q70:R70,$Q$68:$R$68),3)) -> #REF! | E70: 2.46 | F70: 2.25 | G70: 1.89 | H70: 1.72 | I70: 1.47 | J70: 1.22 | Q70: =INDEX(E70:J70,MATCH($D$67,$E$68:$J$68,1)) -> #REF! | R70: =INDEX(E70:J70,MATCH($D$67,$E$68:$J$68,1)+1) -> #REF!
B71: =$B$7 -> #REF! | D71: =IF($D$67<=$E$68,E71,ROUND(FORECAST($D$67,Q71:R71,$Q$68:$R$68),3)) -> #REF! | E71: 1.37 | F71: 1.26 | G71: 1.08 | H71: 0.98 | I71: 0.83 | J71: 0.71 | Q71: =INDEX(E71:J71,MATCH($D$67,$E$68:$J$68,1)) -> #REF! | R71: =INDEX(E71:J71,MATCH($D$67,$E$68:$J$68,1)+1) -> #REF!
B72: =$B$8 -> #REF! | D72: =IF($D$67<=$E$68,E72,ROUND(FORECAST($D$67,Q72:R72,$Q$68:$R$68),3)) -> #REF! | E72: 2.48 | F72: 2.19 | G72: 1.82 | H72: 1.61 | I72: 1.41 | J72: 1.14 | Q72: =INDEX(E72:J72,MATCH($D$67,$E$68:$J$68,1)) -> #REF! | R72: =INDEX(E72:J72,MATCH($D$67,$E$68:$J$68,1)+1) -> #REF!
B73: =$B$9 -> #REF! | D73: =IF($D$67<=$E$68,E73,ROUND(FORECAST($D$67,Q73:R73,$Q$68:$R$68),3)) -> #REF! | E73: 2.07 | F73: 1.76 | G73: 1.49 | H73: 1.35 | I73: 1.15 | J73: 0.98 | Q73: =INDEX(E73:J73,MATCH($D$67,$E$68:$J$68,1)) -> #REF! | R73: =INDEX(E73:J73,MATCH($D$67,$E$68:$J$68,1)+1) -> #REF!
A74: Bảng 15 | B74: Định mức chi phí thẩm tra báo cáo nghiên cứu tiền khả thi
C75: Lọai công trình | D75: =D3 -> #REF! | E75: Chi phí xây dựng và thiết bị trước thuế(tỷ đồng)
E76: 15 | F76: 20 | G76: 50 | H76: 100 | I76: 200 | J76: 500 | K76: 1000 | L76: 2000 | M76: 5000 | N76: 10000 | O76: 20000 | P76: 30000 | Q76: =INDEX(E76:P76,MATCH(D75,E76:P76,1)) -> #REF! | R76: =INDEX(E76:P76,MATCH(D75,E76:P76,1)+1) -> #REF!
B77: =$B$5 -> #REF! | D77: =IF($D$75<=$E$76,"Lập báo cáo KTKT",ROUND(FORECAST($D$75,Q77:R77,$Q$76:$R$76),3)) -> #REF! | E77: 0.071 | F77: 0.059 | G77: 0.048 | H77: 0.034 | I77: 0.025 | J77: 0.016 | K77: 0.014 | L77: 0.012 | M77: 0.009 | N77: 0.007 | O77: 0.005 | P77: 0.004 | Q77: =INDEX(E77:P77,MATCH($D$75,$E$76:$P$76,1)) -> #REF! | R77: =INDEX(E77:P77,MATCH($D$75,$E$76:$P$76,1)+1) -> #REF!
B78: =$B$6 -> #REF! | D78: =IF($D$75<=$E$76,"Lập báo cáo KTKT",ROUND(FORECAST($D$75,Q78:R78,$Q$76:$R$76),3)) -> #REF! | E78: 0.098 | F78: 0.083 | G78: 0.067 | H78: 0.049 | I78: 0.037 | J78: 0.028 | K78: 0.025 | L78: 0.02 | M78: 0.015 | N78: 0.01 | O78: 0.007 | P78: 0.005 | Q78: =INDEX(E78:P78,MATCH($D$75,$E$76:$P$76,1)) -> #REF! | R78: =INDEX(E78:P78,MATCH($D$75,$E$76:$P$76,1)+1) -> #REF!
B79: =$B$7 -> #REF! | D79: =IF($D$75<=$E$76,"Lập báo cáo KTKT",ROUND(FORECAST($D$75,Q79:R79,$Q$76:$R$76),3)) -> #REF! | E79: 0.054 | F79: 0.049 | G79: 0.039 | H79: 0.03 | I79: 0.02 | J79: 0.013 | K79: 0.011 | L79: 0.009 | M79: 0.007 | N79: 0.005 | O79: 0.004 | P79: 0.003 | Q79: =INDEX(E79:P79,MATCH($D$75,$E$76:$P$76,1)) -> #REF! | R79: =INDEX(E79:P79,MATCH($D$75,$E$76:$P$76,1)+1) -> #REF!
B80: =$B$8 -> #REF! | D80: =IF($D$75<=$E$76,"Lập báo cáo KTKT",ROUND(FORECAST($D$75,Q80:R80,$Q$76:$R$76),3)) -> #REF! | E80: 0.064 | F80: 0.058 | G80: 0.047 | H80: 0.033 | I80: 0.024 | J80: 0.015 | K80: 0.013 | L80: 0.011 | M80: 0.009 | N80: 0.006 | O80: 0.005 | P80: 0.004 | Q80: =INDEX(E80:P80,MATCH($D$75,$E$76:$P$76,1)) -> #REF! | R80: =INDEX(E80:P80,MATCH($D$75,$E$76:$P$76,1)+1) -> #REF!
B81: =$B$9 -> #REF! | D81: =IF($D$75<=$E$76,"Lập báo cáo KTKT",ROUND(FORECAST($D$75,Q81:R81,$Q$76:$R$76),3)) -> #REF! | E81: 0.056 | F81: 0.051 | G81: 0.041 | H81: 0.032 | I81: 0.021 | J81: 0.013 | K81: 0.012 | L81: 0.01 | M81: 0.008 | N81: 0.005 | O81: 0.004 | P81: 0.003 | Q81: =INDEX(E81:P81,MATCH($D$75,$E$76:$P$76,1)) -> #REF! | R81: =INDEX(E81:P81,MATCH($D$75,$E$76:$P$76,1)+1) -> #REF!
A82: Bảng 16 | B82: Định mức chi phí thẩm tra báo cáo nghiên cứu khả thi
C83: Lọai công trình | D83: =D3 -> #REF! | E83: Chi phí xây dựng và thiết bị trước thuế(tỷ đồng)
E84: 15 | F84: 20 | G84: 50 | H84: 100 | I84: 200 | J84: 500 | K84: 1000 | L84: 2000 | M84: 5000 | N84: 10000 | O84: 20000 | P84: 30000 | Q84: =INDEX(E84:P84,MATCH(D83,E84:P84,1)) -> #REF! | R84: =INDEX(E84:P84,MATCH(D83,E84:P84,1)+1) -> #REF!
B85: =$B$5 -> #REF! | D85: =IF($D$83<=$E$84,"Lập báo cáo KTKT",ROUND(FORECAST($D$83,Q85:R85,$Q$84:$R$84),3)) -> #REF! | E85: 0.204 | F85: 0.168 | G85: 0.138 | H85: 0.097 | I85: 0.07 | J85: 0.046 | K85: 0.041 | L85: 0.034 | M85: 0.026 | N85: 0.019 | O85: 0.015 | P85: 0.012 | Q85: =INDEX(E85:P85,MATCH($D$83,$E$84:$P$84,1)) -> #REF! | R85: =INDEX(E85:P85,MATCH($D$83,$E$84:$P$84,1)+1) -> #REF!
B86: =$B$6 -> #REF! | D86: =IF($D$83<=$E$84,"Lập báo cáo KTKT",ROUND(FORECAST($D$83,Q86:R86,$Q$84:$R$84),3)) -> #REF! | E86: 0.281 | F86: 0.238 | G86: 0.19 | H86: 0.141 | I86: 0.107 | J86: 0.08 | K86: 0.07 | L86: 0.056 | M86: 0.044 | N86: 0.029 | O86: 0.02 | P86: 0.015 | Q86: =INDEX(E86:P86,MATCH($D$83,$E$84:$P$84,1)) -> #REF! | R86: =INDEX(E86:P86,MATCH($D$83,$E$84:$P$84,1)+1) -> #REF!
B87: =$B$7 -> #REF! | D87: =IF($D$83<=$E$84,"Lập báo cáo KTKT",ROUND(FORECAST($D$83,Q87:R87,$Q$84:$R$84),3)) -> #REF! | E87: 0.153 | F87: 0.139 | G87: 0.112 | H87: 0.087 | I87: 0.058 | J87: 0.036 | K87: 0.032 | L87: 0.026 | M87: 0.02 | N87: 0.014 | O87: 0.01 | P87: 0.009 | Q87: =INDEX(E87:P87,MATCH($D$83,$E$84:$P$84,1)) -> #REF! | R87: =INDEX(E87:P87,MATCH($D$83,$E$84:$P$84,1)+1) -> #REF!
B88: =$B$8 -> #REF! | D88: =IF($D$83<=$E$84,"Lập báo cáo KTKT",ROUND(FORECAST($D$83,Q88:R88,$Q$84:$R$84),3)) -> #REF! | E88: 0.182 | F88: 0.167 | G88: 0.133 | H88: 0.094 | I88: 0.068 | J88: 0.044 | K88: 0.037 | L88: 0.032 | M88: 0.026 | N88: 0.017 | O88: 0.014 | P88: 0.01 | Q88: =INDEX(E88:P88,MATCH($D$83,$E$84:$P$84,1)) -> #REF! | R88: =INDEX(E88:P88,MATCH($D$83,$E$84:$P$84,1)+1) -> #REF!
B89: =$B$9 -> #REF! | D89: =IF($D$83<=$E$84,"Lập báo cáo KTKT",ROUND(FORECAST($D$83,Q89:R89,$Q$84:$R$84),3)) -> #REF! | E89: 0.16 | F89: 0.145 | G89: 0.116 | H89: 0.092 | I89: 0.06 | J89: 0.037 | K89: 0.034 | L89: 0.029 | M89: 0.022 | N89: 0.015 | O89: 0.01 | P89: 0.009 | Q89: =INDEX(E89:P89,MATCH($D$83,$E$84:$P$84,1)) -> #REF! | R89: =INDEX(E89:P89,MATCH($D$83,$E$84:$P$84,1)+1) -> #REF!
A90: Bảng 17 | B90: Định mức chi phí thẩm tra Thiết kế xây dựng
C91: Lọai công trình | D91: =D67 -> #REF! | E91: Chi phí xây dựng trước thuế(tỷ đồng)
E92: 10 | F92: 20 | G92: 50 | H92: 100 | I92: 200 | J92: 500 | K92: 1000 | L92: 2000 | M92: 5000 | N92: 8000 | O92: 10000 | Q92: =INDEX(E92:O92,MATCH(D91,E92:O92,1)) -> #REF! | R92: =INDEX(E92:O92,MATCH(D91,E92:O92,1)+1) -> #REF!
B93: =$B$5 -> #REF! | D93: =IF($D$91<=$E$92,E93,ROUND(FORECAST($D$91,Q93:R93,$Q$92:$R$92),3)) -> #REF! | E93: 0.258 | F93: 0.223 | G93: 0.172 | H93: 0.143 | I93: 0.108 | J93: 0.083 | K93: 0.068 | L93: 0.044 | M93: 0.033 | N93: 0.028 | O93: 0.026 | Q93: =INDEX(E93:O93,MATCH($D$91,$E$92:$O$92,1)) -> #REF! | R93: =INDEX(E93:O93,MATCH($D$91,$E$92:$O$92,1)+1) -> #REF!
B94: =$B$6 -> #REF! | D94: =IF($D$91<=$E$92,E94,ROUND(FORECAST($D$91,Q94:R94,$Q$92:$R$92),3)) -> #REF! | E94: 0.29 | F94: 0.252 | G94: 0.192 | H94: 0.146 | I94: 0.113 | J94: 0.087 | K94: 0.066 | L94: 0.053 | M94: 0.038 | N94: 0.031 | O94: 0.028 | Q94: =INDEX(E94:O94,MATCH($D$91,$E$92:$O$92,1)) -> #REF! | R94: =INDEX(E94:O94,MATCH($D$91,$E$92:$O$92,1)+1) -> #REF!
B95: =$B$7 -> #REF! | D95: =IF($D$91<=$E$92,E95,ROUND(FORECAST($D$91,Q95:R95,$Q$92:$R$92),3)) -> #REF! | E95: 0.17 | F95: 0.147 | G95: 0.113 | H95: 0.084 | I95: 0.073 | J95: 0.055 | K95: 0.042 | L95: 0.035 | M95: 0.024 | N95: 0.02 | O95: 0.017 | Q95: =INDEX(E95:O95,MATCH($D$91,$E$92:$O$92,1)) -> #REF! | R95: =INDEX(E95:O95,MATCH($D$91,$E$92:$O$92,1)+1) -> #REF!
B96: =$B$8 -> #REF! | D96: =IF($D$91<=$E$92,E96,ROUND(FORECAST($D$91,Q96:R96,$Q$92:$R$92),3)) -> #REF! | E96: 0.189 | F96: 0.163 | G96: 0.125 | H96: 0.093 | I96: 0.073 | J96: 0.056 | K96: 0.043 | L96: 0.035 | M96: 0.026 | N96: 0.022 | O96: 0.019 | Q96: =INDEX(E96:O96,MATCH($D$91,$E$92:$O$92,1)) -> #REF! | R96: =INDEX(E96:O96,MATCH($D$91,$E$92:$O$92,1)+1) -> #REF!
B97: =$B$9 -> #REF! | D97: =IF($D$91<=$E$92,E97,ROUND(FORECAST($D$91,Q97:R97,$Q$92:$R$92),3)) -> #REF! | E97: 0.197 | F97: 0.172 | G97: 0.133 | H97: 0.099 | I97: 0.076 | J97: 0.059 | K97: 0.046 | L97: 0.04 | M97: 0.029 | N97: 0.024 | O97: 0.021 | Q97: =INDEX(E97:O97,MATCH($D$91,$E$92:$O$92,1)) -> #REF! | R97: =INDEX(E97:O97,MATCH($D$91,$E$92:$O$92,1)+1) -> #REF!
A98: Bảng 18 | B98: Định mức chi phí thẩm tra Dự toán xây dựng
C99: Lọai công trình | D99: =D91 -> #REF! | E99: Chi phí xây dựng trước thuế(tỷ đồng)
E100: 10 | F100: 20 | G100: 50 | H100: 100 | I100: 200 | J100: 500 | K100: 1000 | L100: 2000 | M100: 5000 | N100: 8000 | O100: 10000 | Q100: =INDEX(E100:O100,MATCH(D99,E100:O100,1)) -> #REF! | R100: =INDEX(E100:O100,MATCH(D99,E100:O100,1)+1) -> #REF!
...

Sheet TỔNG HỢP GIÁ (2)
A1: PHỤ LỤC 1: KHỐI LƯỢNG VÀ GIÁ TRỊ HỢP ĐỒNG
A2: Gói thầu: Xây dựng, lắp đặt thiết bị cống Rạch Lồ Ô, Rạch Miễu, Rạch Kinh, Rạch Trôm, Vàm Hồ, Bảy Nhật, Sáu Em, Liên Ấp và Sáu Hóa/XL04.
A3: Dự án: Hệ thống Thủy lợi Bắc Bến Tre giai đoạn 1, tỉnh Bến Tre.
A5: STT | B5: Tên công việc | C5: ĐVT | D5: Khối lượng hợp đồng | G5: Đơn giá hợp đồng (đồng) | H5: Thành tiền (đồng)
D6: Tổng | E6: Công ty TNHH XD&TM Quốc Dũng | F6: Công ty TNHH XD Chấn Hưng | H6: Tổng | I6: Công ty TNHH XD&TM Quốc Dũng | J6: Công ty TNHH XD Chấn Hưng
E7: =50.61/100 -> 0.5061 | F7: =1-E7 -> 0.4939
A8: I | B8: HẠNG MỤC 1: HẠNG MỤC CHUNG
A9: 1 | B9: Bảo lãnh thực hiện hợp đồng | C9: Khoản | D9: 1 | E9: =D9*$E$7 -> 0.5061 | F9: =D9*$F$7 -> 0.4939 | G9: 20000000 | H9: =D9*G9 -> 20000000 | I9: =E9*G9 -> 10122000 | J9: =F9*G9 -> 9878000
A10: 2 | B10: Bảo hiểm Công trình đối với phần thuộc trách nhiệm của nhà thầu | C10: Khoản | D10: 1 | E10: =D10*$E$7 -> 0.5061 | F10: =D10*$F$7 -> 0.4939
A11: 3 | B11: Bảo hiểm thiết bị của nhà thầu | C11: Khoản | D11: 1 | E11: =D11*$E$7 -> 0.5061 | F11: =D11*$F$7 -> 0.4939
A12: 4 | B12: Bảo hiểm trách nhiệm bên thứ ba | C12: Khoản | D12: 1 | E12: =D12*$E$7 -> 0.5061 | F12: =D12*$F$7 -> 0.4939
A13: 5 | B13: Chi phí bảo hành Công trình | C13: Tháng | D13: 12 | E13: =D13*$E$7 -> 6.0732 | F13: =D13*$F$7 -> 5.9268 | G13: 5000000 | H13: =D13*G13 -> 60000000 | I13: =E13*G13 -> 30366000 | J13: =F13*G13 -> 29634000
A14: 6 | B14: Chi phí xây dựng nhà tạm tại hiện trường để ở và điều hành thi công | C14: Khoản | D14: 1 | E14: =D14*$E$7 -> 0.5061 | F14: =D14*$F$7 -> 0.4939 | G14: 200000000 | H14: =D14*G14 -> 200000000 | I14: =E14*G14 -> 101220000 | J14: =F14*G14 -> 98780000
A15: 7 | B15: Chi phí di chuyển thiết bị thi công và lực lượng lao động đến công trường | C15: Khoản | D15: 1 | E15: =D15*$E$7 -> 0.5061 | F15: =D15*$F$7 -> 0.4939 | G15: 50000000 | H15: =D15*G15 -> 50000000 | I15: =E15*G15 -> 25305000 | J15: =F15*G15 -> 24695000
A16: 8 | B16: Chi phí kiểm soát giao thông và bảo trì đường tránh, cầu tạm (nếu có) | C16: Tháng | D16: 24 | E16: =D16*$E$7 -> 12.1464 | F16: =D16*$F$7 -> 11.8536 | G16: 5000000 | H16: =D16*G16 -> 120000000 | I16: =E16*G16 -> 60732000 | J16: =F16*G16 -> 59268000
A17: 9 | B17: Chi phí dọn dẹp công trường khi hoàn thành | C17: Khoản | D17: 1 | E17: =D17*$E$7 -> 0.5061 | F17: =D17*$F$7 -> 0.4939 | G17: 50000000 | H17: =D17*G17 -> 50000000 | I17: =E17*G17 -> 25305000 | J17: =F17*G17 -> 24695000
B18: TỔNG CHI PHÍ HẠNG MỤC CHUNG | H18: =SUM(H9:H17) -> 500000000 | I18: =SUM(I9:I17) -> 253050000 | J18: =SUM(J9:J17) -> 246950000
B19: GIẢM GIÁ THEO THƯ GIẢM GIÁ (60%) | H19: =H18*0.6 -> 300000000 | I19: =I18*0.6 -> 151830000 | J19: =J18*0.6 -> 148170000
B20: CHI PHÍ HẠNG MỤC (I): HẠNG MỤC CHUNG (SAU KHI GIẢM GIÁ) | H20: =H18-H19 -> 200000000 | I20: =I18-I19 -> 101220000 | J20: =J18-J19 -> 98780000
A21: II | B21: HẠNG MỤC 2: XÂY DỰNG CÔNG TRÌNH
B22: CỐNG RẠCH LỒ Ô | H22: =SUM(H25:H269) -> 4.8161106e+09 | J22: =SUM(J25:J269) -> 4.8161106e+09
B23: Phần cống
B24: 1/Mặt bằng công trường:
A25: 1 | B25: Phát quang bằng cơ giới, mật độ >5 cây/100m2 | C25: 100 m² | D25: 13.66 | F25: =D25 -> 13.66 | G25: 209980.13 | H25: =D25*G25 -> 2868328.6 | J25: =F25*G25 -> 2868328.6
A26: 2 | B26: Chặt cây ở mặt đất bằng phẳng D<=30cm | C26: Cây | D26: 55 | F26: =D26 -> 55 | G26: 50385.868 | H26: =D26*G26 -> 2771222.7 | J26: =F26*G26 -> 2771222.7
A27: 3 | B27: Đào gốc cây D<=30cm | C27: Cây | D27: 35 | F27: =D27 -> 35 | G27: 77678.325 | H27: =D27*G27 -> 2718741.4 | J27: =F27*G27 -> 2718741.4
A28: 4 | B28: San trả mặt bằng bằng máy ủi 110CV | C28: 100m3 | D28: 0.75 | F28: =D28 -> 0.75 | G28: 216467.65 | H28: =D28*G28 -> 162350.74 | J28: =F28*G28 -> 162350.74
A29: 5 | B29: Bóc hữu cơ cự ly <= 50m, Đất cấp I | C29: 100 m³ | D29: 0.737 | F29: =D29 -> 0.737 | G29: 731754.59 | H29: =D29*G29 -> 539303.14 | J29: =F29*G29 -> 539303.14
A30: 6 | B30: Đắp đường TC bằng máy đầm 9T K=0.9 (lấy đất đào tại chỗ) | C30: 100 m³ | D30: 1.474 | F30: =D30 -> 1.474 | G30: 1235604 | H30: =D30*G30 -> 1821280.3 | J30: =F30*G30 -> 1821280.3
A31: 7 | B31: Trải đá cấp phối 0-4 | C31: 100m³ | D31: 0.341 | F31: =D31 -> 0.341 | G31: 81099719 | H31: =D31*G31 -> 27655004 | J31: =F31*G31 -> 27655004
A32: 8 | B32: San trả mặt bằng bằng máy ủi 110CV | C32: 100m3 | D32: 1.816 | F32: =D32 -> 1.816 | G32: 216467.65 | H32: =D32*G32 -> 393105.26 | J32: =F32*G32 -> 393105.26
B33: * Dẫn dòng: | D33: 0 | F33: =D33 -> 0 | G33: 0 | H33: =D33*G33 -> 0 | J33: =F33*G33 -> 0
A34: 9 | B34: Đào đất đặt đường ống bằng máy đào<= 0.8m3,ĐCI | C34: 100 m³ | D34: 1.553 | F34: =D34 -> 1.553 | G34: 869256.05 | H34: =D34*G34 -> 1349954.6 | J34: =F34*G34 -> 1349954.6
A35: 10 | B35: LĐ ống nhựa PVC D630mm PN5 | C35: 100m | D35: 0.48 | F35: =D35 -> 0.48 | G35: 2.6553981e+08 | H35: =D35*G35 -> 1.2745911e+08 | J35: =F35*G35 -> 1.2745911e+08
A36: 11 | B36: Đóng cọc tràm D gốc8-10cm L=4,5m trên cạn | C36: 100 m | D36: 4.32 | F36: =D36 -> 4.32 | G36: 1528207.4 | H36: =D36*G36 -> 6601855.8 | J36: =F36*G36 -> 6601855.8
A37: 12 | B37: Đóng cọc tràm D gốc8-10cm L=4,5m bằng máy đào trên cạn | C37: 100 m | D37: 4.32 | F37: =D37 -> 4.32 | G37: 325357.4 | H37: =D37*G37 -> 1405544 | J37: =F37*G37 -> 1405544
A38: 13 | B38: LĐ ống nhựa PVC D630mm PN5 | C38: 100m | D38: 0.48 | F38: =D38 -> 0.48 | G38: 4541731.9 | H38: =D38*G38 -> 2180031.3 | J38: =F38*G38 -> 2180031.3
B39: * Gia cố chống xói sau ống: | D39: 0 | F39: =D39 -> 0 | G39: 0 | H39: =D39*G39 -> 0 | J39: =F39*G39 -> 0
A40: 14 | B40: Trải vải địa KT | C40: 100 m2 | D40: 1.197 | F40: =D40 -> 1.197 | G40: 2389507.7 | H40: =D40*G40 -> 2860240.7 | J40: =F40*G40 -> 2860240.7
A41: 15 | B41: Ghim sắt | C41: Tấn | D41: 0.006 | F41: =D41 -> 0.006 | G41: 22449268 | H41: =D41*G41 -> 134695.61 | J41: =F41*G41 -> 134695.61
B42: * Phá bỏ cầu hiện hữu: | D42: 0 | F42: =D42 -> 0 | G42: 0 | H42: =D42*G42 -> 0 | J42: =F42*G42 -> 0
A43: 16 | B43: Cẩu cầu sắt ra khỏi vị trí | C43: Đoạn | D43: 12 | F43: =D43 -> 12 | G43: 540104.65 | H43: =D43*G43 -> 6481255.8 | J43: =F43*G43 -> 6481255.8
A44: 17 | B44: Tháo dỡ đoạn nối nhịp | C44: Cái | D44: 4 | F44: =D44 -> 4 | G44: 592767.31 | H44: =D44*G44 -> 2371069.2 | J44: =F44*G44 -> 2371069.2
A45: 18 | B45: Tháo dở dầm ngang, gối cầu | C45: Tấn | D45: 5.685 | F45: =D45 -> 5.685 | G45: 1490972.6 | H45: =D45*G45 -> 8476179.2 | J45: =F45*G45 -> 8476179.2
A46: 19 | B46: Nhổ cọc thép hình dưới nước | C46: 100 m | D46: 1.12 | F46: =D46 -> 1.12 | G46: 10347238 | H46: =D46*G46 -> 11588907 | J46: =F46*G46 -> 11588907
A47: 20 | B47: Phá dỡ kết cấu BTCT trên cạn bằng búa căn | C47: 1 m3 | D47: 20.5 | F47: =D47 -> 20.5 | G47: 544091.62 | H47: =D47*G47 -> 11153878 | J47: =F47*G47 -> 11153878
B48: 2/Đê quây: (thi công 3 tháng) | F48: =D48 -> 0 | H48: =D48*G48 -> 0 | J48: =F48*G48 -> 0
B49: * Đê quây phía đồng: | F49: =D49 -> 0 | H49: =D49*G49 -> 0 | J49: =F49*G49 -> 0
A50: 21 | B50: Đóng cọc thép hình, trên mặt nước, Cọc L >10m, Đất cấp I ( phần ngập đất) | C50: 100 m | D50: 2.535 | F50: =D50 -> 2.535 | G50: 36335388 | H50: =D50*G50 -> 92110209 | J50: =F50*G50 -> 92110209
A51: 23 | B51: Đóng cọc thép hình, trên mặt nước, Cọc L >10m, Đất cấp I ( phần không ngập đất) | C51: 100 m | D51: 0.585 | F51: =D51 -> 0.585 | G51: 27251541 | H51: =D51*G51 -> 15942152 | J51: =F51*G51 -> 15942152
A52: 24 | B52: Thép hình Kvl=(1,17*3+3,5%)=0,0701 | C52: Tấn | D52: 14.29 | F52: =D52 -> 14.29 | G52: 1414136.3 | H52: =D52*G52 -> 20208008 | J52: =F52*G52 -> 20208008
A53: 25 | B53: Sản xuất hệ khung giằng cừ | C53: Tấn | D53: 0.742 | F53: =D53 -> 0.742 | G53: 9410025.4 | H53: =D53*G53 -> 6982238.9 | J53: =F53*G53 -> 6982238.9
A54: 26 | B54: Thép hình nẹp dọc Kvl=(1,17*3+3,5%)=0,0701 | C54: Tấn | D54: 0.653 | F54: =D54 -> 0.653 | G54: 1414136.3 | H54: =D54*G54 -> 923431.03 | J54: =F54*G54 -> 923431.03
A55: 27 | B55: Cáp D12mm | C55: Tấn | D55: 0.089 | F55: =D55 -> 0.089 | G55: 19601430 | H55: =D55*G55 -> 1744527.3 | J55: =F55*G55 -> 1744527.3
A56: 28 | B56: Lắp dựng kết cấu thép dưới nước | C56: Tấn | D56: 0.742 | F56: =D56 -> 0.742 | G56: 6080313.1 | H56: =D56*G56 -> 4511592.3 | J56: =F56*G56 -> 4511592.3
A57: 29 | B57: Tháo dỡ kết cấu thép dưới nước | C57: Tấn | D57: 0.742 | F57: =D57 -> 0.742 | G57: 3640153.3 | H57: =D57*G57 -> 2700993.8 | J57: =F57*G57 -> 2700993.8
A58: 30 | B58: Đóng cọc bạch đàn D gốc=15cm, L=7m dưới nước | C58: 100 m | D58: 11.76 | F58: =D58 -> 11.76 | G58: 5280236.9 | H58: =D58*G58 -> 62095586 | J58: =F58*G58 -> 62095586
A59: 31 | B59: Trải đá cấp phối 0-4 | C59: 100m³ | D59: 0.078 | F59: =D59 -> 0.078 | G59: 81099719 | H59: =D59*G59 -> 6325778.1 | J59: =F59*G59 -> 6325778.1
A60: 32 | B60: Đắp cát bằng máy đầm 9T K=0.9 | C60: 100 m3 | D60: 0.789 | F60: =D60 -> 0.789 | G60: 19155571 | H60: =D60*G60 -> 15113746 | J60: =F60*G60 -> 15113746
A61: 33 | B61: Đắp bao tảI đất thả dưới nước (35bao /m3) | C61: 1 m3 | D61: 91.72 | F61: =D61 -> 91.72 | G61: 499374.96 | H61: =D61*G61 -> 45802672 | J61: =F61*G61 -> 45802672
... A68: 40 | B68: Đào phá đê quây bằng máy đào<= 0.8m3,ĐCI | C68: 100 m³ | D68: 1.427 | F68: =D68 -> 1.427 | G68: 869256.05 | H68: =D68*G68 -> 1240428.4 | J68: =F68*G68 -> 1240428.4
B69: * Đê quây phía sông: | D69: 0 | F69: =D69 -> 0 | G69: 0 | H69: =D69*G69 -> 0 | J69: =F69*G69 -> 0
A70: 41 | B70: Đóng cọc thép hình, trên mặt nước, Cọc L >10m, Đất cấp I ( phần ngập đất) | C70: 100 m | D70: 4.117 | F70: =D70 -> 4.117 | G70: 36335388 | H70: =D70*G70 -> 1.4959279e+08 | J70: =F70*G70 -> 1.4959279e+08
A71: 42 | B71: Đóng cọc thép hình, trên mặt nước, Cọc L >10m, Đất cấp I ( phần không ngập đất) | C71: 100 m | D71: 1.403 | F71: =D71 -> 1.403 | G71: 27251541 | H71: =D71*G71 -> 38233912 | J71: =F71*G71 -> 38233912
A72: 43 | B72: Thép hình Kvl=(1,17*3+3,5%)=0,0701 | C72: Tấn | D72: 25.282 | F72: =D72 -> 25.282 | G72: 1414136.3 | H72: =D72*G72 -> 35752195 | J72: =F72*G72 -> 35752195
A73: 44 | B73: Sản xuất hệ khung giằng cừ | C73: Tấn | D73: 1.357 | F73: =D73 -> 1.357 | G73: 9410025.4 | H73: =D73*G73 -> 12769405 | J73: =F73*G73 -> 12769405
A74: 45 | B74: Thép hình nẹp dọc Kvl=(1,17*3+3,5%)=0,0701 | C74: Tấn | D74: 1.197 | F74: =D74 -> 1.197 | G74: 1414136.3 | H74: =D74*G74 -> 1692721.2 | J74: =F74*G74 -> 1692721.2
A75: 46 | B75: Cáp D12mm | C75: Tấn | D75: 0.16 | F75: =D75 -> 0.16 | G75: 19601430 | H75: =D75*G75 -> 3136228.9 | J75: =F75*G75 -> 3136228.9
A76: 47 | B76: Lắp dựng kết cấu thép dưới nước | C76: Tấn | D76: 1.357 | F76: =D76 -> 1.357 | G76: 6080313.1 | H76: =D76*G76 -> 8250984.9 | J76: =F76*G76 -> 8250984.9
A77: 48 | B77: Tháo dỡ kết cấu thép dưới nước | C77: Tấn | D77: 1.357 | F77: =D77 -> 1.357 | G77: 3640153.3 | H77: =D77*G77 -> 4939688.1 | J77: =F77*G77 -> 4939688.1
A78: 49 | B78: Đóng cọc bạch đàn D gốc=15cm, L=7m dưới nước | C78: 100 m | D78: 22.12 | F78: =D78 -> 22.12 | G78: 5280236.9 | H78: =D78*G78 -> 1.1679884e+08 | J78: =F78*G78 -> 1.1679884e+08
A79: 50 | B79: Đắp cát bằng máy đầm 9T K=0.9 | C79: 100 m3 | D79: 3.903 | F79: =D79 -> 3.903 | G79: 19155571 | H79: =D79*G79 -> 74764195 | J79: =F79*G79 -> 74764195
A80: 51 | B80: Đắp bao tảI đất thả dưới nước (35bao /m3) | C80: 1 m3 | D80: 344.63 | F80: =D80 -> 344.63 | G80: 499374.96 | H80: =D80*G80 -> 1.7209959e+08 | J80: =F80*G80 -> 1.7209959e+08
A81: 52 | B81: Trải vải bạt | C81: 100 m2 | D81: 4.335 | F81: =D81 -> 4.335 | G81: 636406.26 | H81: =D81*G81 -> 2758821.1 | J81: =F81*G81 -> 2758821.1
... A85: 56 | B85: Đào phá đê quây bằng máy đào<= 0.8m3,ĐCI | C85: 100 m³ | D85: 8.407 | F85: =D85 -> 8.407 | G85: 869256.05 | H85: =D85*G85 -> 7307835.6 | J85: =F85*G85 -> 7307835.6
B86: 4/Đào móng cống ,đắp mang cống: | D86: 0 | F86: =D86 -> 0 | G86: 0 | H86: =D86*G86 -> 0 | J86: =F86*G86 -> 0
A87: 57 | B87: Bóc lớp hữu cơ bằng co gioi | C87: 100 m3 | D87: 0.885 | F87: =D87 -> 0.885 | G87: 869256.05 | H87: =D87*G87 -> 769291.61 | J87: =F87*G87 -> 769291.61
A88: 58 | B88: Đào hố móng bằng thủ công đất cấp I | C88: m3 | D88: 106.34 | F88: =D88 -> 106.34 | G88: 125964.79 | H88: =D88*G88 -> 13395096 | J88: =F88*G88 -> 13395096
A89: 59 | B89: Đào móng bằng máy đào <= 0.8m3 B<6m | C89: 100 m3 | D89: 8.963 | F89: =D89 -> 8.963 | G89: 1972724.2 | H89: =D89*G89 -> 17681527 | J89: =F89*G89 -> 17681527
B90: * Vân chuyển đất dư về cống Cả Quảng: cự ly 22 km | D90: 0 | F90: =D90 -> 0 | G90: 0 | H90: =D90*G90 -> 0 | J90: =F90*G90 -> 0
A91: 60 | B91: Vận chuyển đất bằng sà lan 400T+ tàu kéo 360Cv 1km đầu | C91: 100m3 | D91: 8.461 | F91: =D91 -> 8.461 | G91: 641833.43 | H91: =D91*G91 -> 5430552.7 | J91: =F91*G91 -> 5430552.7
A92: 61 | B92: Vận chuyển đất bằng sà lan 400T+ tàu kéo 360C cự ly 5km tiếp theo | C92: 100m3 | D92: 8.461 | F92: =D92 -> 8.461 | G92: 2721373.6 | H92: =D92*G92 -> 23025542 | J92: =F92*G92 -> 23025542
A93: 62 | B93: Vận chuyển đất bằng sà lan 400T+ tàu kéo 360C 14 km | C93: 100m3 | D93: 8.461 | F93: =D93 -> 8.461 | G93: 6829107.2 | H93: =D93*G93 -> 57781076 | J93: =F93*G93 -> 57781076
A94: 63 | B94: Vận chuyển đất bằng sà lan 400T+ tàu kéo 360C cự ly 2km | C94: 100m3 | D94: 8.461 | F94: =D94 -> 8.461 | G94: 944778.77 | H94: =D94*G94 -> 7993773.1 | J94: =F94*G94 -> 7993773.1
A95: 64 | B95: San đất bãi thải bằng máy ủi 110CV | C95: 100m³ | D95: 8.461 | F95: =D95 -> 8.461 | G95: 216467.65 | H95: =D95*G95 -> 1831532.8 | J95: =F95*G95 -> 1831532.8
A96: 65 | B96: Đắp đất mang cống bằng đầm cóc K=0.9 (tận dụng đất đào hố móng để đắp) | C96: 100 m3 | D96: 1.189 | F96: =D96 -> 1.189 | G96: 3782584.3 | H96: =D96*G96 -> 4497492.8 | J96: =F96*G96 -> 4497492.8
A97: 66 | B97: Đắp cát bằng máy đầm 9T K=0.9 | C97: 100 m3 | D97: 9.686 | F97: =D97 -> 9.686 | G97: 19155571 | H97: =D97*G97 -> 1.8554086e+08 | J97: =F97*G97 -> 1.8554086e+08
A98: 67 | B98: Trải vải địa KT trên cạn | C98: 100 m2 | D98: 5.275 | F98: =D98 -> 5.275 | G98: 2389507.7 | H98: =D98*G98 -> 12604653 | J98: =F98*G98 -> 12604653
B99: * Đóng cừ bản nhựa: | D99: 0 | F99: =D99 -> 0 | H99: =D99*G99 -> 0 | J99: =F99*G99 -> 0
A100: 68 | B100: Đóng cừ bản nhựa trên cạn bằng máy đào 0,65 m3 (phần ngập đất) | C100: 100 m | D100: 1.41 | F100: =D100 -> 1.41 | G100: 99682972 | H100: =D100*G100 -> 1.4055299e+08 | J100: =F100*G100 -> 1.4055299e+08
A101: 69 | B101: Đóng cừ bản nhựa trên cạn bằng máy đào 0,65 m3 (phần không ngập đất) | C101: 100 m | D101: 0.51 | F101: =D101 -> 0.51 | G101: 99217726 | H101: =D101*G101 -> 50601040 | J101: =F101*G101 -> 50601040
B102: 5/*Biện pháp thi công cọc tường chắn phía sông: | F102: =D102 -> 0 | H102: =D102*G102 -> 0 | J102: =F102*G102 -> 0
B103: *Chế tạo: | F103: =D103 -> 0 | H103: =D103*G103 -> 0 | J103: =F103*G103 -> 0
A104: 70 | B104: Bê tông đúc sẵn cọc đá dăm 1x2 M300 | C104: 1 m3 | D104: 6.49 | F104: =D104 -> 6.49 | G104: 2051880.3 | H104: =D104*G104 -> 13316703 | J104: =F104*G104 -> 13316703
A105: 71 | B105: Cốt thép cọc D<=10mm | C105: Tấn | D105: 0.166 | F105: =D105 -> 0.166 | G105: 23642583 | H105: =D105*G105 -> 3924668.7 | J105: =F105*G105 -> 3924668.7
A106: 72 | B106: Cốt thép cọc D<=18mm | C106: Tấn | D106: 0.73 | F106: =D106 -> 0.73 | G106: 22847031 | H106: =D106*G106 -> 16678333 | J106: =F106*G106 -> 16678333
A107: 73 | B107: Ván khuôn thép cọc | C107: 100 m² | D107: 0.307 | F107: =D107 -> 0.307 | G107: 7047065.7 | H107: =D107*G107 -> 2163449.2 | J107: =F107*G107 -> 2163449.2
A108: 74 | B108: Sản xuất cấu kiện thép đặt sẵn trong BT | C108: Tấn | D108: 0.003 | F108: =D108 -> 0.003 | G108: 30419745 | H108: =D108*G108 -> 91259.235 | J108: =F108*G108 -> 91259.235
A109: 75 | B109: Lắp dựng cấu kiện thép đặt sẵn trong BT | C109: Tấn | D109: 0.003 | F109: =D109 -> 0.003 | G109: 4878166.9 | H109: =D109*G109 -> 14634.501 | J109: =F109*G109 -> 14634.501
B110: *Đóng cọc dưới nước: | D110: 0 | F110: =D110 -> 0 | G110: 0 | H110: =D110*G110 -> 0 | J110: =F110*G110 -> 0
...

Sheet Cốt thép tam lat(Lồ Ồ)
A1: BẢNG TÍNH CỐT THÉP
F2: (Cống Lồ Ồ)
A4: Cấu kiện | B4: Số hiệu | C4: ĐK (mm) | D4: Số cấu kiện | E4: Số thanh | G4: Chiều dài (m) | I4: Trọng lượng riêng (kg/m) | J4: Khối lượng (kg)
E5: 01 CK | F5: Toàn bộ | G5: 01 thanh | H5: Toàn bộ
A6: TẤM M | B6: 1 | C6: 10 | D6: 93 | E6: 6 | F6: =D6*E6 -> 558 | G6: 1.94 | H6: =ROUND(F6*G6,3) -> 1082.52 | I6: =ROUND(3.1416*(C6/1000)^2/4*7850*1,3) -> 0.617 | J6: =ROUND(H6*I6,3) -> 667.915
B7: 2 | C7: 10 | D7: 93 | E7: 11 | F7: =D7*E7 -> 1023 | G7: 0.94 | H7: =ROUND(F7*G7,3) -> 961.62 | I7: =ROUND(3.1416*(C7/1000)^2/4*7850*1,3) -> 0.617 | J7: =ROUND(H7*I7,3) -> 593.32 | L7: =11.7*I6 -> 7.2189 | M7: kg/cây | N7: 1
A8: TẤM M1 | B8: 5 | C8: 10 | D8: 62 | E8: 6 | F8: =D8*E8 -> 372 | G8: 1.94 | H8: =ROUND(F8*G8,3) -> 721.68 | I8: =ROUND(3.1416*(C8/1000)^2/4*7850*1,3) -> 0.617 | J8: =ROUND(H8*I8,3) -> 445.277
B9: 6 | C9: 10 | D9: 62 | E9: 11 | F9: =D9*E9 -> 682 | G9: 0.94 | H9: =ROUND(F9*G9,3) -> 641.08 | I9: =ROUND(3.1416*(C9/1000)^2/4*7850*1,3) -> 0.617 | J9: =ROUND(H9*I9,3) -> 395.546
B11: 1/. Tổng hợp cốt thép:
B12: + Cốt thép D=10mm: | F12: =SUMIF($C$6:$C$9,10,$J$6:$J$9) -> 2102.058 | G12: kg
D17: GIÁM SÁT THI CÔNG XÂY DỰNG TRỰC TIẾP | I17: KỸ THUẬT TC XD TRỰC TIẾP
D22: Lê Văn Lộc | I22: Hồ Phước Hải

Sheet Cthép mặt cầu(Rạch Miễu)
A1: BẢNG TÍNH CỐT THÉP MẶT CẦU CỐNG RẠCH MIỄU
A4: Cấu kiện | B4: Số hiệu | C4: ĐK (mm) | D4: Số cấu kiện | E4: Số thanh | G4: Chiều dài (m) | I4: Trọng lượng riêng (kg/m) | J4: Khối lượng (kg)
E5: 01 CK | F5: Toàn bộ | G5: 01 thanh | H5: Toàn bộ
A6: MẶT CẦU | B6: 14 | C6: 18 | D6: 1 | E6: 74 | F6: =D6*E6 -> 74 | G6: 5.55 | H6: =ROUND(F6*G6,3) -> 410.7 | I6: =ROUND(3.1416*(C6/1000)^2/4*7850*1,3) -> 1.998 | J6: =ROUND(H6*I6,3) -> 820.579
B7: =+B6+1 -> 15 | C7: 12 | D7: =+D6 -> 1 | E7: 34 | F7: =D7*E7 -> 34 | G7: 7.15 | H7: =ROUND(F7*G7,3) -> 243.1 | I7: =ROUND(3.1416*(C7/1000)^2/4*7850*1,3) -> 0.888 | J7: =ROUND(H7*I7,3) -> 215.873
B8: =+B7+1 -> 16 | C8: 12 | D8: =+D7 -> 1 | E8: 8 | F8: =D8*E8 -> 8 | G8: 4.35 | H8: =ROUND(F8*G8,3) -> 34.8 | I8: =ROUND(3.1416*(C8/1000)^2/4*7850*1,3) -> 0.888 | J8: =ROUND(H8*I8,3) -> 30.902
B9: =+B8+1 -> 17 | C9: 12 | D9: =+D8 -> 1 | E9: 46 | F9: =D9*E9 -> 46 | G9: 1.9 | H9: =ROUND(F9*G9,3) -> 87.4 | I9: =ROUND(3.1416*(C9/1000)^2/4*7850*1,3) -> 0.888 | J9: =ROUND(H9*I9,3) -> 77.611
B10: =+B9+1 -> 18 | C10: 12 | D10: =+D9 -> 1 | E10: 46 | F10: =D10*E10 -> 46 | G10: 0.77 | H10: =ROUND(F10*G10,3) -> 35.42 | I10: =ROUND(3.1416*(C10/1000)^2/4*7850*1,3) -> 0.888 | J10: =ROUND(H10*I10,3) -> 31.453
A11: Lưới thép | B11: 66 | C11: 6 | D11: 1 | E11: 43 | F11: =D11*E11 -> 43 | G11: 6.69 | H11: =ROUND(F11*G11,3) -> 287.67 | I11: =ROUND(3.1416*(C11/1000)^2/4*7850*1,3) -> 0.222 | J11: =ROUND(H11*I11,3) -> 63.863
B12: 67 | C12: 6 | D12: 1 | E12: 67 | F12: =D12*E12 -> 67 | G12: 4.49 | H12: =ROUND(F12*G12,3) -> 300.83 | I12: =ROUND(3.1416*(C12/1000)^2/4*7850*1,3) -> 0.222 | J12: =ROUND(H12*I12,3) -> 66.784
B14: 1/. Tổng hợp cốt thép:
B15: + Cốt thép D=6mm: | F15: =SUMIF($C$6:$C$12,6,$J$6:$J$12) -> 130.647 | G15: kg
B16: + Cốt thép D=12mm: | F16: =SUMIF($C$6:$C$12,12,$J$6:$J$12) -> 355.839 | G16: kg
B17: + Cốt thép D=18mm: | F17: =SUMIF($C$6:$C$12,18,$J$6:$J$12) -> 820.579 | G17: kg
D23: GIÁM SÁT THI CÔNG XÂY DỰNG TRỰC TIẾP | I23: KỸ THUẬT TC XD TRỰC TIẾP
D28: Lê Văn Lộc | I28: Hồ Phước Hải

Sheet Cốt thép TUONG canh(Rạch Miễu)
A1: BẢNG TÍNH CỐT THÉP TƯỜNG CHẮN
F2: (Cống Rạch Miễu)
A4: Cấu kiện | B4: Số hiệu | C4: ĐK (mm) | D4: Số cấu kiện | E4: Số thanh | G4: Chiều dài (m) | I4: Trọng lượng riêng (kg/m) | J4: Khối lượng (kg)
E5: 01 CK | F5: Toàn bộ | G5: 01 thanh | H5: Toàn bộ
A6: TƯỜNG CÁNH | B6: 1 | C6: 18 | D6: 2 | E6: 4 | F6: =D6*E6 -> 8 | G6: =1.15+6.17 -> 7.32 | H6: =ROUND(F6*G6,3) -> 58.56 | I6: =ROUND(3.1416*(C6/1000)^2/4*7850*1,3) -> 1.998 | J6: =ROUND(H6*I6,3) -> 117.003 | L6: =3.8+1.8 -> 5.6
B7: 2 | C7: 18 | D7: 2 | E7: 14 | F7: =D7*E7 -> 28 | G7: 3.98 | H7: =ROUND(F7*G7,3) -> 111.44 | I7: =ROUND(3.1416*(C7/1000)^2/4*7850*1,3) -> 1.998 | J7: =ROUND(H7*I7,3) -> 222.657
B8: 3 | C8: 18 | D8: 2 | E8: 2 | F8: =D8*E8 -> 4 | G8: 8.37 | H8: =ROUND(F8*G8,3) -> 33.48 | I8: =ROUND(3.1416*(C8/1000)^2/4*7850*1,3) -> 1.998 | J8: =ROUND(H8*I8,3) -> 66.893
B9: 4 | C9: 12 | D9: 2 | E9: 64 | F9: =D9*E9 -> 128 | G9: 1.14 | H9: =ROUND(F9*G9,3) -> 145.92 | I9: =ROUND(3.1416*(C9/1000)^2/4*7850*1,3) -> 0.888 | J9: =ROUND(H9*I9,3) -> 129.577
B10: 5 | C10: 12 | D10: 2 | E10: 6 | F10: =D10*E10 -> 12 | G10: 0.86 | H10: =ROUND(F10*G10,3) -> 10.32 | I10: =ROUND(3.1416*(C10/1000)^2/4*7850*1,3) -> 0.888 | J10: =ROUND(H10*I10,3) -> 9.164
B11: 6 | C11: 12 | D11: 2 | E11: 2 | F11: =D11*E11 -> 4 | G11: 2.11 | H11: =ROUND(F11*G11,3) -> 8.44 | I11: =ROUND(3.1416*(C11/1000)^2/4*7850*1,3) -> 0.888 | J11: =ROUND(H11*I11,3) -> 7.495
B12: 7 | C12: 18 | D12: 2 | E12: 8 | F12: =D12*E12 -> 16 | G12: 7.01 | H12: =ROUND(F12*G12,3) -> 112.16 | I12: =ROUND(3.1416*(C12/1000)^2/4*7850*1,3) -> 1.998 | J12: =ROUND(H12*I12,3) -> 224.096
B13: 8 | C13: 18 | D13: =+D12 -> 2 | E13: 10 | F13: =D13*E13 -> 20 | G13: 4.4 | H13: =ROUND(F13*G13,3) -> 88 | I13: =ROUND(3.1416*(C13/1000)^2/4*7850*1,3) -> 1.998 | J13: =ROUND(H13*I13,3) -> 175.824
B14: 9 | C14: 12 | D14: =+D13 -> 2 | E14: 58 | F14: =D14*E14 -> 116 | G14: 2.38 | H14: =ROUND(F14*G14,3) -> 276.08 | I14: =ROUND(3.1416*(C14/1000)^2/4*7850*1,3) -> 0.888 | J14: =ROUND(H14*I14,3) -> 245.159
B15: 10 | C15: 12 | D15: =+D14 -> 2 | E15: 10 | F15: =D15*E15 -> 20 | G15: 3.6 | H15: =ROUND(F15*G15,3) -> 72 | I15: =ROUND(3.1416*(C15/1000)^2/4*7850*1,3) -> 0.888 | J15: =ROUND(H15*I15,3) -> 63.936
B16: 11 | C16: 12 | D16: =+D15 -> 2 | E16: 8 | F16: =D16*E16 -> 16 | G16: 6.9 | H16: =ROUND(F16*G16,3) -> 110.4 | I16: =ROUND(3.1416*(C16/1000)^2/4*7850*1,3) -> 0.888 | J16: =ROUND(H16*I16,3) -> 98.035
B17: 12 | C17: 12 | D17: =+D16 -> 2 | E17: 10 | F17: =D17*E17 -> 20 | G17: 4.34 | H17: =ROUND(F17*G17,3) -> 86.8 | I17: =ROUND(3.1416*(C17/1000)^2/4*7850*1,3) -> 0.888 | J17: =ROUND(H17*I17,3) -> 77.078
B18: 13 | C18: 10 | D18: 2 | E18: 6 | F18: =D18*E18 -> 12 | G18: 5.4 | H18: =ROUND(F18*G18,3) -> 64.8 | I18: =ROUND(3.1416*(C18/1000)^2/4*7850*1,3) -> 0.617 | J18: =ROUND(H18*I18,3) -> 39.982
B19: 14 | C19: 10 | D19: =+D18 -> 2 | E19: 18 | F19: =D19*E19 -> 36 | G19: 4.11 | H19: =ROUND(F19*G19,3) -> 147.96 | I19: =ROUND(3.1416*(C19/1000)^2/4*7850*1,3) -> 0.617 | J19: =ROUND(H19*I19,3) -> 91.291
B20: 15 | C20: 16 | D20: =+D19 -> 2 | E20: 16 | F20: =D20*E20 -> 32 | G20: 2.5 | H20: =ROUND(F20*G20,3) -> 80 | I20: =ROUND(3.1416*(C20/1000)^2/4*7850*1,3) -> 1.578 | J20: =ROUND(H20*I20,3) -> 126.24
B21: 16 | C21: 16 | D21: =+D20 -> 2 | E21: 12 | F21: =D21*E21 -> 24 | G21: 1.21 | H21: =ROUND(F21*G21,3) -> 29.04 | I21: =ROUND(3.1416*(C21/1000)^2/4*7850*1,3) -> 1.578 | J21: =ROUND(H21*I21,3) -> 45.825
B22: 17 | C22: 10 | D22: =+D21 -> 2 | E22: 16 | F22: =D22*E22 -> 32 | G22: 2.5 | H22: =ROUND(F22*G22,3) -> 80 | I22: =ROUND(3.1416*(C22/1000)^2/4*7850*1,3) -> 0.617 | J22: =ROUND(H22*I22,3) -> 49.36
B23: 18 | C23: 10 | D23: =+D22 -> 2 | E23: 12 | F23: =D23*E23 -> 24 | G23: 1.21 | H23: =ROUND(F23*G23,3) -> 29.04 | I23: =ROUND(3.1416*(C23/1000)^2/4*7850*1,3) -> 0.617 | J23: =ROUND(H23*I23,3) -> 17.918
B24: 19 | C24: 10 | D24: =+D23 -> 2 | E24: 20 | F24: =D24*E24 -> 40 | G24: 2.9 | H24: =ROUND(F24*G24,3) -> 116 | I24: =ROUND(3.1416*(C24/1000)^2/4*7850*1,3) -> 0.617 | J24: =ROUND(H24*I24,3) -> 71.572
B25: 20 | C25: 16 | D25: =+D24 -> 2 | E25: 16 | F25: =D25*E25 -> 32 | G25: 1.7 | H25: =ROUND(F25*G25,3) -> 54.4 | I25: =ROUND(3.1416*(C25/1000)^2/4*7850*1,3) -> 1.578 | J25: =ROUND(H25*I25,3) -> 85.843
B26: 21 | C26: 10 | D26: =+D25 -> 2 | E26: 16 | F26: =D26*E26 -> 32 | G26: 1.7 | H26: =ROUND(F26*G26,3) -> 54.4 | I26: =ROUND(3.1416*(C26/1000)^2/4*7850*1,3) -> 0.617 | J26: =ROUND(H26*I26,3) -> 33.565
B27: 22 | C27: 16 | D27: =+D26 -> 2 | E27: 16 | F27: =D27*E27 -> 32 | G27: 0.96 | H27: =ROUND(F27*G27,3) -> 30.72 | I27: =ROUND(3.1416*(C27/1000)^2/4*7850*1,3) -> 1.578 | J27: =ROUND(H27*I27,3) -> 48.476
B28: 33 | C28: 16 | D28: 1 | E28: 32 | F28: =D28*E28 -> 32 | G28: 0.45 | H28: =ROUND(F28*G28,3) -> 14.4 | I28: =ROUND(3.1416*(C28/1000)^2/4*7850*1,3) -> 1.578 | J28: =ROUND(H28*I28,3) -> 22.723
B30: 1/. Tổng hợp cốt thép:
B31: + Cốt thép D=10mm: | F31: =SUMIF($C$6:$C$28,10,$J$6:$J$28) -> 303.688 | G31: kg
B32: + Cốt thép D=12mm: | F32: =SUMIF($C$6:$C$28,12,$J$6:$J$28) -> 630.444 | G32: kg
B33: + Cốt thép D=16mm: | F33: =SUMIF($C$6:$C$28,16,$J$6:$J$28) -> 329.107 | G33: kg
B34: + Cốt thép D=18mm: | F34: =SUMIF($C$6:$C$28,18,$J$6:$J$28) -> 806.473 | G34: kg
D39: GIÁM SÁT THI CÔNG XÂY DỰNG TRỰC TIẾP | I39: KỸ THUẬT TC XD TRỰC TIẾP
D44: Lê Văn Lộc | I44: Hồ Phước Hải

Sheet Cốt thép ban day(Rach Mieu)
A1: BẢNG TÍNH CỐT THÉP BẢN ĐÁY CỐNG
F2: (Cống Rạch Miễu)
A4: Cấu kiện | B4: Số hiệu | C4: ĐK (mm) | D4: Số cấu kiện | E4: Số thanh | G4: Chiều dài (m) | I4: Trọng lượng riêng (kg/m) | J4: Khối lượng (kg)
E5: 01 CK | F5: Toàn bộ | G5: 01 thanh | H5: Toàn bộ
A6: BẢN ĐÁY | B6: 1 | C6: 18 | D6: 1 | E6: 82 | F6: =D6*E6 -> 82 | G6: 4.8 | H6: =ROUND(F6*G6,3) -> 393.6 | I6: =ROUND(3.1416*(C6/1000)^2/4*7850*1,3) -> 1.998 | J6: =ROUND(H6*I6,3) -> 786.413
B7: 2 | C7: 18 | D7: 1 | E7: 6 | F7: =D7*E7 -> 6 | G7: 3.75 | H7: =ROUND(F7*G7,3) -> 22.5 | I7: =ROUND(3.1416*(C7/1000)^2/4*7850*1,3) -> 1.998 | J7: =ROUND(H7*I7,3) -> 44.955 | K7: =5.64+1.86 -> 7.5 | L7: =+K7/2 -> 3.75
B8: 3 | C8: 18 | D8: 1 | E8: 10 | F8: =D8*E8 -> 10 | G8: 9.9 | H8: =ROUND(F8*G8,3) -> 99 | I8: =ROUND(3.1416*(C8/1000)^2/4*7850*1,3) -> 1.998 | J8: =ROUND(H8*I8,3) -> 197.802
B9: 4 | C9: 12 | D9: 1 | E9: 76 | F9: =D9*E9 -> 76 | G9: 3.78 | H9: =ROUND(F9*G9,3) -> 287.28 | I9: =ROUND(3.1416*(C9/1000)^2/4*7850*1,3) -> 0.888 | J9: =ROUND(H9*I9,3) -> 255.105
B10: 5 | C10: 12 | D10: 1 | E10: 29 | F10: =D10*E10 -> 29 | G10: 18.76 | H10: =ROUND(F10*G10,3) -> 544.04 | I10: =ROUND(3.1416*(C10/1000)^2/4*7850*1,3) -> 0.888 | J10: =ROUND(H10*I10,3) -> 483.108
B11: 6 | C11: 12 | D11: 1 | E11: 58 | F11: =D11*E11 -> 58 | G11: 1.7 | H11: =ROUND(F11*G11,3) -> 98.6 | I11: =ROUND(3.1416*(C11/1000)^2/4*7850*1,3) -> 0.888 | J11: =ROUND(H11*I11,3) -> 87.557
B12: 7 | C12: 12 | D12: 1 | E12: 96 | F12: =D12*E12 -> 96 | G12: 4.8 | H12: =ROUND(F12*G12,3) -> 460.8 | I12: =ROUND(3.1416*(C12/1000)^2/4*7850*1,3) -> 0.888 | J12: =ROUND(H12*I12,3) -> 409.19
B13: 7a | C13: 12 | D13: 1 | E13: 17 | F13: =D13*E13 -> 17 | G13: 1.6 | H13: =ROUND(F13*G13,3) -> 27.2 | I13: =ROUND(3.1416*(C13/1000)^2/4*7850*1,3) -> 0.888 | J13: =ROUND(H13*I13,3) -> 24.154
B14: 8 | C14: 12 | D14: 1 | E14: 6 | F14: =D14*E14 -> 6 | G14: 3.75 | H14: =ROUND(F14*G14,3) -> 22.5 | I14: =ROUND(3.1416*(C14/1000)^2/4*7850*1,3) -> 0.888 | J14: =ROUND(H14*I14,3) -> 19.98
B15: 9 | C15: 12 | D15: 1 | E15: 15 | F15: =D15*E15 -> 15 | G15: 9.9 | H15: =ROUND(F15*G15,3) -> 148.5 | I15: =ROUND(3.1416*(C15/1000)^2/4*7850*1,3) -> 0.888 | J15: =ROUND(H15*I15,3) -> 131.868
B16: 10 | C16: 12 | D16: 1 | E16: 20 | F16: =D16*E16 -> 20 | G16: 12.89 | H16: =ROUND(F16*G16,3) -> 257.8 | I16: =ROUND(3.1416*(C16/1000)^2/4*7850*1,3) -> 0.888 | J16: =ROUND(H16*I16,3) -> 228.926
B17: 10a | C17: 12 | D17: 1 | E17: 30 | F17: =D17*E17 -> 30 | G17: 1.92 | H17: =ROUND(F17*G17,3) -> 57.6 | I17: =ROUND(3.1416*(C17/1000)^2/4*7850*1,3) -> 0.888 | J17: =ROUND(H17*I17,3) -> 51.149
B18: 10b | C18: 12 | D18: 1 | E18: 20 | F18: =D18*E18 -> 20 | G18: 3.17 | H18: =ROUND(F18*G18,3) -> 63.4 | I18: =ROUND(3.1416*(C18/1000)^2/4*7850*1,3) -> 0.888 | J18: =ROUND(H18*I18,3) -> 56.299
B19: 10c | C19: 12 | D19: 1 | E19: 20 | F19: =D19*E19 -> 20 | G19: 2.41 | H19: =ROUND(F19*G19,3) -> 48.2 | I19: =ROUND(3.1416*(C19/1000)^2/4*7850*1,3) -> 0.888 | J19: =ROUND(H19*I19,3) -> 42.802
B20: 10d | C20: 12 | D20: 1 | E20: 3 | F20: =D20*E20 -> 3 | G20: 5.41 | H20: =ROUND(F20*G20,3) -> 16.23 | I20: =ROUND(3.1416*(C20/1000)^2/4*7850*1,3) -> 0.888 | J20: =ROUND(H20*I20,3) -> 14.412
B21: 10e | C21: 12 | D21: 1 | E21: 3 | F21: =D21*E21 -> 3 | G21: 4.1 | H21: =ROUND(F21*G21,3) -> 12.3 | I21: =ROUND(3.1416*(C21/1000)^2/4*7850*1,3) -> 0.888 | J21: =ROUND(H21*I21,3) -> 10.922
B22: 11 | C22: 12 | D22: 1 | E22: 20 | F22: =D22*E22 -> 20 | G22: 1.6 | H22: =ROUND(F22*G22,3) -> 32 | I22: =ROUND(3.1416*(C22/1000)^2/4*7850*1,3) -> 0.888 | J22: =ROUND(H22*I22,3) -> 28.416
B23: 12 | C23: 12 | D23: 1 | E23: 20 | F23: =D23*E23 -> 20 | G23: 1.86 | H23: =ROUND(F23*G23,3) -> 37.2 | I23: =ROUND(3.1416*(C23/1000)^2/4*7850*1,3) -> 0.888 | J23: =ROUND(H23*I23,3) -> 33.034
B24: 13 | C24: 12 | D24: 1 | E24: 20 | F24: =D24*E24 -> 20 | G24: 5.23 | H24: =ROUND(F24*G24,3) -> 104.6 | I24: =ROUND(3.1416*(C24/1000)^2/4*7850*1,3) -> 0.888 | J24: =ROUND(H24*I24,3) -> 92.885
B26: 1/. Tổng hợp cốt thép:
B27: + Cốt thép D=12mm: | F27: =SUMIF($C$6:$C$24,12,$J$6:$J$24) -> 1969.807 | G27: kg
B28: + Cốt thép D=18mm: | F28: =SUMIF($C$6:$C$24,18,$J$6:$J$24) -> 1029.17 | G28: kg
D30: GIÁM SÁT THI CÔNG XÂY DỰNG TRỰC TIẾP | I30: KỸ THUẬT TC XD TRỰC TIẾP
D35: Lê Văn Lộc | I35: Hồ Phước Hải

Sheet Cốt thép ban day(Lồ Ồ) (2)
A1: BẢNG TÍNH CỐT THÉP BẢN ĐÁY CỐNG
G2: (Cống Lồ Ồ)
A4: Cấu kiện | B4: Số hiệu | C4: ĐK (mm) | D4: Số cấu kiện | F4: Số thanh | I4: Chiều dài (m) | K4: Trọng lượng riêng (kg/m) | L4: Khối lượng (kg)
F5: 01 CK | G5: Toàn bộ | I5: 01 thanh | J5: Toàn bộ
A6: BẢN ĐÁY | B6: 1 | C6: 18 | D6: 1 | E6: =17.66/0.2+1 -> 89.3 | F6: 90 | G6: =D6*F6 -> 90 | H6: 4.8 | I6: 4.8 | J6: =ROUND(G6*I6,3) -> 432 | K6: =ROUND(3.1416*(C6/1000)^2/4*7850*1,3) -> 1.998 | L6: =ROUND(J6*K6,3) -> 863.136
B7: 2 | C7: 18 | D7: =+D6 -> 1 | E7: =1.63/0.2 -> 8.15 | F7: 8 | G7: =D7*F7 -> 8 | H7: =+(4.6+2)/2 -> 3.3 | I7: 3.15 | J7: =ROUND(G7*I7,3) -> 25.2 | K7: =ROUND(3.1416*(C7/1000)^2/4*7850*1,3) -> 1.998 | L7: =ROUND(J7*K7,3) -> 50.35
B8: 3 | C8: 18 | D8: =+D7 -> 1 | E8: =1.5/0.2+1 -> 8.5 | F8: 9 | G8: =D8*F8 -> 9 | H8: 9.71 | I8: 9.71 | J8: =ROUND(G8*I8,3) -> 87.39 | K8: =ROUND(3.1416*(C8/1000)^2/4*7850*1,3) -> 1.998 | L8: =ROUND(J8*K8,3) -> 174.605
B9: 4 | C9: 12 | D9: =+D8 -> 1 | E9: =9.81/0.2+1+4.9/0.2+1 -> 75.55 | F9: 75 | G9: =D9*F9 -> 75 | I9: 3.75 | J9: =ROUND(G9*I9,3) -> 281.25 | K9: =ROUND(3.1416*(C9/1000)^2/4*7850*1,3) -> 0.888 | L9: =ROUND(J9*K9,3) -> 249.75
B10: 5 | C10: 12 | D10: =+D9 -> 1 | E10: =4.9/0.2+1+4 -> 29.5 | F10: 29 | G10: =D10*F10 -> 29 | H10: =17.6+1.63 -> 19.23 | I10: 21.25 | J10: =ROUND(G10*I10,3) -> 616.25 | K10: =ROUND(3.1416*(C10/1000)^2/4*7850*1,3) -> 0.888 | L10: =ROUND(J10*K10,3) -> 547.23 | M10: + 4 cây lớp trên
B11: 6 | C11: 12 | D11: =+D10 -> 1 | E11: =9.81/0.2+1 -> 50.05 | F11: 50 | G11: =D11*F11 -> 50 | I11: 1.7 | J11: =ROUND(G11*I11,3) -> 85 | K11: =ROUND(3.1416*(C11/1000)^2/4*7850*1,3) -> 0.888 | L11: =ROUND(J11*K11,3) -> 75.48
B12: 7 | C12: 12 | D12: =+D11 -> 1 | E12: =+(17.66+1.63)/0.2+4 -> 100.45 | F12: 102 | G12: =D12*F12 -> 102 | I12: 4.8 | J12: =ROUND(G12*I12,3) -> 489.6 | K12: =ROUND(3.1416*(C12/1000)^2/4*7850*1,3) -> 0.888 | L12: =ROUND(J12*K12,3) -> 434.765
B13: 7a | C13: 12 | D13: =+D12 -> 1 | E13: =4.79/0.2+1 -> 24.95 | F13: 18 | G13: =D13*F13 -> 18 | I13: 1.2 | J13: =ROUND(G13*I13,3) -> 21.6 | K13: =ROUND(3.1416*(C13/1000)^2/4*7850*1,3) -> 0.888 | L13: =ROUND(J13*K13,3) -> 19.181 | M13: tính 1 bên??
B14: 7b | C14: 12 | D14: =+D13 -> 1 | E14: 3 | F14: 3 | G14: =D14*F14 -> 3 | I14: 4.83 | J14: =ROUND(G14*I14,3) -> 14.49 | K14: =ROUND(3.1416*(C14/1000)^2/4*7850*1,3) -> 0.888 | L14: =ROUND(J14*K14,3) -> 12.867 | M14: tính 1 bên??
B15: 7c | C15: 12 | D15: =+D14 -> 1 | E15: 3 | F15: 3 | G15: =D15*F15 -> 3 | I15: 3.95 | J15: =ROUND(G15*I15,3) -> 11.85 | K15: =ROUND(3.1416*(C15/1000)^2/4*7850*1,3) -> 0.888 | L15: =ROUND(J15*K15,3) -> 10.523 | M15: tính 1 bên??
B16: 8 | C16: 12 | D16: =+D15 -> 1 | E16: =1.63/0.2 -> 8.15 | F16: 8 | G16: =D16*F16 -> 8 | I16: 3.1 | J16: =ROUND(G16*I16,3) -> 24.8 | K16: =ROUND(3.1416*(C16/1000)^2/4*7850*1,3) -> 0.888 | L16: =ROUND(J16*K16,3) -> 22.022
B17: 9 | C17: 12 | D17: =+D16 -> 1 | E17: 13 | F17: 13 | G17: =D17*F17 -> 13 | I17: 9.71 | J17: =ROUND(G17*I17,3) -> 126.23 | K17: =ROUND(3.1416*(C17/1000)^2/4*7850*1,3) -> 0.888 | L17: =ROUND(J17*K17,3) -> 112.092
B18: 10 | C18: 12 | D18: =+D17 -> 1 | E18: =3.5/0.2+1 -> 18.5 | F18: 19 | G18: =D18*F18 -> 19 | I18: 13.68 | J18: =ROUND(G18*I18,3) -> 259.92 | K18: =ROUND(3.1416*(C18/1000)^2/4*7850*1,3) -> 0.888 | L18: =ROUND(J18*K18,3) -> 230.809
B19: 10a | C19: 12 | D19: =+D18 -> 1 | E19: =3.3/0.2 -> 16.5 | F19: 15 | G19: =D19*F19 -> 15 | I19: 1.92 | J19: =ROUND(G19*I19,3) -> 28.8 | K19: =ROUND(3.1416*(C19/1000)^2/4*7850*1,3) -> 0.888 | L19: =ROUND(J19*K19,3) -> 25.574
B20: 11 | C20: 12 | D20: =+D19 -> 1 | E20: =3.5/0.2+1 -> 18.5 | F20: 19 | G20: =D20*F20 -> 19 | I20: 1.6 | J20: =ROUND(G20*I20,3) -> 30.4 | K20: =ROUND(3.1416*(C20/1000)^2/4*7850*1,3) -> 0.888 | L20: =ROUND(J20*K20,3) -> 26.995
B21: 12 | C21: 12 | D21: =+D20 -> 1 | E21: =3.5/0.2+1 -> 18.5 | F21: 19 | G21: =D21*F21 -> 19 | I21: 1.06 | J21: =ROUND(G21*I21,3) -> 20.14 | K21: =ROUND(3.1416*(C21/1000)^2/4*7850*1,3) -> 0.888 | L21: =ROUND(J21*K21,3) -> 17.884
B22: 12a | C22: 12 | D22: =+D21 -> 1 | E22: =3.5/0.2+1 -> 18.5 | F22: 19 | G22: =D22*F22 -> 19 | I22: 3.17 | J22: =ROUND(G22*I22,3) -> 60.23 | K22: =ROUND(3.1416*(C22/1000)^2/4*7850*1,3) -> 0.888 | L22: =ROUND(J22*K22,3) -> 53.484
B23: 12b | C23: 12 | D23: =+D22 -> 1 | E23: =3.5/0.2+1 -> 18.5 | F23: 19 | G23: =D23*F23 -> 19 | I23: 2.41 | J23: =ROUND(G23*I23,3) -> 45.79 | K23: =ROUND(3.1416*(C23/1000)^2/4*7850*1,3) -> 0.888 | L23: =ROUND(J23*K23,3) -> 40.662
B24: 13 | C24: 12 | D24: =+D23 -> 1 | E24: =3.5/0.2+1 -> 18.5 | F24: 19 | G24: =D24*F24 -> 19 | I24: 4.925 | J24: =ROUND(G24*I24,3) -> 93.575 | K24: =ROUND(3.1416*(C24/1000)^2/4*7850*1,3) -> 0.888 | L24: =ROUND(J24*K24,3) -> 83.095
B25: 13a | C25: 12 | D25: =+D24 -> 1 | E25: =3/0.2 -> 15 | F25: 15 | G25: =D25*F25 -> 15 | I25: 1.92 | J25: =ROUND(G25*I25,3) -> 28.8 | K25: =ROUND(3.1416*(C25/1000)^2/4*7850*1,3) -> 0.888 | L25: =ROUND(J25*K25,3) -> 25.574
B27: 1/. Tổng hợp cốt thép:
B28: + Cốt thép D=12mm: | G28: =SUMIF($C$6:$C$25,12,$L$6:$L$25) -> 1987.987 | I28: kg
B29: + Cốt thép D=18mm: | G29: =SUMIF($C$6:$C$25,18,$L$6:$L$25) -> 1088.091 | I29: kg
D31: KỸ THUẬT THI CÔNG TRỰC TIẾP | K31: GIÁM SÁT KỸ THUẬT
D36: Hồ Phước Hải | K36: Lê Văn Lộc

Sheet Cốt thép mặt cầu(Lồ Ồ)
A1: BẢNG TÍNH CỐT THÉP MẶT CẦU CỐNG RẠCH LỒ Ô
A4: Cấu kiện | B4: Số hiệu | C4: ĐK (mm) | D4: Số cấu kiện | E4: Số thanh | G4: Chiều dài (m) | I4: Trọng lượng riêng (kg/m) | J4: Khối lượng (kg)
E5: 01 CK | F5: Toàn bộ | G5: 01 thanh | H5: Toàn bộ
A6: MẶT CẦU | B6: 14 | C6: 18 | D6: 1 | E6: 80 | F6: =D6*E6 -> 80 | G6: 5.94 | H6: =ROUND(F6*G6,3) -> 475.2 | I6: =ROUND(3.1416*(C6/1000)^2/4*7850*1,3) -> 1.998 | J6: =ROUND(H6*I6,3) -> 949.45 | L6: 500
B7: =+B6+1 -> 15 | C7: 12 | D7: =+D6 -> 1 | E7: 34 | F7: =D7*E7 -> 34 | G7: 7.78 | H7: =ROUND(F7*G7,3) -> 264.52 | I7: =ROUND(3.1416*(C7/1000)^2/4*7850*1,3) -> 0.888 | J7: =ROUND(H7*I7,3) -> 234.894 | L7: 491
B8: =+B7+1 -> 16 | C8: 12 | D8: =+D7 -> 1 | E8: 8 | F8: =D8*E8 -> 8 | G8: 4.74 | H8: =ROUND(F8*G8,3) -> 37.92 | I8: =ROUND(3.1416*(C8/1000)^2/4*7850*1,3) -> 0.888 | J8: =ROUND(H8*I8,3) -> 33.673 | L8: 546.5
B9: =+B8+1 -> 17 | C9: 12 | D9: =+D8 -> 1 | E9: 50 | F9: =D9*E9 -> 50 | G9: 1.9 | H9: =ROUND(F9*G9,3) -> 95 | I9: =ROUND(3.1416*(C9/1000)^2/4*7850*1,3) -> 0.888 | J9: =ROUND(H9*I9,3) -> 84.36 | L9: 620
B10: =+B9+1 -> 18 | C10: 12 | D10: =+D9 -> 1 | E10: 50 | F10: =D10*E10 -> 50 | G10: 0.77 | H10: =ROUND(F10*G10,3) -> 38.5 | I10: =ROUND(3.1416*(C10/1000)^2/4*7850*1,3) -> 0.888 | J10: =ROUND(H10*I10,3) -> 34.188 | L10: 608
A11: Lưới thép | B11: 68 | C11: 6 | D11: 1 | E11: 43 | F11: =D11*E11 -> 43 | G11: 6.78 | H11: =ROUND(F11*G11,3) -> 291.54 | I11: =ROUND(3.1416*(C11/1000)^2/4*7850*1,3) -> 0.222 | J11: =ROUND(H11*I11,3) -> 64.722
B12: 69 | C12: 6 | D12: 1 | E12: 68 | F12: =D12*E12 -> 68 | G12: 4.83 | H12: =ROUND(F12*G12,3) -> 328.44 | I12: =ROUND(3.1416*(C12/1000)^2/4*7850*1,3) -> 0.222 | J12: =ROUND(H12*I12,3) -> 72.914
B14: 1/. Tổng hợp cốt thép:
B15: + Cốt thép D=6mm: | F15: =SUMIF($C$6:$C$12,6,$J$6:$J$12) -> 137.636 | G15: kg
B16: + Cốt thép D=12mm: | F16: =SUMIF($C$6:$C$12,12,$J$6:$J$12) -> 387.115 | G16: kg
B17: + Cốt thép D=18mm: | F17: =SUMIF($C$6:$C$12,18,$J$6:$J$12) -> 949.45 | G17: kg
D19: KỸ THUẬT THI CÔNG TRỰC TIẾP | I19: GIÁM SÁT KỸ THUẬT
D24: Phan Văn Khánh | I24: Nguyễn Phạm Hoài Linh

Sheet CThép TUONG canh(Lồ Ồ) sông
A1: BẢNG TÍNH CỐT THÉP TƯỜNG CỐNG RẠCH LỒ Ô
A4: Cấu kiện | B4: Số hiệu | C4: ĐK (mm) | D4: Số cấu kiện | E4: Số thanh | G4: Chiều dài (m) | I4: Trọng lượng riêng (kg/m) | J4: Khối lượng (kg)
E5: 01 CK | F5: Toàn bộ | G5: 01 thanh | H5: Toàn bộ
A6: TƯỜNG CÁNH PHÍA SÔNG | B6: 25 | C6: 10 | D6: 1 | E6: 16 | F6: =D6*E6 -> 16 | G6: 2.8 | H6: =ROUND(F6*G6,3) -> 44.8 | I6: =ROUND(3.1416*(C6/1000)^2/4*7850*1,3) -> 0.617 | J6: =ROUND(H6*I6,3) -> 27.642
B7: 26 | C7: 10 | D7: =+D6 -> 1 | E7: 9 | F7: =D7*E7 -> 9 | G7: 2.005 | H7: =ROUND(F7*G7,3) -> 18.045 | I7: =ROUND(3.1416*(C7/1000)^2/4*7850*1,3) -> 0.617 | J7: =ROUND(H7*I7,3) -> 11.134
B8: 27 | C8: 10 | D8: =+D7 -> 1 | E8: 79 | F8: =D8*E8 -> 79 | G8: 1.2 | H8: =ROUND(F8*G8,3) -> 94.8 | I8: =ROUND(3.1416*(C8/1000)^2/4*7850*1,3) -> 0.617 | J8: =ROUND(H8*I8,3) -> 58.492
B9: 28 | C9: 10 | D9: =+D8 -> 1 | E9: 6 | F9: =D9*E9 -> 6 | G9: 20.7 | H9: =ROUND(F9*G9,3) -> 124.2 | I9: =ROUND(3.1416*(C9/1000)^2/4*7850*1,3) -> 0.617 | J9: =ROUND(H9*I9,3) -> 76.631
B10: 29 | C10: 10 | D10: =+D9 -> 1 | E10: 16 | F10: =D10*E10 -> 16 | G10: 4.225 | H10: =ROUND(F10*G10,3) -> 67.6 | I10: =ROUND(3.1416*(C10/1000)^2/4*7850*1,3) -> 0.617 | J10: =ROUND(H10*I10,3) -> 41.709
B11: 30 | C11: 16 | D11: =+D10 -> 1 | E11: 16 | F11: =D11*E11 -> 16 | G11: 2.8 | H11: =ROUND(F11*G11,3) -> 44.8 | I11: =ROUND(3.1416*(C11/1000)^2/4*7850*1,3) -> 1.578 | J11: =ROUND(H11*I11,3) -> 70.694
B12: 31 | C12: 16 | D12: =+D11 -> 1 | E12: 9 | F12: =D12*E12 -> 9 | G12: 2.005 | H12: =ROUND(F12*G12,3) -> 18.045 | I12: =ROUND(3.1416*(C12/1000)^2/4*7850*1,3) -> 1.578 | J12: =ROUND(H12*I12,3) -> 28.475
B13: 32 | C13: 16 | D13: =+D12 -> 1 | E13: 77 | F13: =D13*E13 -> 77 | G13: 1.2 | H13: =ROUND(F13*G13,3) -> 92.4 | I13: =ROUND(3.1416*(C13/1000)^2/4*7850*1,3) -> 1.578 | J13: =ROUND(H13*I13,3) -> 145.807
B14: 33 | C14: 10 | D14: =+D13 -> 1 | E14: 6 | F14: =D14*E14 -> 6 | G14: 20.51 | H14: =ROUND(F14*G14,3) -> 123.06 | I14: =ROUND(3.1416*(C14/1000)^2/4*7850*1,3) -> 0.617 | J14: =ROUND(H14*I14,3) -> 75.928
B15: 39 | C15: 12 | D15: 1 | E15: 8 | F15: =D15*E15 -> 8 | G15: 2.8 | H15: =ROUND(F15*G15,3) -> 22.4 | I15: =ROUND(3.1416*(C15/1000)^2/4*7850*1,3) -> 0.888 | J15: =ROUND(H15*I15,3) -> 19.891
B16: 40 | C16: 12 | D16: =+D15 -> 1 | E16: 36 | F16: =D16*E16 -> 36 | G16: 1.715 | H16: =ROUND(F16*G16,3) -> 61.74 | I16: =ROUND(3.1416*(C16/1000)^2/4*7850*1,3) -> 0.888 | J16: =ROUND(H16*I16,3) -> 54.825
B17: 41 | C17: 18 | D17: =+D16 -> 1 | E17: 5 | F17: =D17*E17 -> 5 | G17: 4.4 | H17: =ROUND(F17*G17,3) -> 22 | I17: =ROUND(3.1416*(C17/1000)^2/4*7850*1,3) -> 1.998 | J17: =ROUND(H17*I17,3) -> 43.956
B18: 42 | C18: 18 | D18: =+D17 -> 1 | E18: 9 | F18: =D18*E18 -> 9 | G18: 2.945 | H18: =ROUND(F18*G18,3) -> 26.505 | I18: =ROUND(3.1416*(C18/1000)^2/4*7850*1,3) -> 1.998 | J18: =ROUND(H18*I18,3) -> 52.957
B19: 43 | C19: 12 | D19: =+D18 -> 1 | E19: 5 | F19: =D19*E19 -> 5 | G19: 4.4 | H19: =ROUND(F19*G19,3) -> 22 | I19: =ROUND(3.1416*(C19/1000)^2/4*7850*1,3) -> 0.888 | J19: =ROUND(H19*I19,3) -> 19.536
B20: 44 | C20: 12 | D20: =+D19 -> 1 | E20: 9 | F20: =D20*E20 -> 9 | G20: 2.945 | H20: =ROUND(F20*G20,3) -> 26.505 | I20: =ROUND(3.1416*(C20/1000)^2/4*7850*1,3) -> 0.888 | J20: =ROUND(H20*I20,3) -> 23.536
B21: 45 | C21: 16 | D21: 9 | E21: 4 | F21: =D21*E21 -> 36 | G21: 0.45 | H21: =ROUND(F21*G21,3) -> 16.2 | I21: =ROUND(3.1416*(C21/1000)^2/4*7850*1,3) -> 1.578 | J21: =ROUND(H21*I21,3) -> 25.564
B23: 1/. Tổng hợp cốt thép:
B24: + Cốt thép D=10mm: | F24: =SUMIF($C$6:$C$21,10,$J$6:$J$21) -> 291.536 | G24: kg
B25: + Cốt thép D=12mm: | F25: =SUMIF($C$6:$C$21,12,$J$6:$J$21) -> 117.788 | G25: kg | K25: =+F25+'Cthép ban day canh(Lồ Ồ) sông'!F26+'Cthép tương canh(Lồ Ồ) đồng'!F14+'Cthép ban day canh(Lồ Ồ) đồng'!F14 -> 732.702
B26: + Cốt thép D=16mm: | F26: =SUMIF($C$6:$C$21,16,$J$6:$J$21) -> 270.54 | G26: kg | K26: =+F26+'Cthép ban day canh(Lồ Ồ) sông'!F27 -> 714.511
B27: + Cốt thép D=18mm: | F27: =SUMIF($C$6:$C$21,18,$J$6:$J$21) -> 96.913 | G27: kg | K27: =+F27+'Cthép ban day canh(Lồ Ồ) sông'!F28+'Cthép tương canh(Lồ Ồ) đồng'!F15+'Cthép ban day canh(Lồ Ồ) đồng'!F15 -> 1070.858
D29: KỸ THUẬT THI CÔNG TRỰC TIẾP | I29: GIÁM SÁT KỸ THUẬT
D34: Phan Văn Khánh | I34: Nguyễn Phạm Hoài Linh

Sheet Cthép ban day canh(Lồ Ồ) sông
A1: BẢNG TÍNH CỐT THÉP BẢN ĐÁY TƯỜNG CÁNH CỐNG RẠCH LỒ Ô
A4: Cấu kiện | B4: Số hiệu | C4: ĐK (mm) | D4: Số cấu kiện | E4: Số thanh | G4: Chiều dài (m) | I4: Trọng lượng riêng (kg/m) | J4: Khối lượng (kg)
E5: 01 CK | F5: Toàn bộ | G5: 01 thanh | H5: Toàn bộ
A6: BẢN ĐÁY PHÍA SÔNG | B6: 13 | C6: 10 | D6: 1 | E6: 16 | F6: =D6*E6 -> 16 | G6: 1.7 | H6: =ROUND(F6*G6,3) -> 27.2 | I6: =ROUND(3.1416*(C6/1000)^2/4*7850*1,3) -> 0.617 | J6: =ROUND(H6*I6,3) -> 16.782
B7: 14 | C7: 10 | D7: =+D6 -> 1 | E7: 63 | F7: =D7*E7 -> 63 | G7: 0.9 | H7: =ROUND(F7*G7,3) -> 56.7 | I7: =ROUND(3.1416*(C7/1000)^2/4*7850*1,3) -> 0.617 | J7: =ROUND(H7*I7,3) -> 34.984
B8: 15 | C8: 10 | D8: =+D7 -> 1 | E8: 23 | F8: =D8*E8 -> 23 | G8: 0.55 | H8: =ROUND(F8*G8,3) -> 12.65 | I8: =ROUND(3.1416*(C8/1000)^2/4*7850*1,3) -> 0.617 | J8: =ROUND(H8*I8,3) -> 7.805
B9: 16 | C9: 10 | D9: =+D8 -> 1 | E9: 6 | F9: =D9*E9 -> 6 | G9: 16.155 | H9: =ROUND(F9*G9,3) -> 96.93 | I9: =ROUND(3.1416*(C9/1000)^2/4*7850*1,3) -> 0.617 | J9: =ROUND(H9*I9,3) -> 59.806 | K9: BẢN ĐÁY PHÍA ĐỒNG
B10: 17 | C10: 10 | D10: =+D9 -> 1 | E10: 8 | F10: =D10*E10 -> 8 | G10: 2.9 | H10: =ROUND(F10*G10,3) -> 23.2 | I10: =ROUND(3.1416*(C10/1000)^2/4*7850*1,3) -> 0.617 | J10: =ROUND(H10*I10,3) -> 14.314
B11: 18 | C11: 10 | D11: =+D10 -> 1 | E11: 4 | F11: =D11*E11 -> 4 | G11: 5.01 | H11: =ROUND(F11*G11,3) -> 20.04 | I11: =ROUND(3.1416*(C11/1000)^2/4*7850*1,3) -> 0.617 | J11: =ROUND(H11*I11,3) -> 12.365
B12: 19 | C12: 10 | D12: =+D11 -> 1 | E12: 6 | F12: =D12*E12 -> 6 | G12: 2.86 | H12: =ROUND(F12*G12,3) -> 17.16 | I12: =ROUND(3.1416*(C12/1000)^2/4*7850*1,3) -> 0.617 | J12: =ROUND(H12*I12,3) -> 10.588
B13: 20 | C13: 10 | D13: =+D12 -> 1 | E13: 2 | F13: =D13*E13 -> 2 | G13: 5.84 | H13: =ROUND(F13*G13,3) -> 11.68 | I13: =ROUND(3.1416*(C13/1000)^2/4*7850*1,3) -> 0.617 | J13: =ROUND(H13*I13,3) -> 7.207
B14: 21 | C14: 16 | D14: =+D13 -> 1 | E14: 16 | F14: =D14*E14 -> 16 | G14: 1.7 | H14: =ROUND(F14*G14,3) -> 27.2 | I14: =ROUND(3.1416*(C14/1000)^2/4*7850*1,3) -> 1.578 | J14: =ROUND(H14*I14,3) -> 42.922
B15: 22 | C15: 16 | D15: =+D14 -> 1 | E15: 63 | F15: =D15*E15 -> 63 | G15: 0.9 | H15: =ROUND(F15*G15,3) -> 56.7 | I15: =ROUND(3.1416*(C15/1000)^2/4*7850*1,3) -> 1.578 | J15: =ROUND(H15*I15,3) -> 89.473
B16: 23 | C16: 16 | D16: =+D15 -> 1 | E16: 23 | F16: =D16*E16 -> 23 | G16: 0.55 | H16: =ROUND(F16*G16,3) -> 12.65 | I16: =ROUND(3.1416*(C16/1000)^2/4*7850*1,3) -> 1.578 | J16: =ROUND(H16*I16,3) -> 19.962
B17: 24 | C17: 10 | D17: =+D16 -> 1 | E17: 6 | F17: =D17*E17 -> 6 | G17: 16.155 | H17: =ROUND(F17*G17,3) -> 96.93 | I17: =ROUND(3.1416*(C17/1000)^2/4*7850*1,3) -> 0.617 | J17: =ROUND(H17*I17,3) -> 59.806
B18: 34 | C18: 16 | D18: 1 | E18: 105 | F18: =D18*E18 -> 105 | G18: 1.76 | H18: =ROUND(F18*G18,3) -> 184.8 | I18: =ROUND(3.1416*(C18/1000)^2/4*7850*1,3) -> 1.578 | J18: =ROUND(H18*I18,3) -> 291.614
B19: 35 | C19: 18 | D19: =+D18 -> 1 | E19: 4 | F19: =D19*E19 -> 4 | G19: 4.97 | H19: =ROUND(F19*G19,3) -> 19.88 | I19: =ROUND(3.1416*(C19/1000)^2/4*7850*1,3) -> 1.998 | J19: =ROUND(H19*I19,3) -> 39.72
B20: 36 | C20: 18 | D20: =+D19 -> 1 | E20: 14 | F20: =D20*E20 -> 14 | G20: 2.855 | H20: =ROUND(F20*G20,3) -> 39.97 | I20: =ROUND(3.1416*(C20/1000)^2/4*7850*1,3) -> 1.998 | J20: =ROUND(H20*I20,3) -> 79.86
B21: 37 | C21: 12 | D21: =+D20 -> 1 | E21: 44 | F21: =D21*E21 -> 44 | G21: 1.08 | H21: =ROUND(F21*G21,3) -> 47.52 | I21: =ROUND(3.1416*(C21/1000)^2/4*7850*1,3) -> 0.888 | J21: =ROUND(H21*I21,3) -> 42.198
B22: 38 | C22: 18 | D22: =+D21 -> 1 | E22: 2 | F22: =D22*E22 -> 2 | G22: 5.38 | H22: =ROUND(F22*G22,3) -> 10.76 | I22: =ROUND(3.1416*(C22/1000)^2/4*7850*1,3) -> 1.998 | J22: =ROUND(H22*I22,3) -> 21.498
B24: 1/. Tổng hợp cốt thép:
B25: + Cốt thép D=10mm: | F25: =SUMIF($C$6:$C$22,10,$J$6:$J$22) -> 223.657 | G25: kg
B26: + Cốt thép D=12mm: | F26: =SUMIF($C$6:$C$22,12,$J$6:$J$22) -> 42.198 | G26: kg
B27: + Cốt thép D=16mm: | F27: =SUMIF($C$6:$C$22,16,$J$6:$J$22) -> 443.971 | G27: kg
B28: + Cốt thép D=18mm: | F28: =SUMIF($C$6:$C$22,18,$J$6:$J$22) -> 141.078 | G28: kg
D30: KỸ THUẬT THI CÔNG TRỰC TIẾP | I30: GIÁM SÁT KỸ THUẬT
D35: Phan Văn Khánh | I35: Nguyễn Phạm Hoài Linh

Sheet Cốt thép TUONG canh(Lồ Ồ) (2)
A1: BẢNG TÍNH CỐT THÉP BẢN ĐÁY TƯỜNG CÁNH PHÍA ĐỒNG CỐNG RẠCH LỒ Ô
A4: Cấu kiện | B4: Số hiệu | C4: ĐK (mm) | D4: Số cấu kiện | E4: Số thanh | G4: Chiều dài (m) | I4: Trọng lượng riêng (kg/m) | J4: Khối lượng (kg)
E5: 01 CK | F5: Toàn bộ | G5: 01 thanh | H5: Toàn bộ
A6: BẢN ĐÁY TƯỜNG CÁNH | B6: 1 | C6: 18 | D6: 2 | E6: 4 | F6: =D6*E6 -> 8 | G6: 7.77 | H6: =ROUND(F6*G6,3) -> 62.16 | I6: =ROUND(3.1416*(C6/1000)^2/4*7850*1,3) -> 1.998 | J6: =ROUND(H6*I6,3) -> 124.196
B7: 2 | C7: 18 | D7: 2 | E7: 16 | F7: =D7*E7 -> 32 | G7: 4.245 | H7: =ROUND(F7*G7,3) -> 135.84 | I7: =ROUND(3.1416*(C7/1000)^2/4*7850*1,3) -> 1.998 | J7: =ROUND(H7*I7,3) -> 271.408
B8: 3 | C8: 18 | D8: =+D7 -> 2 | E8: 2 | F8: =D8*E8 -> 4 | G8: 9.15 | H8: =ROUND(F8*G8,3) -> 36.6 | I8: =ROUND(3.1416*(C8/1000)^2/4*7850*1,3) -> 1.998 | J8: =ROUND(H8*I8,3) -> 73.127
B9: 4 | C9: 12 | D9: =+D8 -> 2 | E9: 62 | F9: =D9*E9 -> 124 | G9: 0.905 | H9: =ROUND(F9*G9,3) -> 112.22 | I9: =ROUND(3.1416*(C9/1000)^2/4*7850*1,3) -> 0.888 | J9: =ROUND(H9*I9,3) -> 99.651
B10: 5 | C10: 12 | D10: =+D9 -> 2 | E10: 6 | F10: =D10*E10 -> 12 | G10: 0.85 | H10: =ROUND(F10*G10,3) -> 10.2 | I10: =ROUND(3.1416*(C10/1000)^2/4*7850*1,3) -> 0.888 | J10: =ROUND(H10*I10,3) -> 9.058
B11: 6 | C11: 12 | D11: =+D10 -> 2 | E11: 2 | F11: =D11*E11 -> 4 | G11: 2.17 | H11: =ROUND(F11*G11,3) -> 8.68 | I11: =ROUND(3.1416*(C11/1000)^2/4*7850*1,3) -> 0.888 | J11: =ROUND(H11*I11,3) -> 7.708
B12: 7 | C12: 18 | D12: =+D11 -> 2 | E12: 4 | F12: =D12*E12 -> 8 | G12: 6.9 | H12: =ROUND(F12*G12,3) -> 55.2 | I12: =ROUND(3.1416*(C12/1000)^2/4*7850*1,3) -> 1.998 | J12: =ROUND(H12*I12,3) -> 110.29
B13: 8 | C13: 18 | D13: =+D12 -> 2 | E13: 15 | F13: =D13*E13 -> 30 | G13: 4.235 | H13: =ROUND(F13*G13,3) -> 127.05 | I13: =ROUND(3.1416*(C13/1000)^2/4*7850*1,3) -> 1.998 | J13: =ROUND(H13*I13,3) -> 253.846
B14: 9 | C14: 12 | D14: =+D13 -> 2 | E14: 60 | F14: =D14*E14 -> 120 | G14: 2.23 | H14: =ROUND(F14*G14,3) -> 267.6 | I14: =ROUND(3.1416*(C14/1000)^2/4*7850*1,3) -> 0.888 | J14: =ROUND(H14*I14,3) -> 237.629
B15: 10 | C15: 12 | D15: =+D14 -> 2 | E15: 8 | F15: =D15*E15 -> 16 | G15: 4 | H15: =ROUND(F15*G15,3) -> 64 | I15: =ROUND(3.1416*(C15/1000)^2/4*7850*1,3) -> 0.888 | J15: =ROUND(H15*I15,3) -> 56.832
B16: 11 | C16: 12 | D16: =+D15 -> 2 | E16: 4 | F16: =D16*E16 -> 8 | G16: 6.9 | H16: =ROUND(F16*G16,3) -> 55.2 | I16: =ROUND(3.1416*(C16/1000)^2/4*7850*1,3) -> 0.888 | J16: =ROUND(H16*I16,3) -> 49.018
B17: 12 | C17: 12 | D17: =+D16 -> 2 | E17: 15 | F17: =D17*E17 -> 30 | G17: 4.235 | H17: =ROUND(F17*G17,3) -> 127.05 | I17: =ROUND(3.1416*(C17/1000)^2/4*7850*1,3) -> 0.888 | J17: =ROUND(H17*I17,3) -> 112.82
B18: 13 | C18: 10 | D18: 1 | E18: 16 | F18: =D18*E18 -> 16 | G18: 1.7 | H18: =ROUND(F18*G18,3) -> 27.2 | I18: =ROUND(3.1416*(C18/1000)^2/4*7850*1,3) -> 0.617 | J18: =ROUND(H18*I18,3) -> 16.782
B19: 14 | C19: 10 | D19: =+D18 -> 1 | E19: 63 | F19: =D19*E19 -> 63 | G19: 0.9 | H19: =ROUND(F19*G19,3) -> 56.7 | I19: =ROUND(3.1416*(C19/1000)^2/4*7850*1,3) -> 0.617 | J19: =ROUND(H19*I19,3) -> 34.984
B20: 15 | C20: 10 | D20: =+D19 -> 1 | E20: 23 | F20: =D20*E20 -> 23 | G20: 0.55 | H20: =ROUND(F20*G20,3) -> 12.65 | I20: =ROUND(3.1416*(C20/1000)^2/4*7850*1,3) -> 0.617 | J20: =ROUND(H20*I20,3) -> 7.805
B21: 16 | C21: 10 | D21: =+D20 -> 1 | E21: 6 | F21: =D21*E21 -> 6 | G21: 16.155 | H21: =ROUND(F21*G21,3) -> 96.93 | I21: =ROUND(3.1416*(C21/1000)^2/4*7850*1,3) -> 0.617 | J21: =ROUND(H21*I21,3) -> 59.806
B22: 17 | C22: 10 | D22: =+D21 -> 1 | E22: 8 | F22: =D22*E22 -> 8 | G22: 2.9 | H22: =ROUND(F22*G22,3) -> 23.2 | I22: =ROUND(3.1416*(C22/1000)^2/4*7850*1,3) -> 0.617 | J22: =ROUND(H22*I22,3) -> 14.314
B23: 18 | C23: 10 | D23: =+D22 -> 1 | E23: 4 | F23: =D23*E23 -> 4 | G23: 5.01 | H23: =ROUND(F23*G23,3) -> 20.04 | I23: =ROUND(3.1416*(C23/1000)^2/4*7850*1,3) -> 0.617 | J23: =ROUND(H23*I23,3) -> 12.365
B24: 19 | C24: 10 | D24: =+D23 -> 1 | E24: 6 | F24: =D24*E24 -> 6 | G24: 2.86 | H24: =ROUND(F24*G24,3) -> 17.16 | I24: =ROUND(3.1416*(C24/1000)^2/4*7850*1,3) -> 0.617 | J24: =ROUND(H24*I24,3) -> 10.588
B25: 20 | C25: 10 | D25: =+D24 -> 1 | E25: 2 | F25: =D25*E25 -> 2 | G25: 5.84 | H25: =ROUND(F25*G25,3) -> 11.68 | I25: =ROUND(3.1416*(C25/1000)^2/4*7850*1,3) -> 0.617 | J25: =ROUND(H25*I25,3) -> 7.207
B26: 21 | C26: 16 | D26: =+D25 -> 1 | E26: 16 | F26: =D26*E26 -> 16 | G26: 1.7 | H26: =ROUND(F26*G26,3) -> 27.2 | I26: =ROUND(3.1416*(C26/1000)^2/4*7850*1,3) -> 1.578 | J26: =ROUND(H26*I26,3) -> 42.922
B27: 22 | C27: 16 | D27: =+D26 -> 1 | E27: 63 | F27: =D27*E27 -> 63 | G27: 0.9 | H27: =ROUND(F27*G27,3) -> 56.7 | I27: =ROUND(3.1416*(C27/1000)^2/4*7850*1,3) -> 1.578 | J27: =ROUND(H27*I27,3) -> 89.473
B28: 23 | C28: 16 | D28: =+D27 -> 1 | E28: 23 | F28: =D28*E28 -> 23 | G28: 0.55 | H28: =ROUND(F28*G28,3) -> 12.65 | I28: =ROUND(3.1416*(C28/1000)^2/4*7850*1,3) -> 1.578 | J28: =ROUND(H28*I28,3) -> 19.962
B29: 24 | C29: 10 | D29: =+D28 -> 1 | E29: 6 | F29: =D29*E29 -> 6 | G29: 16.155 | H29: =ROUND(F29*G29,3) -> 96.93 | I29: =ROUND(3.1416*(C29/1000)^2/4*7850*1,3) -> 0.617 | J29: =ROUND(H29*I29,3) -> 59.806
B30: 25 | C30: 10 | D30: =+D29 -> 1 | E30: 16 | F30: =D30*E30 -> 16 | G30: 2.8 | H30: =ROUND(F30*G30,3) -> 44.8 | I30: =ROUND(3.1416*(C30/1000)^2/4*7850*1,3) -> 0.617 | J30: =ROUND(H30*I30,3) -> 27.642
... B49: 44 | C49: 12 | D49: =+D48 -> 1 | E49: 9 | F49: =D49*E49 -> 9 | G49: 2.945 | H49: =ROUND(F49*G49,3) -> 26.505 | I49: =ROUND(3.1416*(C49/1000)^2/4*7850*1,3) -> 0.888 | J49: =ROUND(H49*I49,3) -> 23.536
B50: 45 | C50: 16 | D50: 9 | E50: 4 | F50: =D50*E50 -> 36 | G50: 0.45 | H50: =ROUND(F50*G50,3) -> 16.2 | I50: =ROUND(3.1416*(C50/1000)^2/4*7850*1,3) -> 1.578 | J50: =ROUND(H50*I50,3) -> 25.564
B52: 1/. Tổng hợp cốt thép:
B53: + Cốt thép D=10mm: | F53: =SUMIF($C$6:$C$50,10,$J$6:$J$50) -> 515.193 | G53: kg
B54: + Cốt thép D=12mm: | F54: =SUMIF($C$6:$C$50,12,$J$6:$J$50) -> 732.702 | G54: kg
B55: + Cốt thép D=16mm: | F55: =SUMIF($C$6:$C$50,16,$J$6:$J$50) -> 714.511 | G55: kg
B56: + Cốt thép D=18mm: | F56: =SUMIF($C$6:$C$50,18,$J$6:$J$50) -> 1070.858 | G56: kg
D58: KỸ THUẬT THI CÔNG TRỰC TIẾP | I58: GIÁM SÁT KỸ THUẬT
D63: Phan Văn Khánh | I63: Nguyễn Phạm Hoài Linh

Sheet Cthép tương canh(Lồ Ồ) đồng
A1: BẢNG TÍNH CỐT THÉP TƯỜNG CỐNG RẠCH LỒ Ô
A4: Cấu kiện | B4: Số hiệu | C4: ĐK (mm) | D4: Số cấu kiện | E4: Số thanh | G4: Chiều dài (m) | I4: Trọng lượng riêng (kg/m) | J4: Khối lượng (kg)
E5: 01 CK | F5: Toàn bộ | G5: 01 thanh | H5: Toàn bộ
A6: TƯỜNG PHÍA ĐỒNG | B6: 7 | C6: 18 | D6: 2 | E6: 4 | F6: =D6*E6 -> 8 | G6: 6.9 | H6: =ROUND(F6*G6,3) -> 55.2 | I6: =ROUND(3.1416*(C6/1000)^2/4*7850*1,3) -> 1.998 | J6: =ROUND(H6*I6,3) -> 110.29
B7: 8 | C7: 18 | D7: =+D6 -> 2 | E7: 15 | F7: =D7*E7 -> 30 | G7: 4.235 | H7: =ROUND(F7*G7,3) -> 127.05 | I7: =ROUND(3.1416*(C7/1000)^2/4*7850*1,3) -> 1.998 | J7: =ROUND(H7*I7,3) -> 253.846
B8: 9 | C8: 12 | D8: =+D7 -> 2 | E8: 60 | F8: =D8*E8 -> 120 | G8: 2.23 | H8: =ROUND(F8*G8,3) -> 267.6 | I8: =ROUND(3.1416*(C8/1000)^2/4*7850*1,3) -> 0.888 | J8: =ROUND(H8*I8,3) -> 237.629
B9: 10 | C9: 12 | D9: =+D8 -> 2 | E9: 8 | F9: =D9*E9 -> 16 | G9: 4 | H9: =ROUND(F9*G9,3) -> 64 | I9: =ROUND(3.1416*(C9/1000)^2/4*7850*1,3) -> 0.888 | J9: =ROUND(H9*I9,3) -> 56.832
B10: 11 | C10: 12 | D10: =+D9 -> 2 | E10: 4 | F10: =D10*E10 -> 8 | G10: 6.9 | H10: =ROUND(F10*G10,3) -> 55.2 | I10: =ROUND(3.1416*(C10/1000)^2/4*7850*1,3) -> 0.888 | J10: =ROUND(H10*I10,3) -> 49.018
B11: 12 | C11: 12 | D11: =+D10 -> 2 | E11: 15 | F11: =D11*E11 -> 30 | G11: 4.235 | H11: =ROUND(F11*G11,3) -> 127.05 | I11: =ROUND(3.1416*(C11/1000)^2/4*7850*1,3) -> 0.888 | J11: =ROUND(H11*I11,3) -> 112.82
B13: 1/. Tổng hợp cốt thép:
B14: + Cốt thép D=12mm: | F14: =SUMIF($C$6:$C$11,12,$J$6:$J$11) -> 456.299 | G14: kg
B15: + Cốt thép D=18mm: | F15: =SUMIF($C$6:$C$11,18,$J$6:$J$11) -> 364.136 | G15: kg
D17: KỸ THUẬT THI CÔNG TRỰC TIẾP | I17: GIÁM SÁT KỸ THUẬT
D22: Phan Văn Khánh | I22: Nguyễn Phạm Hoài Linh

Sheet Cthép ban day canh(Lồ Ồ) đồng
A1: BẢNG TÍNH CỐT THÉP BẢN ĐÁY TƯỜNG CÁNH CỐNG RẠCH LỒ Ô
A4: Cấu kiện | B4: Số hiệu | C4: ĐK (mm) | D4: Số cấu kiện | E4: Số thanh | G4: Chiều dài (m) | I4: Trọng lượng riêng (kg/m) | J4: Khối lượng (kg)
E5: 01 CK | F5: Toàn bộ | G5: 01 thanh | H5: Toàn bộ
A6: BẢN ĐÁY PHÍA ĐỒNG | B6: 1 | C6: 18 | D6: 2 | E6: 4 | F6: =D6*E6 -> 8 | G6: 7.77 | H6: =ROUND(F6*G6,3) -> 62.16 | I6: =ROUND(3.1416*(C6/1000)^2/4*7850*1,3) -> 1.998 | J6: =ROUND(H6*I6,3) -> 124.196
B7: 2 | C7: 18 | D7: 2 | E7: 16 | F7: =D7*E7 -> 32 | G7: 4.245 | H7: =ROUND(F7*G7,3) -> 135.84 | I7: =ROUND(3.1416*(C7/1000)^2/4*7850*1,3) -> 1.998 | J7: =ROUND(H7*I7,3) -> 271.408
B8: 3 | C8: 18 | D8: =+D7 -> 2 | E8: 2 | F8: =D8*E8 -> 4 | G8: 9.15 | H8: =ROUND(F8*G8,3) -> 36.6 | I8: =ROUND(3.1416*(C8/1000)^2/4*7850*1,3) -> 1.998 | J8: =ROUND(H8*I8,3) -> 73.127
B9: 4 | C9: 12 | D9: =+D8 -> 2 | E9: 62 | F9: =D9*E9 -> 124 | G9: 0.905 | H9: =ROUND(F9*G9,3) -> 112.22 | I9: =ROUND(3.1416*(C9/1000)^2/4*7850*1,3) -> 0.888 | J9: =ROUND(H9*I9,3) -> 99.651
B10: 5 | C10: 12 | D10: =+D9 -> 2 | E10: 6 | F10: =D10*E10 -> 12 | G10: 0.85 | H10: =ROUND(F10*G10,3) -> 10.2 | I10: =ROUND(3.1416*(C10/1000)^2/4*7850*1,3) -> 0.888 | J10: =ROUND(H10*I10,3) -> 9.058
B11: 6 | C11: 12 | D11: =+D10 -> 2 | E11: 2 | F11: =D11*E11 -> 4 | G11: 2.17 | H11: =ROUND(F11*G11,3) -> 8.68 | I11: =ROUND(3.1416*(C11/1000)^2/4*7850*1,3) -> 0.888 | J11: =ROUND(H11*I11,3) -> 7.708
B13: 1/. Tổng hợp cốt thép:
B14: + Cốt thép D=12mm: | F14: =SUMIF($C$6:$C$11,12,$J$6:$J$11) -> 116.417 | G14: kg
B15: + Cốt thép D=18mm: | F15: =SUMIF($C$6:$C$11,18,$J$6:$J$11) -> 468.731 | G15: kg
D17: KỸ THUẬT THI CÔNG TRỰC TIẾP | I17: GIÁM SÁT KỸ THUẬT
D22: Phan Văn Khánh | I22: Nguyễn Phạm Hoài Linh

Sheet Cốt thép ban day(Lồ Ồ)
A1: BẢNG TÍNH CỐT THÉP BẢN ĐÁY CỐNG
G2: (Cống Lồ Ồ)
A4: Cấu kiện | B4: Số hiệu | C4: ĐK (mm) | D4: Số cấu kiện | F4: Số thanh | I4: Chiều dài (m) | K4: Trọng lượng riêng (kg/m) | L4: Khối lượng (kg)
F5: 01 CK | G5: Toàn bộ | I5: 01 thanh | J5: Toàn bộ
A6: BẢN ĐÁY | B6: 1 | C6: 18 | D6: 1 | E6: =17.66/0.2+1 -> 89.3 | F6: 90 | G6: =D6*F6 -> 90 | H6: 4.8 | I6: 4.8 | J6: =ROUND(G6*I6,3) -> 432 | K6: =ROUND(3.1416*(C6/1000)^2/4*7850*1,3) -> 1.998 | L6: =ROUND(J6*K6,3) -> 863.136
B7: 2 | C7: 18 | D7: =+D6 -> 1 | E7: =1.63/0.2 -> 8.15 | F7: 8 | G7: =D7*F7 -> 8 | H7: =+(4.6+2)/2 -> 3.3 | I7: 3.15 | J7: =ROUND(G7*I7,3) -> 25.2 | K7: =ROUND(3.1416*(C7/1000)^2/4*7850*1,3) -> 1.998 | L7: =ROUND(J7*K7,3) -> 50.35
B8: 3 | C8: 18 | D8: =+D7 -> 1 | E8: =1.5/0.2+1 -> 8.5 | F8: 9 | G8: =D8*F8 -> 9 | H8: 9.71 | I8: 9.71 | J8: =ROUND(G8*I8,3) -> 87.39 | K8: =ROUND(3.1416*(C8/1000)^2/4*7850*1,3) -> 1.998 | L8: =ROUND(J8*K8,3) -> 174.605
B9: 4 | C9: 12 | D9: =+D8 -> 1 | E9: =9.81/0.2+1+4.9/0.2+1 -> 75.55 | F9: 75 | G9: =D9*F9 -> 75 | I9: 3.75 | J9: =ROUND(G9*I9,3) -> 281.25 | K9: =ROUND(3.1416*(C9/1000)^2/4*7850*1,3) -> 0.888 | L9: =ROUND(J9*K9,3) -> 249.75
B10: 5 | C10: 12 | D10: =+D9 -> 1 | E10: =4.9/0.2+1+4 -> 29.5 | F10: 29 | G10: =D10*F10 -> 29 | H10: =17.6+1.63 -> 19.23 | I10: 21.25 | J10: =ROUND(G10*I10,3) -> 616.25 | K10: =ROUND(3.1416*(C10/1000)^2/4*7850*1,3) -> 0.888 | L10: =ROUND(J10*K10,3) -> 547.23 | M10: + 4 cây lớp trên
B11: 6 | C11: 12 | D11: =+D10 -> 1 | E11: =9.81/0.2+1 -> 50.05 | F11: 50 | G11: =D11*F11 -> 50 | I11: 1.7 | J11: =ROUND(G11*I11,3) -> 85 | K11: =ROUND(3.1416*(C11/1000)^2/4*7850*1,3) -> 0.888 | L11: =ROUND(J11*K11,3) -> 75.48
B12: 7 | C12: 12 | D12: =+D11 -> 1 | E12: =+(17.66+1.63)/0.2+4 -> 100.45 | F12: 102 | G12: =D12*F12 -> 102 | I12: 4.8 | J12: =ROUND(G12*I12,3) -> 489.6 | K12: =ROUND(3.1416*(C12/1000)^2/4*7850*1,3) -> 0.888 | L12: =ROUND(J12*K12,3) -> 434.765
B13: 7a | C13: 12 | D13: =+D12 -> 1 | E13: =4.79/0.2+1 -> 24.95 | F13: 18 | G13: =D13*F13 -> 18 | I13: 1.2 | J13: =ROUND(G13*I13,3) -> 21.6 | K13: =ROUND(3.1416*(C13/1000)^2/4*7850*1,3) -> 0.888 | L13: =ROUND(J13*K13,3) -> 19.181 | M13: tính 1 bên??
B14: 7b | C14: 12 | D14: =+D13 -> 1 | E14: 3 | F14: 3 | G14: =D14*F14 -> 3 | I14: 4.83 | J14: =ROUND(G14*I14,3) -> 14.49 | K14: =ROUND(3.1416*(C14/1000)^2/4*7850*1,3) -> 0.888 | L14: =ROUND(J14*K14,3) -> 12.867 | M14: tính 1 bên??
B15: 7c | C15: 12 | D15: =+D14 -> 1 | E15: 3 | F15: 3 | G15: =D15*F15 -> 3 | I15: 3.95 | J15: =ROUND(G15*I15,3) -> 11.85 | K15: =ROUND(3.1416*(C15/1000)^2/4*7850*1,3) -> 0.888 | L15: =ROUND(J15*K15,3) -> 10.523 | M15: tính 1 bên??
B16: 8 | C16: 12 | D16: =+D15 -> 1 | E16: =1.63/0.2 -> 8.15 | F16: 8 | G16: =D16*F16 -> 8 | I16: 3.1 | J16: =ROUND(G16*I16,3) -> 24.8 | K16: =ROUND(3.1416*(C16/1000)^2/4*7850*1,3) -> 0.888 | L16: =ROUND(J16*K16,3) -> 22.022
B17: 9 | C17: 12 | D17: =+D16 -> 1 | E17: 13 | F17: 13 | G17: =D17*F17 -> 13 | I17: 9.71 | J17: =ROUND(G17*I17,3) -> 126.23 | K17: =ROUND(3.1416*(C17/1000)^2/4*7850*1,3) -> 0.888 | L17: =ROUND(J17*K17,3) -> 112.092
B18: 10 | C18: 12 | D18: =+D17 -> 1 | E18: =3.5/0.2+1 -> 18.5 | F18: 19 | G18: =D18*F18 -> 19 | I18: 13.68 | J18: =ROUND(G18*I18,3) -> 259.92 | K18: =ROUND(3.1416*(C18/1000)^2/4*7850*1,3) -> 0.888 | L18: =ROUND(J18*K18,3) -> 230.809
B19: 10a | C19: 12 | D19: =+D18 -> 1 | E19: =3.3/0.2 -> 16.5 | F19: 15 | G19: =D19*F19 -> 15 | I19: 1.92 | J19: =ROUND(G19*I19,3) -> 28.8 | K19: =ROUND(3.1416*(C19/1000)^2/4*7850*1,3) -> 0.888 | L19: =ROUND(J19*K19,3) -> 25.574
B20: 11 | C20: 12 | D20: =+D19 -> 1 | E20: =3.5/0.2+1 -> 18.5 | F20: 19 | G20: =D20*F20 -> 19 | I20: 1.6 | J20: =ROUND(G20*I20,3) -> 30.4 | K20: =ROUND(3.1416*(C20/1000)^2/4*7850*1,3) -> 0.888 | L20: =ROUND(J20*K20,3) -> 26.995
B21: 12 | C21: 12 | D21: =+D20 -> 1 | E21: =3.5/0.2+1 -> 18.5 | F21: 19 | G21: =D21*F21 -> 19 | I21: 1.06 | J21: =ROUND(G21*I21,3) -> 20.14 | K21: =ROUND(3.1416*(C21/1000)^2/4*7850*1,3) -> 0.888 | L21: =ROUND(J21*K21,3) -> 17.884
B22: 12a | C22: 12 | D22: =+D21 -> 1 | E22: =3.5/0.2+1 -> 18.5 | F22: 19 | G22: =D22*F22 -> 19 | I22: 3.17 | J22: =ROUND(G22*I22,3) -> 60.23 | K22: =ROUND(3.1416*(C22/1000)^2/4*7850*1,3) -> 0.888 | L22: =ROUND(J22*K22,3) -> 53.484
B23: 12b | C23: 12 | D23: =+D22 -> 1 | E23: =3.5/0.2+1 -> 18.5 | F23: 19 | G23: =D23*F23 -> 19 | I23: 2.41 | J23: =ROUND(G23*I23,3) -> 45.79 | K23: =ROUND(3.1416*(C23/1000)^2/4*7850*1,3) -> 0.888 | L23: =ROUND(J23*K23,3) -> 40.662
B24: 13 | C24: 12 | D24: =+D23 -> 1 | E24: =3.5/0.2+1 -> 18.5 | F24: 19 | G24: =D24*F24 -> 19 | I24: 4.925 | J24: =ROUND(G24*I24,3) -> 93.575 | K24: =ROUND(3.1416*(C24/1000)^2/4*7850*1,3) -> 0.888 | L24: =ROUND(J24*K24,3) -> 83.095
B25: 13a | C25: 12 | D25: =+D24 -> 1 | E25: =3/0.2 -> 15 | F25: 15 | G25: =D25*F25 -> 15 | I25: 1.92 | J25: =ROUND(G25*I25,3) -> 28.8 | K25: =ROUND(3.1416*(C25/1000)^2/4*7850*1,3) -> 0.888 | L25: =ROUND(J25*K25,3) -> 25.574
B27: 1/. Tổng hợp cốt thép:
B28: + Cốt thép D=12mm: | G28: =SUMIF($C$6:$C$25,12,$L$6:$L$25) -> 1987.987 | I28: kg
B29: + Cốt thép D=18mm: | G29: =SUMIF($C$6:$C$25,18,$L$6:$L$25) -> 1088.091 | I29: kg
D31: KỸ THUẬT THI CÔNG TRỰC TIẾP | K31: GIÁM SÁT KỸ THUẬT
D36: Phan Văn Khánh | K36: Nguyễn Phạm Hoài Linh

Sheet Gia tri DC đợt 1
A1: GIÁ TRỊ ĐIỀU CHỈNH THANH TOÁN KHỐI LƯỢNG ĐỢT 1
A3: Tên dự án: Hạ tầng thiết yếu ổn định đời sống dân cư phường 8 và xã Phú Hưng, TP Bến Tre, tỉnh Bến Tre
A4: Tên gói thầu: Gói thầu xây lắp số 1 Thi công các hạng mục tuyến kè, đường dọc kè, cầu Cá Lóc 2, thoát nước dọc kè và chiếu sáng đường dọc kè
A5: Căn cứ hợp đồng số: 1193/HĐXD-2018 ngày 26/9/2018;
A6: Chủ đầu tư: Ban quản lý dự án đầu tư xây dựng các công trình nông nghiệp và phát triển nông thôn tỉnh Bến Tre
A7: Nhà thầu: Liên danh Công ty cổ phần xây dựng đê kè và phát triển nông thôn Hải Dương - Công ty TNHH Xây dựng Chấn Hưng - Công ty Cổ phần Đầu tư và Xây dựng Đại Phước An - Công ty cổ phần xây dựng hạ tầng giao thông thủy lợi Hà Nội.
A8: Căn cứ xác định:
A9: Biên bản nghiệm thu khối lượng hoàn thành số 01 ngày 28 tháng 12 năm 2018; Hồ sơ thanh toán khối lượng hoàn thành đợt 1
K10: Đơn vị: đồng
A11: Số TT | B11: Tên công việc | C11: Đơn vị tính | D11: Khối lượng | F11: Đơn giá | H11: Thành tiền (đồng) | L11: Ghi chú
D12: Khối lượng theo hợp đồng ban đầu | E12: Nghiệm thu lần 1 theo BB số 01 ngày 28/12/2018 | F12: Theo hợp đồng | G12: Điều chỉnh thanh toán | H12: Theo hợp đồng ban đầu | I12: Theo hồ sơ thanh toán khối lượng hoàn thành đợt 1 | J12: Theo đơn giá điều chỉnh thanh toán lần 1 | K12: Chênh lệch
A13: 1 | B13: 2 | C13: 3 | D13: 4 | E13: 5 | F13: 6 | G13: 7 | H13: 8=(4)*(6) | I13: 9=(5)*(6) | J13: 10=(5)*(7) | K13: 11=(10)-(9) | L13: 12
A14: A | B14: HẠNG MỤC CHUNG
A15: B | B15: HẠNG MỤC XÂY LẮP | H15: 2.5199209e+10 | I15: 2795124645 | J15: =+SUM(J16:J111) -> 2.8134583e+09 | K15: =+J15-I15 -> 18333637
A16: HẠNG MỤC: KÈ ĐOẠN TỪ K0+602-K1+525 | H16: 0 | I16: 0
A17: I | B17: CHÂN KÈ | I17: 0 | J17: =MIN(E17*G17,H17+I17) -> 0
A18: 1 | B18: Đào đất thi công | C18: 100m3 | D18: 7.641 | E18: 0 | F18: 1886218 | G18: =+'Thuyết minh (đợt 1)'!Q43 -> 1882446 | H18: 14412592 | I18: 0 | J18: =+E18*G18 -> 0 | K18: =+J18-I18 -> 0
A19: 2 | B19: Vận chuyển đất ra khỏi công trình, cư ly 1km | C19: 100m3 | D19: 7.641 | E19: 0 | F19: 1373602 | G19: =+'Thuyết minh (đợt 1)'!Q44 -> 1366734 | H19: 10495693 | I19: 0 | J19: =+E19*G19 -> 0 | K19: =+J19-I19 -> 0
A20: 3 | B20: Vận chuyển đất ra khỏi công trình, cư ly 3km tiếp theo | C20: 100m3 | D20: 7.641 | E20: 0 | F20: 1837919 | G20: =+'Thuyết minh (đợt 1)'!Q45 -> 1828729 | H20: 14043539 | I20: 0 | J20: =+E20*G20 -> 0 | K20: =+J20-I20 -> 0
A21: 4 | B21: Đắp bao tải cát | C21: m3 | D21: 30.04 | E21: 0 | F21: 658291 | G21: =+'Thuyết minh (đợt 1)'!Q46 -> 660924 | H21: 19775062 | I21: 0 | J21: =+E21*G21 -> 0 | K21: =+J21-I21 -> 0
A22: 5 | B22: Trải vải địa kỹ thuật R≥21,5kN/m | C22: 100m2 | D22: 39.1731 | E22: 0 | F22: 8161936 | G22: =+'Thuyết minh (đợt 1)'!Q47 -> 8170098 | H22: 3.1972834e+08 | I22: 0 | J22: =+E22*G22 -> 0 | K22: =+J22-I22 -> 0
A23: 6 | B23: Thả thảm đá 6x2x0,3m | C23: thảm | D23: 327 | E23: 0 | F23: 4655511 | G23: =+'Thuyết minh (đợt 1)'!Q48 -> 4683444 | H23: 1522352097 | I23: 0 | J23: =+E23*G23 -> 0 | K23: =+J23-I23 -> 0
A24: 7 | B24: Thả đá hộc rời | C24: m3 | D24: 3.924 | E24: 0 | F24: 735497 | G24: =+'Thuyết minh (đợt 1)'!Q49 -> 739910 | H24: 2886090.2 | I24: 0 | J24: =+E24*G24 -> 0 | K24: =+J24-I24 -> 0
A25: II | B25: THÂN KÈ | E25: 0 | F25: 0 | G25: =+'Thuyết minh (đợt 1)'!Q50 -> 0 | H25: 0 | I25: 0 | J25: =+E25*G25 -> 0 | K25: =+J25-I25 -> 0
A26: 8 | B26: Bê tông cọc đúc sẵn đá 1x2 M300 | C26: m3 | D26: 799.892 | E26: 86.765 | F26: 1988578 | G26: =+'Thuyết minh (đợt 1)'!Q51 -> 2000509 | H26: 1.5906476e+09 | I26: 172538970 | J26: =+E26*G26 -> 1.7357416e+08 | K26: =+J26-I26 -> 1035193.4
A27: 9 | B27: Ván khuôn đổ bê tông cọc đúc sẵn | C27: 100m2 | D27: 53.8191 | E27: 24.724 | F27: 7101623 | G27: =+'Thuyết minh (đợt 1)'!Q52 -> 7108725 | H27: 3.8220296e+08 | I27: 175580527 | J27: =+E27*G27 -> 1.7575612e+08 | K27: =+J27-I27 -> 175589.9
A28: 10 | B28: Cốt thép cọc Ø6 | C28: tấn | D28: 20.15805 | E28: 9.341 | F28: 20901654 | G28: =+'Thuyết minh (đợt 1)'!Q53 -> 21047966 | H28: 4.2133659e+08 | I28: 195242350 | J28: =+E28*G28 -> 1.9660905e+08 | K28: =+J28-I28 -> 1366700.4 | M28: =+H28-K28 -> 4.1996989e+08
A29: 11 | B29: Cốt thép cọc Ø8 | C29: tấn | D29: 3.24072 | E29: 1.503 | F29: 20846555 | G29: =+'Thuyết minh (đợt 1)'!Q54 -> 20992481 | H29: 67557848 | I29: 31332372 | J29: =+E29*G29 -> 31551699 | K29: =+J29-I29 -> 219326.94 | M29: =+H29-K29 -> 67338521
A30: 12 | B30: Cốt thép cọc Ø22 | C30: tấn | D30: 230.42548 | E30: 106.934 | F30: 18857101 | G30: =+'Thuyết minh (đợt 1)'!Q55 -> 19007958 | H30: 4.3451565e+09 | I30: 2016465238 | J30: =+E30*G30 -> 2.032597e+09 | K30: =+J30-I30 -> 16131743 | M30: =+H30-K30 -> 4.3290248e+09
A31: 13 | B31: Thép tấm mũi cọc | C31: tấn | D31: 0.61728 | E31: 0.284 | F31: 33081246 | G31: =+'Thuyết minh (đợt 1)'!Q56 -> 33246652 | H31: 20420392 | I31: 9395073 | J31: =+E31*G31 -> 9442049.2 | K31: =+J31-I31 -> 46976.168 | M31: =+H31-K31 -> 20373415 | N31: =+H31-K31 -> 20373415
A32: 14 | B32: Cẩu cọc từ bờ xuống sà lan | C32: tấn | D32: 1999.73 | E32: 124.4 | F32: 22681 | G32: =+'Thuyết minh (đợt 1)'!Q57 -> 22590 | H32: 45355876 | I32: 2821516 | J32: =+E32*G32 -> 2810196 | K32: =+J32-I32 -> -11320 | M32: =+H32-K32 -> 45367196 | N32: =+H32-K32 -> 45367196
A33: 15 | B33: Đóng cọc thẳng BTCT 30x30cm, phần ngập đất | C33: 100m | D33: 46.92 | E33: 2.992 | F33: 22410802 | G33: =+'Thuyết minh (đợt 1)'!Q58 -> 22298748 | H33: 1.0515148e+09 | I33: 67053119 | J33: =+E33*G33 -> 66717854 | K33: =+J33-I33 -> -335264.98 | M33: =+H33-K33 -> 1.0518501e+09 | N33: =+H33-K33 -> 1.0518501e+09
A34: 16 | B34: Đóng cọc thẳng BTCT 30x30cm, phần không ngập đất | C34: 100m | D34: 1.38 | E34: 0.088 | F34: 16808103 | G34: =+'Thuyết minh (đợt 1)'!Q59 -> 16724062 | H34: 23195182 | I34: 1479113 | J34: =+E34*G34 -> 1471717.5 | K34: =+J34-I34 -> -7395.544 | M34: =+H34-K34 -> 23202578 | N34: =+H34-K34 -> 23202578
A35: 17 | B35: Đóng cọc xiên BTCT 30x30cm, phần ngập đất | C35: 100m | D35: 40.528 | E35: 2.448 | F35: 27341179 | G35: =+'Thuyết minh (đợt 1)'!Q60 -> 27204473 | H35: 1.1080833e+09 | I35: 66931206 | J35: =+E35*G35 -> 66596550 | K35: =+J35-I35 -> -334656.1 | M35: =+H35-K35 -> 1.108418e+09 | N35: =+H35-K35 -> 1.108418e+09
A36: 18 | B36: Đóng cọc xiên BTCT 30x30cm, phần không ngập đất | C36: 100m | D36: 1.192 | E36: 0.072 | F36: 20505884 | G36: =+'Thuyết minh (đợt 1)'!Q61 -> 20403355 | H36: 24443014 | I36: 1476423 | J36: =+E36*G36 -> 1469041.6 | K36: =+J36-I36 -> -7381.44 | M36: =+H36-K36 -> 24450395 | N36: =+H36-K36 -> 24450395
A37: 19 | B37: Phá dỡ đầu cọc | C37: m3 | D37: 17.361 | E37: 0 | F37: 520999 | G37: =+'Thuyết minh (đợt 1)'!Q62 -> 519957 | H37: 9045063.6 | I37: 0 | J37: =+E37*G37 -> 0 | K37: =+J37-I37 -> 0 | M37: =+H37-K37 -> 9045063.6 | N37: =+H37-K37 -> 9045063.6
A38: 20 | B38: Bê tông lót kè đá 1x2 M150 | C38: m3 | D38: 113.1298 | E38: 0 | F38: 1650615 | G38: =+'Thuyết minh (đợt 1)'!Q63 -> 1662169 | H38: 1.8673374e+08 | I38: 0 | J38: =+E38*G38 -> 0 | K38: =+J38-I38 -> 0 | M38: =+H38-K38 -> 1.8673374e+08 | N38: =+H38-K38 -> 1.8673374e+08
A39: 21 | B39: Bê tông tường kè chiều dầy <=45 cm chiều cao <=4 m, đá 1x2 M250 | C39: m3 | D39: 605.87841 | E39: 0 | F39: 2830127 | G39: =+'Thuyết minh (đợt 1)'!Q64 -> 2847108 | H39: 1.7147128e+09 | I39: 0 | J39: =+E39*G39 -> 0 | K39: =+J39-I39 -> 0 | M39: =+H39-K39 -> 1.7147128e+09 | N39: =+H39-K39 -> 1.7147128e+09
A40: 22 | B40: Ván khuôn đổ bê tông tường kè | C40: 100m2 | D40: 38.748787 | E40: 0 | F40: 16832404 | G40: =+'Thuyết minh (đợt 1)'!Q65 -> 16882901 | H40: 6.5223524e+08 | I40: 0 | J40: =+E40*G40 -> 0 | K40: =+J40-I40 -> 0 | M40: =+H40-K40 -> 6.5223524e+08 | N40: =+H40-K40 -> 6.5223524e+08
A41: 23 | B41: Cốt thép tường kè Ø10 | C41: tấn | D41: 3.80674 | E41: 0 | F41: 18530849 | G41: =+'Thuyết minh (đợt 1)'!Q66 -> 18660565 | H41: 70542124 | I41: 0 | J41: =+E41*G41 -> 0 | K41: =+J41-I41 -> 0 | M41: =+H41-K41 -> 70542124 | N41: =+H41-K41 -> 70542124
A42: 24 | B42: Cốt thép tường kè Ø12 | C42: tấn | D42: 18.30812 | E42: 0 | F42: 19534711 | G42: =+'Thuyết minh (đợt 1)'!Q67 -> 19671454 | H42: 3.5764383e+08 | I42: 0 | J42: =+E42*G42 -> 0 | K42: =+J42-I42 -> 0 | M42: =+H42-K42 -> 3.5764383e+08 | N42: =+H42-K42 -> 3.5764383e+08
... A55: 37 | B55: Làm khớp nối bằng tấm nhựa PVC | C55: m | D55: 141 | E55: 0 | F55: 672848 | G55: =+'Thuyết minh (đợt 1)'!Q80 -> 674194 | H55: 94871568 | I55: 0 | J55: =+E55*G55 -> 0 | K55: =+J55-I55 -> 0 | M55: =+H55-K55 -> 94871568 | N55: =+H55-K55 -> 94871568
A56: III | B56: LAN CAN ĐỈNH KÈ | E56: 0 | G56: =+'Thuyết minh (đợt 1)'!Q81 -> 0 | H56: 0 | I56: 0 | J56: =+E56*G56 -> 0 | K56: =+J56-I56 -> 0 | M56: =+H56-K56 -> 0 | N56: =+H56-K56 -> 0
A57: 41 | B57: Bê tông trụ lan can đá 1x2 M200 | C57: m3 | D57: 9.92 | E57: 0 | F57: 2672535 | G57: =+'Thuyết minh (đợt 1)'!Q82 -> 2685898 | H57: 26511547 | I57: 0 | J57: =+E57*G57 -> 0 | K57: =+J57-I57 -> 0 | M57: =+H57-K57 -> 26511547 | N57: =+H57-K57 -> 26511547
A58: 42 | B58: Ván khuôn đổ bê tông trụ lan can | C58: 100m2 | D58: 2.9264 | E58: 0 | F58: 16721582 | G58: =+'Thuyết minh (đợt 1)'!Q83 -> 16771747 | H58: 48934038 | I58: 0 | J58: =+E58*G58 -> 0 | K58: =+J58-I58 -> 0 | M58: =+H58-K58 -> 48934038 | N58: =+H58-K58 -> 48934038
A59: 43 | B59: Cốt thép trụ lan can Ø6 | C59: tấn | D59: 0.3844 | E59: 0 | F59: 21046356 | G59: =+'Thuyết minh (đợt 1)'!Q84 -> 21193680 | H59: 8090219.2 | I59: 0 | J59: =+E59*G59 -> 0 | K59: =+J59-I59 -> 0 | M59: =+H59-K59 -> 8090219.2 | N59: =+H59-K59 -> 8090219.2
A60: 44 | B60: Cốt thép trụ lan can Ø10 | C60: tấn | D60: 1.63928 | E60: 0 | F60: 18817954 | G60: =+'Thuyết minh (đợt 1)'!Q85 -> 18949680 | H60: 30847896 | I60: 0 | J60: =+E60*G60 -> 0 | K60: =+J60-I60 -> 0 | M60: =+H60-K60 -> 30847896 | N60: =+H60-K60 -> 30847896
A61: 45 | B61: Lắp đặt ống thép tráng kẽm Ø90 | C61: 100m | D61: 5.8493 | E61: 0 | F61: 18108807 | G61: =+'Thuyết minh (đợt 1)'!Q86 -> 18235569 | H61: 1.0592384e+08 | I61: 0 | J61: =+E61*G61 -> 0 | K61: =+J61-I61 -> 0 | M61: =+H61-K61 -> 1.0592384e+08 | N61: =+H61-K61 -> 1.0592384e+08
A62: 46 | B62: Lắp đặt ống thép tráng kẽm Ø60 | C62: 100m | D62: 5.8493 | E62: 0 | F62: 12267842 | G62: =+'Thuyết minh (đợt 1)'!Q87 -> 12341449 | H62: 71758288 | I62: 0 | J62: =+E62*G62 -> 0 | K62: =+J62-I62 -> 0 | M62: =+H62-K62 -> 71758288 | N62: =+H62-K62 -> 71758288
A63: IV | B63: CẦU THANG | E63: 0 | F63: 0 | G63: =+'Thuyết minh (đợt 1)'!Q88 -> 0 | H63: 0 | I63: 0 | J63: =+E63*G63 -> 0 | K63: =+J63-I63 -> 0 | M63: =+H63-K63 -> 0 | N63: =+H63-K63 -> 0
A64: 47 | B64: Bê tông lót móng chiều rộng <=250 cm, đá 1x2 M150 | C64: m3 | D64: 0.2376 | E64: 0 | F64: 1650615 | G64: =+'Thuyết minh (đợt 1)'!Q89 -> 1662169 | H64: 392186.12 | I64: 0 | J64: =+E64*G64 -> 0 | K64: =+J64-I64 -> 0 | M64: =+H64-K64 -> 392186.12 | N64: =+H64-K64 -> 392186.12
A65: 48 | B65: Bê tông bản đáy chiều rộng <=250 cm, đá 1x2 M250 | C65: m3 | D65: 1.0692 | E65: 0 | F65: 1879821 | G65: =+'Thuyết minh (đợt 1)'!Q90 -> 1892980 | H65: 2009904.6 | I65: 0 | J65: =+E65*G65 -> 0 | K65: =+J65-I65 -> 0 | M65: =+H65-K65 -> 2009904.6 | N65: =+H65-K65 -> 2009904.6
A66: 49 | B66: Bê tông sàn đá 1x2 M200 | C66: m3 | D66: 4.2792 | E66: 0 | F66: 2071335 | G66: =+'Thuyết minh (đợt 1)'!Q91 -> 2083763 | H66: 8863656.7 | I66: 0 | J66: =+E66*G66 -> 0 | K66: =+J66-I66 -> 0 | M66: =+H66-K66 -> 8863656.7 | N66: =+H66-K66 -> 8863656.7
A67: 50 | B67: Bê tông bậc thang đá 1x2 M200 | C67: m3 | D67: 2.6712 | E67: 0 | F67: 2167802 | G67: =+'Thuyết minh (đợt 1)'!Q92 -> 2178641 | H67: 5790632.7 | I67: 0 | J67: =+E67*G67 -> 0 | K67: =+J67-I67 -> 0 | M67: =+H67-K67 -> 5790632.7 | N67: =+H67-K67 -> 5790632.7
A68: 51 | B68: Ván khuôn đổ bê tông bản đáy nối tiếp | C68: 100m2 | D68: 0.05022 | E68: 0 | F68: 4745755 | G68: =+'Thuyết minh (đợt 1)'!Q93 -> 4759992 | H68: 238331.82 | I68: 0 | J68: =+E68*G68 -> 0 | K68: =+J68-I68 -> 0 | M68: =+H68-K68 -> 238331.82 | N68: =+H68-K68 -> 238331.82
A69: 52 | B69: Ván khuôn đổ bê tông sàn | C69: 100m2 | D69: 0.56304 | E69: 0 | F69: 16796784 | G69: =+'Thuyết minh (đợt 1)'!Q94 -> 16863971 | H69: 9457261.3 | I69: 0 | J69: =+E69*G69 -> 0 | K69: =+J69-I69 -> 0 | M69: =+H69-K69 -> 9457261.3 | N69: =+H69-K69 -> 9457261.3
A70: 53 | B70: Ván khuôn đổ bê tông bậc thang | C70: 100m2 | D70: 0.1764 | E70: 0 | F70: 27264223 | G70: =+'Thuyết minh (đợt 1)'!Q95 -> 27400544 | H70: 4809408.9 | I70: 0 | J70: =+E70*G70 -> 0 | K70: =+J70-I70 -> 0 | M70: =+H70-K70 -> 4809408.9 | N70: =+H70-K70 -> 4809408.9
A71: 54 | B71: Cốt thép bản đáy nối tiếp Ø10 | C71: tấn | D71: 0.0222 | E71: 0 | F71: 18000278 | G71: =+'Thuyết minh (đợt 1)'!Q96 -> 18126280 | H71: 399606.17 | I71: 0 | J71: =+E71*G71 -> 0 | K71: =+J71-I71 -> 0 | M71: =+H71-K71 -> 399606.17 | N71: =+H71-K71 -> 399606.17
A72: 55 | B72: Cốt thép bản đáy nối tiếp Ø14 | C72: tấn | D72: 0.11904 | E72: 0 | F72: 19258747 | G72: =+'Thuyết minh (đợt 1)'!Q97 -> 19412817 | H72: 2292561.2 | I72: 0 | J72: =+E72*G72 -> 0 | K72: =+J72-I72 -> 0 | M72: =+H72-K72 -> 2292561.2 | N72: =+H72-K72 -> 2292561.2
A73: 56 | B73: Cốt thép sàn Ø10 | C73: tấn | D73: 0.186 | E73: 0 | F73: 18762541 | G73: =+'Thuyết minh (đợt 1)'!Q98 -> 18893879 | H73: 3489832.6 | I73: 0 | J73: =+E73*G73 -> 0 | K73: =+J73-I73 -> 0 | M73: =+H73-K73 -> 3489832.6 | N73: =+H73-K73 -> 3489832.6
A74: 57 | B74: Cốt thép sàn Ø14 | C74: tấn | D74: 0.5715 | E74: 0 | F74: 19877397 | G74: =+'Thuyết minh (đợt 1)'!Q99 -> 20016539 | H74: 11359932 | I74: 0 | J74: =+E74*G74 -> 0 | K74: =+J74-I74 -> 0 | M74: =+H74-K74 -> 11359932 | N74: =+H74-K74 -> 11359932
A75: 58 | B75: Lắp đặt ống thép tráng kẽm Ø60 | C75: 100m | D75: 0.84 | E75: 0 | F75: 12267842 | G75: =+'Thuyết minh (đợt 1)'!Q100 -> 12341449 | H75: 10304987 | I75: 0 | J75: =+E75*G75 -> 0 | K75: =+J75-I75 -> 0 | M75: =+H75-K75 -> 10304987 | N75: =+H75-K75 -> 10304987
... A78: 61 | B78: Lắp đặt bu lông | C78: cái | D78: 240 | E78: 0 | F78: 14145 | G78: =+'Thuyết minh (đợt 1)'!Q103 -> 14145 | H78: 3394800 | I78: 0 | J78: =+E78*G78 -> 0 | K78: =+J78-I78 -> 0 | M78: =+H78-K78 -> 3394800 | N78: =+H78-K78 -> 3394800
A79: V | B79: KHUNG VÂY THI CÔNG | D79: 0 | E79: 0 | F79: 0 | G79: =+'Thuyết minh (đợt 1)'!Q104 -> 0 | H79: 0 | I79: 0 | J79: =+E79*G79 -> 0 | K79: =+J79-I79 -> 0 | M79: =+H79-K79 -> 0 | N79: =+H79-K79 -> 0
A80: 62 | B80: Khấu hao cừ larsen (1,17%x6 tháng +3,5%x18 lần đóng, nhổ) | C80: m | D80: 435.298 | E80: 0 | F80: 1281125 | G80: =+'Thuyết minh (đợt 1)'!Q105 -> 1292655 | H80: 5.5767115e+08 | I80: 0 | J80: =+E80*G80 -> 0 | K80: =+J80-I80 -> 0 | M80: =+H80-K80 -> 5.5767115e+08 | N80: =+H80-K80 -> 5.5767115e+08
A81: 63 | B81: Đóng cọc ván thép dưới nước, phần ngập đất | C81: 100m | D81: 69.72 | E81: 0 | F81: 35345168 | G81: =+'Thuyết minh (đợt 1)'!Q106 -> 35203787 | H81: 2.4642651e+09 | I81: 0 | J81: =+E81*G81 -> 0 | K81: =+J81-I81 -> 0 | M81: =+H81-K81 -> 2.4642651e+09 | N81: =+H81-K81 -> 2.4642651e+09
A82: 64 | B82: Đóng cọc ván thép dưới nước, phần không ngập đất | C82: 100m | D82: 34.86 | E82: 0 | F82: 26508876 | G82: =+'Thuyết minh (đợt 1)'!Q107 -> 26402840 | H82: 9.2409942e+08 | I82: 0 | J82: =+E82*G82 -> 0 | K82: =+J82-I82 -> 0 | M82: =+H82-K82 -> 9.2409942e+08 | N82: =+H82-K82 -> 9.2409942e+08
A83: 65 | B83: Khấu hao cọc thép hình I200 (1,17%x6 tháng +3,5%x18 lần đóng, nhổ) | C83: m | D83: 5.882 | E83: 0 | F83: 370476 | G83: =+'Thuyết minh (đợt 1)'!Q108 -> 373810 | H83: 2179139.8 | I83: 0 | J83: =+E83*G83 -> 0 | K83: =+J83-I83 -> 0 | M83: =+H83-K83 -> 2179139.8 | N83: =+H83-K83 -> 2179139.8
A84: 66 | B84: Đóng cọc thép hình I200 dưới nước, phần ngập đất | C84: 100m | D84: 0.96 | E84: 0 | F84: 24552400 | G84: =+'Thuyết minh (đợt 1)'!Q109 -> 24454190 | H84: 23570304 | I84: 0 | J84: =+E84*G84 -> 0 | K84: =+J84-I84 -> 0 | M84: =+H84-K84 -> 23570304 | N84: =+H84-K84 -> 23570304
A85: 67 | B85: Đóng cọc thép hình I200 dưới nước, phần không ngập đất | C85: 100m | D85: 0.48 | E85: 0 | F85: 18414301 | G85: =+'Thuyết minh (đợt 1)'!Q110 -> 18340644 | H85: 8838864.5 | I85: 0 | J85: =+E85*G85 -> 0 | K85: =+J85-I85 -> 0 | M85: =+H85-K85 -> 8838864.5 | N85: =+H85-K85 -> 8838864.5
A86: 68 | B86: Khấu hao thép hình I300 (2%x6 tháng +7%x18 lắp dựng, tháo dở) | C86: m | D86: 60.672 | E86: 0 | F86: 642194 | G86: =+'Thuyết minh (đợt 1)'!Q111 -> 647974 | H86: 38963194 | I86: 0 | J86: =+E86*G86 -> 0 | K86: =+J86-I86 -> 0 | M86: =+H86-K86 -> 38963194 | N86: =+H86-K86 -> 38963194
A87: 69 | B87: Gia công hệ khung vây I300 | C87: tấn | D87: 1.54569 | E87: 0 | F87: 10392850 | G87: =+'Thuyết minh (đợt 1)'!Q112 -> 10392850 | H87: 16064124 | I87: 0 | J87: =+E87*G87 -> 0 | K87: =+J87-I87 -> 0 | M87: =+H87-K87 -> 16064124 | N87: =+H87-K87 -> 16064124
A88: 70 | B88: Lắp dựng kết cấu thép khung vây I300 | C88: tấn | D88: 27.28 | E88: 0 | F88: 6160609 | G88: =+'Thuyết minh (đợt 1)'!Q113 -> 6154448 | H88: 1.6806141e+08 | I88: 0 | J88: =+E88*G88 -> 0 | K88: =+J88-I88 -> 0 | M88: =+H88-K88 -> 1.6806141e+08 | N88: =+H88-K88 -> 1.6806141e+08
A89: 71 | B89: Nhổ cừ larsen, phần ngập đất | C89: 100m | D89: 69.72 | E89: 0 | F89: 19555051 | G89: =+'Thuyết minh (đợt 1)'!Q114 -> 19476831 | H89: 1.3633782e+09 | I89: 0 | J89: =+E89*G89 -> 0 | K89: =+J89-I89 -> 0 | M89: =+H89-K89 -> 1.3633782e+09 | N89: =+H89-K89 -> 1.3633782e+09
A90: 72 | B90: Nhổ cừ larsen, phần không ngập đất | C90: 100m | D90: 34.86 | E90: 0 | F90: 14666288 | G90: =+'Thuyết minh (đợt 1)'!Q115 -> 14607623 | H90: 5.112668e+08 | I90: 0 | J90: =+E90*G90 -> 0 | K90: =+J90-I90 -> 0 | M90: =+H90-K90 -> 5.112668e+08 | N90: =+H90-K90 -> 5.112668e+08
A91: 73 | B91: Nhổ cọc thép hình I200, phần ngập đất | C91: 100m | D91: 0.96 | E91: 0 | F91: 9935186 | G91: =+'Thuyết minh (đợt 1)'!Q116 -> 9895445 | H91: 9537778.6 | I91: 0 | J91: =+E91*G91 -> 0 | K91: =+J91-I91 -> 0 | M91: =+H91-K91 -> 9537778.6 | N91: =+H91-K91 -> 9537778.6
... A93: 75 | B93: Tháo dỡ kết cấu thép khung vây I300 | C93: tấn | D93: 27.28 | E93: 0 | F93: 3696366 | G93: =+'Thuyết minh (đợt 1)'!Q118 -> 3692670 | H93: 1.0083686e+08 | I93: 0 | J93: =+E93*G93 -> 0 | K93: =+J93-I93 -> 0 | M93: =+H93-K93 -> 1.0083686e+08 | N93: =+H93-K93 -> 1.0083686e+08
A94: VI | B94: KHUNG ĐỊNH VỊ ĐÓNG CỌC | D94: 0 | E94: 0 | F94: 0 | G94: =+'Thuyết minh (đợt 1)'!Q119 -> 0 | H94: 0 | I94: 0 | J94: =+E94*G94 -> 0 | K94: =+J94-I94 -> 0 | M94: =+H94-K94 -> 0 | N94: =+H94-K94 -> 0
A95: 76 | B95: Khấu hao cọc thép hình I300 (1,17%x2 tháng +3,5%x61 lần đóng, nhổ) | C95: kg | D95: 4934.8792 | E95: 0 | F95: 18497 | G95: =+'Thuyết minh (đợt 1)'!Q120 -> 18663 | H95: 91280461 | I95: 0 | J95: =+E95*G95 -> 0 | K95: =+J95-I95 -> 0 | M95: =+H95-K95 -> 91280461 | N95: =+H95-K95 -> 91280461
A96: 77 | B96: Đóng cọc thép hình I200 dưới nước, phần ngập đất | C96: 100m | D96: 19.26 | E96: 0 | F96: 34737326 | G96: =+'Thuyết minh (đợt 1)'!Q121 -> 34598377 | H96: 6.690409e+08 | I96: 0 | J96: =+E96*G96 -> 0 | K96: =+J96-I96 -> 0 | M96: =+H96-K96 -> 6.690409e+08 | N96: =+H96-K96 -> 6.690409e+08
A97: 78 | B97: Đóng cọc thép hình I200 dưới nước, phần không ngập đất | C97: 100m | D97: 6.42 | E97: 0 | F97: 26052994 | G97: =+'Thuyết minh (đợt 1)'!Q122 -> 25948782 | H97: 1.6726022e+08 | I97: 0 | J97: =+E97*G97 -> 0 | K97: =+J97-I97 -> 0 | M97: =+H97-K97 -> 1.6726022e+08 | N97: =+H97-K97 -> 1.6726022e+08
A98: 79 | B98: Khấu hao khung thép hình (2%x2 tháng +7%x61 lắp dựng, tháo dở) | C98: kg | D98: 5864.7561 | E98: 0 | F98: 18497 | G98: =+'Thuyết minh (đợt 1)'!Q123 -> 18663 | H98: 1.0848039e+08 | I98: 0 | J98: =+E98*G98 -> 0 | K98: =+J98-I98 -> 0 | M98: =+H98-K98 -> 1.0848039e+08 | N98: =+H98-K98 -> 1.0848039e+08
A99: 80 | B99: Nhổ cọc thép hình I200, phần ngập đất | C99: 100m | D99: 30.06 | E99: 0 | F99: 9935186 | G99: =+'Thuyết minh (đợt 1)'!Q124 -> 9895445 | H99: 2.9865169e+08 | I99: 0 | J99: =+E99*G99 -> 0 | K99: =+J99-I99 -> 0 | M99: =+H99-K99 -> 2.9865169e+08 | N99: =+H99-K99 -> 2.9865169e+08
A100: 81 | B100: Nhổ cọc thép hình I200, phần không ngập đất | C100: 100m | D100: 10.02 | E100: 0 | F100: 7451389 | G100: =+'Thuyết minh (đợt 1)'!Q125 -> 7421583 | H100: 74662918 | I100: 0 | J100: =+E100*G100 -> 0 | K100: =+J100-I100 -> 0 | M100: =+H100-K100 -> 74662918 | N100: =+H100-K100 -> 74662918
A101: 82 | B101: Gia công hệ khung thép hình | C101: tấn | D101: 1.36068 | E101: 0 | F101: 10392850 | G101: =+'Thuyết minh (đợt 1)'!Q126 -> 10392850 | H101: 14141343 | I101: 0 | J101: =+E101*G101 -> 0 | K101: =+J101-I101 -> 0 | M101: =+H101-K101 -> 14141343 | N101: =+H101-K101 -> 14141343
A102: 83 | B102: Lắp dựng hệ khung thép hình | C102: tấn | D102: 83.00496 | E102: 0 | F102: 6160609 | G102: =+'Thuyết minh (đợt 1)'!Q127 -> 6154448 | H102: 5.113611e+08 | I102: 0 | J102: =+E102*G102 -> 0 | K102: =+J102-I102 -> 0 | M102: =+H102-K102 -> 5.113611e+08 | N102: =+H102-K102 -> 5.113611e+08
A103: 84 | B103: Tháo dở hệ khung thép hình | C103: tấn | D103: 83.00496 | E103: 0 | F103: 3696366 | G103: =+'Thuyết minh (đợt 1)'!Q128 -> 3692670 | H103: 3.0681671e+08 | I103: 0 | J103: =+E103*G103 -> 0 | K103: =+J103-I103 -> 0 | M103: =+H103-K103 -> 3.0681671e+08 | N103: =+H103-K103 -> 3.0681671e+08
A104: VIII | B104: BÃI ĐÚC CỌC | D104: 0 | E104: 0 | F104: 0 | G104: =+'Thuyết minh (đợt 1)'!Q129 -> 0 | H104: 0 | I104: 0 | J104: =+E104*G104 -> 0 | K104: =+J104-I104 -> 0 | M104: =+H104-K104 -> 0 | N104: =+H104-K104 -> 0
A105: 85 | B105: Đắp đất bãi đúc cọc, K≥0,90 | C105: 100m3 | D105: 6 | E105: 3 | F105: 3623018 | G105: =+'Thuyết minh (đợt 1)'!Q130 -> 3615772 | H105: 21738108 | I105: 10869054 | J105: =+E105*G105 -> 10847316 | K105: =+J105-I105 -> -21738 | M105: =+H105-K105 -> 21759846 | N105: =+H105-K105 -> 21759846
A106: 86 | B106: Đắp cát sông bãi đúc cọc, K≥0,85 | C106: 100m3 | D106: 1.2 | E106: 0.6 | F106: 15804808 | G106: =+'Thuyết minh (đợt 1)'!Q131 -> 15931246 | H106: 18965770 | I106: 9482884 | J106: =+E106*G106 -> 9558747.6 | K106: =+J106-I106 -> 75863.6 | M106: =+H106-K106 -> 18889906 | N106: =+H106-K106 -> 18889906
A107: 87 | B107: Láng vữa dày 3cm M75 | C107: m2 | D107: 1200 | E107: 600 | F107: 57428 | G107: =+'Thuyết minh (đợt 1)'!Q132 -> 57428 | H107: 68913600 | I107: 34456800 | J107: =+E107*G107 -> 34456800 | K107: =+J107-I107 -> 0 | M107: =+H107-K107 -> 68913600 | N107: =+H107-K107 -> 68913600
A108: HẠNG MỤC: CẦU CÁ LÓC 2 | E108: 0 | G108: =+'Thuyết minh (đợt 1)'!Q133 -> 0 | H108: 0 | I108: 0 | J108: =+E108*G108 -> 0 | K108: =+J108-I108 -> 0 | M108: =+H108-K108 -> 0 | N108: =+H108-K108 -> 0
A109: 192 | B109: Trải vải địa kỹ thuật dưới nước R≥25kN | C109: 100m2 | D109: 0.3291842 | E109: 0 | F109: 8490393 | G109: =+'Thuyết minh (đợt 1)'!Q134 -> 8498883 | H109: 2794903.2 | I109: 0 | J109: =+E109*G109 -> 0 | K109: =+J109-I109 -> 0 | M109: =+H109-K109 -> 2794903.2 | N109: =+H109-K109 -> 2794903.2
A110: 193 | B110: Thả thảm đá 5x2x0,3m | C110: thảm | D110: 5 | E110: 0 | F110: 3920018 | G110: =+'Thuyết minh (đợt 1)'!Q135 -> 3951378 | H110: 19600090 | I110: 0 | J110: =+E110*G110 -> 0 | K110: =+J110-I110 -> 0 | M110: =+H110-K110 -> 19600090 | N110: =+H110-K110 -> 19600090
A111: 194 | B111: Thả thảm đá 5x1x0,3m | C111: thảm | D111: 2 | E111: 0 | F111: 2081240 | G111: =+'Thuyết minh (đợt 1)'!Q136 -> 2095809 | H111: 4162480 | I111: 0 | J111: =+E111*G111 -> 0 | K111: =+J111-I111 -> 0 | M111: =+H111-K111 -> 4162480 | N111: =+H111-K111 -> 4162480
B112: Cộng (A+B) | H112: 2.5199209e+10 | I112: 2795124645 | J112: =+J15 -> 2.8134583e+09 | K112: =+J112-I112 -> 18333637 | M112: =+H112-K112 -> 2.5180876e+10 | N112: =+H112-K112 -> 2.5180876e+10
B113: Giảm giá (7%) | H113: 1.7639447e+09 | I113: 1.9565873e+08 | J113: =+J112*7% -> 1.9694208e+08 | K113: =+J113-I113 -> 1283354.6 | M113: =+H113-K113 -> 1.7626613e+09 | N113: =+H113-K113 -> 1.7626613e+09
A114: C | B114: TỔNG CỘNG | H114: 2.3435265e+10 | I114: 2.5994659e+09 | J114: =+J112-J113 -> 2.6165162e+09 | K114: =+J114-I114 -> 17050283 | M114: =+H114-K114 -> 2.3418214e+10 | N114: =+H114-K114 -> 2.3418214e+10
A115: D | B115: HẠNG MỤC ĐẢM BẢO GIAO THÔNG | K115: =+J115-I115 -> 0 | M115: =+H115-K115 -> 0 | N115: =+H115-K115 -> 0
A116: E | B116: CHI PHÍ DỰ PHÒNG | H116: 1626477676 | I116: 0 | K116: =+J116-I116 -> 0 | M116: =+H116-K116 -> 1626477676 | N116: =+H116-K116 -> 1626477676
...

Sheet Thuyết minh (đợt 1)
A1: BẢNG THUYẾT MINH HỆ SỐ VÀ ĐƠN GIÁ THANH TOÁN ĐIỀU CHỈNH ĐỢT 1
A2: Dự án: Hạ tầng thiết yếu ổn định đời sống dân cư phường 8 và xã Phú Hưng, TP Bến Tre, tỉnh Bến Tre
A3: Gói thầu xây lắp số 1 Thi công các hạng mục tuyến kè, đường dọc kè, cầu Cá Lóc 2, thoát nước dọc kè và chiếu sáng đường dọc kè
B5: Căn cứ xác định:
B6: + Căn cứ hợp đồng số: 1193/HĐXD-2018 ngày 26/9/2018;
B7: + Biên bản nghiệm thu khối lượng hoàn thành số 01 ngày 28 tháng 12 năm 2018;
B8: + Căn cứ quyết định số ,,,,,, của sở xây dựng Bến Tre …(về chỉ số gốc)
B9: + Căn cứ quyết định số ,,,,,, của sở xây dựng Bến Tre …(về chỉ số tại thời điểm lấy hệ số)
B11: - Đơn giá thanh toán (GTT) được tính theo công thức:
B12: GTT = GHĐ x Pn
B13: Trong đó:
B14: + GHĐ: đơn giá trong hợp đồng
B15: + Hệ số điều chỉnh "Pn" được xác định
B17: + a,b,c,d: là các tỷ trọng (%) cố định theo hợp đồng
B18: + Lo, Eo, Mo: là chỉ số giá công trình theo loại công trình tại thời điểm gốc do Sở Xây dựng Bến Tre ban hành (quý III năm 2018 so với chỉ số giá gốc năm 2016=100)
B19: Đối với công trình Kè tại khu vực TP. Bến Tre:
B20: Lo=103,85 | C20: (Chỉ số giá nhân công)
B21: Eo=110,99 | C21: (Chỉ số giá máy thi công)
B22: Mo=111,56 | C22: (Chỉ số giá vật liệu)
B23: Đối với công trình Cầu tại khu vực TP. Bến Tre:
B24: Lo=103,85 | C24: (Chỉ số giá nhân công)
B25: Eo=110,99 | C25: (Chỉ số giá máy thi công)
B26: Mo=124,36 | C26: (Chỉ số giá vật liệu)
B27: + Ln, En, Mn: là chỉ số giá công trình theo loại công trình tại thời điểm điều chỉnh trước 28 ngày nghiệm thu (ngày nghiệm thu đợt 1: ngày 28 tháng 12 năm 2018) do Sở Xây dựng Bến Tre ban hành (lấy chỉ số giá tại thời điểm tháng 11 năm 2018) so với chỉ số giá gốc năm 2016=100
B28: Đối với công trình Kè tại khu vực TP. Bến Tre:
B29: Ln=103,85 | C29: (Chỉ số giá nhân công)
B30: En=110,17 | C30: (Chỉ số giá máy thi công)
B31: Mn=113,06 | C31: (Chỉ số giá vật liệu)
B32: Đối với công trình Cầu tại khu vực TP. Bến Tre:
B33: Ln=103,85 | C33: (Chỉ số giá nhân công)
B34: En=110,17 | C34: (Chỉ số giá máy thi công)
B35: Mn=126,51 | C35: (Chỉ số giá vật liệu)
B36: Đơn giá thanh toán điều chỉnh theo bảng sau:
A38: S T T | B38: Mô tả công việc | C38: Đơn vị tính | D38: TỶ TRỌNG (%) | H38: TỔNG | I38: Chỉ số giá gốc tại quý III/2018 | L38: Chỉ số giá tại thời điểm tháng 11/2018 | O38: Hệ số Pn | P38: Đơn giá hợp đồng | Q38: Đơn giá thanh toán điều chỉnh
D39: a | E39: b (NC) | F39: c (MTC) | G39: d (VL) | I39: Lo | J39: Eo | K39: Mo | L39: Ln | M39: En | N39: Mn
A40: B | B40: HẠNG MỤC XÂY LẮP
A41: HẠNG MỤC: KÈ ĐOẠN TỪ K0+602-K1+525
A42: I | B42: CHÂN KÈ
A43: 1 | B43: Đào đất thi công | C43: 100m3 | D43: 35 | E43: 34.41 | F43: 30.59 | G43: 0 | H43: 100 | I43: 103.85 | J43: 110.99 | K43: 111.56 | L43: 103.85 | M43: 110.17 | N43: 113.06 | O43: 0.998 | P43: 1886218 | Q43: 1882446
A44: 2 | B44: Vận chuyển đất ra khỏi công trình, cư ly 1km | C44: 100m3 | D44: 35 | E44: 0 | F44: 65 | G44: 0 | H44: 100 | I44: 103.85 | J44: 110.99 | K44: 111.56 | L44: 103.85 | M44: 110.17 | N44: 113.06 | O44: 0.995 | P44: 1373602 | Q44: 1366734
A45: 3 | B45: Vận chuyển đất ra khỏi công trình, cư ly 3km tiếp theo | C45: 100m3 | D45: 35 | E45: 0 | F45: 65 | G45: 0 | H45: 100 | I45: 103.85 | J45: 110.99 | K45: 111.56 | L45: 103.85 | M45: 110.17 | N45: 113.06 | O45: 0.995 | P45: 1837919 | Q45: 1828729
A46: 4 | B46: Đắp bao tải cát | C46: m3 | D46: 35 | E46: 31.55 | F46: 0 | G46: 33.45 | H46: 100 | I46: 103.85 | J46: 110.99 | K46: 111.56 | L46: 103.85 | M46: 110.17 | N46: 113.06 | O46: 1.004 | P46: 658291 | Q46: 660924
A47: 5 | B47: Trải vải địa kỹ thuật R≥21,5kN/m | C47: 100m2 | D47: 35 | E47: 2.27 | F47: 37.38 | G47: 25.35 | H47: 100 | I47: 103.85 | J47: 110.99 | K47: 111.56 | L47: 103.85 | M47: 110.17 | N47: 113.06 | O47: 1.001 | P47: 8161936 | Q47: 8170098
A48: 6 | B48: Thả thảm đá 6x2x0,3m | C48: thảm | D48: 35 | E48: 20.5 | F48: 0.57 | G48: 43.93 | H48: 100 | I48: 103.85 | J48: 110.99 | K48: 111.56 | L48: 103.85 | M48: 110.17 | N48: 113.06 | O48: 1.006 | P48: 4655511 | Q48: 4683444
A49: 7 | B49: Thả đá hộc rời | C49: m3 | D49: 35 | E49: 7.51 | F49: 9.1 | G49: 48.39 | H49: 100 | I49: 103.85 | J49: 110.99 | K49: 111.56 | L49: 103.85 | M49: 110.17 | N49: 113.06 | O49: 1.006 | P49: 735497 | Q49: 739910
A50: II | B50: THÂN KÈ | P50: 0 | Q50: 0
A51: 8 | B51: Bê tông cọc đúc sẵn đá 1x2 M300 | C51: m3 | D51: 35 | E51: 12.57 | F51: 2.71 | G51: 49.72 | H51: 100 | I51: 103.85 | J51: 110.99 | K51: 111.56 | L51: 103.85 | M51: 110.17 | N51: 113.06 | O51: 1.006 | P51: 1988578 | Q51: 2000509
A52: 9 | B52: Ván khuôn đổ bê tông cọc đúc sẵn | C52: 100m2 | D52: 35 | E52: 54.32 | F52: 1.69 | G52: 8.99 | H52: 100 | I52: 103.85 | J52: 110.99 | K52: 111.56 | L52: 103.85 | M52: 110.17 | N52: 113.06 | O52: 1.001 | P52: 7101623 | Q52: 7108725
A53: 10 | B53: Cốt thép cọc Ø6 | C53: tấn | D53: 35 | E53: 10.22 | F53: 0.31 | G53: 54.47 | H53: 100 | I53: 103.85 | J53: 110.99 | K53: 111.56 | L53: 103.85 | M53: 110.17 | N53: 113.06 | O53: 1.007 | P53: 20901654 | Q53: 21047966
A54: 11 | B54: Cốt thép cọc Ø8 | C54: tấn | D54: 35 | E54: 10.25 | F54: 0.31 | G54: 54.44 | H54: 100 | I54: 103.85 | J54: 110.99 | K54: 111.56 | L54: 103.85 | M54: 110.17 | N54: 113.06 | O54: 1.007 | P54: 20846555 | Q54: 20992481
A55: 12 | B55: Cốt thép cọc Ø22 | C55: tấn | D55: 35 | E55: 5.95 | F55: 1.58 | G55: 57.47 | H55: 100 | I55: 103.85 | J55: 110.99 | K55: 111.56 | L55: 103.85 | M55: 110.17 | N55: 113.06 | O55: 1.008 | P55: 18857101 | Q55: 19007958
A56: 13 | B56: Thép tấm mũi cọc | C56: tấn | D56: 35 | E56: 19.04 | F56: 4.16 | G56: 41.8 | I56: 103.85 | J56: 110.99 | K56: 111.56 | L56: 103.85 | M56: 110.17 | N56: 113.06 | O56: 1.005 | P56: 33081246 | Q56: 33246652
A57: 14 | B57: Cẩu cọc từ bờ xuống sà lan | C57: tấn | D57: 35 | E57: 10.24 | F57: 54.76 | G57: 0 | H57: 100 | I57: 103.85 | J57: 110.99 | K57: 111.56 | L57: 103.85 | M57: 110.17 | N57: 113.06 | O57: 0.996 | P57: 22681 | Q57: 22590
A58: 15 | B58: Đóng cọc thẳng BTCT 30x30cm, phần ngập đất | C58: 100m | D58: 35 | E58: 4 | F58: 61 | G58: 0 | H58: 100 | I58: 103.85 | J58: 110.99 | K58: 111.56 | L58: 103.85 | M58: 110.17 | N58: 113.06 | O58: 0.995 | P58: 22410802 | Q58: 22298748
A59: 16 | B59: Đóng cọc thẳng BTCT 30x30cm, phần không ngập đất | C59: 100m | D59: 35 | E59: 4 | F59: 61 | G59: 0 | I59: 103.85 | J59: 110.99 | K59: 111.56 | L59: 103.85 | M59: 110.17 | N59: 113.06 | O59: 0.995 | P59: 16808103 | Q59: 16724062
A60: 17 | B60: Đóng cọc xiên BTCT 30x30cm, phần ngập đất | C60: 100m | D60: 35 | E60: 4 | F60: 61 | G60: 0 | H60: 100 | I60: 103.85 | J60: 110.99 | K60: 111.56 | L60: 103.85 | M60: 110.17 | N60: 113.06 | O60: 0.995 | P60: 27341179 | Q60: 27204473
A61: 18 | B61: Đóng cọc xiên BTCT 30x30cm, phần không ngập đất | C61: 100m | D61: 35 | E61: 4 | F61: 61 | G61: 0 | H61: 100 | I61: 103.85 | J61: 110.99 | K61: 111.56 | L61: 103.85 | M61: 110.17 | N61: 113.06 | O61: 0.995 | P61: 20505884 | Q61: 20403355
A62: 19 | B62: Phá dỡ đầu cọc | C62: m3 | D62: 35 | E62: 17.19 | F62: 42 | G62: 5.81 | H62: 100 | I62: 103.85 | J62: 110.99 | K62: 111.56 | L62: 103.85 | M62: 110.17 | N62: 113.06 | O62: 0.998 | P62: 520999 | Q62: 519957
A63: 20 | B63: Bê tông lót kè đá 1x2 M150 | C63: m3 | D63: 35 | E63: 11.76 | F63: 2.07 | G63: 51.17 | H63: 100 | I63: 103.85 | J63: 110.99 | K63: 111.56 | L63: 103.85 | M63: 110.17 | N63: 113.06 | O63: 1.007 | P63: 1650615 | Q63: 1662169
A64: 21 | B64: Bê tông tường kè chiều dầy <=45 cm chiều cao <=4 m, đá 1x2 M250 | C64: m3 | D64: 35 | E64: 18.78 | F64: 1.73 | G64: 44.49 | H64: 100 | I64: 103.85 | J64: 110.99 | K64: 111.56 | L64: 103.85 | M64: 110.17 | N64: 113.06 | O64: 1.006 | P64: 2830127 | Q64: 2847108
A65: 22 | B65: Ván khuôn đổ bê tông tường kè | C65: 100m2 | D65: 35 | E65: 36.69 | F65: 2.69 | G65: 25.62 | I65: 103.85 | J65: 110.99 | K65: 111.56 | L65: 103.85 | M65: 110.17 | N65: 113.06 | O65: 1.003 | P65: 16832404 | Q65: 16882901
A66: 23 | B66: Cốt thép tường kè Ø10 | C66: tấn | D66: 35 | E66: 10.35 | F66: 0.33 | G66: 54.32 | I66: 103.85 | J66: 110.99 | K66: 111.56 | L66: 103.85 | M66: 110.17 | N66: 113.06 | O66: 1.007 | P66: 18530849 | Q66: 18660565
A67: 24 | B67: Cốt thép tường kè Ø12 | C67: tấn | D67: 35 | E67: 8.05 | F67: 1.6 | G67: 55.35 | H67: 100 | I67: 103.85 | J67: 110.99 | K67: 111.56 | L67: 103.85 | M67: 110.17 | N67: 113.06 | O67: 1.007 | P67: 19534711 | Q67: 19671454
A68: 25 | B68: Cốt thép tường kè Ø14 | C68: tấn | D68: 35 | E68: 8.4 | F68: 1.67 | G68: 54.93 | H68: 100 | I68: 103.85 | J68: 110.99 | K68: 111.56 | L68: 103.85 | M68: 110.17 | N68: 113.06 | O68: 1.007 | P68: 19908754 | Q68: 20048115
A69: 26 | B69: Cốt thép tường kè Ø16 | C69: tấn | D69: 35 | E69: 8.09 | F69: 1.6 | G69: 55.31 | H69: 100 | I69: 103.85 | J69: 110.99 | K69: 111.56 | L69: 103.85 | M69: 110.17 | N69: 113.06 | O69: 1.007 | P69: 19439024 | Q69: 19575097
A70: 27 | B70: Cốt thép tường kè Ø18 | C70: tấn | D70: 35 | E70: 8 | F70: 1.59 | G70: 55.41 | H70: 100 | I70: 103.85 | J70: 110.99 | K70: 111.56 | L70: 103.85 | M70: 110.17 | N70: 113.06 | O70: 1.007 | P70: 19675132 | Q70: 19812858
A71: 28 | B71: Bê tông bản đáy kè chiều rộng <=250 cm, đá 1x2 M250 | C71: m3 | D71: 35 | E71: 11.92 | F71: 1.83 | G71: 51.25 | H71: 100 | I71: 103.85 | J71: 110.99 | K71: 111.56 | L71: 103.85 | M71: 110.17 | N71: 113.06 | O71: 1.007 | P71: 1879821 | Q71: 1892980
A72: 29 | B72: Ván khuôn đổ bê tông bản đáy kè | C72: 100m2 | D72: 35 | E72: 41.64 | F72: 0 | G72: 23.36 | H72: 100 | I72: 103.85 | J72: 110.99 | K72: 111.56 | L72: 103.85 | M72: 110.17 | N72: 113.06 | O72: 1.003 | P72: 4745755 | Q72: 4759992
A73: 30 | B73: Cốt thép bản đáy kè Ø12 | C73: tấn | D73: 35 | E73: 6.18 | F73: 1.64 | G73: 57.18 | H73: 100 | I73: 103.85 | J73: 110.99 | K73: 111.56 | L73: 103.85 | M73: 110.17 | N73: 113.06 | O73: 1.008 | P73: 18884703 | Q73: 19035781
A74: 31 | B74: Cốt thép bản đáy kè Ø14 | C74: tấn | D74: 35 | E74: 6.49 | F74: 1.72 | G74: 56.79 | H74: 100 | I74: 103.85 | J74: 110.99 | K74: 111.56 | L74: 103.85 | M74: 110.17 | N74: 113.06 | O74: 1.008 | P74: 19258747 | Q74: 19412817
A75: 32 | B75: Cốt thép bản đáy kè Ø16 | C75: tấn | D75: 35 | E75: 6.24 | F75: 1.66 | G75: 57.1 | H75: 100 | I75: 103.85 | J75: 110.99 | K75: 111.56 | L75: 103.85 | M75: 110.17 | N75: 113.06 | O75: 1.008 | P75: 18789018 | Q75: 18939330
A76: 33 | B76: Cốt thép bản đáy kè Ø18 | C76: tấn | D76: 35 | E76: 6.16 | F76: 1.64 | G76: 57.2 | H76: 100 | I76: 103.85 | J76: 110.99 | K76: 111.56 | L76: 103.85 | M76: 110.17 | N76: 113.06 | O76: 1.008 | P76: 19025125 | Q76: 19177326
A77: 34 | B77: Làm lớp đá 1x2 tầng lọc | C77: m3 | D77: 35 | E77: 22.3 | F77: 0.74 | G77: 41.96 | H77: 100 | I77: 103.85 | J77: 110.99 | K77: 111.56 | L77: 103.85 | M77: 110.17 | N77: 113.06 | O77: 1.006 | P77: 1058411 | Q77: 1064761
A78: 35 | B78: Làm lớp đá 4x6 tầng lọc | C78: m3 | D78: 35 | E78: 24.61 | F78: 0.86 | G78: 39.53 | H78: 100 | I78: 103.85 | J78: 110.99 | K78: 111.56 | L78: 103.85 | M78: 110.17 | N78: 113.06 | O78: 1.005 | P78: 892360 | Q78: 896822
... A80: 37 | B80: Làm khớp nối bằng tấm nhựa PVC | C80: m | D80: 35 | E80: 52.06 | F80: 0 | G80: 12.94 | H80: 100 | I80: 103.85 | J80: 110.99 | K80: 111.56 | L80: 103.85 | M80: 110.17 | N80: 113.06 | O80: 1.002 | P80: 672848 | Q80: 674194
A81: III | B81: LAN CAN ĐỈNH KÈ | Q81: 0
A82: 41 | B82: Bê tông trụ lan can đá 1x2 M200 | C82: m3 | D82: 35 | E82: 25.14 | F82: 1.84 | G82: 38.02 | H82: 100 | I82: 103.85 | J82: 110.99 | K82: 111.56 | L82: 103.85 | M82: 110.17 | N82: 113.06 | O82: 1.005 | P82: 2672535 | Q82: 2685898
A83: 42 | B83: Ván khuôn đổ bê tông trụ lan can | C83: 100m2 | D83: 35 | E83: 36.93 | F83: 2.27 | G83: 25.8 | H83: 100 | I83: 103.85 | J83: 110.99 | K83: 111.56 | L83: 103.85 | M83: 110.17 | N83: 113.06 | O83: 1.003 | P83: 16721582 | Q83: 16771747
A84: 43 | B84: Cốt thép trụ lan can Ø6 | C84: tấn | D84: 35 | E84: 10.6 | F84: 0.31 | G84: 54.09 | H84: 100 | I84: 103.85 | J84: 110.99 | K84: 111.56 | L84: 103.85 | M84: 110.17 | N84: 113.06 | O84: 1.007 | P84: 21046356 | Q84: 21193680
A85: 44 | B85: Cốt thép trụ lan can Ø10 | C85: tấn | D85: 35 | E85: 11.14 | F85: 0.33 | G85: 53.53 | H85: 100 | I85: 103.85 | J85: 110.99 | K85: 111.56 | L85: 103.85 | M85: 110.17 | N85: 113.06 | O85: 1.007 | P85: 18817954 | Q85: 18949680
A86: 45 | B86: Lắp đặt ống thép tráng kẽm Ø90 | C86: 100m | D86: 35 | E86: 16.26 | F86: 0 | G86: 48.74 | I86: 103.85 | J86: 110.99 | K86: 111.56 | L86: 103.85 | M86: 110.17 | N86: 113.06 | O86: 1.007 | P86: 18108807 | Q86: 18235569
A87: 46 | B87: Lắp đặt ống thép tráng kẽm Ø60 | C87: 100m | D87: 35 | E87: 20.66 | F87: 0 | G87: 44.34 | H87: 100 | I87: 103.85 | J87: 110.99 | K87: 111.56 | L87: 103.85 | M87: 110.17 | N87: 113.06 | O87: 1.006 | P87: 12267842 | Q87: 12341449
A88: IV | B88: CẦU THANG | P88: 0 | Q88: 0
A89: 47 | B89: Bê tông lót móng chiều rộng <=250 cm, đá 1x2 M150 | C89: m3 | D89: 35 | E89: 12.54 | F89: 2.21 | G89: 50.25 | H89: 100 | I89: 103.85 | J89: 110.99 | K89: 111.56 | L89: 103.85 | M89: 110.17 | N89: 113.06 | O89: 1.007 | P89: 1650615 | Q89: 1662169
A90: 48 | B90: Bê tông bản đáy chiều rộng <=250 cm, đá 1x2 M250 | C90: m3 | D90: 35 | E90: 11.92 | F90: 1.83 | G90: 51.25 | H90: 100 | I90: 103.85 | J90: 110.99 | K90: 111.56 | L90: 103.85 | M90: 110.17 | N90: 113.06 | O90: 1.007 | P90: 1879821 | Q90: 1892980
A91: 49 | B91: Bê tông sàn đá 1x2 M200 | C91: m3 | D91: 35 | E91: 17.87 | F91: 3.16 | G91: 43.97 | H91: 100 | I91: 103.85 | J91: 110.99 | K91: 111.56 | L91: 103.85 | M91: 110.17 | N91: 113.06 | O91: 1.006 | P91: 2071335 | Q91: 2083763
A92: 50 | B92: Bê tông bậc thang đá 1x2 M200 | C92: m3 | D92: 35 | E92: 19.97 | F92: 3.02 | G92: 42.01 | H92: 100 | I92: 103.85 | J92: 110.99 | K92: 111.56 | L92: 103.85 | M92: 110.17 | N92: 113.06 | O92: 1.005 | P92: 2167802 | Q92: 2178641
A93: 51 | B93: Ván khuôn đổ bê tông bản đáy nối tiếp | C93: 100m2 | D93: 35 | E93: 41.64 | F93: 0 | G93: 23.36 | H93: 100 | I93: 103.85 | J93: 110.99 | K93: 111.56 | L93: 103.85 | M93: 110.17 | N93: 113.06 | O93: 1.003 | P93: 4745755 | Q93: 4759992
A94: 52 | B94: Ván khuôn đổ bê tông sàn | C94: 100m2 | D94: 35 | E94: 31.21 | F94: 2.69 | G94: 31.1 | H94: 100 | I94: 103.85 | J94: 110.99 | K94: 111.56 | L94: 103.85 | M94: 110.17 | N94: 113.06 | O94: 1.004 | P94: 16796784 | Q94: 16863971
A95: 53 | B95: Ván khuôn đổ bê tông bậc thang | C95: 100m2 | D95: 35 | E95: 27.07 | F95: 0 | G95: 37.93 | H95: 100 | I95: 103.85 | J95: 110.99 | K95: 111.56 | L95: 103.85 | M95: 110.17 | N95: 113.06 | O95: 1.005 | P95: 27264223 | Q95: 27400544
A96: 54 | B96: Cốt thép bản đáy nối tiếp Ø10 | C96: tấn | D96: 35 | E96: 8.83 | F96: 0.34 | G96: 55.83 | H96: 100 | I96: 103.85 | J96: 110.99 | K96: 111.56 | L96: 103.85 | M96: 110.17 | N96: 113.06 | O96: 1.007 | P96: 18000278 | Q96: 18126280
A97: 55 | B97: Cốt thép bản đáy nối tiếp Ø14 | C97: tấn | D97: 35 | E97: 6.49 | F97: 1.72 | G97: 56.79 | H97: 100 | I97: 103.85 | J97: 110.99 | K97: 111.56 | L97: 103.85 | M97: 110.17 | N97: 113.06 | O97: 1.008 | P97: 19258747 | Q97: 19412817
A98: 56 | B98: Cốt thép sàn Ø10 | C98: tấn | D98: 35 | E98: 10.98 | F98: 0.33 | G98: 53.69 | H98: 100 | I98: 103.85 | J98: 110.99 | K98: 111.56 | L98: 103.85 | M98: 110.17 | N98: 113.06 | O98: 1.007 | P98: 18762541 | Q98: 18893879
A99: 57 | B99: Cốt thép sàn Ø14 | C99: tấn | D99: 35 | E99: 8.22 | F99: 1.76 | G99: 55.02 | H99: 100 | I99: 103.85 | J99: 110.99 | K99: 111.56 | L99: 103.85 | M99: 110.17 | N99: 113.06 | O99: 1.007 | P99: 19877397 | Q99: 20016539
A100: 58 | B100: Lắp đặt ống thép tráng kẽm Ø60 | C100: 100m | D100: 35 | E100: 20.66 | F100: 0 | G100: 44.34 | H100: 100 | I100: 103.85 | J100: 110.99 | K100: 111.56 | L100: 103.85 | M100: 110.17 | N100: 113.06 | O100: 1.006 | P100: 12267842 | Q100: 12341449
... A102: 60 | B102: Cung cấp bu lông M.10x300 | C102: cái | D102: 35 | E102: 0 | F102: 0 | G102: 65 | H102: 100 | I102: 103.85 | J102: 110.99 | K102: 111.56 | L102: 103.85 | M102: 110.17 | N102: 113.06 | O102: 1.009 | P102: 4873 | Q102: 4917
A103: 61 | B103: Lắp đặt bu lông | C103: cái | D103: 35 | E103: 65 | F103: 0 | G103: 0 | I103: 103.85 | J103: 110.99 | K103: 111.56 | L103: 103.85 | M103: 110.17 | N103: 113.06 | O103: 1 | P103: 14145 | Q103: 14145
A104: V | B104: KHUNG VÂY THI CÔNG | P104: 0 | Q104: 0
A105: 62 | B105: Khấu hao cừ larsen (1,17%x6 tháng +3,5%x18 lần đóng, nhổ) | C105: m | D105: 35 | E105: 0 | F105: 0 | G105: 65 | H105: 100 | I105: 103.85 | J105: 110.99 | K105: 111.56 | L105: 103.85 | M105: 110.17 | N105: 113.06 | O105: 1.009 | P105: 1281125 | Q105: 1292655
A106: 63 | B106: Đóng cọc ván thép dưới nước, phần ngập đất | C106: 100m | D106: 35 | E106: 7.07 | F106: 57.93 | G106: 0 | H106: 100 | I106: 103.85 | J106: 110.99 | K106: 111.56 | L106: 103.85 | M106: 110.17 | N106: 113.06 | O106: 0.996 | P106: 35345168 | Q106: 35203787
...

Sheet TỔNG HỢP
A1: BẢNG TỔNG HỢP GIÁ TRỊ ĐIỀU CHỈNH
A2: Tên dự án: Hạ tầng thiết yếu ổn định đời sống dân cư phường 8 và xã Phú Hưng, TP Bến Tre, tỉnh Bến Tre
A3: Tên gói thầu: Gói thầu xây lắp số 1 Thi công các hạng mục tuyến kè, đường dọc kè, cầu Cá Lóc 2, thoát nước dọc kè và chiếu sáng đường dọc kè
A4: STT | B4: Tên công việc | C4: Giá trị đã nghiệm thu thanh toán | D4: Giá trị điều chỉnh | E4: Chênh lệch giá trị điều chỉnh so với giá trị đã thanh toán | F4: Ghi chú
A5: 1 | B5: 2 | C5: 3 | D5: 4 | E5: 5=(4)-(3) | F5: 6
A6: 1 | B6: Hồ sơ thanh toán khối lượng hoàn thành đợt 1 (Biên bản nghiệm thu số 01 ngày 28 tháng 12 năm 2018)
A7: 2 | B7: Hồ sơ thanh toán khối lượng hoàn thành đợt 2 (Biên bản nghiệm thu số 02 ngày 05 tháng 4 năm 2019)
A8: 3 | B8: Hồ sơ thanh toán khối lượng hoàn thành đợt 3 (Biên bản nghiệm thu số 03 ngày 25 tháng 5 năm 2020)
A9: 4 | B9: Hồ sơ thanh toán khối lượng hoàn thành đợt 4 (Biên bản nghiệm thu số 05 ngày 31 tháng 12 năm 2020)
A10: 5 | B10: Hồ sơ thanh toán khối lượng hoàn thành đợt 5 (Biên bản nghiệm thu số 06 ngày 04 tháng 10 năm 2021)
B11: Tổng cộng | C11: =SUM(C6:C10) -> 0 | D11: =SUM(D6:D10) -> 0 | E11: =SUM(E6:E10) -> 0
B13: TỔ GIÁM SÁT PHÒNG KT - TĐ | E13: ĐẠI DIỆN NHÀ THẦU

Sheet CHI TIẾT THIẾT BỊ CHẾ TẠO
A1: PHỤ LỤC 2: CHI TIẾT CÁC THIẾT BỊ CHẾ TẠO
A2: (Đính kèm Phụ lục 1)
F3: Đvt: đồng.
A4: STT | B4: Mô tả công việc | C4: Đơn vị tính | D4: Khối lượng hợp đồng | E4: Đơn giá hợp đồng | F4: Thành tiền
A5: CỐNG RẠCH LỒ Ô
A6: I | B6: Cánh Cửa | F6: =SUM(F7:F18) -> 2.9422499e+08 | H6: =SUM(H7:H18) -> #REF! | I6: =+H6/F6 -> #REF!
A7: 1 | B7: Tôn 6mm- SUS 304 | C7: kg | D7: 2406.83 | E7: 118586.87 | F7: =D7*E7 -> 2.8541844e+08 | H7: =+F7*#REF! -> #REF!
A8: 2 | B8: Tôn 8mm- SUS 304 | C8: kg | D8: 4.06 | E8: 118586.87 | F8: =D8*E8 -> 481462.7 | H8: =+F8*#REF! -> #REF!
A9: 3 | B9: Tôn 10mm- SUS 304 | C9: kg | D9: 15.39 | E9: 118586.87 | F9: =D9*E9 -> 1825051.9 | H9: =+F9*#REF! -> #REF!
A10: 4 | B10: Tôn 12mm- SUS 304 | C10: kg | D10: 37.68 | E10: 118586.87 | F10: =D10*E10 -> 4468353.3 | H10: =+F10*#REF! -> #REF!
A11: 5 | B11: Thép tròn Þ36 - 20X13 | C11: kg | D11: 1 | E11: 131362.13 | F11: =D11*E11 -> 131362.13 | H11: =+F11*#REF! -> #REF!
A12: 6 | B12: Thép ống Þ50 - 20X13 | C12: kg | D12: 1.5 | E12: 131362.13 | F12: =D12*E12 -> 197043.2 | H12: =+F12*#REF! -> #REF!
A13: 7 | B13: Cao su lá 10mm có lót bố | C13: m² | D13: 0.61 | E13: 1596907.5 | F13: =D13*E13 -> 974113.56 | H13: =+F13*#REF! -> #REF!
A14: 8 | B14: Vít chìm M14x40 - Inox | C14: con | D14: 46 | E14: 3893.4125 | F14: =D14*E14 -> 179096.98 | H14: =+F14*#REF! -> #REF!
A15: 9 | B15: Đai ốc câm M14 - Inox | C15: con | D15: 46 | E15: 10463.546 | F15: =D15*E15 -> 481323.12 | H15: =+F15*#REF! -> #REF!
A16: 10 | B16: Bulông M24x100 - Inox | C16: con | D16: 4 | E16: 13991.951 | F16: =D16*E16 -> 55967.805 | H16: =+F16*#REF! -> #REF!
A17: 11 | B17: Đai ốc M24 Inox | C17: con | D17: 10 | E17: 1095.0223 | F17: =D17*E17 -> 10950.223 | H17: =+F17*#REF! -> #REF!
A18: 12 | B18: ĐệmM24 Inox | C18: con | D18: 5 | E18: 365.00742 | F18: =D18*E18 -> 1825.0371 | H18: =+F18*#REF! -> #REF!
A19: II | B19: Khung Cửa | D19: 0 | F19: =SUM(F20:F41) -> 1.3884137e+08 | H19: =SUM(H20:H41) -> #REF! | I19: =+H19/F19 -> #REF!
A20: 1 | B20: Tôn 6mm- SUS 304 | C20: kg | D20: 818.55 | E20: 118586.87 | F20: =D20*E20 -> 97069283 | H20: =+F20*#REF! -> #REF!
A21: 2 | B21: Tôn 8mm- SUS 304 | C21: kg | D21: 33.85 | E21: 118586.87 | F21: =D21*E21 -> 4014165.6 | H21: =+F21*#REF! -> #REF!
A22: 3 | B22: Tôn 10mm- SUS 304 | C22: kg | D22: 43.62 | E22: 118586.87 | F22: =D22*E22 -> 5172759.3 | H22: =+F22*#REF! -> #REF!
A23: 4 | B23: Tôn 12 mm -SUS 304 | C23: kg | D23: 44.14 | E23: 118586.87 | F23: =D23*E23 -> 5234424.5 | H23: =+F23*#REF! -> #REF!
A24: 5 | B24: Tôn 16 mm -SUS 304 | C24: kg | D24: 5.08 | E24: 118586.87 | F24: =D24*E24 -> 602421.3 | H24: =+F24*#REF! -> #REF!
A25: 6 | B25: Tôn 20 mm -SUS 304 | C25: kg | D25: 12.61 | E25: 118586.87 | F25: =D25*E25 -> 1495380.4 | H25: =+F25*#REF! -> #REF!
A26: 7 | B26: Tôn 30 mm - SUS 304 | C26: kg | D26: 120 | E26: 118586.87 | F26: =D26*E26 -> 14230425 | H26: =+F26*#REF! -> #REF!
A27: 8 | B27: Thép tròn Þ40 - 20X13 | C27: kg | D27: 4 | E27: 131362.13 | F27: =D27*E27 -> 525448.52 | H27: =+F27*#REF! -> #REF!
A28: 9 | B28: Cao su 6 mm (có lót bố) | C28: m2 | D28: 0.32 | E28: 1213649.7 | F28: =D28*E28 -> 388367.9 | H28: =+F28*#REF! -> #REF!
A29: 10 | B29: Cao su 8 mm (có lót bố) | C29: m2 | D29: 1.83 | E29: 1405278.6 | F29: =D29*E29 -> 2571659.8 | H29: =+F29*#REF! -> #REF!
A30: 11 | B30: Cao su P | C30: m | D30: 7.62 | E30: 485459.87 | F30: =D30*E30 -> 3699204.2 | H30: =+F30*#REF! -> #REF!
A31: 12 | B31: Cao su Ômega | C31: m | D31: 2.97 | E31: 664313.51 | F31: =D31*E31 -> 1973011.1 | H31: =+F31*#REF! -> #REF!
... A41: 22 | B41: đai ốc M24 Inox | C41: cái | D41: 8 | E41: 1095.0223 | F41: =D41*E41 -> 8760.1782 | H41: =+F41*#REF! -> #REF!
A42: III | B42: Cụm chốt cửa | D42: 0 | F42: =SUM(F43:F55) -> 42920114 | H42: =SUM(H43:H55) -> #REF! | I42: =+H42/F42 -> #REF!
A43: 1 | B43: Tôn 6mm- SUS 304 | C43: kg | D43: 277.23 | E43: 118586.87 | F43: =D43*E43 -> 32875838 | H43: =+F43*#REF! -> #REF!
A44: 2 | B44: Tôn 10mm- SUS 304 | C44: kg | D44: 2.8 | E44: 118586.87 | F44: =D44*E44 -> 332043.24 | H44: =+F44*#REF! -> #REF!
A45: 3 | B45: Tôn 12mm- SUS 304 | C45: kg | D45: 29 | E45: 118586.87 | F45: =D45*E45 -> 3439019.3 | H45: =+F45*#REF! -> #REF!
A46: 4 | B46: Tôn 20mm- SUS 304 | C46: kg | D46: 7.6 | E46: 118586.87 | F46: =D46*E46 -> 901260.22 | H46: =+F46*#REF! -> #REF!
A47: 5 | B47: Tôn 30 mm - SUS 304 | C47: kg | D47: 7 | E47: 118586.87 | F47: =D47*E47 -> 830108.1 | H47: =+F47*#REF! -> #REF!
A48: 6 | B48: Thép tròn Þ30 - 20X13 | C48: kg | D48: 13 | E48: 131362.13 | F48: =D48*E48 -> 1707707.7 | H48: =+F48*#REF! -> #REF!
A49: 7 | B49: Thép tròn Þ40- 20X13 | C49: kg | D49: 7.28 | E49: 131362.13 | F49: =D49*E49 -> 956316.31 | H49: =+F49*#REF! -> #REF!
A50: 8 | B50: Thép tròn Þ45- 20X13 | C50: kg | D50: 5.2 | E50: 131362.13 | F50: =D50*E50 -> 683083.08 | H50: =+F50*#REF! -> #REF!
A51: 9 | B51: Đồng 6.63 | C51: kg | D51: 5.04 | E51: 229731.63 | F51: =D51*E51 -> 1157847.4 | H51: =+F51*#REF! -> #REF!
A52: 10 | B52: Bulông M16x90 - Inox | C52: cái | D52: 4 | E52: 6691.8028 | F52: =D52*E52 -> 26767.211 | H52: =+F52*#REF! -> #REF!
A53: 11 | B53: Đai ốc M16 - Inox | C53: cái | D53: 4 | E53: 973.35313 | F53: =D53*E53 -> 3893.4125 | H53: =+F53*#REF! -> #REF!
A54: 12 | B54: Đệm M16 - Inox | C54: cái | D54: 4 | E54: 340.67359 | F54: =D54*E54 -> 1362.6944 | H54: =+F54*#REF! -> #REF!
A55: 13 | B55: Vít hãm M8 | C55: con | D55: 4 | E55: 1216.6914 | F55: =D55*E55 -> 4866.7656 | H55: =+F55*#REF! -> #REF!
A56: IV | B56: Cụm cối trên | D56: 0 | F56: =SUM(F57:F69) -> 11132219 | H56: =SUM(H57:H69) -> #REF! | I56: =+H56/F56 -> #REF!
A57: 1 | B57: Tôn 3mm- SUS 304 | C57: kg | D57: 0.4 | E57: 118586.87 | F57: =D57*E57 -> 47434.748 | H57: =+F57*#REF! -> #REF!
A58: 2 | B58: Tôn 14mm- SUS 304 | C58: kg | D58: 4.12 | E58: 118586.87 | F58: =D58*E58 -> 488577.91 | H58: =+F58*#REF! -> #REF!
A59: 3 | B59: Tôn 12mm- SUS 304 | C59: kg | D59: 0.92 | E59: 118586.87 | F59: =D59*E59 -> 109099.92 | H59: =+F59*#REF! -> #REF!
A60: 4 | B60: Tôn 16mm- SUS 304 | C60: kg | D60: 19.03 | E60: 118586.87 | F60: =D60*E60 -> 2256708.2 | H60: =+F60*#REF! -> #REF!
A61: 5 | B61: Tôn 20mm- SUS 304 | C61: kg | D61: 32.93 | E61: 118586.87 | F61: =D61*E61 -> 3905065.7 | H61: =+F61*#REF! -> #REF!
A62: 6 | B62: Thép tròn Þ70 - 20X13 | C62: kg | D62: 14.6 | E62: 131362.13 | F62: =D62*E62 -> 1917887.1 | H62: =+F62*#REF! -> #REF!
A63: 7 | B63: Thép tròn Þ80 - 20X13 | C63: kg | D63: 14.6 | E63: 131362.13 | F63: =D63*E63 -> 1917887.1 | H63: =+F63*#REF! -> #REF!
A64: 8 | B64: Đồng 6.6.3 | C64: kg | D64: 1.1 | E64: 229731.63 | F64: =D64*E64 -> 252704.79 | H64: =+F64*#REF! -> #REF!
A65: 9 | B65: Bu lông M12x30 - Inox | C65: con | D65: 5 | E65: 3321.5675 | F65: =D65*E65 -> 16607.838 | H65: =+F65*#REF! -> #REF!
A66: 10 | B66: Bu lông M20x50 - Inox | C66: con | D66: 1 | E66: 9855.2004 | F66: =D66*E66 -> 9855.2004 | H66: =+F66*#REF! -> #REF!
A67: 11 | B67: Bu lông M20x80 - Inox | C67: con | D67: 6 | E67: 10341.877 | F67: =D67*E67 -> 62051.262 | H67: =+F67*#REF! -> #REF!
A68: 12 | B68: Đai ốc câm M20 - Inox | C68: con | D68: 6 | E68: 24333.828 | F68: =D68*E68 -> 146002.97 | H68: =+F68*#REF! -> #REF!
A69: 13 | B69: Đệm M20 - CT3 Inox | C69: cái | D69: 6 | E69: 389.34125 | F69: =D69*E69 -> 2336.0475 | H69: =+F69*#REF! -> #REF!
A70: V | B70: Cụm cối dưới | D70: 0 | F70: =SUM(F71:F73) -> 3786165.6 | H70: =SUM(H71:H73) -> #REF! | I70: =+H70/F70 -> #REF!
A71: 1 | B71: Thép tròn Þ120 - 20X13 | C71: kg | D71: 16.5 | E71: 142859.86 | F71: =D71*E71 -> 2357187.8 | H71: =+F71*#REF! -> #REF!
A72: 2 | B72: Thép tròn Þ135 - 20X13 | C72: kg | D72: 5.5 | E72: 142859.86 | F72: =D72*E72 -> 785729.26 | H72: =+F72*#REF! -> #REF!
A73: 3 | B73: Đồng 6.6.3 | C73: kg | D73: 2.8 | E73: 229731.63 | F73: =D73*E73 -> 643248.57 | H73: =+F73*#REF! -> #REF!
A74: VI | B74: Cụm neo khung (tính cho 01 cụm) | D74: 0 | F74: =SUM(F75:F83) -> 3669379.5 | H74: =SUM(H75:H83) -> #REF! | I74: =+H74/F74 -> #REF!
A75: 1 | B75: Tôn 10mm- SUS 304 | C75: kg | D75: 5.53 | E75: 118586.87 | F75: =D75*E75 -> 655785.4 | H75: =+F75*#REF! -> #REF!
A76: 2 | B76: Tôn 12mm- SUS 304 | C76: kg | D76: 14.47 | E76: 118586.87 | F76: =D76*E76 -> 1715952 | H76: =+F76*#REF! -> #REF!
A77: 3 | B77: Thép tròn Þ16- 20X13+Ct3 | C77: kg | D77: 5 | E77: 131362.13 | F77: =D77*E77 -> 656810.65 | H77: =+F77*#REF! -> #REF!
A78: 4 | B78: Thép tròn Þ27 - 20X13 | C78: kg | D78: 2.5 | E78: 131362.13 | F78: =D78*E78 -> 328405.33 | H78: =+F78*#REF! -> #REF!
A79: 5 | B79: Thép tròn Þ80 - 20X13 | C79: kg | D79: 1.7 | E79: 131362.13 | F79: =D79*E79 -> 223315.62 | H79: =+F79*#REF! -> #REF!
A80: 6 | B80: Vòng đệm M8- Inox | C80: cái | D80: 8 | E80: 365.00742 | F80: =D80*E80 -> 2920.0594 | H80: =+F80*#REF! -> #REF!
A81: 7 | B81: Vòng đệm M16- Inox | C81: cái | D81: 8 | E81: 340.67359 | F81: =D81*E81 -> 2725.3888 | H81: =+F81*#REF! -> #REF!
A82: 8 | B82: Đai ốc M16 - Inox | C82: cái | D82: 16 | E82: 4988.4348 | F82: =D82*E82 -> 79814.956 | H82: =+F82*#REF! -> #REF!
A83: 9 | B83: Bu lông M8x 25 - Inox | C83: cái | D83: 4 | E83: 912.51856 | F83: =D83*E83 -> 3650.0742 | H83: =+F83*#REF! -> #REF!
A84: VII | B84: Hộp bao che (cối + chốt) | D84: 0 | F84: =SUM(F85:F91) -> 7117370.7 | H84: =SUM(H85:H91) -> #REF! | I84: =+H84/F84 -> #REF!
A85: 1 | B85: Tôn 3 mm - SUS 304 | C85: kg | D85: 46.89 | E85: 118586.87 | F85: =D85*E85 -> 5560538.4 | H85: =+F85*#REF! -> #REF!
A86: 2 | B86: Tôn 5 mm -SUS 304 | C86: kg | D86: 4.66 | E86: 118586.87 | F86: =D86*E86 -> 552614.82 | H86: =+F86*#REF! -> #REF!
A87: 3 | B87: Tôn 10mm- SUS 304 | C87: kg | D87: 6.73 | E87: 118586.87 | F87: =D87*E87 -> 798089.64 | H87: =+F87*#REF! -> #REF!
A88: 4 | B88: Thép tròn Þ10mm- 20X13 | C88: kg | D88: 1 | E88: 131362.13 | F88: =D88*E88 -> 131362.13 | H88: =+F88*#REF! -> #REF!
A89: 5 | B89: Bản lề cối | C89: cái | D89: 2 | E89: 15969.075 | F89: =D89*E89 -> 31938.15 | H89: =+F89*#REF! -> #REF!
A90: 6 | B90: Ổ khoá | C90: bộ | D90: 1 | E90: 12166.914 | F90: =D90*E90 -> 12166.914 | H90: =+F90*#REF! -> #REF!
A91: 7 | B91: Bulông M10x30 - Inox | C91: con | D91: 12 | E91: 2555.052 | F91: =D91*E91 -> 30660.624 | H91: =+F91*#REF! -> #REF!
A92: VIII | B92: Khe cửa | D92: 0 | F92: =SUM(F93:F96) -> 52380586 | H92: =SUM(H93:H96) -> #REF! | I92: =+H92/F92 -> #REF!
A93: 1 | B93: Tôn 5 mm - CT3 | C93: kg | D93: 42.08 | E93: 29207.954 | F93: =D93*E93 -> 1229070.7 | H93: =+F93*#REF! -> #REF!
A94: 2 | B94: Tôn 6 mm - SUS-304 | C94: kg | D94: 534.79 | E94: 91806.727 | F94: =D94*E94 -> 49097320 | H94: =+F94*#REF! -> #REF!
A95: 3 | B95: Thép hình I150x75x5x7 - CT3 | C95: kg | D95: 54.5 | E95: 29207.954 | F95: =D95*E95 -> 1591833.5 | H95: =+F95*#REF! -> #REF!
A96: 4 | B96: Thép hình L50x50x5 - CT3 | C96: kg | D96: 15.83 | E96: 29207.954 | F96: =D96*E96 -> 462361.92 | H96: =+F96*#REF! -> #REF!
A97: IX | B97: Khe phai | D97: 0 | F97: =SUM(F98:F101) -> 39429595 | H97: =SUM(H98:H101) -> #REF! | I97: =+H97/F97 -> #REF!
A98: 1 | B98: Tôn 5 mm - CT3 | C98: kg | D98: 30.28 | E98: 29207.954 | F98: =D98*E98 -> 884416.85 | H98: =+F98*#REF! -> #REF!
A99: 2 | B99: Tôn 6 mm - SUS.304 | C99: kg | D99: 399.42 | E99: 91806.727 | F99: =D99*E99 -> 36669443 | H99: =+F99*#REF! -> #REF!
A100: 3 | B100: Thép hình I150x75x5x7 - CT3 | C100: kg | D100: 51.4 | E100: 29207.954 | F100: =D100*E100 -> 1501288.8 | H100: =+F100*#REF! -> #REF!
A101: 4 | B101: Thép hình L50x50x5 - CT3 | C101: kg | D101: 12.82 | E101: 29207.954 | F101: =D101*E101 -> 374445.97 | H101: =+F101*#REF! -> #REF!
A102: CỐNG RẠCH MIỄU
A103: I | B103: Cánh Cửa | F103: =SUM(F104:F115) -> 2.9422499e+08
A104: 1 | B104: Tôn 6mm- SUS 304 | C104: kg | D104: 2406.83 | E104: 118586.87 | F104: =D104*E104 -> 2.8541844e+08
A105: 2 | B105: Tôn 8mm- SUS 304 | C105: kg | D105: 4.06 | E105: 118586.87 | F105: =D105*E105 -> 481462.7
A106: 3 | B106: Tôn 10mm- SUS 304 | C106: kg | D106: 15.39 | E106: 118586.87 | F106: =D106*E106 -> 1825051.9
A107: 4 | B107: Tôn 12mm- SUS 304 | C107: kg | D107: 37.68 | E107: 118586.87 | F107: =D107*E107 -> 4468353.3
A108: 5 | B108: Thép tròn Þ36 - 20X13 | C108: kg | D108: 1 | E108: 131362.13 | F108: =D108*E108 -> 131362.13
A109: 6 | B109: Thép ống Þ50 - 20X13 | C109: kg | D109: 1.5 | E109: 131362.13 | F109: =D109*E109 -> 197043.2
...

Sheet KL đào ống dẫn dòng
A1: BẢNG TÍNH KHỐI LƯỢNG ĐÀO ĐẤT ỐNG DẪN DÒNG
A2: (Kèm theo biên bản nghiệm thu công việc xây dựng số: )
A4: STT | B4: Tên mặt cắt | C4: Diện tích đào (m2) | F4: Khoảng cách (m) | I4: Khối lượng đào (m3) | L4: Ghi chú | N4: Khoảng cách
C5: Th/kế | D5: Th/tế | E5: Ngh/thu | F5: Th/kế | G5: Th/tế | H5: Ngh/thu | I5: Th/kế | J5: Th/tế | K5: Ngh/thu | N5: Tính toán
A6: 1 | B6: 1-1 | C6: 3.26 | D6: 3.26 | E6: =+MIN(C6:D6) -> 3.26
F7: 12 | G7: 12 | H7: =MIN(F7:G7) -> 12 | I7: =+(C6+C8)/2*F7 -> 50.16 | J7: =+(D6+D8)/2*G7 -> 50.16 | K7: =MIN((E6+E8)/2*H7,I7) -> 50.16
A8: =+A6+1 -> 2 | B8: 2-2 | C8: 5.1 | D8: 5.1 | E8: =+MIN(C8:D8) -> 5.1 | H8: =MIN(F8:G8) -> 0 | K8: =MIN((E7+E9)/2*H8,I8) -> 0 | M8: =210 -> 210 | N8: =M8/2 -> 105
F9: 12 | G9: 12 | H9: =MIN(F9:G9) -> 12 | I9: =+(C8+C10)/2*F9 -> 49.5 | J9: =+(D8+D10)/2*G9 -> 49.5 | K9: =MIN((E8+E10)/2*H9,I9) -> 49.5
A10: =+A8+1 -> 3 | B10: 3-3 | C10: 3.15 | D10: 3.15 | E10: =+MIN(C10:D10) -> 3.15 | H10: =MIN(F10:G10) -> 0 | K10: =MIN((E9+E11)/2*H10,I10) -> 0 | M10: 408 | N10: =((M10-M8)/2) -> 99 | O10: =N8+N10 -> 204 | P10: =H7-N8 -> -93
F11: 12 | G11: 12 | H11: =MIN(F11:G11) -> 12 | I11: =+(C10+C12)/2*F11 -> 31.8 | J11: =+(D10+D12)/2*G11 -> 31.8 | K11: =MIN((E10+E12)/2*H11,I11) -> 31.8
A12: =+A10+1 -> 4 | B12: 4-4 | C12: 2.15 | D12: 2.15 | E12: =+MIN(C12:D12) -> 2.15 | H12: =MIN(F12:G12) -> 0 | K12: =MIN((E11+E13)/2*H12,I12) -> 0 | M12: 607 | N12: =((M12-M10)/2) -> 99.5 | O12: =O10+N12 -> 303.5 | P12: =H9-N10 -> -87
F13: 12 | G13: 12.5 | H13: =MIN(F13:G13) -> 12 | I13: =+(C12+C14)/2*F13 -> 23.88 | J13: =+(D12+D14)/2*G13 -> 24.875 | K13: =MIN((E12+E14)/2*H13,I13) -> 23.88
A14: =+A12+1 -> 5 | B14: 5-5 | C14: 1.83 | D14: 1.83 | E14: =+MIN(C14:D14) -> 1.83 | G14: 0 | H14: =MIN(F14:G14) -> 0 | M14: 808 | N14: =((M14-M12)/2) -> 100.5 | O14: =O12+N14 -> 404 | P14: =H11-N12 -> -87.5
B15: CỘNG | F15: =+SUM(F6:F14) -> 48 | G15: =+SUM(G6:G14) -> 48.5 | H15: =+SUM(H6:H14) -> 48 | I15: =+SUM(I6:I14) -> 155.34 | J15: =+SUM(J6:J14) -> 156.335 | K15: =+SUM(K6:K14) -> 155.34
C17: KỸ THUẬT THI CÔNG TRỰC TIẾP | I17: GIÁM SÁT KỸ THUẬT
C22: Hồ Phước Hải | I22: Lê Văn Lộc

Sheet Cốt thép cọc(Lồ Ồ)
A1: BẢNG TÍNH CỐT THÉP CỌC TƯỜNG CHẮN
F2: (Cống Lồ Ồ)
A4: Cấu kiện | B4: Số hiệu | C4: ĐK (mm) | D4: Số cấu kiện | E4: Số thanh | G4: Chiều dài (m) | I4: Trọng lượng riêng (kg/m) | J4: Khối lượng (kg)
E5: 01 CK | F5: Toàn bộ | G5: 01 thanh | H5: Toàn bộ
A6: CỌC TƯỜNG CHẮN | B6: 1 | C6: 6 | D6: 9 | E6: =ROUND(100/5+150/10+670/15+150/10,0) -> 95 | F6: =D6*E6 -> 855 | G6: 0.7 | H6: =ROUND(F6*G6,3) -> 598.5 | I6: =ROUND(3.1416*(C6/1000)^2/4*7850*1,3) -> 0.222 | J6: =ROUND(H6*I6,3) -> 132.867
B7: 2 | C7: 6 | D7: 9 | E7: 4 | F7: =D7*E7 -> 36 | G7: 0.75 | H7: =ROUND(F7*G7,3) -> 27 | I7: =ROUND(3.1416*(C7/1000)^2/4*7850*1,3) -> 0.222 | J7: =ROUND(H7*I7,3) -> 5.994
B8: 3 | C8: 6 | D8: 9 | E8: 20 | F8: =D8*E8 -> 180 | G8: 0.25 | H8: =ROUND(F8*G8,3) -> 45 | I8: =ROUND(3.1416*(C8/1000)^2/4*7850*1,3) -> 0.222 | J8: =ROUND(H8*I8,3) -> 9.99
B9: 4 | C9: 18 | D9: 9 | E9: 2 | F9: =D9*E9 -> 18 | G9: 1.46 | H9: =ROUND(F9*G9,3) -> 26.28 | I9: =ROUND(3.1416*(C9/1000)^2/4*7850*1,3) -> 1.998 | J9: =ROUND(H9*I9,3) -> 52.507
B10: 5 | C10: 14 | D10: 9 | E10: 8 | F10: =D10*E10 -> 72 | G10: 0.15 | H10: =ROUND(F10*G10,3) -> 10.8 | I10: =ROUND(3.1416*(C10/1000)^2/4*7850*1,3) -> 1.208 | J10: =ROUND(H10*I10,3) -> 13.046
B11: 6 | C11: 6 | D11: 9 | E11: 1 | F11: =D11*E11 -> 9 | G11: 8.53 | H11: =ROUND(F11*G11,3) -> 76.77 | I11: =ROUND(3.1416*(C11/1000)^2/4*7850*1,3) -> 0.222 | J11: =ROUND(H11*I11,3) -> 17.043
B12: 7 | C12: δ=6 | D12: 9 | E12: 1 | F12: =D12*E12 -> 9 | G12: 0.04 | H12: =ROUND(F12*G12,3) -> 0.36 | I12: =ROUND(7850*0.046*3.1416*0.006,3) -> 6.807 | J12: =ROUND(H12*I12,3) -> 2.451
B13: 8 | C13: 16 | D13: 9 | E13: 4 | F13: =D13*E13 -> 36 | G13: 11.7 | H13: =ROUND(F13*G13,3) -> 421.2 | I13: =ROUND(3.1416*(C13/1000)^2/4*7850*1,3) -> 1.578 | J13: =ROUND(H13*I13,3) -> 664.654
B15: 1/. Tổng hợp cốt thép:
B16: + Cốt thép D=6mm: | F16: =SUMIF($C$6:$C$13,6,$J$6:$J$13) -> 165.894 | G16: kg
B17: + Cốt thép D=14mm: | F17: =SUMIF($C$6:$C$13,14,$J$6:$J$13) -> 13.046 | G17: kg
B18: + Cốt thép D=16mm: | F18: =SUMIF($C$6:$C$13,16,$J$6:$J$13) -> 664.654 | G18: kg
B19: + Cốt thép D=18mm: | F19: =SUMIF($C$6:$C$13,18,$J$6:$J$13) -> 52.507 | G19: kg
B20: + Thép tấm dày 6mm: | F20: =+J12 -> 2.451 | G20: kg
D22: GIÁM SÁT THI CÔNG XÂY DỰNG TRỰC TIẾP | I22: KỸ THUẬT TC XD TRỰC TIẾP
D27: Lê Văn Lộc | I27: Hồ Phước Hải

Sheet Cốt thép cọc(Rạch Miễu)
A1: BẢNG TÍNH CỐT THÉP CỌC TƯỜNG CHẮN
F2: (Cống Rạch Miễu)
A4: Cấu kiện | B4: Số hiệu | C4: ĐK (mm) | D4: Số cấu kiện | E4: Số thanh | G4: Chiều dài (m) | I4: Trọng lượng riêng (kg/m) | J4: Khối lượng (kg)
E5: 01 CK | F5: Toàn bộ | G5: 01 thanh | H5: Toàn bộ
A6: CỌC TƯỜNG CHẮN | B6: 1 | C6: 6 | D6: 8 | E6: =ROUND(100/5+150/10+670/15+150/10,0) -> 95 | F6: =D6*E6 -> 760 | G6: 0.7 | H6: =ROUND(F6*G6,3) -> 532 | I6: =ROUND(3.1416*(C6/1000)^2/4*7850*1,3) -> 0.222 | J6: =ROUND(H6*I6,3) -> 118.104
B7: 2 | C7: 6 | D7: 8 | E7: 4 | F7: =D7*E7 -> 32 | G7: 0.75 | H7: =ROUND(F7*G7,3) -> 24 | I7: =ROUND(3.1416*(C7/1000)^2/4*7850*1,3) -> 0.222 | J7: =ROUND(H7*I7,3) -> 5.328
B8: 3 | C8: 6 | D8: 8 | E8: 20 | F8: =D8*E8 -> 160 | G8: 0.25 | H8: =ROUND(F8*G8,3) -> 40 | I8: =ROUND(3.1416*(C8/1000)^2/4*7850*1,3) -> 0.222 | J8: =ROUND(H8*I8,3) -> 8.88
B9: 4 | C9: 18 | D9: 8 | E9: 2 | F9: =D9*E9 -> 16 | G9: 1.46 | H9: =ROUND(F9*G9,3) -> 23.36 | I9: =ROUND(3.1416*(C9/1000)^2/4*7850*1,3) -> 1.998 | J9: =ROUND(H9*I9,3) -> 46.673
B10: 5 | C10: 14 | D10: 8 | E10: 8 | F10: =D10*E10 -> 64 | G10: 0.15 | H10: =ROUND(F10*G10,3) -> 9.6 | I10: =ROUND(3.1416*(C10/1000)^2/4*7850*1,3) -> 1.208 | J10: =ROUND(H10*I10,3) -> 11.597
B11: 6 | C11: 6 | D11: 8 | E11: 1 | F11: =D11*E11 -> 8 | G11: 8.53 | H11: =ROUND(F11*G11,3) -> 68.24 | I11: =ROUND(3.1416*(C11/1000)^2/4*7850*1,3) -> 0.222 | J11: =ROUND(H11*I11,3) -> 15.149
B12: 7 | C12: δ=6 | D12: 8 | E12: 1 | F12: =D12*E12 -> 8 | G12: 0.04 | H12: =ROUND(F12*G12,3) -> 0.32 | I12: =ROUND(7850*0.046*3.1416*0.006,3) -> 6.807 | J12: =ROUND(H12*I12,3) -> 2.178
B13: 8 | C13: 16 | D13: 8 | E13: 4 | F13: =D13*E13 -> 32 | G13: 11.7 | H13: =ROUND(F13*G13,3) -> 374.4 | I13: =ROUND(3.1416*(C13/1000)^2/4*7850*1,3) -> 1.578 | J13: =ROUND(H13*I13,3) -> 590.803
B15: 1/. Tổng hợp cốt thép:
B16: + Cốt thép D=6mm: | F16: =SUMIF($C$6:$C$13,6,$J$6:$J$13) -> 147.461 | G16: kg
B17: + Cốt thép D=14mm: | F17: =SUMIF($C$6:$C$13,14,$J$6:$J$13) -> 11.597 | G17: kg
B18: + Cốt thép D=16mm: | F18: =SUMIF($C$6:$C$13,16,$J$6:$J$13) -> 590.803 | G18: kg
B19: + Cốt thép D=18mm: | F19: =SUMIF($C$6:$C$13,18,$J$6:$J$13) -> 46.673 | G19: kg
B20: + Thép tấm dày 6mm: | F20: =+J12 -> 2.178 | G20: kg
D22: GIÁM SÁT THI CÔNG XÂY DỰNG TRỰC TIẾP | I22: KỸ THUẬT TC XD TRỰC TIẾP
D27: Lê Văn Lộc | I27: Hồ Phước Hải

Sheet sai lệch thiết kế
A1: BẢNG XÁC ĐỊNH KHỐI LƯỢNG BỔ SUNG
A3: STT | B3: Tên công việc | C3: Đơn vị | D3: Khối lượng | G3: Ghi chú
D4: Dự toán | E4: Thực tế | F4: Chênh lệch
A5: 1 | B5: thép Bản đáy cống và tường cống (xem lại)
B6: số lượng cừ bản nhựa cống Lồ Ô thiếu 2 thanh cừ 6m
B7: sắt + bê tông tường chắn phía sông cống cầu Miễu (-1,70 vs -2,00)
B8: Mốc đồng N
B9: Cừ tràm tại vị trí cọc bê tông
B10: ống thoát nước tường cống
B11: Thiếu khối lượng bê tông bản đáy tường chắn rạch miễu
B12: thiếu cừ tràm tường cánh cầu Miễu
B13: Thiếu lan can cầu
B14: Vải địa kỹ thuật gia cố mái
B15: thiếu cừ tràm rọ đá cống lồ ồ, cầu miễu
B16: ống thoát nước mái cống

Sheet Tổng hợp phát sinh
A1: BẢNG TÍNH KHỐI LƯỢNG TĂNG GIẢM
A3: STT theo HĐ | B3: Tên công việc | C3: Đơn vị tính | D3: Khối lượng | F3: Diễn giải KL thực tế | G3: Phát sinh | I3: Ghi chú
D4: Hợp đồng | E4: Thực tế | G4: Tăng | H4: Giảm
B5: PHẦN PHÁT SINH GIẢM
B6: Cống Rạch Lồ Ô
B7: * Vân chuyển đất dư về cống Cả Quảng: cự ly 22 km
A8: 60 | B8: Vận chuyển đất bằng sà lan 400T+ tàu kéo 360Cv 1km đầu | C8: 100m3 | D8: 8.461 | H8: =+D8-E8 -> 8.461
A9: 61 | B9: Vận chuyển đất bằng sà lan 400T+ tàu kéo 360C cự ly 5km tiếp theo | C9: 100m3 | D9: 8.461 | H9: =+D9-E9 -> 8.461
A10: 62 | B10: Vận chuyển đất bằng sà lan 400T+ tàu kéo 360C 14 km | C10: 100m3 | D10: 8.461 | H10: =+D10-E10 -> 8.461
A11: 63 | B11: Vận chuyển đất bằng sà lan 400T+ tàu kéo 360C cự ly 2km | C11: 100m3 | D11: 8.461 | H11: =+D11-E11 -> 8.461
A12: 64 | B12: San đất bãi thải bằng máy ủi 110CV | C12: 100m³ | D12: 8.461 | H12: =+D12-E12 -> 8.461
B13: Cống Rạch Miễu | G13: =+E13-D13 -> 0 | H13: =+D13-E13 -> 0
A14: 71 | B14: Vận chuyển đất bằng sà lan 400T+ tàu kéo 360Cv 1km đầu | C14: 100m3 | D14: 6.402 | H14: =+D14-E14 -> 6.402
A15: 72 | B15: Vận chuyển đất bằng sà lan 400T+ tàu kéo 360C cự ly 5km tiếp theo | C15: 100m3 | D15: 6.402 | H15: =+D15-E15 -> 6.402
A16: 73 | B16: Vận chuyển đất bằng sà lan 400T+ tàu kéo 360C 14 km | C16: 100m3 | D16: 6.402 | H16: =+D16-E16 -> 6.402
A17: 74 | B17: Vận chuyển đất bằng sà lan 400T+ tàu kéo 360C cự ly 2km | C17: 100m3 | D17: 6.402 | H17: =+D17-E17 -> 6.402
A18: 75 | B18: San đất bãi thải bằng máy ủi 110CV | C18: 100m³ | D18: 6.402 | H18: =+D18-E18 -> 6.402
B19: PHẦN PHÁT SINH TĂNG
B20: Cống Rạch Lồ Ô
B21: Phát sinh trong hợp đồng
B22: *Thân cống: | D22: 0 | F22: =+D22 -> 0 | G22: =+E22-D22 -> 0
A23: 106 | B23: Gia công cốt thép tường d<=18mm, H<=16m | C23: Tấn | D23: 8.62 | E23: =('Cốt thép tuong(Lồ Ồ) (PS)'!F66+'Cốt thép tuong(Lồ Ồ) (PS)'!F67+'Cốt thép tuong(Lồ Ồ) (PS)'!F68+'Cốt thép tuong(Lồ Ồ) (PS)'!F69)/1000 -> 8.631369 | F23: Bảng tính khối lượng thép tường cống | G23: =+E23-D23 -> 0.011369 | I23: theo bản vẽ điều chỉnh
B24: * Đóng cừ bản nhựa: | D24: 0
A25: 68 | B25: Đóng cừ bản nhựa trên cạn bằng máy đào 0,65 m3 (phần ngập đất) | C25: 100 m | D25: 1.41 | E25: =10*0.06+24*3.75/100 -> 1.5 | F25: (10 cây*6m/cây + 24 cây*3,75m)/100 | G25: =+E25-D25 -> 0.09 | I25: Dự toán thiếu
A26: 69 | B26: Đóng cừ bản nhựa trên cạn bằng máy đào 0,65 m3 (phần không ngập đất) | C26: 100 m | D26: 0.51 | E26: =24*2.25/100 -> 0.54 | F26: 24 cây *2,25m/100 | G26: =+E26-D26 -> 0.03
B27: Phát sinh ngoài hợp đồng
A28: 1 | B28: Mốc đồng N | C28: bộ | D28: 0 | E28: 1 | F28: 1 bộ | G28: =+E28-D28 -> 1 | I28: Dự toán thiếu
A29: 2 | B29: Thép tường cống liên kết bản dẫn Ø28 | C29: tấn | D29: 0 | E29: =14*0.8*4.834*2/1000 -> 0.1082816 | F29: 14 thanh*0,8m/thanh* 4,834kg/m*2bên/1000
B30: *Tấm lát, rọ đá , thảm đá: | D30: 0 | F30: 0 | G30: =ROUND(MIN(F30,D30),3) -> 0
A31: 3 | B31: Đóng cọc tràm D gốc8-10cm L=4,5m trên cạn | C31: 100 m | E31: =+(13+6.5)*2*8*3*4.5/100 -> 42.12 | F31: (13m+6,5m)*2 bên*8cây/md/hàng *3hàng*4,5m/cây/100 | G31: =+E31-D31 -> 42.12 | K31: =+(13)*2*8*3*4.5/100 -> 28.08
A32: 4 | B32: Lan can cầu | C32: toàn bộ | E32: 1 | F32: Dự toán không tính | G32: =+E32-D32 -> 1
B33: Cống Rạch Miễu | G33: =+E33-D33 -> 0
B34: *Thân cống: | D34: 0 | F34: =+D34 -> 0 | G34: =+E34-D34 -> 0
A35: 90 | B35: Gia công cốt thép tường d<=18mm, H<=16m | C35: Tấn | D35: 7.164 | E35: =('Cốt thép tuong(Rạch Miễu) (PS)'!F60+'Cốt thép tuong(Rạch Miễu) (PS)'!F61+'Cốt thép tuong(Rạch Miễu) (PS)'!F62+'Cốt thép tuong(Rạch Miễu) (PS)'!F63)/1000 -> 7.330751 | F35: Bảng tính khối lượng thép tường cống | G35: =+E35-D35 -> 0.166751 | I35: theo bản vẽ điều chỉnh
B36: *Tường cánh:
A37: 96 | B37: Bê tông bản đáy đá 1x2 M300 B>250cm đổ bằng máy bơm | C37: 1 m3 | D37: 5.14 | E37: =+E38+E39 -> 10.058655 | G37: =+E37-D37 -> 4.918655 | I37: Dự toán tính thiếu
B38: phía đồng | E38: =(6.65*(0.3+2.07)/2*0.3+2.11*0.51*0.4+0.15*0.15/2*6.65)*2 -> 5.738655 | F38: (6,65m*(0,3+2,07)m/2*0,3m + 2,11m*0,51m*0,4m + 0,15m*0,15m/2*6,65m)*2bên
B39: phía sông | E39: =3*1.8*0.4*2 -> 4.32 | F39: 3m*1,8m*0,4m*2 bên
A40: 97 | B40: Bê tông tường thẳng, Dày> 45cm Cao <= 16 m,vữa BT đá 1x2 M300 đổ bằng máy bơm | C40: 1 m3 | D40: 16.01 | E40: =+E41+E42 -> 18.1965 | G40: =+E40-D40 -> 2.1865
B41: phía đồng | E41: =(5.65*(1.3+3.6)/2*0.3 + 0.3*1.35*3.6)*2 -> 11.2215 | F41: (5,65m*(1,3+3,6)m/2*0,3m + 0,3m*1,35m*3,6m)*2bên | I41: chiều cao tường thiếu 0,3m (từ -1,70 sang -2,00)
B42: phía sông | E42: =(2.5*3*0.3+1.7*2.5/2*0.3+2.5*0.8*0.3)*2 -> 6.975 | F42: (2,5m*3m*0,3m+1,7m*2,5m/2*0,3m +2,5m*0,8m*0,3m)*2 bên
A43: 98 | B43: Trộn vữa xi măng | C43: 1m3 | D43: 21.679 | E43: =(E40+E37)*1.025 -> 28.961534 | F43: = tổng khối lượng mục số TT (96;97)*1,025 (hệ số hao hụt khi trộn BT)
A44: 100 | B44: Đóng cọc tràm D gốc8-10cm L=4,5m trên cạn | C44: 100 m | D44: 14.445 | E44: =+SUM(E45:E46) -> 30.64905 | G44: =+E44-D44 -> 16.20405 | H44: =+H58+H57 -> 0 | I44: dự toán tính thiếu
B45: phía đồng | E45: =+(6.61*0.92+1.17*1+2.11*0.46)*25*2*4.5/100 -> 18.49905 | F45: (6,61m*0,92m+1,117m*1m+2,11m*0,46m)*25cây/m2*4,5m/cây *2bên/100
B46: phía sông | E46: =+(3*1.8)*2*25*4.5/100 -> 12.15 | F46: (3m*1,8m)*2bên*25cây/m2*4,5m/cây/100
A47: 103 | B47: Gia công cốt thép bản đáy d<=18mm | C47: Tấn | D47: 0.681 | E47: =+SUM(E48:E50) -> 0.709831 | G47: =+E47-D47 -> 0.028831 | I47: theo bản vẽ điều chỉnh
E48: =+'Cthép đáy tuong canh(RM)ps'!F20/1000 -> 0.146236 | F48: Bảng tính cốt thép bản đáy cống (thép d=12mm)/1000
E49: =+'Cthép đáy tuong canh(RM)ps'!F21/1000 -> 0.157042 | F49: Bảng tính cốt thép bản đáy cống (thép d=16mm)/1000
E50: =+'Cthép đáy tuong canh(RM)ps'!F22/1000 -> 0.406553 | F50: Bảng tính cốt thép bản đáy cống (thép d=18mm)/1000
A51: 104 | B51: Gia công cốt thép tường d<=10mm, H<=4m | C51: Tấn | D51: 0.198 | E51: =+'Cthép tuong canh(RM)ps'!F20/1000 -> 0.222243 | F51: Bảng tính cốt thép tường cánh cống (thép d=10mm)/1000 | G51: =+E51-D51 -> 0.024243 | I51: chiều cao tường thiếu 0,3m (từ -1,70 sang -2,00)
A52: 105 | B52: Gia công cốt thép tường d<=18mm, H<=4m | C52: Tấn | D52: 1.056 | E52: =+SUM(E53:E55) -> 1.199467 | G52: =+E52-D52 -> 0.143467 | I52: chiều cao tường thiếu 0,3m (từ -1,70 sang -2,00)
E53: =+'Cthép tuong canh(RM)ps'!F21/1000 -> 0.544947 | F53: Bảng tính cốt thép tường cánh (thép d=12mm)/1000
E54: =+'Cthép tuong canh(RM)ps'!F22/1000 -> 0.198576 | F54: Bảng tính cốt thép tường cánh (thép d=16mm)/1000
E55: =+'Cthép tuong canh(RM)ps'!F23/1000 -> 0.455944 | F55: Bảng tính cốt thép tường cánh (thép d=18mm)/1000
A56: 107 | B56: SXLD, tháo dỡ ván khuôn thép tường | C56: 100m2 | D56: 1.076 | E56: =+SUM(E57:E58) -> 1.2326 | G56: =+E56-D56 -> 0.1566 | I56: chiều cao tường thiếu 0,3m (từ -1,70 sang -2,00)
B57: phía đồng | E57: =((5.5*(1.3+3.6)/2 + 1.5*3.6)*2+1.3*0.3)*2/100 -> 0.7628 | F57: ((5,5m*(1,3+3,6)m/2 + 1,5m*3,6m)*2mặt + 1,3m*0,3m)*2bên
B58: phía sông | E58: =((2.5*3+1.7*2.5/2+2.5*0.8)*2+0.8*0.3)*2/100 -> 0.4698 | F58: ((2,5m*3m+1,7m*2,5m/2 +2,5m*0,8m)*2mặt+0,8m*0,3m)*2 bên
B59: *Tấm lát, rọ đá , thảm đá: | D59: 0 | F59: 0 | G59: =ROUND(MIN(F59,D59),3) -> 0
A60: 161 | B60: Lắp đặt rọ đá 2.0x1.0x0.5m dưới nước | C60: 1 rọ | D60: 14 | E60: =2*12 -> 24 | F60: 12 rọ/bên*2bên | G60: =+E60-D60 -> 10 | I60: Dự toán tính thiếu
A61: 169 | B61: Đóng cọc tràm D gốc8-10cm L=4,5m dưới nước | C61: 100 m | D61: 12.555 | E61: =+(13+2)*2*8*3*4.5/100 -> 32.4 | F61: (13m+2m)*2 bên*8cây/md/hàng *3hàng*4,5m/cây/100 | G61: =+E61-D61 -> 19.845 | I61: Dự toán tính thiếu
B62: Phát sinh ngoài hợp đồng
A63: 1 | B63: Mốc đồng N | C63: bộ | D63: 0 | E63: 1 | F63: 1 bộ | G63: =+E63-D63 -> 1
A64: 2 | B64: Thép tường cống liên kết bản dẫn Ø28 | C64: tấn | D64: 0 | E64: =12*0.8*4.834*2/1000 -> 0.0928128 | F64: 12 thanh*0,8m/thanh* 4,834kg/m*2bên/1000 | G64: =+E64-D64 -> 0.0928128
A65: 3 | B65: Lan can cầu | C65: toàn bộ | E65: 1 | F65: Dự toán không tính | G65: =+E65-D65 -> 1

Sheet Cốt thép tuong(Rạch Miễu) (PS)
A1: BẢNG TÍNH CỐT THÉP TƯỜNG CỐNG
F2: (Cống Rạch Miễu)
A4: Cấu kiện | B4: Số hiệu | C4: ĐK (mm) | D4: Số cấu kiện | E4: Số thanh | G4: Chiều dài (m) | I4: Trọng lượng riêng (kg/m) | J4: Khối lượng (kg)
E5: 01 CK | F5: Toàn bộ | G5: 01 thanh | H5: Toàn bộ
A6: TƯỜNG CỐNG | B6: 19 | C6: 18 | D6: 1 | E6: 4 | F6: =D6*E6 -> 4 | G6: 5 | H6: =ROUND(F6*G6,3) -> 20 | I6: =ROUND(3.1416*(C6/1000)^2/4*7850*1,3) -> 1.998 | J6: =ROUND(H6*I6,3) -> 39.96
B7: =+B6+1 -> 20 | C7: 18 | D7: 1 | E7: 6 | F7: =D7*E7 -> 6 | G7: 4.93 | H7: =ROUND(F7*G7,3) -> 29.58 | I7: =ROUND(3.1416*(C7/1000)^2/4*7850*1,3) -> 1.998 | J7: =ROUND(H7*I7,3) -> 59.101
B8: =+B7+1 -> 21 | C8: 18 | D8: 1 | E8: 30 | F8: =D8*E8 -> 30 | G8: 5.5 | H8: =ROUND(F8*G8,3) -> 165 | I8: =ROUND(3.1416*(C8/1000)^2/4*7850*1,3) -> 1.998 | J8: =ROUND(H8*I8,3) -> 329.67
B9: =+B8+1 -> 22 | C9: 18 | D9: 1 | E9: 75 | F9: =D9*E9 -> 75 | G9: 6.2 | H9: =ROUND(F9*G9,3) -> 465 | I9: =ROUND(3.1416*(C9/1000)^2/4*7850*1,3) -> 1.998 | J9: =ROUND(H9*I9,3) -> 929.07
B10: 22a | C10: 18 | D10: 1 | E10: 6 | F10: =D10*E10 -> 6 | G10: 5.95 | H10: =ROUND(F10*G10,3) -> 35.7 | I10: =ROUND(3.1416*(C10/1000)^2/4*7850*1,3) -> 1.998 | J10: =ROUND(H10*I10,3) -> 71.329
B11: 22b | C11: 18 | D11: 1 | E11: 38 | F11: =D11*E11 -> 38 | G11: 5.7 | H11: =ROUND(F11*G11,3) -> 216.6 | I11: =ROUND(3.1416*(C11/1000)^2/4*7850*1,3) -> 1.998 | J11: =ROUND(H11*I11,3) -> 432.767
B12: 23 | C12: 18 | D12: 1 | E12: 27 | F12: =D12*E12 -> 27 | G12: 4.52 | H12: =ROUND(F12*G12,3) -> 122.04 | I12: =ROUND(3.1416*(C12/1000)^2/4*7850*1,3) -> 1.998 | J12: =ROUND(H12*I12,3) -> 243.836
B13: =+B12+1 -> 24 | C13: 18 | D13: 1 | E13: 4 | F13: =D13*E13 -> 4 | G13: 3.88 | H13: =ROUND(F13*G13,3) -> 15.52 | I13: =ROUND(3.1416*(C13/1000)^2/4*7850*1,3) -> 1.998 | J13: =ROUND(H13*I13,3) -> 31.009
B14: =+B13+1 -> 25 | C14: 18 | D14: 1 | E14: 20 | F14: =D14*E14 -> 20 | G14: 3.9 | H14: =ROUND(F14*G14,3) -> 78 | I14: =ROUND(3.1416*(C14/1000)^2/4*7850*1,3) -> 1.998 | J14: =ROUND(H14*I14,3) -> 155.844
B15: =+B14+1 -> 26 | C15: 14 | D15: 1 | E15: =7 -> 7 | F15: =D15*E15 -> 7 | G15: 10.37 | H15: =ROUND(F15*G15,3) -> 72.59 | I15: =ROUND(3.1416*(C15/1000)^2/4*7850*1,3) -> 1.208 | J15: =ROUND(H15*I15,3) -> 87.689 | K15: =1.66/0.2 -> 8.3
B16: =+B15+1 -> 27 | C16: 14 | D16: 1 | E16: =19 -> 19 | F16: =D16*E16 -> 19 | G16: 12.79 | H16: =ROUND(F16*G16,3) -> 243.01 | I16: =ROUND(3.1416*(C16/1000)^2/4*7850*1,3) -> 1.208 | J16: =ROUND(H16*I16,3) -> 293.556 | K16: =3.6/0.2 -> 18
B17: 27a | C17: 14 | D17: 1 | E17: =24 -> 24 | F17: =D17*E17 -> 24 | G17: 2.84 | H17: =ROUND(F17*G17,3) -> 68.16 | I17: =ROUND(3.1416*(C17/1000)^2/4*7850*1,3) -> 1.208 | J17: =ROUND(H17*I17,3) -> 82.337 | K17: =4.7/0.2 -> 23.5
B18: 27b | C18: 14 | D18: 1 | E18: =24 -> 24 | F18: =D18*E18 -> 24 | G18: 2.05 | H18: =ROUND(F18*G18,3) -> 49.2 | I18: =ROUND(3.1416*(C18/1000)^2/4*7850*1,3) -> 1.208 | J18: =ROUND(H18*I18,3) -> 59.434
B19: 30 | C19: 14 | D19: 1 | E19: =9 -> 9 | F19: =D19*E19 -> 9 | G19: 1.89 | H19: =ROUND(F19*G19,3) -> 17.01 | I19: =ROUND(3.1416*(C19/1000)^2/4*7850*1,3) -> 1.208 | J19: =ROUND(H19*I19,3) -> 20.548
B20: =+B19+1 -> 31 | C20: 18 | D20: 1 | E20: =13 -> 13 | F20: =D20*E20 -> 13 | G20: 4.85 | H20: =ROUND(F20*G20,3) -> 63.05 | I20: =ROUND(3.1416*(C20/1000)^2/4*7850*1,3) -> 1.998 | J20: =ROUND(H20*I20,3) -> 125.974
B21: 33 | C21: 18 | D21: 1 | E21: 38 | F21: =D21*E21 -> 38 | G21: 2.6 | H21: =ROUND(F21*G21,3) -> 98.8 | I21: =ROUND(3.1416*(C21/1000)^2/4*7850*1,3) -> 1.998 | J21: =ROUND(H21*I21,3) -> 197.402 | K21: =3.6/0.2 -> 18
B22: =+B21+1 -> 34 | C22: 12 | D22: 1 | E22: 4 | F22: =D22*E22 -> 4 | G22: 13.02 | H22: =ROUND(F22*G22,3) -> 52.08 | I22: =ROUND(3.1416*(C22/1000)^2/4*7850*1,3) -> 0.888 | J22: =ROUND(H22*I22,3) -> 46.247
B23: =+B22+1 -> 35 | C23: 12 | D23: 1 | E23: 2 | F23: =D23*E23 -> 2 | G23: 3.65 | H23: =ROUND(F23*G23,3) -> 7.3 | I23: =ROUND(3.1416*(C23/1000)^2/4*7850*1,3) -> 0.888 | J23: =ROUND(H23*I23,3) -> 6.482
B24: =+B23+1 -> 36 | C24: 16 | D24: 1 | E24: 4 | F24: =D24*E24 -> 4 | G24: 4.4 | H24: =ROUND(F24*G24,3) -> 17.6 | I24: =ROUND(3.1416*(C24/1000)^2/4*7850*1,3) -> 1.578 | J24: =ROUND(H24*I24,3) -> 27.773
B25: =+B24+1 -> 37 | C25: 16 | D25: 1 | E25: 6 | F25: =D25*E25 -> 6 | G25: 4.33 | H25: =ROUND(F25*G25,3) -> 25.98 | I25: =ROUND(3.1416*(C25/1000)^2/4*7850*1,3) -> 1.578 | J25: =ROUND(H25*I25,3) -> 40.996
B26: =+B25+1 -> 38 | C26: 16 | D26: 1 | E26: 29 | F26: =D26*E26 -> 29 | G26: 4.9 | H26: =ROUND(F26*G26,3) -> 142.1 | I26: =ROUND(3.1416*(C26/1000)^2/4*7850*1,3) -> 1.578 | J26: =ROUND(H26*I26,3) -> 224.234
B27: 39 | C27: 16 | D27: 1 | E27: 73 | F27: =D27*E27 -> 73 | G27: 5.6 | H27: =ROUND(F27*G27,3) -> 408.8 | I27: =ROUND(3.1416*(C27/1000)^2/4*7850*1,3) -> 1.578 | J27: =ROUND(H27*I27,3) -> 645.086
B28: 39a | C28: 16 | D28: 1 | E28: 7 | F28: =D28*E28 -> 7 | G28: 5.37 | H28: =ROUND(F28*G28,3) -> 37.59 | I28: =ROUND(3.1416*(C28/1000)^2/4*7850*1,3) -> 1.578 | J28: =ROUND(H28*I28,3) -> 59.317
B29: 39b | C29: 16 | D29: 1 | E29: 42 | F29: =D29*E29 -> 42 | G29: 5.1 | H29: =ROUND(F29*G29,3) -> 214.2 | I29: =ROUND(3.1416*(C29/1000)^2/4*7850*1,3) -> 1.578 | J29: =ROUND(H29*I29,3) -> 338.008
B30: 40 | C30: 16 | D30: 1 | E30: 27 | F30: =D30*E30 -> 27 | G30: 3.92 | H30: =ROUND(F30*G30,3) -> 105.84 | I30: =ROUND(3.1416*(C30/1000)^2/4*7850*1,3) -> 1.578 | J30: =ROUND(H30*I30,3) -> 167.016
B31: =+B30+1 -> 41 | C31: 16 | D31: 1 | E31: 4 | F31: =D31*E31 -> 4 | G31: 3.28 | H31: =ROUND(F31*G31,3) -> 13.12 | I31: =ROUND(3.1416*(C31/1000)^2/4*7850*1,3) -> 1.578 | J31: =ROUND(H31*I31,3) -> 20.703
B32: =+B31+1 -> 42 | C32: 16 | D32: 1 | E32: 23 | F32: =D32*E32 -> 23 | G32: 3.3 | H32: =ROUND(F32*G32,3) -> 75.9 | I32: =ROUND(3.1416*(C32/1000)^2/4*7850*1,3) -> 1.578 | J32: =ROUND(H32*I32,3) -> 119.77
B33: =+B32+1 -> 43 | C33: 12 | D33: 1 | E33: 7 | F33: =D33*E33 -> 7 | G33: 10.77 | H33: =ROUND(F33*G33,3) -> 75.39 | I33: =ROUND(3.1416*(C33/1000)^2/4*7850*1,3) -> 0.888 | J33: =ROUND(H33*I33,3) -> 66.946
B34: =+B33+1 -> 44 | C34: 12 | D34: 1 | E34: 36 | F34: =D34*E34 -> 36 | G34: 13.09 | H34: =ROUND(F34*G34,3) -> 471.24 | I34: =ROUND(3.1416*(C34/1000)^2/4*7850*1,3) -> 0.888 | J34: =ROUND(H34*I34,3) -> 418.461
B35: =+B34+1 -> 45 | C35: 12 | D35: 1 | E35: 48 | F35: =D35*E35 -> 48 | G35: 1.85 | H35: =ROUND(F35*G35,3) -> 88.8 | I35: =ROUND(3.1416*(C35/1000)^2/4*7850*1,3) -> 0.888 | J35: =ROUND(H35*I35,3) -> 78.854
B36: =+B35+1 -> 46 | C36: 12 | D36: 1 | E36: 48 | F36: =D36*E36 -> 48 | G36: 1.46 | H36: =ROUND(F36*G36,3) -> 70.08 | I36: =ROUND(3.1416*(C36/1000)^2/4*7850*1,3) -> 0.888 | J36: =ROUND(H36*I36,3) -> 62.231
B37: =+B36+1 -> 47 | C37: 12 | D37: 1 | E37: 2 | F37: =D37*E37 -> 2 | G37: 2 | H37: =ROUND(F37*G37,3) -> 4 | I37: =ROUND(3.1416*(C37/1000)^2/4*7850*1,3) -> 0.888 | J37: =ROUND(H37*I37,3) -> 3.552
B38: =+B37+1 -> 48 | C38: 12 | D38: 1 | E38: 10 | F38: =D38*E38 -> 10 | G38: 3.34 | H38: =ROUND(F38*G38,3) -> 33.4 | I38: =ROUND(3.1416*(C38/1000)^2/4*7850*1,3) -> 0.888 | J38: =ROUND(H38*I38,3) -> 29.659
B39: =+B38+1 -> 49 | C39: 12 | D39: 1 | E39: 11 | F39: =D39*E39 -> 11 | G39: 6.94 | H39: =ROUND(F39*G39,3) -> 76.34 | I39: =ROUND(3.1416*(C39/1000)^2/4*7850*1,3) -> 0.888 | J39: =ROUND(H39*I39,3) -> 67.79
B40: =+B39+1 -> 50 | C40: 14 | D40: 1 | E40: 19 | F40: =D40*E40 -> 19 | G40: 13.2 | H40: =ROUND(F40*G40,3) -> 250.8 | I40: =ROUND(3.1416*(C40/1000)^2/4*7850*1,3) -> 1.208 | J40: =ROUND(H40*I40,3) -> 302.966
B41: 50a | C41: 14 | D41: 1 | E41: 24 | F41: =D41*E41 -> 24 | G41: 2.84 | H41: =ROUND(F41*G41,3) -> 68.16 | I41: =ROUND(3.1416*(C41/1000)^2/4*7850*1,3) -> 1.208 | J41: =ROUND(H41*I41,3) -> 82.337
B42: 50b | C42: 14 | D42: 1 | E42: 24 | F42: =D42*E42 -> 24 | G42: 2.92 | H42: =ROUND(F42*G42,3) -> 70.08 | I42: =ROUND(3.1416*(C42/1000)^2/4*7850*1,3) -> 1.208 | J42: =ROUND(H42*I42,3) -> 84.657
B43: =+B40+1 -> 51 | C43: 14 | D43: 1 | E43: 7 | F43: =D43*E43 -> 7 | G43: 10.98 | H43: =ROUND(F43*G43,3) -> 76.86 | I43: =ROUND(3.1416*(C43/1000)^2/4*7850*1,3) -> 1.208 | J43: =ROUND(H43*I43,3) -> 92.847
B44: 53 | C44: 14 | D44: 1 | E44: 9 | F44: =D44*E44 -> 9 | G44: 2.55 | H44: =ROUND(F44*G44,3) -> 22.95 | I44: =ROUND(3.1416*(C44/1000)^2/4*7850*1,3) -> 1.208 | J44: =ROUND(H44*I44,3) -> 27.724
B45: 54 | C45: 18 | D45: 1 | E45: 13 | F45: =D45*E45 -> 13 | G45: 5.77 | H45: =ROUND(F45*G45,3) -> 75.01 | I45: =ROUND(3.1416*(C45/1000)^2/4*7850*1,3) -> 1.998 | J45: =ROUND(H45*I45,3) -> 149.87
B46: =+B45+1 -> 55 | C46: 12 | D46: 1 | E46: 2 | F46: =D46*E46 -> 2 | G46: 4.2 | H46: =ROUND(F46*G46,3) -> 8.4 | I46: =ROUND(3.1416*(C46/1000)^2/4*7850*1,3) -> 0.888 | J46: =ROUND(H46*I46,3) -> 7.459
B47: =+B46+1 -> 56 | C47: 12 | D47: 1 | E47: 7 | F47: =D47*E47 -> 7 | G47: 10.53 | H47: =ROUND(F47*G47,3) -> 73.71 | I47: =ROUND(3.1416*(C47/1000)^2/4*7850*1,3) -> 0.888 | J47: =ROUND(H47*I47,3) -> 65.454
B48: =+B47+1 -> 57 | C48: 12 | D48: 1 | E48: 2 | F48: =D48*E48 -> 2 | G48: 2.87 | H48: =ROUND(F48*G48,3) -> 5.74 | I48: =ROUND(3.1416*(C48/1000)^2/4*7850*1,3) -> 0.888 | J48: =ROUND(H48*I48,3) -> 5.097
B49: =+B48+1 -> 58 | C49: 12 | D49: 1 | E49: 10 | F49: =D49*E49 -> 10 | G49: 4.49 | H49: =ROUND(F49*G49,3) -> 44.9 | I49: =ROUND(3.1416*(C49/1000)^2/4*7850*1,3) -> 0.888 | J49: =ROUND(H49*I49,3) -> 39.871
B50: =+B49+1 -> 59 | C50: 12 | D50: 1 | E50: 11 | F50: =D50*E50 -> 11 | G50: 8.45 | H50: =ROUND(F50*G50,3) -> 92.95 | I50: =ROUND(3.1416*(C50/1000)^2/4*7850*1,3) -> 0.888 | J50: =ROUND(H50*I50,3) -> 82.54
B51: 61 | C51: 12 | D51: 1 | E51: 113 | F51: =D51*E51 -> 113 | G51: 1.38 | H51: =ROUND(F51*G51,3) -> 155.94 | I51: =ROUND(3.1416*(C51/1000)^2/4*7850*1,3) -> 0.888 | J51: =ROUND(H51*I51,3) -> 138.475
B52: =+B51+1 -> 62 | C52: 12 | D52: 1 | E52: 198 | F52: =D52*E52 -> 198 | G52: 1 | H52: =ROUND(F52*G52,3) -> 198 | I52: =ROUND(3.1416*(C52/1000)^2/4*7850*1,3) -> 0.888 | J52: =ROUND(H52*I52,3) -> 175.824
B53: =+B52+1 -> 63 | C53: 12 | D53: 1 | E53: 74 | F53: =D53*E53 -> 74 | G53: 1.18 | H53: =ROUND(F53*G53,3) -> 87.32 | I53: =ROUND(3.1416*(C53/1000)^2/4*7850*1,3) -> 0.888 | J53: =ROUND(H53*I53,3) -> 77.54
B54: =+B53+1 -> 64 | C54: 18 | D54: 1 | E54: 64 | F54: =D54*E54 -> 64 | G54: 1.93 | H54: =ROUND(F54*G54,3) -> 123.52 | I54: =ROUND(3.1416*(C54/1000)^2/4*7850*1,3) -> 1.998 | J54: =ROUND(H54*I54,3) -> 246.793
B55: =+B54+1 -> 65 | C55: 12 | D55: 1 | E55: 6 | F55: =D55*E55 -> 6 | G55: 6.11 | H55: =ROUND(F55*G55,3) -> 36.66 | I55: =ROUND(3.1416*(C55/1000)^2/4*7850*1,3) -> 0.888 | J55: =ROUND(H55*I55,3) -> 32.554
A56: TƯỜNG CỪ | B56: 68 | C56: 16 | D56: 1 | E56: 12 | F56: =D56*E56 -> 12 | G56: 2.9 | H56: =ROUND(F56*G56,3) -> 34.8 | I56: =I29 -> 1.578 | J56: =ROUND(H56*I56,3) -> 54.914
B57: 69 | C57: 14 | D57: 1 | E57: 64 | F57: =D57*E57 -> 64 | G57: 1.05 | H57: =ROUND(F57*G57,3) -> 67.2 | I57: =ROUND(3.1416*(C57/1000)^2/4*7850*1,3) -> 1.208 | J57: =ROUND(H57*I57,3) -> 81.178
B59: 1/. Tổng hợp cốt thép:
B60: + Cốt thép D=12mm: | F60: =SUMIF($C$6:$C$57,12,$J$6:$J$57) -> 1405.036 | G60: kg
B61: + Cốt thép D=14mm: | F61: =SUMIF($C$6:$C$57,14,$J$6:$J$57) -> 1215.273 | G61: kg
B62: + Cốt thép D=16mm: | F62: =SUMIF($C$6:$C$57,16,$J$6:$J$57) -> 1697.817 | G62: kg
B63: + Cốt thép D=18mm: | F63: =SUMIF($C$6:$C$57,18,$J$6:$J$57) -> 3012.625 | G63: kg
D65: GIÁM SÁT THI CÔNG XÂY DỰNG TRỰC TIẾP | I65: KỸ THUẬT TC XD TRỰC TIẾP
D70: Lê Văn Lộc | I70: Hồ Phước Hải

Sheet Cốt thép tuong(Lồ Ồ) (PS)
A1: BẢNG TÍNH CỐT THÉP CỌC TƯỜNG CHẮN
F2: (Cống Lồ Ồ)
A4: Cấu kiện | B4: Số hiệu | C4: ĐK (mm) | D4: Số cấu kiện | E4: Số thanh | G4: Chiều dài (m) | I4: Trọng lượng riêng (kg/m) | J4: Khối lượng (kg)
E5: 01 CK | F5: Toàn bộ | G5: 01 thanh | H5: Toàn bộ
A6: TƯỜNG CỐNG | B6: 19 | C6: 18 | D6: 1 | E6: 4 | F6: =D6*E6 -> 4 | G6: 5 | H6: =ROUND(F6*G6,3) -> 20 | I6: =ROUND(3.1416*(C6/1000)^2/4*7850*1,3) -> 1.998 | J6: =ROUND(H6*I6,3) -> 39.96 | K6: 4 | L6: 500
B7: =+B6+1 -> 20 | C7: 18 | D7: =+D6 -> 1 | E7: 4 | F7: =D7*E7 -> 4 | G7: 4.91 | H7: =ROUND(F7*G7,3) -> 19.64 | I7: =ROUND(3.1416*(C7/1000)^2/4*7850*1,3) -> 1.998 | J7: =ROUND(H7*I7,3) -> 39.241 | K7: 4 | L7: 491
B8: =+B7+1 -> 21 | C8: 18 | D8: =+D7 -> 1 | E8: 40 | F8: =D8*E8 -> 40 | G8: 5.465 | H8: =ROUND(F8*G8,3) -> 218.6 | I8: =ROUND(3.1416*(C8/1000)^2/4*7850*1,3) -> 1.998 | J8: =ROUND(H8*I8,3) -> 436.763 | K8: 40 | L8: 546.5
B9: =+B8+1 -> 22 | C9: 18 | D9: =+D8 -> 1 | E9: 81 | F9: =D9*E9 -> 81 | G9: 6.2 | H9: =ROUND(F9*G9,3) -> 502.2 | I9: =ROUND(3.1416*(C9/1000)^2/4*7850*1,3) -> 1.998 | J9: =ROUND(H9*I9,3) -> 1003.396 | K9: 81 | L9: 620
B10: =+B9+1 -> 23 | C10: 18 | D10: =+D9 -> 1 | E10: 8 | F10: =D10*E10 -> 8 | G10: 6.11 | H10: =ROUND(F10*G10,3) -> 48.88 | I10: =ROUND(3.1416*(C10/1000)^2/4*7850*1,3) -> 1.998 | J10: =ROUND(H10*I10,3) -> 97.662 | K10: 4 | L10: 608
B11: 23a | C11: 18 | D11: =+D10 -> 1 | E11: 40 | F11: =D11*E11 -> 40 | G11: 5.7 | H11: =ROUND(F11*G11,3) -> 228 | I11: =ROUND(3.1416*(C11/1000)^2/4*7850*1,3) -> 1.998 | J11: =ROUND(H11*I11,3) -> 455.544 | K11: 44 | L11: 600
B12: =+B10+1 -> 24 | C12: 18 | D12: =+D11 -> 1 | E12: 31 | F12: =D12*E12 -> 31 | G12: 4.485 | H12: =ROUND(F12*G12,3) -> 139.035 | I12: =ROUND(3.1416*(C12/1000)^2/4*7850*1,3) -> 1.998 | J12: =ROUND(H12*I12,3) -> 277.792 | K12: 31 | L12: 448.5
B13: =+B12+1 -> 25 | C13: 18 | D13: =+D12 -> 1 | E13: 4 | F13: =D13*E13 -> 4 | G13: 3.855 | H13: =ROUND(F13*G13,3) -> 15.42 | I13: =ROUND(3.1416*(C13/1000)^2/4*7850*1,3) -> 1.998 | J13: =ROUND(H13*I13,3) -> 30.809 | K13: 4 | L13: 385.5
B14: =+B13+1 -> 26 | C14: 18 | D14: =+D13 -> 1 | E14: 12 | F14: =D14*E14 -> 12 | G14: 3.9 | H14: =ROUND(F14*G14,3) -> 46.8 | I14: =ROUND(3.1416*(C14/1000)^2/4*7850*1,3) -> 1.998 | J14: =ROUND(H14*I14,3) -> 93.506 | K14: 12 | L14: 390
B15: =+B14+1 -> 27 | C15: 14 | D15: =+D14 -> 1 | E15: 5 | F15: =D15*E15 -> 5 | G15: 19.63 | H15: =ROUND(F15*G15,3) -> 98.15 | I15: =ROUND(3.1416*(C15/1000)^2/4*7850*1,3) -> 1.208 | J15: =ROUND(H15*I15,3) -> 118.565 | K15: 7 | L15: 1870.5
B16: 27a | C16: 14 | D16: =+D15 -> 1 | E16: 2 | F16: =D16*E16 -> 2 | G16: 8.94 | H16: =ROUND(F16*G16,3) -> 17.88 | I16: =ROUND(3.1416*(C16/1000)^2/4*7850*1,3) -> 1.208 | J16: =ROUND(H16*I16,3) -> 21.599 | L16: 1870.5
B17: =+B15+1 -> 28 | C17: 14 | D17: =+D15 -> 1 | E17: 18 | F17: =D17*E17 -> 18 | G17: 17.43 | H17: =ROUND(F17*G17,3) -> 313.74 | I17: =ROUND(3.1416*(C17/1000)^2/4*7850*1,3) -> 1.208 | J17: =ROUND(H17*I17,3) -> 378.998 | K17: 18 | L17: 1743
B18: =+B17+1 -> 29 | C18: 14 | D18: =+D17 -> 1 | E18: 9 | F18: =D18*E18 -> 9 | G18: 2.44 | H18: =ROUND(F18*G18,3) -> 21.96 | I18: =ROUND(3.1416*(C18/1000)^2/4*7850*1,3) -> 1.208 | J18: =ROUND(H18*I18,3) -> 26.528 | K18: 9 | L18: 244
B19: =+B18+1 -> 30 | C19: 18 | D19: =+D18 -> 1 | E19: 13 | F19: =D19*E19 -> 13 | G19: 4.01 | H19: =ROUND(F19*G19,3) -> 52.13 | I19: =ROUND(3.1416*(C19/1000)^2/4*7850*1,3) -> 1.998 | J19: =ROUND(H19*I19,3) -> 104.156 | K19: 13 | L19: 401
B20: =+B19+1 -> 31 | C20: 18 | D20: =+D19 -> 1 | E20: 13 | F20: =D20*E20 -> 13 | G20: 2.23 | H20: =ROUND(F20*G20,3) -> 28.99 | I20: =ROUND(3.1416*(C20/1000)^2/4*7850*1,3) -> 1.998 | J20: =ROUND(H20*I20,3) -> 57.922 | K20: 13 | L20: 223
B21: =+B20+1 -> 32 | C21: 18 | D21: =+D20 -> 1 | E21: 19 | F21: =D21*E21 -> 19 | G21: 2.95 | H21: =ROUND(F21*G21,3) -> 56.05 | I21: =ROUND(3.1416*(C21/1000)^2/4*7850*1,3) -> 1.998 | J21: =ROUND(H21*I21,3) -> 111.988 | K21: 19 | L21: 295
B22: =+B21+1 -> 33 | C22: 12 | D22: =+D21 -> 1 | E22: 2 | F22: =D22*E22 -> 2 | G22: 13.845 | H22: =ROUND(F22*G22,3) -> 27.69 | I22: =ROUND(3.1416*(C22/1000)^2/4*7850*1,3) -> 0.888 | J22: =ROUND(H22*I22,3) -> 24.589 | K22: 2 | L22: 1309.5
B23: =+B22+1 -> 34 | C23: 12 | D23: =+D22 -> 1 | E23: 2 | F23: =D23*E23 -> 2 | G23: 3.75 | H23: =ROUND(F23*G23,3) -> 7.5 | I23: =ROUND(3.1416*(C23/1000)^2/4*7850*1,3) -> 0.888 | J23: =ROUND(H23*I23,3) -> 6.66 | K23: 2 | L23: 375
B24: =+B23+1 -> 35 | C24: 16 | D24: =+D23 -> 1 | E24: 4 | F24: =D24*E24 -> 4 | G24: 4.4 | H24: =ROUND(F24*G24,3) -> 17.6 | I24: =ROUND(3.1416*(C24/1000)^2/4*7850*1,3) -> 1.578 | J24: =ROUND(H24*I24,3) -> 27.773 | K24: 2 | L24: 440
B25: =+B24+1 -> 36 | C25: 16 | D25: =+D24 -> 1 | E25: 4 | F25: =D25*E25 -> 4 | G25: 4.31 | H25: =ROUND(F25*G25,3) -> 17.24 | I25: =ROUND(3.1416*(C25/1000)^2/4*7850*1,3) -> 1.578 | J25: =ROUND(H25*I25,3) -> 27.205 | K25: 4 | L25: 431
B26: =+B25+1 -> 37 | C26: 16 | D26: =+D25 -> 1 | E26: 40 | F26: =D26*E26 -> 40 | G26: 4.86 | H26: =ROUND(F26*G26,3) -> 194.4 | I26: =ROUND(3.1416*(C26/1000)^2/4*7850*1,3) -> 1.578 | J26: =ROUND(H26*I26,3) -> 306.763 | K26: 40 | L26: 486
B27: =+B26+1 -> 38 | C27: 16 | D27: =+D26 -> 1 | E27: 82 | F27: =D27*E27 -> 82 | G27: 5.6 | H27: =ROUND(F27*G27,3) -> 459.2 | I27: =ROUND(3.1416*(C27/1000)^2/4*7850*1,3) -> 1.578 | J27: =ROUND(H27*I27,3) -> 724.618 | K27: 82 | L27: 560
B28: =+B27+1 -> 39 | C28: 16 | D28: =+D27 -> 1 | E28: 8 | F28: =D28*E28 -> 8 | G28: 5.45 | H28: =ROUND(F28*G28,3) -> 43.6 | I28: =ROUND(3.1416*(C28/1000)^2/4*7850*1,3) -> 1.578 | J28: =ROUND(H28*I28,3) -> 68.801 | K28: 4 | L28: 549
B29: 39a | C29: 16 | D29: =+D28 -> 1 | E29: 49 | F29: =D29*E29 -> 49 | G29: 5.1 | H29: =ROUND(F29*G29,3) -> 249.9 | I29: =ROUND(3.1416*(C29/1000)^2/4*7850*1,3) -> 1.578 | J29: =ROUND(H29*I29,3) -> 394.342 | K29: 49 | L29: 540
B30: =+B28+1 -> 40 | C30: 16 | D30: =+D29 -> 1 | E30: 31 | F30: =D30*E30 -> 31 | G30: 4.385 | H30: =ROUND(F30*G30,3) -> 135.935 | I30: =ROUND(3.1416*(C30/1000)^2/4*7850*1,3) -> 1.578 | J30: =ROUND(H30*I30,3) -> 214.505 | K30: 31 | L30: 438.5
B31: =+B30+1 -> 41 | C31: 16 | D31: =+D30 -> 1 | E31: 4 | F31: =D31*E31 -> 4 | G31: 3.215 | H31: =ROUND(F31*G31,3) -> 12.86 | I31: =ROUND(3.1416*(C31/1000)^2/4*7850*1,3) -> 1.578 | J31: =ROUND(H31*I31,3) -> 20.293 | K31: 4 | L31: 321.5
B32: =+B31+1 -> 42 | C32: 16 | D32: =+D31 -> 1 | E32: 14 | F32: =D32*E32 -> 14 | G32: 3.3 | H32: =ROUND(F32*G32,3) -> 46.2 | I32: =ROUND(3.1416*(C32/1000)^2/4*7850*1,3) -> 1.578 | J32: =ROUND(H32*I32,3) -> 72.904 | K32: 14 | L32: 330
B33: =+B32+1 -> 43 | C33: 12 | D33: =+D32 -> 1 | E33: 5 | F33: =D33*E33 -> 5 | G33: 16.68 | H33: =ROUND(F33*G33,3) -> 83.4 | I33: =ROUND(3.1416*(C33/1000)^2/4*7850*1,3) -> 0.888 | J33: =ROUND(H33*I33,3) -> 74.059 | K33: 7 | L33: 1633
B34: 43a | C34: 12 | D34: 1 | E34: 2 | F34: =D34*E34 -> 2 | G34: 16.33 | H34: =ROUND(F34*G34,3) -> 32.66 | I34: =ROUND(3.1416*(C34/1000)^2/4*7850*1,3) -> 0.888 | J34: =ROUND(H34*I34,3) -> 29.002
B35: =+B33+1 -> 44 | C35: 12 | D35: =+D33 -> 1 | E35: 18 | F35: =D35*E35 -> 18 | G35: 18.45 | H35: =ROUND(F35*G35,3) -> 332.1 | I35: =ROUND(3.1416*(C35/1000)^2/4*7850*1,3) -> 0.888 | J35: =ROUND(H35*I35,3) -> 294.905 | K35: 18 | L35: 1845
B36: =+B35+1 -> 45 | C36: 12 | D36: =+D35 -> 1 | E36: 50 | F36: =D36*E36 -> 50 | G36: 1.87 | H36: =ROUND(F36*G36,3) -> 93.5 | I36: =ROUND(3.1416*(C36/1000)^2/4*7850*1,3) -> 0.888 | J36: =ROUND(H36*I36,3) -> 83.028 | K36: 50 | L36: 187
B37: =+B36+1 -> 46 | C37: 12 | D37: =+D36 -> 1 | E37: 50 | F37: =D37*E37 -> 50 | G37: 1.26 | H37: =ROUND(F37*G37,3) -> 63 | I37: =ROUND(3.1416*(C37/1000)^2/4*7850*1,3) -> 0.888 | J37: =ROUND(H37*I37,3) -> 55.944 | K37: 50 | L37: 126
B38: =+B37+1 -> 47 | C38: 12 | D38: =+D37 -> 1 | E38: 3 | F38: =D38*E38 -> 3 | G38: 1.48 | H38: =ROUND(F38*G38,3) -> 4.44 | I38: =ROUND(3.1416*(C38/1000)^2/4*7850*1,3) -> 0.888 | J38: =ROUND(H38*I38,3) -> 3.943 | K38: 4 | L38: 148
B39: =+B38+1 -> 48 | C39: 12 | D39: =+D38 -> 1 | E39: 9 | F39: =D39*E39 -> 9 | G39: 2.91 | H39: =ROUND(F39*G39,3) -> 26.19 | I39: =ROUND(3.1416*(C39/1000)^2/4*7850*1,3) -> 0.888 | J39: =ROUND(H39*I39,3) -> 23.257 | K39: 9 | L39: 291
B40: =+B39+1 -> 49 | C40: 12 | D40: =+D39 -> 1 | E40: 12 | F40: =D40*E40 -> 12 | G40: 4.45 | H40: =ROUND(F40*G40,3) -> 53.4 | I40: =ROUND(3.1416*(C40/1000)^2/4*7850*1,3) -> 0.888 | J40: =ROUND(H40*I40,3) -> 47.419 | K40: 12 | L40: 445
B41: =+B40+1 -> 50 | C41: 14 | D41: =+D40 -> 1 | E41: 5 | F41: =D41*E41 -> 5 | G41: 20.46 | H41: =ROUND(F41*G41,3) -> 102.3 | I41: =ROUND(3.1416*(C41/1000)^2/4*7850*1,3) -> 1.208 | J41: =ROUND(H41*I41,3) -> 123.578 | K41: 7 | L41: 1994
