Workbook
Name _: NA()
Name _?????: NA()
Name ___TB1: #REF!
Name ___TB1: #REF!
Name ___TB1: #REF!
Name ___TB1: #REF!
Name ___TB1: #REF!
Name ___TB1: #REF!
Name ___TB1: #REF!
Name ___TB1: #REF!
Name __0DATA_DATA2_L: NA()
Name __TB1: #REF!
Name __TB1: #REF!
Name __TB1: #REF!
Name __TB1: #REF!
Name __TB1: #REF!
Name __TB1: #REF!
Name __TB1: #REF!
Name __TB1: #REF!
Name _hsm2: 1.1289
Name _L6: NA()
Name _T12: {"Thuxm2.xls","Sheet1"}
Name _TB1: #REF!
Name _TB1: #REF!
Name _TB1: #REF!
Name _TB1: #REF!
Name _TB1: #REF!
Name _TB1: #REF!
Name _TB1: #REF!
Name _TB1: #REF!
Name ao: NA()
Name Arrival_rate: NA()
Name ASDFfg: {"Thuxm2.xls","Sheet1"}
Name beta: 20
Name BetongM150: '[1]chiet tinh'!$B$18:$D$23,'[1]chiet tinh'!$F$18:$F$23
Name BetongM200: '[1]chiet tinh'!$B$35:$D$39,'[1]chiet tinh'!$F$35:$F$39
Name BetongM50: '[1]chiet tinh'!$B$6:$D$8,'[1]chiet tinh'!$F$6:$F$8
Name BocXep: #REF!
Name BocXep: #REF!
Name BocXep: #REF!
Name BocXep: #REF!
Name BocXep: #REF!
Name BocXep: #REF!
Name BocXep: #REF!
Name BocXep: #REF!
Name bùc: {"Book1","Dt tonghop.xls"}
Name BuGia: #REF!
Name BuGia: #REF!
Name BuGia: #REF!
Name BuGia: #REF!
Name BuGia: #REF!
Name BuGia: #REF!
Name BuGia: #REF!
Name BuGia: #REF!
Name Button_1: "FORM_Bao_cao_cong_no_List"
Name camay: [2]maythicong!$B$7:$I$154
Name Capcongtrinh: [3]HESO!#REF!
Name Capcongtrinh: [3]HESO!#REF!
Name Capcongtrinh: [3]HESO!#REF!
Name Capcongtrinh: [3]HESO!#REF!

Sheet DULIEUDAUVAO
A1: Thiết kế bởi Kỹ Sư: Nguyễn Ngọc Cầm - ĐT: 0944.280.369
A2: Công trình : | B2: Dự toán mẫu
A3: Hạng mục : | B3: Dự toán mẫu
A4: C:\Users\Administrator\Google Drive\DTC2018\DON GIA BEN TRE\DON GIA-BEN TRE-2018.xls
A5: - Cộng Vật Liệu (VL) | B5: Đồng | C5: A_Vật Liệu
A6: - Cộng Nhân Công (NC) | B6: Đồng | C6: B_Nhân Công
A7: - Cộng Máy Thi Công (XM) | B7: Đồng | C7: C_Máy Thi Công
A8: Tổng VL - NC - XM
A9: Hệ Số Nhân Công Theo Nhóm | B9: =#REF! -> #REF!
A10: Hệ Số Trượt Giá Nhân Công | B10: =#REF! -> #REF!
A11: Hệ Số Máy Thi Công Theo Nhóm
A12: Hệ Số Trượt Giá Máy Thi Công | B12: =#REF! -> #REF!
A13: Chi phí trực tiếp khác (%) | B13: =#REF! -> #REF!
A14: Chi Phí Chung (%) | B14: =#REF! -> #REF!
A15: Thu Nhập Chịu Thuế Tính Trước (%) | B15: =#REF! -> #REF!
A16: Thuế Giá Trị Gia Tăng (%) | B16: =#REF! -> #REF!
A17: Tỷ Lệ Chi Phí Xây Dựng Nhà Tạm (%) | B17: =#REF! -> #REF!
A18: MHĐG
A19: ĐVT
A20: STT | B20: DIỄN GIẢI | C20: ĐVT | D20: ĐỊNH MỨC | E20: ĐƠN GIÁ | F20: HỢP GIÁ | G20: HỆ SỐ | H20: THÀNH TIỀN
A21: Chi Phí Trực Tiếp Khác (TT)
A22: * Cộng Chi Phí Trực Tiếp (T)
A23: Chi Phí Chung (C)
A24: Thu Nhập Chịu Thuế Tính Trước (TL)
A25: * Chi Phí Xây Dựng Trước Thuế (G)
A26: Chi Phí Xây Dựng Nhà Tạm (Gxdnt)
A27: * Cộng CPXD Trước Thuế (Gxd)
A28: Thuế Giá Trị Gia Tăng (GTGT)
A29: * Cộng Đơn Giá Đấu Thầu (W)
A30: TỔNG GIÁ TRỊ DỰ THẦU :

Sheet DGXDCT_1
A1: BẢNG ĐƠN GIÁ XÂY DỰNG CHI TIẾT TẠM
A2: =DULIEUDAUVAO!A2&DULIEUDAUVAO!B2 -> Công trình :Dự toán mẫu
A3: =DULIEUDAUVAO!A3&DULIEUDAUVAO!B3 -> Hạng mục :Dự toán mẫu
A5: STT | B5: MHĐM | C5: KH | D5: TÊN CÔNG VIỆC | E5: ĐVT | F5: ĐỊNH MỨC | G5: ĐƠN GIÁ | H5: KHỐI LƯỢNG
A6: =#REF! -> #REF! | B6: * | D6: BÊ TÔNG LỘ ĐÊ | H6: =#REF! -> #REF!
A7: =#REF! -> #REF! | B7: AB.24111 | D7: Đào xúc đất mặt bờ bao | E7: 100m3 | H7: =#REF! -> #REF!
C8: 2 | D8: Công nhân XD, nhóm I - bậc 3,0/7 | E8: công | F8: 0.5 | G8: =VLOOKUP(DGXDCT_1!$D$8,#REF!,4,0) -> #REF!
C9: 3 | D9: Máy đào BX 0,4m3 | E9: ca | F9: 0.416 | G9: =VLOOKUP(DGXDCT_1!$D$9,#REF!,4,0) -> #REF!
C10: 3 | D10: Máy ủi 110cv | E10: ca | F10: 0.027 | G10: =VLOOKUP(DGXDCT_1!$D$10,#REF!,4,0) -> #REF!
A11: =#REF! -> #REF! | B11: AB.24111 | D11: Đào xúc đất đắp vị trí tránh xe | E11: 100m3 | H11: =#REF! -> #REF!
C12: 2 | D12: Công nhân XD, nhóm I - bậc 3,0/7 | E12: công | F12: 0.5 | G12: =VLOOKUP(DGXDCT_1!$D$12,#REF!,4,0) -> #REF!
C13: 3 | D13: Máy đào BX 0,4m3 | E13: ca | F13: 0.416 | G13: =VLOOKUP(DGXDCT_1!$D$13,#REF!,4,0) -> #REF!
C14: 3 | D14: Máy ủi 110cv | E14: ca | F14: 0.027 | G14: =VLOOKUP(DGXDCT_1!$D$14,#REF!,4,0) -> #REF!
A15: =#REF! -> #REF! | B15: ĐĐ.0202 | D15: Đắp bờ bao tạo thềm bằng máy đào 0,65m3 và đầm cóc 50kg, K=0,90 | E15: 100m3 | H15: =#REF! -> #REF!
C16: 2 | D16: Công nhân XD, nhóm I - bậc 3,0/7 | E16: công | F16: 1.74 | G16: =VLOOKUP(DGXDCT_1!$D$16,#REF!,4,0) -> #REF!
C17: 3 | D17: Máy đào BX 0,65m3 | E17: ca | F17: 0.415 | G17: =VLOOKUP(DGXDCT_1!$D$17,#REF!,4,0) -> #REF!
C18: 3 | D18: Máy đầm cóc | E18: ca | F18: 4.42 | G18: =VLOOKUP(DGXDCT_1!$D$18,#REF!,4,0) -> #REF!
A19: =#REF! -> #REF! | B19: AB.24111 | D19: Đào xúc đất đổ lên ô tô vận chuyển | E19: 100m3 | H19: =#REF! -> #REF!
C20: 2 | D20: Công nhân XD, nhóm I - bậc 3,0/7 | E20: công | F20: 0.5 | G20: =VLOOKUP(DGXDCT_1!$D$20,#REF!,4,0) -> #REF!
C21: 3 | D21: Máy đào BX 0,4m3 | E21: ca | F21: 0.416 | G21: =VLOOKUP(DGXDCT_1!$D$21,#REF!,4,0) -> #REF!
C22: 3 | D22: Máy ủi 110cv | E22: ca | F22: 0.027 | G22: =VLOOKUP(DGXDCT_1!$D$22,#REF!,4,0) -> #REF!
A23: =#REF! -> #REF! | B23: AB.42111/2 | D23: Vận chuyển đất 2km ô tô 5T | E23: 100m3 | H23: =#REF! -> #REF!
C24: 3 | D24: Ô tô tự đổ 5T | E24: ca | F24: 1.771 | G24: =VLOOKUP(DGXDCT_1!$D$24,#REF!,4,0) -> #REF!
A25: =#REF! -> #REF! | B25: AD.25121 | D25: Lu lèn lại mặt đường cũ, K≥0,95 | E25: 100m2 | H25: =#REF! -> #REF!
C26: 2 | D26: Công nhân XD, nhóm I - bậc 3,5/7 | E26: công | F26: 1.2 | G26: =VLOOKUP(DGXDCT_1!$D$26,#REF!,4,0) -> #REF!
C27: 3 | D27: Ô tô tưới nước 5m3 | E27: ca | F27: 0.15 | G27: =VLOOKUP(DGXDCT_1!$D$27,#REF!,4,0) -> #REF!
C28: 3 | D28: Máy đầm BH tự hành 25T | E28: ca | F28: 0.3 | G28: =VLOOKUP(DGXDCT_1!$D$28,#REF!,4,0) -> #REF!
C29: 3 | D29: Máy san tự hành 108cv | E29: ca | F29: 0.15 | G29: =VLOOKUP(DGXDCT_1!$D$29,#REF!,4,0) -> #REF!
C30: 3 | D30: MTC# | E30: % | F30: 2 | G30: =VLOOKUP(DGXDCT_1!$D$30,#REF!,4,0) -> #REF!
A31: =#REF! -> #REF! | B31: AD.11212A | D31: Trải CPĐD Dmax=37,5mm | E31: 100m3 | H31: =#REF! -> #REF!
C32: 1 | D32: CPĐD Dmax=37.5mm | E32: m3 | F32: 142 | G32: =VLOOKUP(DGXDCT_1!$D$32,#REF!,4,0) -> #REF!
C33: 2 | D33: Công nhân XD, nhóm I - bậc 4,0/7 | E33: công | F33: 3.9 | G33: =VLOOKUP(DGXDCT_1!$D$33,#REF!,4,0) -> #REF!
C34: 3 | D34: Máy ủi 110cv | E34: ca | F34: 0.42 | G34: =VLOOKUP(DGXDCT_1!$D$34,#REF!,4,0) -> #REF!
C35: 3 | D35: Máy san tự hành 108cv | E35: ca | F35: 0.08 | G35: =VLOOKUP(DGXDCT_1!$D$35,#REF!,4,0) -> #REF!
C36: 3 | D36: Máy đầm rung tự hành 25T | E36: ca | F36: 0.21 | G36: =VLOOKUP(DGXDCT_1!$D$36,#REF!,4,0) -> #REF!
C37: 3 | D37: Máy đầm BH tự hành 16T | E37: ca | F37: 0.34 | G37: =VLOOKUP(DGXDCT_1!$D$37,#REF!,4,0) -> #REF!
C38: 3 | D38: Máy đầm bánh thép tự hành 10T | E38: ca | F38: 0.21 | G38: =VLOOKUP(DGXDCT_1!$D$38,#REF!,4,0) -> #REF!
C39: 3 | D39: Ô tô tưới nước 5m3 | E39: ca | F39: 0.21 | G39: =VLOOKUP(DGXDCT_1!$D$39,#REF!,4,0) -> #REF!
C40: 3 | D40: MTC# | E40: % | F40: 0.5 | G40: =VLOOKUP(DGXDCT_1!$D$40,#REF!,4,0) -> #REF!
A41: =#REF! -> #REF! | B41: AL.16121C | D41: Trải vải nhựa lót đổ bê tông mặt đê | E41: 100m2 | H41: =#REF! -> #REF!
...

Sheet THDGDT
A1: BẢNG TỔNG HỢP ĐƠN GIÁ DỰ THẦU
A2: =#REF! -> #REF!
A3: =#REF! -> #REF!
F4: Đơn vị tính: đồng
A5: STT | B5: TÊN HẠNG MỤC CÔNG VIỆC | C5: ĐƠN VỊ | D5: KHỐI LƯỢNG | E5: ĐƠN GIÁ | F5: THÀNH TIỀN
A6: * | B6: NHẬP TÊN HẠNG MỤC CÔNG VIỆC
A7: ** | B7: NHẬP TÊN CỦA HẠNG MỤC CÔNG VIỆC
A8: =DGCTDT!A9 -> #REF! | B8: Rải vải địa kỹ thuật làm nền đường | C8: 100m2 | D8: =DGCTDT!O7 -> #REF! | E8: =DGCTDT!K24 -> #REF! | F8: =ROUND(D8*E8,0) -> #REF!
A9: =DGCTDT!A28 -> #REF! | B9: Đắp cát công trình bằng máy đầm 9T, K=0,95 | C9: 100m3 | D9: =DGCTDT!O26 -> #REF! | E9: =DGCTDT!K47 -> #REF! | F9: =ROUND(D9*E9,0) -> #REF!
A10: ** | B10: NHẬP TÊN CỦA HẠNG MỤC CÔNG VIỆC
A11: =DGCTDT!A52 -> #REF! | B11: Đóng cọc gỗ (hoặc cọc tràm) ngập đất, cọc >2,5m, đất C1 | C11: 100m | D11: =DGCTDT!O50 -> #REF! | E11: =DGCTDT!K69 -> #REF! | F11: =ROUND(D11*E11,0) -> #REF!
A12: =DGCTDT!A73 -> #REF! | B12: Rải vải địa kỹ thuật làm nền đường | C12: 100m2 | D12: =DGCTDT!O71 -> #REF! | E12: =DGCTDT!K88 -> #REF! | F12: =ROUND(D12*E12,0) -> #REF!
B13: TỔNG GIÁ TRỊ DỰ THẦU : | F13: =SUM(F6:F12) -> #REF!

Sheet DGCTDT
A1: BẢNG ĐƠN GIÁ CHI TIẾT DỰ THẦU
A2: =#REF! -> #REF!
A3: =#REF! -> #REF!
A5: * NHẬP TÊN HẠNG MỤC CÔNG VIỆC | L5: * | M5: NHẬP TÊN HẠNG MỤC CÔNG VIỆC | O5: =DGXDCT_1!#REF! -> #REF! | P5: HM
A6: ** NHẬP TÊN CỦA HẠNG MỤC CÔNG VIỆC | L6: ** | M6: NHẬP TÊN CỦA HẠNG MỤC CÔNG VIỆC | O6: =DGXDCT_1!#REF! -> #REF! | P6: HM
A7: MHĐG : AL.16121 Rải vải địa kỹ thuật làm nền đường | K7: ĐVT : 100m2 | L7: AL.16121 | M7: Rải vải địa kỹ thuật làm nền đường | N7: 100m2 | O7: =DGXDCT_1!#REF! -> #REF! | P7: A
A8: STT | B8: DIỄN GIẢI | C8: ĐVT | D8: ĐỊNH MỨC | E8: ĐƠN GIÁ | F8: HỢP GIÁ | G8: HỆ SỐ | K8: THÀNH TIỀN | P8: B
A9: =DGXDCT_1!#REF! -> #REF! | B9: A_Vật Liệu | P9: 1
B10: Vải địa kỹ thuật | C10: m2 | D10: 110 | E10: =VLOOKUP(DGCTDT!$B$10,#REF!,4,0) -> #REF! | F10: =ROUND(D10*E10,0) -> #REF! | P10: 1
B11: VL# | C11: % | D11: 0.2 | E11: =SUM(F10:F10) -> #REF! | F11: =ROUND(D11*E11/100,0) -> #REF! | P11: 1
B12: - Cộng Vật Liệu (VL) | C12: Đồng | F12: =SUM(F10:F11) -> #REF! | K12: =F12 -> #REF! | P12: VL
B13: B_Nhân Công | P13: 2
B14: Nhân công 3,5/7 | C14: công | D14: 1.18 | E14: =VLOOKUP(DGCTDT!$B$14,#REF!,4,0) -> #REF! | F14: =ROUND(D14*E14,0) -> #REF! | P14: 2
B15: - Cộng Nhân Công (NC) | C15: Đồng | F15: =SUM(F14:F14) -> #REF! | G15: * | H15: =DULIEUDAUVAO!B10 -> #REF! | I15: * | J15: =DULIEUDAUVAO!B9 -> #REF! | K15: =ROUND(F15*H15*J15,0) -> #REF! | P15: NC
B16: Chi Phí Trực Tiếp Khác (TT) | C16: Đồng | D16: (VL+NC+XM) | G16: * | H16: =DULIEUDAUVAO!B13 -> #REF! | I16: % | K16: =ROUND((K12+K15)*H16/100,0) -> #REF! | P16: TT
B17: * Cộng Chi Phí Trực Tiếp (T) | C17: Đồng | D17: (VL+NC+XM+TT) | K17: =K12+K15+K16 -> #REF! | P17: T
B18: Chi Phí Chung (C) | C18: Đồng | D18: T | G18: * | H18: =DULIEUDAUVAO!B14 -> #REF! | I18: % | K18: =ROUND(K17*H18/100,0) -> #REF! | P18: C
B19: Thu Nhập Chịu Thuế Tính Trước (TL) | C19: Đồng | D19: (T+C) | G19: * | H19: =DULIEUDAUVAO!B15 -> #REF! | I19: % | K19: =ROUND((K17+K18)*H19/100,0) -> #REF! | P19: TL
B20: * Chi Phí Xây Dựng Trước Thuế (G) | C20: Đồng | D20: T+C+TL | K20: =K17+K18+K19 -> #REF! | P20: G
B21: Chi Phí Xây Dựng Nhà Tạm (Gxdnt) | C21: Đồng | D21: G | G21: * | H21: =DULIEUDAUVAO!B17 -> #REF! | I21: % | K21: =ROUND(K20*H21/100,0) -> #REF! | P21: Gxdnt
B22: * Cộng CPXD Trước Thuế (Gxd) | C22: Đồng | D22: G+Gxdnt | K22: =K20+K21 -> #REF! | P22: Gxd
B23: Thuế Giá Trị Gia Tăng (GTGT) | C23: Đồng | D23: Gxd | G23: * | H23: =DULIEUDAUVAO!B16 -> #REF! | I23: % | K23: =ROUND(K22*H23/100,0) -> #REF! | P23: GTGT
B24: * Cộng Đơn Giá Đấu Thầu (W) | C24: Đồng | D24: Gxd+GTGT | K24: =K22+K23 -> #REF! | P24: W
P25: END
A26: MHĐG : AB.66113 Đắp cát công trình bằng máy đầm 9T, K=0,95 | K26: ĐVT : 100m3 | L26: AB.66113 | M26: Đắp cát công trình bằng máy đầm 9T, K=0,95 | N26: 100m3 | O26: =DGXDCT_1!#REF! -> #REF! | P26: A
A27: STT | B27: DIỄN GIẢI | C27: ĐVT | D27: ĐỊNH MỨC | E27: ĐƠN GIÁ | F27: HỢP GIÁ | G27: HỆ SỐ | K27: THÀNH TIỀN | P27: B
A28: =DGXDCT_1!#REF! -> #REF! | B28: A_Vật Liệu | P28: 1
B29: Cát sông | C29: m3 | D29: 122 | E29: =VLOOKUP(DGCTDT!$B$29,#REF!,4,0) -> #REF! | F29: =ROUND(D29*E29,0) -> #REF! | P29: 1
B30: - Cộng Vật Liệu (VL) | C30: Đồng | F30: =SUM(F29:F29) -> #REF! | K30: =F30 -> #REF! | P30: VL
B31: B_Nhân Công | P31: 2
B32: Nhân công 3,0/7 | C32: công | D32: 1.5 | E32: =VLOOKUP(DGCTDT!$B$32,#REF!,4,0) -> #REF! | F32: =ROUND(D32*E32,0) -> #REF! | P32: 2
B33: - Cộng Nhân Công (NC) | C33: Đồng | F33: =SUM(F32:F32) -> #REF! | G33: * | H33: =DULIEUDAUVAO!B10 -> #REF! | I33: * | J33: =DULIEUDAUVAO!B9 -> #REF! | K33: =ROUND(F33*H33*J33,0) -> #REF! | P33: NC
B34: C_Máy Thi Công | P34: 3
B35: Máy đầm BH tự hành 9T | C35: ca | D35: 0.342 | E35: =VLOOKUP(DGCTDT!$B$35,#REF!,4,0) -> #REF! | F35: =ROUND(D35*E35,0) -> #REF! | P35: 3
B36: Máy ủi 108cv | C36: ca | D36: 0.171 | E36: =VLOOKUP(DGCTDT!$B$36,#REF!,4,0) -> #REF! | F36: =ROUND(D36*E36,0) -> #REF! | P36: 3
B37: MTC# | C37: % | D37: 1.5 | E37: =SUM(F35:F36) -> #REF! | F37: =ROUND(D37*E37/100,0) -> #REF! | P37: 3
B38: - Cộng Máy Thi Công (XM) | C38: Đồng | F38: =SUM(F35:F37) -> #REF! | G38: * | H38: =DULIEUDAUVAO!B12 -> #REF! | K38: =ROUND(F38*H38,0) -> #REF! | P38: XM
B39: Chi Phí Trực Tiếp Khác (TT) | C39: Đồng | D39: (VL+NC+XM) | G39: * | H39: =DULIEUDAUVAO!B13 -> #REF! | I39: % | K39: =ROUND((K30+K33+K38)*H39/100,0) -> #REF! | P39: TT
B40: * Cộng Chi Phí Trực Tiếp (T) | C40: Đồng | D40: (VL+NC+XM+TT) | K40: =K30+K33+K38+K39 -> #REF! | P40: T
B41: Chi Phí Chung (C) | C41: Đồng | D41: T | G41: * | H41: =DULIEUDAUVAO!B14 -> #REF! | I41: % | K41: =ROUND(K40*H41/100,0) -> #REF! | P41: C
...

Sheet HE SO
A1: BẢNG HỆ SỐ NỘI SUY THEO QUYẾT ĐỊNH SỐ 79/QĐ-BXD NGÀY 15/02/2017 CỦA BỘ XÂY DỰNG
A2: Bảng 1 | B2: Định mức chi phí quản lý dự án
C3: Lọai công trình | D3: =(#REF!+#REF!)/10^9 -> #REF! | E3: Chi phí xây dựng và thiết bị trước thuế(tỷ đồng)
E4: 10 | F4: 20 | G4: 50 | H4: 100 | I4: 200 | J4: 500 | K4: 1000 | L4: 2000 | M4: 5000 | N4: 10000 | O4: 20000 | P4: 30000 | Q4: =INDEX(E4:P4,MATCH(D3,E4:P4,1)) -> #REF! | R4: =INDEX(E4:P4,MATCH(D3,E4:P4,1)+1) -> #REF!
B5: =#REF! -> #REF! | D5: =IF($D$3<=$E$4,E5,ROUND(FORECAST($D$3,Q5:R5,$Q$4:$R$4),3)) -> #REF! | E5: 3.282 | F5: 2.784 | G5: 2.486 | H5: 1.921 | I5: 1.796 | J5: 1.442 | K5: 1.18 | L5: 0.912 | M5: 0.677 | N5: 0.486 | O5: 0.363 | P5: 0.29 | Q5: =INDEX(E5:P5,MATCH($D$3,$E$4:$P$4,1)) -> #REF! | R5: =INDEX(E5:P5,MATCH($D$3,$E$4:$P$4,1)+1) -> #REF!
B6: =#REF! -> #REF! | D6: =IF($D$3<=$E$4,E6,ROUND(FORECAST($D$3,Q6:R6,$Q$4:$R$4),3)) -> #REF! | E6: 3.453 | F6: 2.93 | G6: 2.616 | H6: 2.021 | I6: 1.89 | J6: 1.518 | K6: 1.242 | L6: 1.071 | M6: 0.713 | N6: 0.512 | O6: 0.382 | P6: 0.305 | Q6: =INDEX(E6:P6,MATCH($D$3,$E$4:$P$4,1)) -> #REF! | R6: =INDEX(E6:P6,MATCH($D$3,$E$4:$P$4,1)+1) -> #REF!
B7: =#REF! -> #REF! | D7: =IF($D$3<=$E$4,E7,ROUND(FORECAST($D$3,Q7:R7,$Q$4:$R$4),3)) -> #REF! | E7: 2.936 | F7: 2.491 | G7: 2.225 | H7: 1.719 | I7: 1.607 | J7: 1.29 | K7: 1.056 | L7: 0.91 | M7: 0.606 | N7: 0.435 | O7: 0.325 | P7: 0.26 | Q7: =INDEX(E7:P7,MATCH($D$3,$E$4:$P$4,1)) -> #REF! | R7: =INDEX(E7:P7,MATCH($D$3,$E$4:$P$4,1)+1) -> #REF!
B8: =#REF! -> #REF! | D8: =IF($D$3<=$E$4,E8,ROUND(FORECAST($D$3,Q8:R8,$Q$4:$R$4),3)) -> #REF! | E8: 3.108 | F8: 2.637 | G8: 2.355 | H8: 1.819 | I8: 1.701 | J8: 1.366 | K8: 1.118 | L8: 0.964 | M8: 0.642 | N8: 0.461 | O8: 0.344 | P8: 0.275 | Q8: =INDEX(E8:P8,MATCH($D$3,$E$4:$P$4,1)) -> #REF! | R8: =INDEX(E8:P8,MATCH($D$3,$E$4:$P$4,1)+1) -> #REF!
B9: =#REF! -> #REF! | D9: =IF($D$3<=$E$4,E9,ROUND(FORECAST($D$3,Q9:R9,$Q$4:$R$4),3)) -> #REF! | E9: 2.763 | F9: 2.344 | G9: 2.093 | H9: 1.517 | I9: 1.486 | J9: 1.214 | K9: 1.02 | L9: 0.856 | M9: 0.57 | N9: 0.409 | O9: 0.306 | P9: 0.245 | Q9: =INDEX(E9:P9,MATCH($D$3,$E$4:$P$4,1)) -> #REF! | R9: =INDEX(E9:P9,MATCH($D$3,$E$4:$P$4,1)+1) -> #REF!
A10: Bảng 2 | B10: Định mức chi phí báo cáo nghiên cứu tiền khả thi
C11: Lọai công trình | D11: =D3 -> #REF! | E11: Chi phí xây dựng và thiết bị trước thuế(tỷ đồng)
E12: 15 | F12: 20 | G12: 50 | H12: 100 | I12: 200 | J12: 500 | K12: 1000 | L12: 2000 | M12: 5000 | N12: 10000 | O12: 20000 | P12: 30000 | Q12: =INDEX(E12:P12,MATCH(D11,E12:P12,1)) -> #REF! | R12: =INDEX(E12:P12,MATCH(D11,E12:P12,1)+1) -> #REF!
B13: =$B$5 -> #REF! | D13: =IF($D$11<=$E$12,E13,ROUND(FORECAST($D$11,Q13:R13,$Q$12:$R$12),3)) -> #REF! | E13: 0.668 | F13: 0.503 | G13: 0.376 | H13: 0.24 | I13: 0.161 | J13: 0.1 | K13: 0.086 | L13: 0.073 | M13: 0.05 | N13: 0.04 | O13: 0.026 | P13: 0.022 | Q13: =INDEX(E13:P13,MATCH($D$11,$E$12:$P$12,1)) -> #REF! | R13: =INDEX(E13:P13,MATCH($D$11,$E$12:$P$12,1)+1) -> #REF!
B14: =$B$6 -> #REF! | D14: =IF($D$11<=$E$12,E14,ROUND(FORECAST($D$11,Q14:R14,$Q$12:$R$12),3)) -> #REF! | E14: 0.757 | F14: 0.612 | G14: 0.441 | H14: 0.294 | I14: 0.206 | J14: 0.163 | K14: 0.141 | L14: 0.11 | M14: 0.074 | N14: 0.057 | O14: 0.034 | P14: 0.027 | Q14: =INDEX(E14:P14,MATCH($D$11,$E$12:$P$12,1)) -> #REF! | R14: =INDEX(E14:P14,MATCH($D$11,$E$12:$P$12,1)+1) -> #REF!
B15: =$B$7 -> #REF! | D15: =IF($D$11<=$E$12,E15,ROUND(FORECAST($D$11,Q15:R15,$Q$12:$R$12),3)) -> #REF! | E15: 0.413 | F15: 0.345 | G15: 0.251 | H15: 0.177 | I15: 0.108 | J15: 0.071 | K15: 0.062 | L15: 0.053 | M15: 0.036 | N15: 0.029 | O15: 0.019 | P15: 0.016 | Q15: =INDEX(E15:P15,MATCH($D$11,$E$12:$P$12,1)) -> #REF! | R15: =INDEX(E15:P15,MATCH($D$11,$E$12:$P$12,1)+1) -> #REF!
B16: =$B$8 -> #REF! | D16: =IF($D$11<=$E$12,E16,ROUND(FORECAST($D$11,Q16:R16,$Q$12:$R$12),3)) -> #REF! | E16: 0.566 | F16: 0.472 | G16: 0.343 | H16: 0.216 | I16: 0.144 | J16: 0.096 | K16: 0.082 | L16: 0.07 | M16: 0.048 | N16: 0.039 | O16: 0.025 | P16: 0.021 | Q16: =INDEX(E16:P16,MATCH($D$11,$E$12:$P$12,1)) -> #REF! | R16: =INDEX(E16:P16,MATCH($D$11,$E$12:$P$12,1)+1) -> #REF!
B17: =$B$9 -> #REF! | D17: =IF($D$11<=$E$12,E17,ROUND(FORECAST($D$11,Q17:R17,$Q$12:$R$12),3)) -> #REF! | E17: 0.431 | F17: 0.36 | G17: 0.262 | H17: 0.183 | I17: 0.112 | J17: 0.074 | K17: 0.065 | L17: 0.055 | M17: 0.038 | N17: 0.03 | O17: 0.02 | P17: 0.017 | Q17: =INDEX(E17:P17,MATCH($D$11,$E$12:$P$12,1)) -> #REF! | R17: =INDEX(E17:P17,MATCH($D$11,$E$12:$P$12,1)+1) -> #REF!
A18: Bảng 3 | B18: Định mức chi phí báo cáo nghiên cứu khả thi
C19: Lọai công trình | D19: =D3 -> #REF! | E19: Chi phí xây dựng và thiết bị trước thuế(tỷ đồng)
E20: 15 | F20: 20 | G20: 50 | H20: 100 | I20: 200 | J20: 500 | K20: 1000 | L20: 2000 | M20: 5000 | N20: 10000 | O20: 20000 | P20: 30000 | Q20: =INDEX(E20:P20,MATCH(D19,E20:P20,1)) -> #REF! | R20: =INDEX(E20:P20,MATCH(D19,E20:P20,1)+1) -> #REF!
B21: =$B$5 -> #REF! | D21: =IF($D$19<=$E$20,E21,ROUND(FORECAST($D$19,Q21:R21,$Q$20:$R$20),3)) -> #REF! | E21: 1.114 | F21: 0.914 | G21: 0.751 | H21: 0.534 | I21: 0.402 | J21: 0.287 | K21: 0.246 | L21: 0.209 | M21: 0.167 | N21: 0.134 | O21: 0.102 | P21: 0.086 | Q21: =INDEX(E21:P21,MATCH($D$19,$E$20:$P$20,1)) -> #REF! | R21: =INDEX(E21:P21,MATCH($D$19,$E$20:$P$20,1)+1) -> #REF!
B22: =$B$6 -> #REF! | D22: =IF($D$19<=$E$20,E22,ROUND(FORECAST($D$19,Q22:R22,$Q$20:$R$20),3)) -> #REF! | E22: 1.261 | F22: 1.112 | G22: 0.882 | H22: 0.654 | I22: 0.515 | J22: 0.466 | K22: 0.404 | L22: 0.315 | M22: 0.248 | N22: 0.189 | O22: 0.135 | P22: 0.107 | Q22: =INDEX(E22:P22,MATCH($D$19,$E$20:$P$20,1)) -> #REF! | R22: =INDEX(E22:P22,MATCH($D$19,$E$20:$P$20,1)+1) -> #REF!
B23: =$B$7 -> #REF! | D23: =IF($D$19<=$E$20,E23,ROUND(FORECAST($D$19,Q23:R23,$Q$20:$R$20),3)) -> #REF! | E23: 0.689 | F23: 0.628 | G23: 0.501 | H23: 0.393 | I23: 0.271 | J23: 0.203 | K23: 0.177 | L23: 0.151 | M23: 0.12 | N23: 0.097 | O23: 0.075 | P23: 0.063 | Q23: =INDEX(E23:P23,MATCH($D$19,$E$20:$P$20,1)) -> #REF! | R23: =INDEX(E23:P23,MATCH($D$19,$E$20:$P$20,1)+1) -> #REF!
B24: =$B$8 -> #REF! | D24: =IF($D$19<=$E$20,E24,ROUND(FORECAST($D$19,Q24:R24,$Q$20:$R$20),3)) -> #REF! | E24: 0.943 | F24: 0.858 | G24: 0.685 | H24: 0.48 | I24: 0.361 | J24: 0.273 | K24: 0.234 | L24: 0.201 | M24: 0.161 | N24: 0.129 | O24: 0.1 | P24: 0.084 | Q24: =INDEX(E24:P24,MATCH($D$19,$E$20:$P$20,1)) -> #REF! | R24: =INDEX(E24:P24,MATCH($D$19,$E$20:$P$20,1)+1) -> #REF!
B25: =$B$9 -> #REF! | D25: =IF($D$19<=$E$20,E25,ROUND(FORECAST($D$19,Q25:R25,$Q$20:$R$20),3)) -> #REF! | E25: 0.719 | F25: 0.654 | G25: 0.524 | H25: 0.407 | I25: 0.28 | J25: 0.211 | K25: 0.185 | L25: 0.158 | M25: 0.127 | N25: 0.101 | O25: 0.078 | P25: 0.065 | Q25: =INDEX(E25:P25,MATCH($D$19,$E$20:$P$20,1)) -> #REF! | R25: =INDEX(E25:P25,MATCH($D$19,$E$20:$P$20,1)+1) -> #REF!
A26: Bảng 4 | B26: Định mức chi phí báo cáo kinh tế kỹ thuật
C27: Lọai công trình | D27: =D3 -> #REF! | E27: Chi phí xây dựng và thiết bị trước thuế(tỷ đồng)
E28: 1 | F28: 3 | G28: 7 | H28: 15 | Q28: =INDEX(E28:H28,MATCH(D27,E28:H28,1)) -> #REF! | R28: =INDEX(E28:H28,MATCH(D27,E28:H28,1)+1) -> #REF!
B29: =$B$5 -> #REF! | D29: =IF($D$27<=$E$28,E29,IF($D$27>=$H$28,"Xem lại",ROUND(FORECAST($D$27,Q29:R29,$Q$28:$R$28),3))) -> #REF! | E29: 6.5 | F29: 4.7 | G29: 4.2 | H29: 3.6 | Q29: =INDEX(E29:H29,MATCH($D$27,$E$28:$H$28,1)) -> #REF! | R29: =INDEX(E29:H29,MATCH($D$27,$E$28:$H$28,1)+1) -> #REF!
B30: =$B$6 -> #REF! | D30: =IF($D$27<=$E$28,E30,IF($D$27>=$H$28,"Xem lại",ROUND(FORECAST($D$27,Q30:R30,$Q$28:$R$28),3))) -> #REF! | E30: 6.7 | F30: 4.8 | G30: 4.3 | H30: 3.8 | Q30: =INDEX(E30:H30,MATCH($D$27,$E$28:$H$28,1)) -> #REF! | R30: =INDEX(E30:H30,MATCH($D$27,$E$28:$H$28,1)+1) -> #REF!
B31: =$B$7 -> #REF! | D31: =IF($D$27<=$E$28,E31,IF($D$27>=$H$28,"Xem lại",ROUND(FORECAST($D$27,Q31:R31,$Q$28:$R$28),3))) -> #REF! | E31: 5.4 | F31: 3.6 | G31: 2.7 | H31: 2.5 | Q31: =INDEX(E31:H31,MATCH($D$27,$E$28:$H$28,1)) -> #REF! | R31: =INDEX(E31:H31,MATCH($D$27,$E$28:$H$28,1)+1) -> #REF!
B32: =$B$8 -> #REF! | D32: =IF($D$27<=$E$28,E32,IF($D$27>=$H$28,"Xem lại",ROUND(FORECAST($D$27,Q32:R32,$Q$28:$R$28),3))) -> #REF! | E32: 6.2 | F32: 4.4 | G32: 3.9 | H32: 3.6 | Q32: =INDEX(E32:H32,MATCH($D$27,$E$28:$H$28,1)) -> #REF! | R32: =INDEX(E32:H32,MATCH($D$27,$E$28:$H$28,1)+1) -> #REF!
B33: =$B$9 -> #REF! | D33: =IF($D$27<=$E$28,E33,IF($D$27>=$H$28,"Xem lại",ROUND(FORECAST($D$27,Q33:R33,$Q$28:$R$28),3))) -> #REF! | E33: 5.8 | F33: 4.2 | G33: 3.4 | H33: 3 | Q33: =INDEX(E33:H33,MATCH($D$27,$E$28:$H$28,1)) -> #REF! | R33: =INDEX(E33:H33,MATCH($D$27,$E$28:$H$28,1)+1) -> #REF!
A34: Bảng 6 | B34: Định mức chi phí Thiết kế BVTC công trình cấp đặc biệt (Thiết kế 2 bước)
C35: Lọai công trình | D35: =#REF!/10^9 -> #REF! | E35: Chi phí xây dựng trước thuế(tỷ đồng)
E36: 10 | F36: 20 | G36: 50 | H36: 100 | I36: 200 | J36: 500 | K36: 1000 | L36: 2000 | M36: 5000 | N36: 8000 | O36: 10000 | Q36: =INDEX(E36:P36,MATCH(D35,E36:P36,1)) -> #REF! | R36: =INDEX(E36:P36,MATCH(D35,E36:P36,1)+1) -> #REF!
B37: =$B$5 -> #REF! | D37: =IF($D$35<=$E$36,E37,ROUND(FORECAST($D$35,Q37:R37,$Q$36:$R$36),3)) -> #REF! | E37: 4.66 | F37: 4.05 | G37: 3.41 | H37: 3.1 | I37: 2.83 | J37: 2.39 | K37: 1.93 | L37: 1.65 | M37: 1.28 | N37: 0.99 | O37: 0.91 | Q37: =INDEX(E37:O37,MATCH($D$35,$E$36:$O$36,1)) -> #REF! | R37: =INDEX(E37:O37,MATCH($D$35,$E$36:$O$36,1)+1) -> #REF!
A38: =#REF! -> #REF! | B38: =$B$6 -> #REF! | D38: =IF($D$35<=$E$36,E38,ROUND(FORECAST($D$35,Q38:R38,$Q$36:$R$36),3)) -> #REF! | E38: 4.7 | F38: 4.27 | G38: 3.66 | H38: 3.32 | I38: 3.01 | J38: 2.75 | K38: 2.4 | L38: 2.03 | M38: 1.52 | N38: 1.21 | O38: 1.04 | Q38: =INDEX(E38:O38,MATCH($D$35,$E$36:$O$36,1)) -> #REF! | R38: =INDEX(E38:O38,MATCH($D$35,$E$36:$O$36,1)+1) -> #REF!
B39: =$B$7 -> #REF! | D39: =IF($D$35<=$E$36,E39,ROUND(FORECAST($D$35,Q39:R39,$Q$36:$R$36),3)) -> #REF! | E39: 3.01 | F39: 2.76 | G39: 2.36 | H39: 2.15 | I39: 1.95 | J39: 1.78 | K39: 1.52 | L39: 1.32 | M39: 1.02 | N39: 0.75 | O39: 0.66 | Q39: =INDEX(E39:O39,MATCH($D$35,$E$36:$O$36,1)) -> #REF! | R39: =INDEX(E39:O39,MATCH($D$35,$E$36:$O$36,1)+1) -> #REF!
B40: =$B$8 -> #REF! | D40: =IF($D$35<=$E$36,E40,ROUND(FORECAST($D$35,Q40:R40,$Q$36:$R$36),3)) -> #REF! | E40: 4.29 | F40: 3.75 | G40: 3.17 | H40: 2.85 | I40: 2.6 | J40: 2.21 | K40: 1.87 | L40: 1.58 | M40: 1.22 | N40: 0.95 | O40: 0.83 | Q40: =INDEX(E40:O40,MATCH($D$35,$E$36:$O$36,1)) -> #REF! | R40: =INDEX(E40:O40,MATCH($D$35,$E$36:$O$36,1)+1) -> #REF!
...

Sheet TỔNG HỢP GIÁ (2)
A1: PHỤ LỤC 1: KHỐI LƯỢNG VÀ GIÁ TRỊ HỢP ĐỒNG
A2: Gói thầu: Xây dựng, lắp đặt thiết bị cống Rạch Lồ Ô, Rạch Miễu, Rạch Kinh, Rạch Trôm, Vàm Hồ, Bảy Nhật, Sáu Em, Liên Ấp và Sáu Hóa/XL04.
A3: Dự án: Hệ thống Thủy lợi Bắc Bến Tre giai đoạn 1, tỉnh Bến Tre.
A5: STT | B5: Tên công việc | C5: ĐVT | D5: Khối lượng hợp đồng | G5: Đơn giá hợp đồng (đồng) | H5: Thành tiền (đồng)
D6: Tổng | E6: Công ty TNHH XD&TM Quốc Dũng | F6: Công ty TNHH XD Chấn Hưng | H6: Tổng | I6: Công ty TNHH XD&TM Quốc Dũng | J6: Công ty TNHH XD Chấn Hưng
E7: =50.61/100 -> 0.5061 | F7: =1-E7 -> 0.4939
A8: I | B8: HẠNG MỤC 1: HẠNG MỤC CHUNG
A9: 1 | B9: Bảo lãnh thực hiện hợp đồng | C9: Khoản | D9: 1 | E9: =D9*$E$7 -> 0.5061 | F9: =D9*$F$7 -> 0.4939 | G9: 20000000 | H9: =D9*G9 -> 20000000 | I9: =E9*G9 -> 10122000 | J9: =F9*G9 -> 9878000
A10: 2 | B10: Bảo hiểm Công trình đối với phần thuộc trách nhiệm của nhà thầu | C10: Khoản | D10: 1 | E10: =D10*$E$7 -> 0.5061 | F10: =D10*$F$7 -> 0.4939
A11: 3 | B11: Bảo hiểm thiết bị của nhà thầu | C11: Khoản | D11: 1 | E11: =D11*$E$7 -> 0.5061 | F11: =D11*$F$7 -> 0.4939
A12: 4 | B12: Bảo hiểm trách nhiệm bên thứ ba | C12: Khoản | D12: 1 | E12: =D12*$E$7 -> 0.5061 | F12: =D12*$F$7 -> 0.4939
A13: 5 | B13: Chi phí bảo hành Công trình | C13: Tháng | D13: 12 | E13: =D13*$E$7 -> 6.0732 | F13: =D13*$F$7 -> 5.9268 | G13: 5000000 | H13: =D13*G13 -> 60000000 | I13: =E13*G13 -> 30366000 | J13: =F13*G13 -> 29634000
A14: 6 | B14: Chi phí xây dựng nhà tạm tại hiện trường để ở và điều hành thi công | C14: Khoản | D14: 1 | E14: =D14*$E$7 -> 0.5061 | F14: =D14*$F$7 -> 0.4939 | G14: 200000000 | H14: =D14*G14 -> 200000000 | I14: =E14*G14 -> 101220000 | J14: =F14*G14 -> 98780000
A15: 7 | B15: Chi phí di chuyển thiết bị thi công và lực lượng lao động đến công trường | C15: Khoản | D15: 1 | E15: =D15*$E$7 -> 0.5061 | F15: =D15*$F$7 -> 0.4939 | G15: 50000000 | H15: =D15*G15 -> 50000000 | I15: =E15*G15 -> 25305000 | J15: =F15*G15 -> 24695000
A16: 8 | B16: Chi phí kiểm soát giao thông và bảo trì đường tránh, cầu tạm (nếu có) | C16: Tháng | D16: 24 | E16: =D16*$E$7 -> 12.1464 | F16: =D16*$F$7 -> 11.8536 | G16: 5000000 | H16: =D16*G16 -> 120000000 | I16: =E16*G16 -> 60732000 | J16: =F16*G16 -> 59268000
A17: 9 | B17: Chi phí dọn dẹp công trường khi hoàn thành | C17: Khoản | D17: 1 | E17: =D17*$E$7 -> 0.5061 | F17: =D17*$F$7 -> 0.4939 | G17: 50000000 | H17: =D17*G17 -> 50000000 | I17: =E17*G17 -> 25305000 | J17: =F17*G17 -> 24695000
B18: TỔNG CHI PHÍ HẠNG MỤC CHUNG | H18: =SUM(H9:H17) -> 500000000 | I18: =SUM(I9:I17) -> 253050000 | J18: =SUM(J9:J17) -> 246950000
B19: GIẢM GIÁ THEO THƯ GIẢM GIÁ (60%) | H19: =H18*0.6 -> 300000000 | I19: =I18*0.6 -> 151830000 | J19: =J18*0.6 -> 148170000
B20: CHI PHÍ HẠNG MỤC (I): HẠNG MỤC CHUNG (SAU KHI GIẢM GIÁ) | H20: =H18-H19 -> 200000000 | I20: =I18-I19 -> 101220000 | J20: =J18-J19 -> 98780000
A21: II | B21: HẠNG MỤC 2: XÂY DỰNG CÔNG TRÌNH
B22: CỐNG RẠCH LỒ Ô | H22: =SUM(H25:H269) -> 4.8161106e+09 | J22: =SUM(J25:J269) -> 4.8161106e+09
B23: Phần cống
B24: 1/Mặt bằng công trường:
A25: 1 | B25: Phát quang bằng cơ giới, mật độ >5 cây/100m2 | C25: 100 m² | D25: 13.66 | F25: =D25 -> 13.66 | G25: 209980.13 | H25: =D25*G25 -> 2868328.6 | J25: =F25*G25 -> 2868328.6
A26: 2 | B26: Chặt cây ở mặt đất bằng phẳng D<=30cm | C26: Cây | D26: 55 | F26: =D26 -> 55 | G26: 50385.868 | H26: =D26*G26 -> 2771222.7 | J26: =F26*G26 -> 2771222.7
A27: 3 | B27: Đào gốc cây D<=30cm | C27: Cây | D27: 35 | F27: =D27 -> 35 | G27: 77678.325 | H27: =D27*G27 -> 2718741.4 | J27: =F27*G27 -> 2718741.4
A28: 4 | B28: San trả mặt bằng bằng máy ủi 110CV | C28: 100m3 | D28: 0.75 | F28: =D28 -> 0.75 | G28: 216467.65 | H28: =D28*G28 -> 162350.74 | J28: =F28*G28 -> 162350.74
A29: 5 | B29: Bóc hữu cơ cự ly <= 50m, Đất cấp I | C29: 100 m³ | D29: 0.737 | F29: =D29 -> 0.737 | G29: 731754.59 | H29: =D29*G29 -> 539303.14 | J29: =F29*G29 -> 539303.14
A30: 6 | B30: Đắp đường TC bằng máy đầm 9T K=0.9 (lấy đất đào tại chỗ) | C30: 100 m³ | D30: 1.474 | F30: =D30 -> 1.474 | G30: 1235604 | H30: =D30*G30 -> 1821280.3 | J30: =F30*G30 -> 1821280.3
A31: 7 | B31: Trải đá cấp phối 0-4 | C31: 100m³ | D31: 0.341 | F31: =D31 -> 0.341 | G31: 81099719 | H31: =D31*G31 -> 27655004 | J31: =F31*G31 -> 27655004
A32: 8 | B32: San trả mặt bằng bằng máy ủi 110CV | C32: 100m3 | D32: 1.816 | F32: =D32 -> 1.816 | G32: 216467.65 | H32: =D32*G32 -> 393105.26 | J32: =F32*G32 -> 393105.26
B33: * Dẫn dòng: | D33: 0 | F33: =D33 -> 0 | G33: 0 | H33: =D33*G33 -> 0 | J33: =F33*G33 -> 0
A34: 9 | B34: Đào đất đặt đường ống bằng máy đào<= 0.8m3,ĐCI | C34: 100 m³ | D34: 1.553 | F34: =D34 -> 1.553 | G34: 869256.05 | H34: =D34*G34 -> 1349954.6 | J34: =F34*G34 -> 1349954.6
A35: 10 | B35: LĐ ống nhựa PVC D630mm PN5 | C35: 100m | D35: 0.48 | F35: =D35 -> 0.48 | G35: 2.6553981e+08 | H35: =D35*G35 -> 1.2745911e+08 | J35: =F35*G35 -> 1.2745911e+08
A36: 11 | B36: Đóng cọc tràm D gốc8-10cm L=4,5m trên cạn | C36: 100 m | D36: 4.32 | F36: =D36 -> 4.32 | G36: 1528207.4 | H36: =D36*G36 -> 6601855.8 | J36: =F36*G36 -> 6601855.8
A37: 12 | B37: Đóng cọc tràm D gốc8-10cm L=4,5m bằng máy đào trên cạn | C37: 100 m | D37: 4.32 | F37: =D37 -> 4.32 | G37: 325357.4 | H37: =D37*G37 -> 1405544 | J37: =F37*G37 -> 1405544
A38: 13 | B38: LĐ ống nhựa PVC D630mm PN5 | C38: 100m | D38: 0.48 | F38: =D38 -> 0.48 | G38: 4541731.9 | H38: =D38*G38 -> 2180031.3 | J38: =F38*G38 -> 2180031.3
B39: * Gia cố chống xói sau ống: | D39: 0 | F39: =D39 -> 0 | G39: 0 | H39: =D39*G39 -> 0 | J39: =F39*G39 -> 0
A40: 14 | B40: Trải vải địa KT | C40: 100 m2 | D40: 1.197 | F40: =D40 -> 1.197 | G40: 2389507.7 | H40: =D40*G40 -> 2860240.7 | J40: =F40*G40 -> 2860240.7
A41: 15 | B41: Ghim sắt | C41: Tấn | D41: 0.006 | F41: =D41 -> 0.006 | G41: 22449268 | H41: =D41*G41 -> 134695.61 | J41: =F41*G41 -> 134695.61
...

Sheet Cốt thép tam lat(Lồ Ồ)
A1: BẢNG TÍNH CỐT THÉP
F2: (Cống Lồ Ồ)
A4: Cấu kiện | B4: Số hiệu | C4: ĐK (mm) | D4: Số cấu kiện | E4: Số thanh | G4: Chiều dài (m) | I4: Trọng lượng riêng (kg/m) | J4: Khối lượng (kg)
E5: 01 CK | F5: Toàn bộ | G5: 01 thanh | H5: Toàn bộ
A6: TẤM M | B6: 1 | C6: 10 | D6: 93 | E6: 6 | F6: =D6*E6 -> 558 | G6: 1.94 | H6: =ROUND(F6*G6,3) -> 1082.52 | I6: =ROUND(3.1416*(C6/1000)^2/4*7850*1,3) -> 0.617 | J6: =ROUND(H6*I6,3) -> 667.915
B7: 2 | C7: 10 | D7: 93 | E7: 11 | F7: =D7*E7 -> 1023 | G7: 0.94 | H7: =ROUND(F7*G7,3) -> 961.62 | I7: =ROUND(3.1416*(C7/1000)^2/4*7850*1,3) -> 0.617 | J7: =ROUND(H7*I7,3) -> 593.32 | L7: =11.7*I6 -> 7.2189 | M7: kg/cây | N7: 1
A8: TẤM M1 | B8: 5 | C8: 10 | D8: 62 | E8: 6 | F8: =D8*E8 -> 372 | G8: 1.94 | H8: =ROUND(F8*G8,3) -> 721.68 | I8: =ROUND(3.1416*(C8/1000)^2/4*7850*1,3) -> 0.617 | J8: =ROUND(H8*I8,3) -> 445.277
B9: 6 | C9: 10 | D9: 62 | E9: 11 | F9: =D9*E9 -> 682 | G9: 0.94 | H9: =ROUND(F9*G9,3) -> 641.08 | I9: =ROUND(3.1416*(C9/1000)^2/4*7850*1,3) -> 0.617 | J9: =ROUND(H9*I9,3) -> 395.546
B11: 1/. Tổng hợp cốt thép:
B12: + Cốt thép D=10mm: | F12: =SUMIF($C$6:$C$9,10,$J$6:$J$9) -> 2102.058 | G12: kg
D17: GIÁM SÁT THI CÔNG XÂY DỰNG TRỰC TIẾP | I17: KỸ THUẬT TC XD TRỰC TIẾP
D22: Lê Văn Lộc | I22: Hồ Phước Hải

Sheet Cthép mặt cầu(Rạch Miễu)
A1: BẢNG TÍNH CỐT THÉP MẶT CẦU CỐNG RẠCH MIỄU
A4: Cấu kiện | B4: Số hiệu | C4: ĐK (mm) | D4: Số cấu kiện | E4: Số thanh | G4: Chiều dài (m) | I4: Trọng lượng riêng (kg/m) | J4: Khối lượng (kg)
E5: 01 CK | F5: Toàn bộ | G5: 01 thanh | H5: Toàn bộ
A6: MẶT CẦU | B6: 14 | C6: 18 | D6: 1 | E6: 74 | F6: =D6*E6 -> 74 | G6: 5.55 | H6: =ROUND(F6*G6,3) -> 410.7 | I6: =ROUND(3.1416*(C6/1000)^2/4*7850*1,3) -> 1.998 | J6: =ROUND(H6*I6,3) -> 820.579
B7: =+B6+1 -> 15 | C7: 12 | D7: =+D6 -> 1 | E7: 34 | F7: =D7*E7 -> 34 | G7: 7.15 | H7: =ROUND(F7*G7,3) -> 243.1 | I7: =ROUND(3.1416*(C7/1000)^2/4*7850*1,3) -> 0.888 | J7: =ROUND(H7*I7,3) -> 215.873
B8: =+B7+1 -> 16 | C8: 12 | D8: =+D7 -> 1 | E8: 8 | F8: =D8*E8 -> 8 | G8: 4.35 | H8: =ROUND(F8*G8,3) -> 34.8 | I8: =ROUND(3.1416*(C8/1000)^2/4*7850*1,3) -> 0.888 | J8: =ROUND(H8*I8,3) -> 30.902
B9: =+B8+1 -> 17 | C9: 12 | D9: =+D8 -> 1 | E9: 46 | F9: =D9*E9 -> 46 | G9: 1.9 | H9: =ROUND(F9*G9,3) -> 87.4 | I9: =ROUND(3.1416*(C9/1000)^2/4*7850*1,3) -> 0.888 | J9: =ROUND(H9*I9,3) -> 77.611
B10: =+B9+1 -> 18 | C10: 12 | D10: =+D9 -> 1 | E10: 46 | F10: =D10*E10 -> 46 | G10: 0.77 | H10: =ROUND(F10*G10,3) -> 35.42 | I10: =ROUND(3.1416*(C10/1000)^2/4*7850*1,3) -> 0.888 | J10: =ROUND(H10*I10,3) -> 31.453
A11: Lưới thép | B11: 66 | C11: 6 | D11: 1 | E11: 43 | F11: =D11*E11 -> 43 | G11: 6.69 | H11: =ROUND(F11*G11,3) -> 287.67 | I11: =ROUND(3.1416*(C11/1000)^2/4*7850*1,3) -> 0.222 | J11: =ROUND(H11*I11,3) -> 63.863
B12: 67 | C12: 6 | D12: 1 | E12: 67 | F12: =D12*E12 -> 67 | G12: 4.49 | H12: =ROUND(F12*G12,3) -> 300.83 | I12: =ROUND(3.1416*(C12/1000)^2/4*7850*1,3) -> 0.222 | J12: =ROUND(H12*I12,3) -> 66.784
B14: 1/. Tổng hợp cốt thép:
B15: + Cốt thép D=6mm: | F15: =SUMIF($C$6:$C$12,6,$J$6:$J$12) -> 130.647 | G15: kg
B16: + Cốt thép D=12mm: | F16: =SUMIF($C$6:$C$12,12,$J$6:$J$12) -> 355.839 | G16: kg
B17: + Cốt thép D=18mm: | F17: =SUMIF($C$6:$C$12,18,$J$6:$J$12) -> 820.579 | G17: kg
D23: GIÁM SÁT THI CÔNG XÂY DỰNG TRỰC TIẾP | I23: KỸ THUẬT TC XD TRỰC TIẾP
D28: Lê Văn Lộc | I28: Hồ Phước Hải

Sheet Cốt thép TUONG canh(Rạch Miễu)
A1: BẢNG TÍNH CỐT THÉP TƯỜNG CHẮN
F2: (Cống Rạch Miễu)
A4: Cấu kiện | B4: Số hiệu | C4: ĐK (mm) | D4: Số cấu kiện | E4: Số thanh | G4: Chiều dài (m) | I4: Trọng lượng riêng (kg/m) | J4: Khối lượng (kg)
E5: 01 CK | F5: Toàn bộ | G5: 01 thanh | H5: Toàn bộ
A6: TƯỜNG CÁNH | B6: 1 | C6: 18 | D6: 2 | E6: 4 | F6: =D6*E6 -> 8 | G6: =1.15+6.17 -> 7.32 | H6: =ROUND(F6*G6,3) -> 58.56 | I6: =ROUND(3.1416*(C6/1000)^2/4*7850*1,3) -> 1.998 | J6: =ROUND(H6*I6,3) -> 117.003 | L6: =3.8+1.8 -> 5.6
B7: 2 | C7: 18 | D7: 2 | E7: 14 | F7: =D7*E7 -> 28 | G7: 3.98 | H7: =ROUND(F7*G7,3) -> 111.44 | I7: =ROUND(3.1416*(C7/1000)^2/4*7850*1,3) -> 1.998 | J7: =ROUND(H7*I7,3) -> 222.657
B8: 3 | C8: 18 | D8: 2 | E8: 2 | F8: =D8*E8 -> 4 | G8: 8.37 | H8: =ROUND(F8*G8,3) -> 33.48 | I8: =ROUND(3.1416*(C8/1000)^2/4*7850*1,3) -> 1.998 | J8: =ROUND(H8*I8,3) -> 66.893
B9: 4 | C9: 12 | D9: 2 | E9: 64 | F9: =D9*E9 -> 128 | G9: 1.14 | H9: =ROUND(F9*G9,3) -> 145.92 | I9: =ROUND(3.1416*(C9/1000)^2/4*7850*1,3) -> 0.888 | J9: =ROUND(H9*I9,3) -> 129.577
B10: 5 | C10: 12 | D10: 2 | E10: 6 | F10: =D10*E10 -> 12 | G10: 0.86 | H10: =ROUND(F10*G10,3) -> 10.32 | I10: =ROUND(3.1416*(C10/1000)^2/4*7850*1,3) -> 0.888 | J10: =ROUND(H10*I10,3) -> 9.164
B11: 6 | C11: 12 | D11: 2 | E11: 2 | F11: =D11*E11 -> 4 | G11: 2.11 | H11: =ROUND(F11*G11,3) -> 8.44 | I11: =ROUND(3.1416*(C11/1000)^2/4*7850*1,3) -> 0.888 | J11: =ROUND(H11*I11,3) -> 7.495
B12: 7 | C12: 18 | D12: 2 | E12: 8 | F12: =D12*E12 -> 16 | G12: 7.01 | H12: =ROUND(F12*G12,3) -> 112.16 | I12: =ROUND(3.1416*(C12/1000)^2/4*7850*1,3) -> 1.998 | J12: =ROUND(H12*I12,3) -> 224.096
B13: 8 | C13: 18 | D13: =+D12 -> 2 | E13: 10 | F13: =D13*E13 -> 20 | G13: 4.4 | H13: =ROUND(F13*G13,3) -> 88 | I13: =ROUND(3.1416*(C13/1000)^2/4*7850*1,3) -> 1.998 | J13: =ROUND(H13*I13,3) -> 175.824
B14: 9 | C14: 12 | D14: =+D13 -> 2 | E14: 58 | F14: =D14*E14 -> 116 | G14: 2.38 | H14: =ROUND(F14*G14,3) -> 276.08 | I14: =ROUND(3.1416*(C14/1000)^2/4*7850*1,3) -> 0.888 | J14: =ROUND(H14*I14,3) -> 245.159
B15: 10 | C15: 12 | D15: =+D14 -> 2 | E15: 10 | F15: =D15*E15 -> 20 | G15: 3.6 | H15: =ROUND(F15*G15,3) -> 72 | I15: =ROUND(3.1416*(C15/1000)^2/4*7850*1,3) -> 0.888 | J15: =ROUND(H15*I15,3) -> 63.936
B16: 11 | C16: 12 | D16: =+D15 -> 2 | E16: 8 | F16: =D16*E16 -> 16 | G16: 6.9 | H16: =ROUND(F16*G16,3) -> 110.4 | I16: =ROUND(3.1416*(C16/1000)^2/4*7850*1,3) -> 0.888 | J16: =ROUND(H16*I16,3) -> 98.035
B17: 12 | C17: 12 | D17: =+D16 -> 2 | E17: 10 | F17: =D17*E17 -> 20 | G17: 4.34 | H17: =ROUND(F17*G17,3) -> 86.8 | I17: =ROUND(3.1416*(C17/1000)^2/4*7850*1,3) -> 0.888 | J17: =ROUND(H17*I17,3) -> 77.078
B18: 13 | C18: 10 | D18: 2 | E18: 6 | F18: =D18*E18 -> 12 | G18: 5.4 | H18: =ROUND(F18*G18,3) -> 64.8 | I18: =ROUND(3.1416*(C18/1000)^2/4*7850*1,3) -> 0.617 | J18: =ROUND(H18*I18,3) -> 39.982
B19: 14 | C19: 10 | D19: =+D18 -> 2 | E19: 18 | F19: =D19*E19 -> 36 | G19: 4.11 | H19: =ROUND(F19*G19,3) -> 147.96 | I19: =ROUND(3.1416*(C19/1000)^2/4*7850*1,3) -> 0.617 | J19: =ROUND(H19*I19,3) -> 91.291
B20: 15 | C20: 16 | D20: =+D19 -> 2 | E20: 16 | F20: =D20*E20 -> 32 | G20: 2.5 | H20: =ROUND(F20*G20,3) -> 80 | I20: =ROUND(3.1416*(C20/1000)^2/4*7850*1,3) -> 1.578 | J20: =ROUND(H20*I20,3) -> 126.24
B21: 16 | C21: 16 | D21: =+D20 -> 2 | E21: 12 | F21: =D21*E21 -> 24 | G21: 1.21 | H21: =ROUND(F21*G21,3) -> 29.04 | I21: =ROUND(3.1416*(C21/1000)^2/4*7850*1,3) -> 1.578 | J21: =ROUND(H21*I21,3) -> 45.825
B22: 17 | C22: 10 | D22: =+D21 -> 2 | E22: 16 | F22: =D22*E22 -> 32 | G22: 2.5 | H22: =ROUND(F22*G22,3) -> 80 | I22: =ROUND(3.1416*(C22/1000)^2/4*7850*1,3) -> 0.617 | J22: =ROUND(H22*I22,3) -> 49.36
B23: 18 | C23: 10 | D23: =+D22 -> 2 | E23: 12 | F23: =D23*E23 -> 24 | G23: 1.21 | H23: =ROUND(F23*G23,3) -> 29.04 | I23: =ROUND(3.1416*(C23/1000)^2/4*7850*1,3) -> 0.617 | J23: =ROUND(H23*I23,3) -> 17.918
B24: 19 | C24: 10 | D24: =+D23 -> 2 | E24: 20 | F24: =D24*E24 -> 40 | G24: 2.9 | H24: =ROUND(F24*G24,3) -> 116 | I24: =ROUND(3.1416*(C24/1000)^2/4*7850*1,3) -> 0.617 | J24: =ROUND(H24*I24,3) -> 71.572
B25: 20 | C25: 16 | D25: =+D24 -> 2 | E25: 16 | F25: =D25*E25 -> 32 | G25: 1.7 | H25: =ROUND(F25*G25,3) -> 54.4 | I25: =ROUND(3.1416*(C25/1000)^2/4*7850*1,3) -> 1.578 | J25: =ROUND(H25*I25,3) -> 85.843
B26: 21 | C26: 10 | D26: =+D25 -> 2 | E26: 16 | F26: =D26*E26 -> 32 | G26: 1.7 | H26: =ROUND(F26*G26,3) -> 54.4 | I26: =ROUND(3.1416*(C26/1000)^2/4*7850*1,3) -> 0.617 | J26: =ROUND(H26*I26,3) -> 33.565
B27: 22 | C27: 16 | D27: =+D26 -> 2 | E27: 16 | F27: =D27*E27 -> 32 | G27: 0.96 | H27: =ROUND(F27*G27,3) -> 30.72 | I27: =ROUND(3.1416*(C27/1000)^2/4*7850*1,3) -> 1.578 | J27: =ROUND(H27*I27,3) -> 48.476
B28: 33 | C28: 16 | D28: 1 | E28: 32 | F28: =D28*E28 -> 32 | G28: 0.45 | H28: =ROUND(F28*G28,3) -> 14.4 | I28: =ROUND(3.1416*(C28/1000)^2/4*7850*1,3) -> 1.578 | J28: =ROUND(H28*I28,3) -> 22.723
B30: 1/. Tổng hợp cốt thép:
B31: + Cốt thép D=10mm: | F31: =SUMIF($C$6:$C$28,10,$J$6:$J$28) -> 303.688 | G31: kg
B32: + Cốt thép D=12mm: | F32: =SUMIF($C$6:$C$28,12,$J$6:$J$28) -> 630.444 | G32: kg
B33: + Cốt thép D=16mm: | F33: =SUMIF($C$6:$C$28,16,$J$6:$J$28) -> 329.107 | G33: kg
B34: + Cốt thép D=18mm: | F34: =SUMIF($C$6:$C$28,18,$J$6:$J$28) -> 806.473 | G34: kg
D39: GIÁM SÁT THI CÔNG XÂY DỰNG TRỰC TIẾP | I39: KỸ THUẬT TC XD TRỰC TIẾP
D44: Lê Văn Lộc | I44: Hồ Phước Hải

Sheet Cốt thép ban day(Rach Mieu)
A1: BẢNG TÍNH CỐT THÉP BẢN ĐÁY CỐNG
F2: (Cống Rạch Miễu)
A4: Cấu kiện | B4: Số hiệu | C4: ĐK (mm) | D4: Số cấu kiện | E4: Số thanh | G4: Chiều dài (m) | I4: Trọng lượng riêng (kg/m) | J4: Khối lượng (kg)
E5: 01 CK | F5: Toàn bộ | G5: 01 thanh | H5: Toàn bộ
A6: BẢN ĐÁY | B6: 1 | C6: 18 | D6: 1 | E6: 82 | F6: =D6*E6 -> 82 | G6: 4.8 | H6: =ROUND(F6*G6,3) -> 393.6 | I6: =ROUND(3.1416*(C6/1000)^2/4*7850*1,3) -> 1.998 | J6: =ROUND(H6*I6,3) -> 786.413
B7: 2 | C7: 18 | D7: 1 | E7: 6 | F7: =D7*E7 -> 6 | G7: 3.75 | H7: =ROUND(F7*G7,3) -> 22.5 | I7: =ROUND(3.1416*(C7/1000)^2/4*7850*1,3) -> 1.998 | J7: =ROUND(H7*I7,3) -> 44.955 | K7: =5.64+1.86 -> 7.5 | L7: =+K7/2 -> 3.75
B8: 3 | C8: 18 | D8: 1 | E8: 10 | F8: =D8*E8 -> 10 | G8: 9.9 | H8: =ROUND(F8*G8,3) -> 99 | I8: =ROUND(3.1416*(C8/1000)^2/4*7850*1,3) -> 1.998 | J8: =ROUND(H8*I8,3) -> 197.802
B9: 4 | C9: 12 | D9: 1 | E9: 76 | F9: =D9*E9 -> 76 | G9: 3.78 | H9: =ROUND(F9*G9,3) -> 287.28 | I9: =ROUND(3.1416*(C9/1000)^2/4*7850*1,3) -> 0.888 | J9: =ROUND(H9*I9,3) -> 255.105
B10: 5 | C10: 12 | D10: 1 | E10: 29 | F10: =D10*E10 -> 29 | G10: 18.76 | H10: =ROUND(F10*G10,3) -> 544.04 | I10: =ROUND(3.1416*(C10/1000)^2/4*7850*1,3) -> 0.888 | J10: =ROUND(H10*I10,3) -> 483.108
B11: 6 | C11: 12 | D11: 1 | E11: 58 | F11: =D11*E11 -> 58 | G11: 1.7 | H11: =ROUND(F11*G11,3) -> 98.6 | I11: =ROUND(3.1416*(C11/1000)^2/4*7850*1,3) -> 0.888 | J11: =ROUND(H11*I11,3) -> 87.557
B12: 7 | C12: 12 | D12: 1 | E12: 96 | F12: =D12*E12 -> 96 | G12: 4.8 | H12: =ROUND(F12*G12,3) -> 460.8 | I12: =ROUND(3.1416*(C12/1000)^2/4*7850*1,3) -> 0.888 | J12: =ROUND(H12*I12,3) -> 409.19
B13: 7a | C13: 12 | D13: 1 | E13: 17 | F13: =D13*E13 -> 17 | G13: 1.6 | H13: =ROUND(F13*G13,3) -> 27.2 | I13: =ROUND(3.1416*(C13/1000)^2/4*7850*1,3) -> 0.888 | J13: =ROUND(H13*I13,3) -> 24.154
B14: 8 | C14: 12 | D14: 1 | E14: 6 | F14: =D14*E14 -> 6 | G14: 3.75 | H14: =ROUND(F14*G14,3) -> 22.5 | I14: =ROUND(3.1416*(C14/1000)^2/4*7850*1,3) -> 0.888 | J14: =ROUND(H14*I14,3) -> 19.98
B15: 9 | C15: 12 | D15: 1 | E15: 15 | F15: =D15*E15 -> 15 | G15: 9.9 | H15: =ROUND(F15*G15,3) -> 148.5 | I15: =ROUND(3.1416*(C15/1000)^2/4*7850*1,3) -> 0.888 | J15: =ROUND(H15*I15,3) -> 131.868
B16: 10 | C16: 12 | D16: 1 | E16: 20 | F16: =D16*E16 -> 20 | G16: 12.89 | H16: =ROUND(F16*G16,3) -> 257.8 | I16: =ROUND(3.1416*(C16/1000)^2/4*7850*1,3) -> 0.888 | J16: =ROUND(H16*I16,3) -> 228.926
B17: 10a | C17: 12 | D17: 1 | E17: 30 | F17: =D17*E17 -> 30 | G17: 1.92 | H17: =ROUND(F17*G17,3) -> 57.6 | I17: =ROUND(3.1416*(C17/1000)^2/4*7850*1,3) -> 0.888 | J17: =ROUND(H17*I17,3) -> 51.149
B18: 10b | C18: 12 | D18: 1 | E18: 20 | F18: =D18*E18 -> 20 | G18: 3.17 | H18: =ROUND(F18*G18,3) -> 63.4 | I18: =ROUND(3.1416*(C18/1000)^2/4*7850*1,3) -> 0.888 | J18: =ROUND(H18*I18,3) -> 56.299
B19: 10c | C19: 12 | D19: 1 | E19: 20 | F19: =D19*E19 -> 20 | G19: 2.41 | H19: =ROUND(F19*G19,3) -> 48.2 | I19: =ROUND(3.1416*(C19/1000)^2/4*7850*1,3) -> 0.888 | J19: =ROUND(H19*I19,3) -> 42.802
B20: 10d | C20: 12 | D20: 1 | E20: 3 | F20: =D20*E20 -> 3 | G20: 5.41 | H20: =ROUND(F20*G20,3) -> 16.23 | I20: =ROUND(3.1416*(C20/1000)^2/4*7850*1,3) -> 0.888 | J20: =ROUND(H20*I20,3) -> 14.412
B21: 10e | C21: 12 | D21: 1 | E21: 3 | F21: =D21*E21 -> 3 | G21: 4.1 | H21: =ROUND(F21*G21,3) -> 12.3 | I21: =ROUND(3.1416*(C21/1000)^2/4*7850*1,3) -> 0.888 | J21: =ROUND(H21*I21,3) -> 10.922
B22: 11 | C22: 12 | D22: 1 | E22: 20 | F22: =D22*E22 -> 20 | G22: 1.6 | H22: =ROUND(F22*G22,3) -> 32 | I22: =ROUND(3.1416*(C22/1000)^2/4*7850*1,3) -> 0.888 | J22: =ROUND(H22*I22,3) -> 28.416
B23: 12 | C23: 12 | D23: 1 | E23: 20 | F23: =D23*E23 -> 20 | G23: 1.86 | H23: =ROUND(F23*G23,3) -> 37.2 | I23: =ROUND(3.1416*(C23/1000)^2/4*7850*1,3) -> 0.888 | J23: =ROUND(H23*I23,3) -> 33.034
B24: 13 | C24: 12 | D24: 1 | E24: 20 | F24: =D24*E24 -> 20 | G24: 5.23 | H24: =ROUND(F24*G24,3) -> 104.6 | I24: =ROUND(3.1416*(C24/1000)^2/4*7850*1,3) -> 0.888 | J24: =ROUND(H24*I24,3) -> 92.885
B26: 1/. Tổng hợp cốt thép:
B27: + Cốt thép D=12mm: | F27: =SUMIF($C$6:$C$24,12,$J$6:$J$24) -> 1969.807 | G27: kg
B28: + Cốt thép D=18mm: | F28: =SUMIF($C$6:$C$24,18,$J$6:$J$24) -> 1029.17 | G28: kg
D30: GIÁM SÁT THI CÔNG XÂY DỰNG TRỰC TIẾP | I30: KỸ THUẬT TC XD TRỰC TIẾP
D35: Lê Văn Lộc | I35: Hồ Phước Hải

Sheet Cốt thép ban day(Lồ Ồ) (2)
A1: BẢNG TÍNH CỐT THÉP BẢN ĐÁY CỐNG
G2: (Cống Lồ Ồ)
A4: Cấu kiện | B4: Số hiệu | C4: ĐK (mm) | D4: Số cấu kiện | F4: Số thanh | I4: Chiều dài (m) | K4: Trọng lượng riêng (kg/m) | L4: Khối lượng (kg)
F5: 01 CK | G5: Toàn bộ | I5: 01 thanh | J5: Toàn bộ
A6: BẢN ĐÁY | B6: 1 | C6: 18 | D6: 1 | E6: =17.66/0.2+1 -> 89.3 | F6: 90 | G6: =D6*F6 -> 90 | H6: 4.8 | I6: 4.8 | J6: =ROUND(G6*I6,3) -> 432 | K6: =ROUND(3.1416*(C6/1000)^2/4*7850*1,3) -> 1.998 | L6: =ROUND(J6*K6,3) -> 863.136
B7: 2 | C7: 18 | D7: =+D6 -> 1 | E7: =1.63/0.2 -> 8.15 | F7: 8 | G7: =D7*F7 -> 8 | H7: =+(4.6+2)/2 -> 3.3 | I7: 3.15 | J7: =ROUND(G7*I7,3) -> 25.2 | K7: =ROUND(3.1416*(C7/1000)^2/4*7850*1,3) -> 1.998 | L7: =ROUND(J7*K7,3) -> 50.35
B8: 3 | C8: 18 | D8: =+D7 -> 1 | E8: =1.5/0.2+1 -> 8.5 | F8: 9 | G8: =D8*F8 -> 9 | H8: 9.71 | I8: 9.71 | J8: =ROUND(G8*I8,3) -> 87.39 | K8: =ROUND(3.1416*(C8/1000)^2/4*7850*1,3) -> 1.998 | L8: =ROUND(J8*K8,3) -> 174.605
B9: 4 | C9: 12 | D9: =+D8 -> 1 | E9: =9.81/0.2+1+4.9/0.2+1 -> 75.55 | F9: 75 | G9: =D9*F9 -> 75 | I9: 3.75 | J9: =ROUND(G9*I9,3) -> 281.25 | K9: =ROUND(3.1416*(C9/1000)^2/4*7850*1,3) -> 0.888 | L9: =ROUND(J9*K9,3) -> 249.75
B10: 5 | C10: 12 | D10: =+D9 -> 1 | E10: =4.9/0.2+1+4 -> 29.5 | F10: 29 | G10: =D10*F10 -> 29 | H10: =17.6+1.63 -> 19.23 | I10: 21.25 | J10: =ROUND(G10*I10,3) -> 616.25 | K10: =ROUND(3.1416*(C10/1000)^2/4*7850*1,3) -> 0.888 | L10: =ROUND(J10*K10,3) -> 547.23 | M10: + 4 cây lớp trên
B11: 6 | C11: 12 | D11: =+D10 -> 1 | E11: =9.81/0.2+1 -> 50.05 | F11: 50 | G11: =D11*F11 -> 50 | I11: 1.7 | J11: =ROUND(G11*I11,3) -> 85 | K11: =ROUND(3.1416*(C11/1000)^2/4*7850*1,3) -> 0.888 | L11: =ROUND(J11*K11,3) -> 75.48
B12: 7 | C12: 12 | D12: =+D11 -> 1 | E12: =+(17.66+1.63)/0.2+4 -> 100.45 | F12: 102 | G12: =D12*F12 -> 102 | I12: 4.8 | J12: =ROUND(G12*I12,3) -> 489.6 | K12: =ROUND(3.1416*(C12/1000)^2/4*7850*1,3) -> 0.888 | L12: =ROUND(J12*K12,3) -> 434.765
B13: 7a | C13: 12 | D13: =+D12 -> 1 | E13: =4.79/0.2+1 -> 24.95 | F13: 18 | G13: =D13*F13 -> 18 | I13: 1.2 | J13: =ROUND(G13*I13,3) -> 21.6 | K13: =ROUND(3.1416*(C13/1000)^2/4*7850*1,3) -> 0.888 | L13: =ROUND(J13*K13,3) -> 19.181 | M13: tính 1 bên??
B14: 7b | C14: 12 | D14: =+D13 -> 1 | E14: 3 | F14: 3 | G14: =D14*F14 -> 3 | I14: 4.83 | J14: =ROUND(G14*I14,3) -> 14.49 | K14: =ROUND(3.1416*(C14/1000)^2/4*7850*1,3) -> 0.888 | L14: =ROUND(J14*K14,3) -> 12.867 | M14: tính 1 bên??
B15: 7c | C15: 12 | D15: =+D14 -> 1 | E15: 3 | F15: 3 | G15: =D15*F15 -> 3 | I15: 3.95 | J15: =ROUND(G15*I15,3) -> 11.85 | K15: =ROUND(3.1416*(C15/1000)^2/4*7850*1,3) -> 0.888 | L15: =ROUND(J15*K15,3) -> 10.523 | M15: tính 1 bên??
B16: 8 | C16: 12 | D16: =+D15 -> 1 | E16: =1.63/0.2 -> 8.15 | F16: 8 | G16: =D16*F16 -> 8 | I16: 3.1 | J16: =ROUND(G16*I16,3) -> 24.8 | K16: =ROUND(3.1416*(C16/1000)^2/4*7850*1,3) -> 0.888 | L16: =ROUND(J16*K16,3) -> 22.022
B17: 9 | C17: 12 | D17: =+D16 -> 1 | E17: 13 | F17: 13 | G17: =D17*F17 -> 13 | I17: 9.71 | J17: =ROUND(G17*I17,3) -> 126.23 | K17: =ROUND(3.1416*(C17/1000)^2/4*7850*1,3) -> 0.888 | L17: =ROUND(J17*K17,3) -> 112.092
B18: 10 | C18: 12 | D18: =+D17 -> 1 | E18: =3.5/0.2+1 -> 18.5 | F18: 19 | G18: =D18*F18 -> 19 | I18: 13.68 | J18: =ROUND(G18*I18,3) -> 259.92 | K18: =ROUND(3.1416*(C18/1000)^2/4*7850*1,3) -> 0.888 | L18: =ROUND(J18*K18,3) -> 230.809
B19: 10a | C19: 12 | D19: =+D18 -> 1 | E19: =3.3/0.2 -> 16.5 | F19: 15 | G19: =D19*F19 -> 15 | I19: 1.92 | J19: =ROUND(G19*I19,3) -> 28.8 | K19: =ROUND(3.1416*(C19/1000)^2/4*7850*1,3) -> 0.888 | L19: =ROUND(J19*K19,3) -> 25.574
B20: 11 | C20: 12 | D20: =+D19 -> 1 | E20: =3.5/0.2+1 -> 18.5 | F20: 19 | G20: =D20*F20 -> 19 | I20: 1.6 | J20: =ROUND(G20*I20,3) -> 30.4 | K20: =ROUND(3.1416*(C20/1000)^2/4*7850*1,3) -> 0.888 | L20: =ROUND(J20*K20,3) -> 26.995
B21: 12 | C21: 12 | D21: =+D20 -> 1 | E21: =3.5/0.2+1 -> 18.5 | F21: 19 | G21: =D21*F21 -> 19 | I21: 1.06 | J21: =ROUND(G21*I21,3) -> 20.14 | K21: =ROUND(3.1416*(C21/1000)^2/4*7850*1,3) -> 0.888 | L21: =ROUND(J21*K21,3) -> 17.884
B22: 12a | C22: 12 | D22: =+D21 -> 1 | E22: =3.5/0.2+1 -> 18.5 | F22: 19 | G22: =D22*F22 -> 19 | I22: 3.17 | J22: =ROUND(G22*I22,3) -> 60.23 | K22: =ROUND(3.1416*(C22/1000)^2/4*7850*1,3) -> 0.888 | L22: =ROUND(J22*K22,3) -> 53.484
B23: 12b | C23: 12 | D23: =+D22 -> 1 | E23: =3.5/0.2+1 -> 18.5 | F23: 19 | G23: =D23*F23 -> 19 | I23: 2.41 | J23: =ROUND(G23*I23,3) -> 45.79 | K23: =ROUND(3.1416*(C23/1000)^2/4*7850*1,3) -> 0.888 | L23: =ROUND(J23*K23,3) -> 40.662
B24: 13 | C24: 12 | D24: =+D23 -> 1 | E24: =3.5/0.2+1 -> 18.5 | F24: 19 | G24: =D24*F24 -> 19 | I24: 4.925 | J24: =ROUND(G24*I24,3) -> 93.575 | K24: =ROUND(3.1416*(C24/1000)^2/4*7850*1,3) -> 0.888 | L24: =ROUND(J24*K24,3) -> 83.095
B25: 13a | C25: 12 | D25: =+D24 -> 1 | E25: =3/0.2 -> 15 | F25: 15 | G25: =D25*F25 -> 15 | I25: 1.92 | J25: =ROUND(G25*I25,3) -> 28.8 | K25: =ROUND(3.1416*(C25/1000)^2/4*7850*1,3) -> 0.888 | L25: =ROUND(J25*K25,3) -> 25.574
B27: 1/. Tổng hợp cốt thép:
B28: + Cốt thép D=12mm: | G28: =SUMIF($C$6:$C$25,12,$L$6:$L$25) -> 1987.987 | I28: kg
B29: + Cốt thép D=18mm: | G29: =SUMIF($C$6:$C$25,18,$L$6:$L$25) -> 1088.091 | I29: kg
D31: KỸ THUẬT THI CÔNG TRỰC TIẾP | K31: GIÁM SÁT KỸ THUẬT
D36: Hồ Phước Hải | K36: Lê Văn Lộc

Sheet Cốt thép mặt cầu(Lồ Ồ)
A1: BẢNG TÍNH CỐT THÉP MẶT CẦU CỐNG RẠCH LỒ Ô
A4: Cấu kiện | B4: Số hiệu | C4: ĐK (mm) | D4: Số cấu kiện | E4: Số thanh | G4: Chiều dài (m) | I4: Trọng lượng riêng (kg/m) | J4: Khối lượng (kg)
E5: 01 CK | F5: Toàn bộ | G5: 01 thanh | H5: Toàn bộ
A6: MẶT CẦU | B6: 14 | C6: 18 | D6: 1 | E6: 80 | F6: =D6*E6 -> 80 | G6: 5.94 | H6: =ROUND(F6*G6,3) -> 475.2 | I6: =ROUND(3.1416*(C6/1000)^2/4*7850*1,3) -> 1.998 | J6: =ROUND(H6*I6,3) -> 949.45 | L6: 500
B7: =+B6+1 -> 15 | C7: 12 | D7: =+D6 -> 1 | E7: 34 | F7: =D7*E7 -> 34 | G7: 7.78 | H7: =ROUND(F7*G7,3) -> 264.52 | I7: =ROUND(3.1416*(C7/1000)^2/4*7850*1,3) -> 0.888 | J7: =ROUND(H7*I7,3) -> 234.894 | L7: 491
B8: =+B7+1 -> 16 | C8: 12 | D8: =+D7 -> 1 | E8: 8 | F8: =D8*E8 -> 8 | G8: 4.74 | H8: =ROUND(F8*G8,3) -> 37.92 | I8: =ROUND(3.1416*(C8/1000)^2/4*7850*1,3) -> 0.888 | J8: =ROUND(H8*I8,3) -> 33.673 | L8: 546.5
B9: =+B8+1 -> 17 | C9: 12 | D9: =+D8 -> 1 | E9: 50 | F9: =D9*E9 -> 50 | G9: 1.9 | H9: =ROUND(F9*G9,3) -> 95 | I9: =ROUND(3.1416*(C9/1000)^2/4*7850*1,3) -> 0.888 | J9: =ROUND(H9*I9,3) -> 84.36 | L9: 620
B10: =+B9+1 -> 18 | C10: 12 | D10: =+D9 -> 1 | E10: 50 | F10: =D10*E10 -> 50 | G10: 0.77 | H10: =ROUND(F10*G10,3) -> 38.5 | I10: =ROUND(3.1416*(C10/1000)^2/4*7850*1,3) -> 0.888 | J10: =ROUND(H10*I10,3) -> 34.188 | L10: 608
A11: Lưới thép | B11: 68 | C11: 6 | D11: 1 | E11: 43 | F11: =D11*E11 -> 43 | G11: 6.78 | H11: =ROUND(F11*G11,3) -> 291.54 | I11: =ROUND(3.1416*(C11/1000)^2/4*7850*1,3) -> 0.222 | J11: =ROUND(H11*I11,3) -> 64.722
B12: 69 | C12: 6 | D12: 1 | E12: 68 | F12: =D12*E12 -> 68 | G12: 4.83 | H12: =ROUND(F12*G12,3) -> 328.44 | I12: =ROUND(3.1416*(C12/1000)^2/4*7850*1,3) -> 0.222 | J12: =ROUND(H12*I12,3) -> 72.914
B14: 1/. Tổng hợp cốt thép:
B15: + Cốt thép D=6mm: | F15: =SUMIF($C$6:$C$12,6,$J$6:$J$12) -> 137.636 | G15: kg
B16: + Cốt thép D=12mm: | F16: =SUMIF($C$6:$C$12,12,$J$6:$J$12) -> 387.115 | G16: kg
B17: + Cốt thép D=18mm: | F17: =SUMIF($C$6:$C$12,18,$J$6:$J$12) -> 949.45 | G17: kg
D19: KỸ THUẬT THI CÔNG TRỰC TIẾP | I19: GIÁM SÁT KỸ THUẬT
D24: Phan Văn Khánh | I24: Nguyễn Phạm Hoài Linh

Sheet CThép TUONG canh(Lồ Ồ) sông
A1: BẢNG TÍNH CỐT THÉP TƯỜNG CỐNG RẠCH LỒ Ô
A4: Cấu kiện | B4: Số hiệu | C4: ĐK (mm) | D4: Số cấu kiện | E4: Số thanh | G4: Chiều dài (m) | I4: Trọng lượng riêng (kg/m) | J4: Khối lượng (kg)
E5: 01 CK | F5: Toàn bộ | G5: 01 thanh | H5: Toàn bộ
A6: TƯỜNG CÁNH PHÍA SÔNG | B6: 25 | C6: 10 | D6: 1 | E6: 16 | F6: =D6*E6 -> 16 | G6: 2.8 | H6: =ROUND(F6*G6,3) -> 44.8 | I6: =ROUND(3.1416*(C6/1000)^2/4*7850*1,3) -> 0.617 | J6: =ROUND(H6*I6,3) -> 27.642
B7: 26 | C7: 10 | D7: =+D6 -> 1 | E7: 9 | F7: =D7*E7 -> 9 | G7: 2.005 | H7: =ROUND(F7*G7,3) -> 18.045 | I7: =ROUND(3.1416*(C7/1000)^2/4*7850*1,3) -> 0.617 | J7: =ROUND(H7*I7,3) -> 11.134
B8: 27 | C8: 10 | D8: =+D7 -> 1 | E8: 79 | F8: =D8*E8 -> 79 | G8: 1.2 | H8: =ROUND(F8*G8,3) -> 94.8 | I8: =ROUND(3.1416*(C8/1000)^2/4*7850*1,3) -> 0.617 | J8: =ROUND(H8*I8,3) -> 58.492
B9: 28 | C9: 10 | D9: =+D8 -> 1 | E9: 6 | F9: =D9*E9 -> 6 | G9: 20.7 | H9: =ROUND(F9*G9,3) -> 124.2 | I9: =ROUND(3.1416*(C9/1000)^2/4*7850*1,3) -> 0.617 | J9: =ROUND(H9*I9,3) -> 76.631
B10: 29 | C10: 10 | D10: =+D9 -> 1 | E10: 16 | F10: =D10*E10 -> 16 | G10: 4.225 | H10: =ROUND(F10*G10,3) -> 67.6 | I10: =ROUND(3.1416*(C10/1000)^2/4*7850*1,3) -> 0.617 | J10: =ROUND(H10*I10,3) -> 41.709
B11: 30 | C11: 16 | D11: =+D10 -> 1 | E11: 16 | F11: =D11*E11 -> 16 | G11: 2.8 | H11: =ROUND(F11*G11,3) -> 44.8 | I11: =ROUND(3.1416*(C11/1000)^2/4*7850*1,3) -> 1.578 | J11: =ROUND(H11*I11,3) -> 70.694
B12: 31 | C12: 16 | D12: =+D11 -> 1 | E12: 9 | F12: =D12*E12 -> 9 | G12: 2.005 | H12: =ROUND(F12*G12,3) -> 18.045 | I12: =ROUND(3.1416*(C12/1000)^2/4*7850*1,3) -> 1.578 | J12: =ROUND(H12*I12,3) -> 28.475
B13: 32 | C13: 16 | D13: =+D12 -> 1 | E13: 77 | F13: =D13*E13 -> 77 | G13: 1.2 | H13: =ROUND(F13*G13,3) -> 92.4 | I13: =ROUND(3.1416*(C13/1000)^2/4*7850*1,3) -> 1.578 | J13: =ROUND(H13*I13,3) -> 145.807
B14: 33 | C14: 10 | D14: =+D13 -> 1 | E14: 6 | F14: =D14*E14 -> 6 | G14: 20.51 | H14: =ROUND(F14*G14,3) -> 123.06 | I14: =ROUND(3.1416*(C14/1000)^2/4*7850*1,3) -> 0.617 | J14: =ROUND(H14*I14,3) -> 75.928
B15: 39 | C15: 12 | D15: 1 | E15: 8 | F15: =D15*E15 -> 8 | G15: 2.8 | H15: =ROUND(F15*G15,3) -> 22.4 | I15: =ROUND(3.1416*(C15/1000)^2/4*7850*1,3) -> 0.888 | J15: =ROUND(H15*I15,3) -> 19.891
B16: 40 | C16: 12 | D16: =+D15 -> 1 | E16: 36 | F16: =D16*E16 -> 36 | G16: 1.715 | H16: =ROUND(F16*G16,3) -> 61.74 | I16: =ROUND(3.1416*(C16/1000)^2/4*7850*1,3) -> 0.888 | J16: =ROUND(H16*I16,3) -> 54.825
B17: 41 | C17: 18 | D17: =+D16 -> 1 | E17: 5 | F17: =D17*E17 -> 5 | G17: 4.4 | H17: =ROUND(F17*G17,3) -> 22 | I17: =ROUND(3.1416*(C17/1000)^2/4*7850*1,3) -> 1.998 | J17: =ROUND(H17*I17,3) -> 43.956
B18: 42 | C18: 18 | D18: =+D17 -> 1 | E18: 9 | F18: =D18*E18 -> 9 | G18: 2.945 | H18: =ROUND(F18*G18,3) -> 26.505 | I18: =ROUND(3.1416*(C18/1000)^2/4*7850*1,3) -> 1.998 | J18: =ROUND(H18*I18,3) -> 52.957
B19: 43 | C19: 12 | D19: =+D18 -> 1 | E19: 5 | F19: =D19*E19 -> 5 | G19: 4.4 | H19: =ROUND(F19*G19,3) -> 22 | I19: =ROUND(3.1416*(C19/1000)^2/4*7850*1,3) -> 0.888 | J19: =ROUND(H19*I19,3) -> 19.536
B20: 44 | C20: 12 | D20: =+D19 -> 1 | E20: 9 | F20: =D20*E20 -> 9 | G20: 2.945 | H20: =ROUND(F20*G20,3) -> 26.505 | I20: =ROUND(3.1416*(C20/1000)^2/4*7850*1,3) -> 0.888 | J20: =ROUND(H20*I20,3) -> 23.536
B21: 45 | C21: 16 | D21: 9 | E21: 4 | F21: =D21*E21 -> 36 | G21: 0.45 | H21: =ROUND(F21*G21,3) -> 16.2 | I21: =ROUND(3.1416*(C21/1000)^2/4*7850*1,3) -> 1.578 | J21: =ROUND(H21*I21,3) -> 25.564
B23: 1/. Tổng hợp cốt thép:
B24: + Cốt thép D=10mm: | F24: =SUMIF($C$6:$C$21,10,$J$6:$J$21) -> 291.536 | G24: kg
B25: + Cốt thép D=12mm: | F25: =SUMIF($C$6:$C$21,12,$J$6:$J$21) -> 117.788 | G25: kg | K25: =+F25+'Cthép ban day canh(Lồ Ồ) sông'!F26+'Cthép tương canh(Lồ Ồ) đồng'!F14+'Cthép ban day canh(Lồ Ồ) đồng'!F14 -> 732.702
B26: + Cốt thép D=16mm: | F26: =SUMIF($C$6:$C$21,16,$J$6:$J$21) -> 270.54 | G26: kg | K26: =+F26+'Cthép ban day canh(Lồ Ồ) sông'!F27 -> 714.511
B27: + Cốt thép D=18mm: | F27: =SUMIF($C$6:$C$21,18,$J$6:$J$21) -> 96.913 | G27: kg | K27: =+F27+'Cthép ban day canh(Lồ Ồ) sông'!F28+'Cthép tương canh(Lồ Ồ) đồng'!F15+'Cthép ban day canh(Lồ Ồ) đồng'!F15 -> 1070.858
D29: KỸ THUẬT THI CÔNG TRỰC TIẾP | I29: GIÁM SÁT KỸ THUẬT
D34: Phan Văn Khánh | I34: Nguyễn Phạm Hoài Linh

Sheet Cthép ban day canh(Lồ Ồ) sông
A1: BẢNG TÍNH CỐT THÉP BẢN ĐÁY TƯỜNG CÁNH CỐNG RẠCH LỒ Ô
A4: Cấu kiện | B4: Số hiệu | C4: ĐK (mm) | D4: Số cấu kiện | E4: Số thanh | G4: Chiều dài (m) | I4: Trọng lượng riêng (kg/m) | J4: Khối lượng (kg)
E5: 01 CK | F5: Toàn bộ | G5: 01 thanh | H5: Toàn bộ
A6: BẢN ĐÁY PHÍA SÔNG | B6: 13 | C6: 10 | D6: 1 | E6: 16 | F6: =D6*E6 -> 16 | G6: 1.7 | H6: =ROUND(F6*G6,3) -> 27.2 | I6: =ROUND(3.1416*(C6/1000)^2/4*7850*1,3) -> 0.617 | J6: =ROUND(H6*I6,3) -> 16.782
B7: 14 | C7: 10 | D7: =+D6 -> 1 | E7: 63 | F7: =D7*E7 -> 63 | G7: 0.9 | H7: =ROUND(F7*G7,3) -> 56.7 | I7: =ROUND(3.1416*(C7/1000)^2/4*7850*1,3) -> 0.617 | J7: =ROUND(H7*I7,3) -> 34.984
B8: 15 | C8: 10 | D8: =+D7 -> 1 | E8: 23 | F8: =D8*E8 -> 23 | G8: 0.55 | H8: =ROUND(F8*G8,3) -> 12.65 | I8: =ROUND(3.1416*(C8/1000)^2/4*7850*1,3) -> 0.617 | J8: =ROUND(H8*I8,3) -> 7.805
B9: 16 | C9: 10 | D9: =+D8 -> 1 | E9: 6 | F9: =D9*E9 -> 6 | G9: 16.155 | H9: =ROUND(F9*G9,3) -> 96.93 | I9: =ROUND(3.1416*(C9/1000)^2/4*7850*1,3) -> 0.617 | J9: =ROUND(H9*I9,3) -> 59.806 | K9: BẢN ĐÁY PHÍA ĐỒNG
B10: 17 | C10: 10 | D10: =+D9 -> 1 | E10: 8 | F10: =D10*E10 -> 8 | G10: 2.9 | H10: =ROUND(F10*G10,3) -> 23.2 | I10: =ROUND(3.1416*(C10/1000)^2/4*7850*1,3) -> 0.617 | J10: =ROUND(H10*I10,3) -> 14.314
B11: 18 | C11: 10 | D11: =+D10 -> 1 | E11: 4 | F11: =D11*E11 -> 4 | G11: 5.01 | H11: =ROUND(F11*G11,3) -> 20.04 | I11: =ROUND(3.1416*(C11/1000)^2/4*7850*1,3) -> 0.617 | J11: =ROUND(H11*I11,3) -> 12.365
B12: 19 | C12: 10 | D12: =+D11 -> 1 | E12: 6 | F12: =D12*E12 -> 6 | G12: 2.86 | H12: =ROUND(F12*G12,3) -> 17.16 | I12: =ROUND(3.1416*(C12/1000)^2/4*7850*1,3) -> 0.617 | J12: =ROUND(H12*I12,3) -> 10.588
B13: 20 | C13: 10 | D13: =+D12 -> 1 | E13: 2 | F13: =D13*E13 -> 2 | G13: 5.84 | H13: =ROUND(F13*G13,3) -> 11.68 | I13: =ROUND(3.1416*(C13/1000)^2/4*7850*1,3) -> 0.617 | J13: =ROUND(H13*I13,3) -> 7.207
B14: 21 | C14: 16 | D14: =+D13 -> 1 | E14: 16 | F14: =D14*E14 -> 16 | G14: 1.7 | H14: =ROUND(F14*G14,3) -> 27.2 | I14: =ROUND(3.1416*(C14/1000)^2/4*7850*1,3) -> 1.578 | J14: =ROUND(H14*I14,3) -> 42.922
B15: 22 | C15: 16 | D15: =+D14 -> 1 | E15: 63 | F15: =D15*E15 -> 63 | G15: 0.9 | H15: =ROUND(F15*G15,3) -> 56.7 | I15: =ROUND(3.1416*(C15/1000)^2/4*7850*1,3) -> 1.578 | J15: =ROUND(H15*I15,3) -> 89.473
B16: 23 | C16: 16 | D16: =+D15 -> 1 | E16: 23 | F16: =D16*E16 -> 23 | G16: 0.55 | H16: =ROUND(F16*G16,3) -> 12.65 | I16: =ROUND(3.1416*(C16/1000)^2/4*7850*1,3) -> 1.578 | J16: =ROUND(H16*I16,3) -> 19.962
B17: 24 | C17: 10 | D17: =+D16 -> 1 | E17: 6 | F17: =D17*E17 -> 6 | G17: 16.155 | H17: =ROUND(F17*G17,3) -> 96.93 | I17: =ROUND(3.1416*(C17/1000)^2/4*7850*1,3) -> 0.617 | J17: =ROUND(H17*I17,3) -> 59.806
B18: 34 | C18: 16 | D18: 1 | E18: 105 | F18: =D18*E18 -> 105 | G18: 1.76 | H18: =ROUND(F18*G18,3) -> 184.8 | I18: =ROUND(3.1416*(C18/1000)^2/4*7850*1,3) -> 1.578 | J18: =ROUND(H18*I18,3) -> 291.614
B19: 35 | C19: 18 | D19: =+D18 -> 1 | E19: 4 | F19: =D19*E19 -> 4 | G19: 4.97 | H19: =ROUND(F19*G19,3) -> 19.88 | I19: =ROUND(3.1416*(C19/1000)^2/4*7850*1,3) -> 1.998 | J19: =ROUND(H19*I19,3) -> 39.72
B20: 36 | C20: 18 | D20: =+D19 -> 1 | E20: 14 | F20: =D20*E20 -> 14 | G20: 2.855 | H20: =ROUND(F20*G20,3) -> 39.97 | I20: =ROUND(3.1416*(C20/1000)^2/4*7850*1,3) -> 1.998 | J20: =ROUND(H20*I20,3) -> 79.86
B21: 37 | C21: 12 | D21: =+D20 -> 1 | E21: 44 | F21: =D21*E21 -> 44 | G21: 1.08 | H21: =ROUND(F21*G21,3) -> 47.52 | I21: =ROUND(3.1416*(C21/1000)^2/4*7850*1,3) -> 0.888 | J21: =ROUND(H21*I21,3) -> 42.198
B22: 38 | C22: 18 | D22: =+D21 -> 1 | E22: 2 | F22: =D22*E22 -> 2 | G22: 5.38 | H22: =ROUND(F22*G22,3) -> 10.76 | I22: =ROUND(3.1416*(C22/1000)^2/4*7850*1,3) -> 1.998 | J22: =ROUND(H22*I22,3) -> 21.498
B24: 1/. Tổng hợp cốt thép:
B25: + Cốt thép D=10mm: | F25: =SUMIF($C$6:$C$22,10,$J$6:$J$22) -> 223.657 | G25: kg
B26: + Cốt thép D=12mm: | F26: =SUMIF($C$6:$C$22,12,$J$6:$J$22) -> 42.198 | G26: kg
B27: + Cốt thép D=16mm: | F27: =SUMIF($C$6:$C$22,16,$J$6:$J$22) -> 443.971 | G27: kg
B28: + Cốt thép D=18mm: | F28: =SUMIF($C$6:$C$22,18,$J$6:$J$22) -> 141.078 | G28: kg
D30: KỸ THUẬT THI CÔNG TRỰC TIẾP | I30: GIÁM SÁT KỸ THUẬT
D35: Phan Văn Khánh | I35: Nguyễn Phạm Hoài Linh

Sheet Cốt thép TUONG canh(Lồ Ồ) (2)
A1: BẢNG TÍNH CỐT THÉP BẢN ĐÁY TƯỜNG CÁNH PHÍA ĐỒNG CỐNG RẠCH LỒ Ô
A4: Cấu kiện | B4: Số hiệu | C4: ĐK (mm) | D4: Số cấu kiện | E4: Số thanh | G4: Chiều dài (m) | I4: Trọng lượng riêng (kg/m) | J4: Khối lượng (kg)
E5: 01 CK | F5: Toàn bộ | G5: 01 thanh | H5: Toàn bộ
A6: BẢN ĐÁY TƯỜNG CÁNH | B6: 1 | C6: 18 | D6: 2 | E6: 4 | F6: =D6*E6 -> 8 | G6: 7.77 | H6: =ROUND(F6*G6,3) -> 62.16 | I6: =ROUND(3.1416*(C6/1000)^2/4*7850*1,3) -> 1.998 | J6: =ROUND(H6*I6,3) -> 124.196
B7: 2 | C7: 18 | D7: 2 | E7: 16 | F7: =D7*E7 -> 32 | G7: 4.245 | H7: =ROUND(F7*G7,3) -> 135.84 | I7: =ROUND(3.1416*(C7/1000)^2/4*7850*1,3) -> 1.998 | J7: =ROUND(H7*I7,3) -> 271.408
B8: 3 | C8: 18 | D8: =+D7 -> 2 | E8: 2 | F8: =D8*E8 -> 4 | G8: 9.15 | H8: =ROUND(F8*G8,3) -> 36.6 | I8: =ROUND(3.1416*(C8/1000)^2/4*7850*1,3) -> 1.998 | J8: =ROUND(H8*I8,3) -> 73.127
B9: 4 | C9: 12 | D9: =+D8 -> 2 | E9: 62 | F9: =D9*E9 -> 124 | G9: 0.905 | H9: =ROUND(F9*G9,3) -> 112.22 | I9: =ROUND(3.1416*(C9/1000)^2/4*7850*1,3) -> 0.888 | J9: =ROUND(H9*I9,3) -> 99.651
B10: 5 | C10: 12 | D10: =+D9 -> 2 | E10: 6 | F10: =D10*E10 -> 12 | G10: 0.85 | H10: =ROUND(F10*G10,3) -> 10.2 | I10: =ROUND(3.1416*(C10/1000)^2/4*7850*1,3) -> 0.888 | J10: =ROUND(H10*I10,3) -> 9.058
B11: 6 | C11: 12 | D11: =+D10 -> 2 | E11: 2 | F11: =D11*E11 -> 4 | G11: 2.17 | H11: =ROUND(F11*G11,3) -> 8.68 | I11: =ROUND(3.1416*(C11/1000)^2/4*7850*1,3) -> 0.888 | J11: =ROUND(H11*I11,3) -> 7.708
B12: 7 | C12: 18 | D12: =+D11 -> 2 | E12: 4 | F12: =D12*E12 -> 8 | G12: 6.9 | H12: =ROUND(F12*G12,3) -> 55.2 | I12: =ROUND(3.1416*(C12/1000)^2/4*7850*1,3) -> 1.998 | J12: =ROUND(H12*I12,3) -> 110.29
B13: 8 | C13: 18 | D13: =+D12 -> 2 | E13: 15 | F13: =D13*E13 -> 30 | G13: 4.235 | H13: =ROUND(F13*G13,3) -> 127.05 | I13: =ROUND(3.1416*(C13/1000)^2/4*7850*1,3) -> 1.998 | J13: =ROUND(H13*I13,3) -> 253.846
B14: 9 | C14: 12 | D14: =+D13 -> 2 | E14: 60 | F14: =D14*E14 -> 120 | G14: 2.23 | H14: =ROUND(F14*G14,3) -> 267.6 | I14: =ROUND(3.1416*(C14/1000)^2/4*7850*1,3) -> 0.888 | J14: =ROUND(H14*I14,3) -> 237.629
B15: 10 | C15: 12 | D15: =+D14 -> 2 | E15: 8 | F15: =D15*E15 -> 16 | G15: 4 | H15: =ROUND(F15*G15,3) -> 64 | I15: =ROUND(3.1416*(C15/1000)^2/4*7850*1,3) -> 0.888 | J15: =ROUND(H15*I15,3) -> 56.832
