Workbook
Name ttt: 'Vocab 1'!$B$2

Sheet Vocab 1
B3: ooo...WORD BOOK…ooo
B7: STT | C7: WORD | D7: TYPE | E7: PRONOUNCE | F7: MEANING | G7: MEMORIZING
B9: 1 | C9: hello | D9: =VLOOKUP(C$9,data!$B$3:$E$3399, 2, TRUE) -> exclamation, n | E9: =VLOOKUP(C$9,data!$B$3:$E$3399, 3, TRUE) -> hз'lou | F9: =VLOOKUP(C$9,data!$B$3:$E$3399,4, TRUE) -> chào, xin chào; lời chào
C11: =VLOOKUP(C$9,data!$B$3:$F$3399,5, TRUE)
B13: 2 | C13: Red | D13: =VLOOKUP(C$13,data!$B$3:$E$3399, 2, TRUE) -> adj, n | E13: =VLOOKUP(C$13,data!$B$3:$E$3399, 3, TRUE) -> red | F13: =VLOOKUP(C$13,data!$B$3:$E$3399,4, TRUE) -> đỏ; màu đỏ
C15: =VLOOKUP(C$13,data!$B$3:$F$3399,5, TRUE)
B17: 3 | C17: Yellow | D17: =VLOOKUP(C$17,data!$B$3:$E$3399, 2, TRUE) -> adj, n | E17: =VLOOKUP(C$17,data!$B$3:$E$3399, 3, TRUE) -> jelou | F17: =VLOOKUP(C$17,data!$B$3:$E$3399,4, TRUE) -> vàng; màu vàng
B21: 4 | C21: White | D21: =VLOOKUP(C$21,data!$B$3:$E$3399, 2, TRUE) -> adj, n | E21: =VLOOKUP(C$21,data!$B$3:$E$3399, 3, TRUE) -> wai:t | F21: =VLOOKUP(C$21,data!$B$3:$E$3399,4, TRUE) -> trắng; màu trắng
B25: 5 | C25: Black | D25: =VLOOKUP(C$25,data!$B$3:$E$3399, 2, TRUE) -> adj, n | E25: =VLOOKUP(C$25,data!$B$3:$E$3399, 3, TRUE) -> blæk | F25: =VLOOKUP(C$25,data!$B$3:$E$3399,4, TRUE) -> đen; màu đen
B29: 6 | C29: Pink | D29: =VLOOKUP(C$29,data!$B$3:$E$3399, 2, TRUE) -> adj, n | E29: =VLOOKUP(C$29,data!$B$3:$E$3399, 3, TRUE) -> piηk | F29: =VLOOKUP(C$29,data!$B$3:$E$3399,4, TRUE) -> màu hồng; hoa cẩm chướng, tình trạng tốt, hoàn hảo
B33: 7 | C33: hi | D33: =VLOOKUP(C$33,data!$B$3:$E$3399, 2, TRUE) -> exclamation | E33: =VLOOKUP(C$33,data!$B$3:$E$3399, 3, TRUE) -> hai | F33: =VLOOKUP(C$33,data!$B$3:$E$3399,4, TRUE) -> xin chào
B37: 8 | C37: learn | D37: =VLOOKUP(C$37,data!$B$3:$E$3399, 2, TRUE) -> v | E37: =VLOOKUP(C$37,data!$B$3:$E$3399, 3, TRUE) -> lə:n | F37: =VLOOKUP(C$37,data!$B$3:$E$3399,4, TRUE) -> học, nghiên cứu
B41: 9 | C41: up | D41: =VLOOKUP(C$41,data!$B$3:$E$3399, 2, TRUE) -> adv, prep | E41: =VLOOKUP(C$41,data!$B$3:$E$3399, 3, TRUE) -> Λp | F41: =VLOOKUP(C$41,data!$B$3:$E$3399,4, TRUE) -> ở trên, lên trên, lên
B45: 10 | C45: down | D45: =VLOOKUP(C$45,data!$B$3:$E$3399, 2, TRUE) -> adv, prep | E45: =VLOOKUP(C$45,data!$B$3:$E$3399, 3, TRUE) -> daun | F45: =VLOOKUP(C$45,data!$B$3:$E$3399,4, TRUE) -> xuống
B55: WORD BOOK
B59: STT | C59: WORD | D59: TYPE | E59: PRONOUNCE | F59: MEANING | G59: MEMORIZING
B61: 1 | C61: abandon | D61: =VLOOKUP(C$61,data!$B$3:$E$3399, 2, TRUE) -> v | E61: =VLOOKUP(C$61,data!$B$3:$E$3399, 3, TRUE) -> ə'bændən | F61: =VLOOKUP(C$61,data!$B$3:$E$3399,4, TRUE) -> bỏ, từ bỏ
C63: =VLOOKUP(C$61,data!$B$3:$F$3399,5, TRUE) -> Lũ trẻ đang làm sơn bắn tung toé một cách vô tội vạ. The kids are splashing on paint with abandon.
B65: 2 | C65: very | D65: =VLOOKUP(C$65,data!$B$3:$E$3399, 2, TRUE) -> adv | E65: =VLOOKUP(C$65,data!$B$3:$E$3399, 3, TRUE) -> veri | F65: =VLOOKUP(C$65,data!$B$3:$E$3399,4, TRUE) -> rất, lắm
C67: =VLOOKUP(C$65,data!$B$3:$F$3399,5, TRUE) -> I 'm verry hungry - tôi đang rất đói
B69: 3 | C69: cat | D69: =VLOOKUP(C$69,data!$B$3:$E$3399, 2, TRUE) -> n | E69: =VLOOKUP(C$69,data!$B$3:$E$3399, 3, TRUE) -> kæt | F69: =VLOOKUP(C$69,data!$B$3:$E$3399,4, TRUE) -> con mèo
B73: 4 | C73: start | D73: =VLOOKUP(C$73,data!$B$3:$E$3399, 2, TRUE) -> v, n | E73: =VLOOKUP(C$73,data!$B$3:$E$3399, 3, TRUE) -> steə(r) | F73: =VLOOKUP(C$73,data!$B$3:$E$3399,4, TRUE) -> nhìm chằm chằm; sự nhìn chằm chằm
B77: 5 | C77: very | D77: =VLOOKUP(C$77,data!$B$3:$E$3399, 2, TRUE) -> adv | E77: =VLOOKUP(C$77,data!$B$3:$E$3399, 3, TRUE) -> veri | F77: =VLOOKUP(C$77,data!$B$3:$E$3399,4, TRUE) -> rất, lắm
B81: 6 | C81: Hotel | D81: =VLOOKUP(C$81,data!$B$3:$E$3399, 2, TRUE) -> n | E81: =VLOOKUP(C$81,data!$B$3:$E$3399, 3, TRUE) -> hou´tel | F81: =VLOOKUP(C$81,data!$B$3:$E$3399,4, TRUE) -> khách sạn
B85: 7 | C85: hi | D85: =VLOOKUP(C$85,data!$B$3:$E$3399, 2, TRUE) -> exclamation | E85: =VLOOKUP(C$85,data!$B$3:$E$3399, 3, TRUE) -> hai | F85: =VLOOKUP(C$85,data!$B$3:$E$3399,4, TRUE) -> xin chào
B89: 8 | C89: learn | D89: =VLOOKUP(C$89,data!$B$3:$E$3399, 2, TRUE) -> v | E89: =VLOOKUP(C$89,data!$B$3:$E$3399, 3, TRUE) -> lə:n | F89: =VLOOKUP(C$89,data!$B$3:$E$3399,4, TRUE) -> học, nghiên cứu
B93: 9 | C93: up | D93: =VLOOKUP(C$93,data!$B$3:$E$3399, 2, TRUE) -> adv, prep | E93: =VLOOKUP(C$93,data!$B$3:$E$3399, 3, TRUE) -> Λp | F93: =VLOOKUP(C$93,data!$B$3:$E$3399,4, TRUE) -> ở trên, lên trên, lên
B97: 10 | C97: down | D97: =VLOOKUP(C$97,data!$B$3:$E$3399, 2, TRUE) -> adv, prep | E97: =VLOOKUP(C$97,data!$B$3:$E$3399, 3, TRUE) -> daun | F97: =VLOOKUP(C$97,data!$B$3:$E$3399,4, TRUE) -> xuống

Sheet Vocab 2
B3: WORD BOOK
B7: STT | C7: WORD | D7: TYPE | E7: PRONOUNCE | F7: MEANING | G7: MEMORIZING
B9: 1 | C9: very | D9: =VLOOKUP(C$9,data!$B$3:$E$3399, 2, TRUE) -> adv | E9: =VLOOKUP(C$9,data!$B$3:$E$3399, 3, TRUE) -> veri | F9: =VLOOKUP(C$9,data!$B$3:$E$3399,4, TRUE) -> rất, lắm
B13: 2 | C13: hello | D13: =VLOOKUP(C$13,data!$B$3:$E$3399, 2, TRUE) -> exclamation, n | E13: =VLOOKUP(C$13,data!$B$3:$E$3399, 3, TRUE) -> hз'lou | F13: =VLOOKUP(C$13,data!$B$3:$E$3399,4, TRUE) -> chào, xin chào; lời chào
B17: 3 | C17: cat | D17: =VLOOKUP(C$17,data!$B$3:$E$3399, 2, TRUE) -> n | E17: =VLOOKUP(C$17,data!$B$3:$E$3399, 3, TRUE) -> kæt | F17: =VLOOKUP(C$17,data!$B$3:$E$3399,4, TRUE) -> con mèo
B21: 4 | C21: very | D21: =VLOOKUP(C$21,data!$B$3:$E$3399, 2, TRUE) -> adv | E21: =VLOOKUP(C$21,data!$B$3:$E$3399, 3, TRUE) -> veri | F21: =VLOOKUP(C$21,data!$B$3:$E$3399,4, TRUE) -> rất, lắm
B25: 5 | C25: very | D25: =VLOOKUP(C$25,data!$B$3:$E$3399, 2, TRUE) -> adv | E25: =VLOOKUP(C$25,data!$B$3:$E$3399, 3, TRUE) -> veri | F25: =VLOOKUP(C$25,data!$B$3:$E$3399,4, TRUE) -> rất, lắm
B29: 6 | C29: Hotel | D29: =VLOOKUP(C$29,data!$B$3:$E$3399, 2, TRUE) -> n | E29: =VLOOKUP(C$29,data!$B$3:$E$3399, 3, TRUE) -> hou´tel | F29: =VLOOKUP(C$29,data!$B$3:$E$3399,4, TRUE) -> khách sạn
B33: 7 | C33: hi | D33: =VLOOKUP(C$33,data!$B$3:$E$3399, 2, TRUE) -> exclamation | E33: =VLOOKUP(C$33,data!$B$3:$E$3399, 3, TRUE) -> hai | F33: =VLOOKUP(C$33,data!$B$3:$E$3399,4, TRUE) -> xin chào
B37: 8 | C37: very | D37: =VLOOKUP(C$37,data!$B$3:$E$3399, 2, TRUE) -> adv | E37: =VLOOKUP(C$37,data!$B$3:$E$3399, 3, TRUE) -> veri | F37: =VLOOKUP(C$37,data!$B$3:$E$3399,4, TRUE) -> rất, lắm
B41: 9 | C41: Test | D41: =VLOOKUP(C$41,data!$B$3:$E$3399, 2, TRUE) -> n, v | E41: =VLOOKUP(C$41,data!$B$3:$E$3399, 3, TRUE) -> test | F41: =VLOOKUP(C$41,data!$B$3:$E$3399,4, TRUE) -> bài kiểm tra, sự thử nghiệm, xét nghiệm; kiểm tra, xét nghiệm, thử nghiệm
B45: 10 | C45: very | D45: =VLOOKUP(C$45,data!$B$3:$E$3399, 2, TRUE) -> adv | E45: =VLOOKUP(C$45,data!$B$3:$E$3399, 3, TRUE) -> veri | F45: =VLOOKUP(C$45,data!$B$3:$E$3399,4, TRUE) -> rất, lắm

Sheet data
A2: No. | B2: Word | C2: Type | D2: Pronounce | E2: Meaning | F2: Example
A3: 1 | B3: A | E3: nhỏ, một ít | F3: Test test
A4: 2 | B4: Abandon | C4: v | D4: ə'bændən | E4: bỏ, từ bỏ | F4: Lũ trẻ đang làm sơn bắn tung toé một cách vô tội vạ. The kids are splashing on paint with abandon.
A5: 3 | B5: Abandoned | C5: adj | D5: ə'bændənd | E5: bị bỏ rơi, bị ruồng bỏ
A6: 4 | B6: Ability | C6: n | D6: ə'biliti | E6: khả năng, năng lực
A7: 5 | B7: Able | C7: adj | D7: eibl | E7: có năng lực, có tài
A8: 6 | B8: About | C8: adv, prep | D8: ə'baut | E8: khoảng, về
A9: 7 | B9: Above | C9: prep, adv | D9: ə'bʌv | E9: ở trên, lên trên
A10: 8 | B10: Abroad | C10: adv | D10: ə'brɔ:d | E10: ở, ra nước ngoài, ngoài trời
A11: 9 | B11: Absence | C11: n | D11: æbsəns | E11: sự vắng mặt
A12: 10 | B12: Absent | C12: adj | D12: æbsənt | E12: vắng mặt, nghỉ
A13: 11 | B13: Absolute | C13: adj | D13: æbsəlu:t | E13: tuyệt đối, hoàn toàn
A14: 12 | B14: Absolutely | C14: adv | D14: æbsəlu:tli | E14: tuyệt đối, hoàn toàn
A15: 13 | B15: Absorb | C15: v | D15: əb'sɔ:b | E15: thu hút, hấp thu, lôi cuốn
A16: 14 | B16: Abuse | C16: n, v | D16: ə'bju:s | E16: lộng hành, lạm dụng
... A65: 63 | B65: Advertisement | C65: n | D65: əd'və:tismənt | E65: quảng cáo
A66: 64 | B66: Advertising | C66: n | E66: sự quảng cáo, nghề quảng cáo
A67: 65 | B67: Advice | C67: n | D67: əd'vais | E67: lời khuyên, lời chỉ bảo
A68: 66 | B68: Advise | C68: v | D68: əd'vaiz | E68: khuyên, khuyên bảo, răn bảo
A69: 67 | B69: Affair | C69: n | D69: ə'feə | E69: việc
A70: 68 | B70: Affect | C70: v | D70: ə'fekt | E70: làm ảnh hưởng, tác động đến
A71: 69 | B71: Affection | C71: n | D71: ə'fekʃn | E71: tình cảm, sự yêu mến
A72: 70 | B72: Afford | C72: v | D72: ə'fɔ:d | E72: có thể, có đủ khả năng, điều kiện (làm gì)
A73: 71 | B73: Afraid | C73: adj | D73: ə'freid | E73: sợ, sợ hãi, hoảng sợ
A74: 72 | B74: After | C74: prep, conj, adv | D74: ɑ:ftə | E74: sau, đằng sau, sau khi
A75: 73 | B75: Afternoon | C75: n | D75: ɑ:ftə'nu:n | E75: buổi chiều
A76: 74 | B76: Afterwards | C76: adv | D76: ɑ:ftəwəd | E76: sau này, về sau, rồi thì, sau đây
A77: 75 | B77: Again | C77: adv | D77: ə'gen | E77: lại, nữa, lần nữa
A78: 76 | B78: Against | C78: prep | D78: ə'geinst | E78: chống lại, phản đối
... A91: 89 | B91: Aircraft | C91: n | D91: eəkrɑ:ft | E91: máy bay, khí cầu
A92: 90 | B92: Airport | C92: n | D92: sân bay, phi trường
A93: 91 | B93: Alarm | C93: n, v | D93: ə'lɑ:m | E93: báo động, báo nguy
A94: 92 | B94: Alarmed | C94: adj | D94: ə'lɑ:m | E94: báo động
A95: 93 | B95: Alarming | C95: adj | D95: ə'lɑ:miɳ | E95: làm lo sợ, làm hốt hoảng, làm sợ hãi
A96: 94 | B96: Alcohol | C96: n | D96: ælkəhɔl | E96: rượu cồn
A97: 95 | B97: Alcoholic | C97: adj, n | D97: ,ælkə'hɔlik | E97: rượu; người nghiện rượu
A98: 96 | B98: Alive | C98: adj | D98: ə'laiv | E98: sống, vẫn còn sống, còn tồn tại
A99: 97 | B99: All | C99: pron, adv | D99: ɔ:l | E99: tất cả
A100: 98 | B100: All Right | C100: adj, adv, exclamation | D100: ɔ:l'rait | E100: tốt, ổn, khỏe mạnh; được
A101: 99 | B101: Allied | C101: adj | D101: ə'laid | E101: liên minh, đồng minh, thông gia
...
