Workbook
Name F1710b: '[1]XAY F16-21'!$N$9
Name F1710n: '[1]XAY F16-21'!$K$9
Name F1710t: '[1]XAY F16-21'!$I$9
Name F1710w: '[1]XAY F16-21'!$M$9
Name F1720n: '[1]XAY F16-21'!$J$9
Name F1720t: '[1]XAY F16-21'!$H$9
Name F1720w: '[1]XAY F16-21'!$L$9
Name F1725o: '[1]XAY F16-21'!$O$9
Name F1730n: '[1]XAY F16-21'!$P$9
Name F17kcpt: '[1]XAY F16-21'!$Q$9
Name F17TTnn: '[1]XAY F16-21'!$T$9
Name F17TTtn: '[1]XAY F16-21'!$S$9
Name F1810b: '[1]XAY F16-21'!$N$588
Name F1810n: '[1]XAY F16-21'!$K$588
Name F1810t: '[1]XAY F16-21'!$I$588
Name F1810w: '[1]XAY F16-21'!$M$588
Name F1820n: '[1]XAY F16-21'!$J$588
Name F1820t: '[1]XAY F16-21'!$H$588
Name F1820w: '[1]XAY F16-21'!$L$588
Name F1825o: '[1]XAY F16-21'!$O$588
Name F1830n: '[1]XAY F16-21'!$P$588
Name F18kcpt: '[1]XAY F16-21'!$Q$588
Name F18TTnn: '[1]XAY F16-21'!$T$588
Name F18TTtn: '[1]XAY F16-21'!$S$588
Name F2410b: '[1]XAY F24-34'!$N$345
Name F2410n: '[1]XAY F24-34'!$K$345
Name F2410t: '[1]XAY F24-34'!$I$345
Name F2410w: '[1]XAY F24-34'!$M$345
Name F2420n: '[1]XAY F24-34'!$J$345
Name F2420t: '[1]XAY F24-34'!$H$345
Name F2420w: '[1]XAY F24-34'!$L$345
Name F2425o: '[1]XAY F24-34'!$O$345
Name F2430n: '[1]XAY F24-34'!$P$345
Name F24kcpt: '[1]XAY F24-34'!$Q$345
Name F24TTnn: '[1]XAY F24-34'!$T$345
Name F24TTtn: '[1]XAY F24-34'!$S$345
Name F2510b: '[1]XAY F24-34'!$N$656
Name F2510n: '[1]XAY F24-34'!$K$656
Name F2510t: '[1]XAY F24-34'!$I$656
Name F2510w: '[1]XAY F24-34'!$M$656
Name F2520n: '[1]XAY F24-34'!$J$656
Name F2520t: '[1]XAY F24-34'!$H$656
Name F2520w: '[1]XAY F24-34'!$L$656
Name F2525o: '[1]XAY F24-34'!$O$656
Name F2530n: '[1]XAY F24-34'!$P$656
Name F25kcpt: '[1]XAY F24-34'!$Q$656
Name F25TTnn: '[1]XAY F24-34'!$T$656
Name F25TTtn: '[1]XAY F24-34'!$S$656
Name F2610b: '[1]XAY F24-34'!$N$996
Name F2610n: '[1]XAY F24-34'!$K$996
Name F2610t: '[1]XAY F24-34'!$I$996
Name F2610w: '[1]XAY F24-34'!$M$996
Name F2620n: '[1]XAY F24-34'!$J$996
Name F2620t: '[1]XAY F24-34'!$H$996
Name F2620w: '[1]XAY F24-34'!$L$996
Name F2625o: '[1]XAY F24-34'!$O$996
Name F2630n: '[1]XAY F24-34'!$P$996
Name F26kcpt: '[1]XAY F24-34'!$Q$996
Name F26TTnn: '[1]XAY F24-34'!$T$996
Name F26TTtn: '[1]XAY F24-34'!$S$996

Sheet TH XÂY TÔ
A1: BẢNG TỔNG HỢP KHỐI LƯỢNG HAO PHÍ VẬT TƯ XÂY -TRÁT- HOÀN THIỆN
A3: TT | B3: TÊN CÔNG ViỆC | C3: KÍ HiỆU | D3: ĐƠN VỊ | E3: K.LƯỢNG D.TOÁN | F3: 20 | G3: 19 | H3: 21 | I3: 22 | J3: 24 | K3: 25 | L3: (26-33) | M3: (34-35) | N3: 36 | O3: 37 | P3: 38 | Q3: 39 | R3: 41 | S3: % LÀM | T3: K.LƯỢNG THỰC HIỆN | V3: GHI CHÚ
F4: 21=17 | G4: 20=18 | H4: 22=18 | I4: 24 | J4: 25 | K4: 26 | L4: 27-34=26 | M4: 35-36=37 | N4: 37 | O4: 38 | P4: 39 | Q4: 40 | R4: 41
B5: CÔNG TÁC XÂY | E5: =SUM(F5:R5) -> 21 | F5: 1 | G5: 1 | H5: 1 | I5: 1 | J5: 1 | K5: 1 | L5: 8 | M5: 2 | N5: 1 | O5: 1 | P5: 1 | Q5: 1 | R5: 1
A6: 2 | B6: Xây tường gạch ống, 6 hàng chân gạch thẻ, dày 200, tường WC | C6: 200.w | D6: m2 | E6: =SUM(F6:R6) -> 1759.3058 | F6: =F1720w -> 125.416 | G6: =F1820w -> 115.7288 | H6: =F1820w -> 115.7288 | I6: =F2420w -> 103.63 | J6: =F2520w -> 69.25 | K6: =F2620w -> 69.0008 | L6: =K6*L$5 -> 552.0064 | M6: =N6*M$5 -> 123.588 | N6: =F3720w -> 61.794 | O6: =F3820w -> 63.094 | P6: =F3820w -> 63.094 | Q6: =F4020w -> 225.854 | R6: =F4120w -> 71.121 | S6: 0.1 | T6: =E6*S6 -> 175.93058 | V6: Theo bảng tổng hợp KL xây - tô và % công việc thực hiện còn lại trên thực tế. TẦNG 20 ĐẾN 41
A7: 4 | B7: Xây tường gạch ống, dày 100, tường trong | C7: 100.t | D7: m2 | E7: =SUM(F7:R7) -> 10410.15 | F7: =F1710t -> 581.20604 | G7: =F1810t -> 467.97392 | H7: =F1810t -> 467.97392 | I7: =F2410t -> 479.41692 | J7: =F2510t -> 504.62896 | K7: =F2610t -> 539.54896 | L7: =K7*L$5 -> 4316.3917 | M7: =N7*M$5 -> 992.48392 | N7: =F3710t -> 496.24196 | O7: =F3810t -> 497.15292 | P7: =F3810t -> 497.15292 | Q7: =F4010t -> 366.5811 | R7: =F4110t -> 203.39692 | S7: 0.1 | T7: =E7*S7 -> 1041.015
A8: 5 | B8: Xây tường gạch ống, 6 hàng chân gạch thẻ, dày 100, tường WC + , hộp kỹ thuật | C8: 100.w | D8: m2 | E8: =SUM(F8:R8) -> 21775.947 | F8: =F1710w -> 1270.5083 | G8: =F1810w -> 1233.9713 | H8: =F1810w -> 1233.9713 | I8: =F2410w -> 1138.8221 | J8: =F2510w -> 1214.9081 | K8: =F2610w -> 1025.069 | L8: =K8*L$5 -> 8200.5522 | M8: =N8*M$5 -> 2027.5119 | N8: =F3710w -> 1013.756 | O8: =F3810w -> 1012.5587 | P8: =F3810w -> 1012.5587 | Q8: =F4010w -> 937.2605 | R8: =F4110w -> 454.499 | S8: 0.15 | T8: =E8*S8 -> 3266.3921
A9: 7 | B9: Xây kết cấu phức tạp gạch thẻ: bật thang, bệ bồn tắm | C9: KCPT | D9: m3 | E9: =SUM(F9:R9) -> 272.58367 | F9: =F17kcpt -> 13.737688 | G9: =F18kcpt -> 15.585176 | H9: =F18kcpt -> 15.585176 | I9: =F24kcpt -> 12.652288 | J9: =F25kcpt -> 13.976405 | K9: =F26kcpt -> 12.694376 | L9: =K9*L$5 -> 101.55501 | M9: =N9*M$5 -> 23.722176 | N9: =F37kcpt -> 11.861088 | O9: =F38kcpt -> 11.524088 | P9: =F38kcpt -> 11.524088 | Q9: =F40kcpt -> 14.129088 | R9: =F41kcpt -> 14.03703 | S9: 0.5 | T9: =E9*S9 -> 136.29184
A10: 9 | B10: Xây tường, dày 250, có lớp cách âm ở giữa (T: 20+21) = (22+24 mới) | C10: 250.o | D10: m2 | E10: =SUM(F10:R10) -> 73.424 | F10: =F1725o -> 0 | G10: =F1825o -> 0 | H10: =F1825o -> 0 | I10: =F2425o -> 0 | J10: =F2525o -> 73.424 | K10: =F2625o -> 0 | L10: =K10*L$5 -> 0 | M10: =N10*M$5 -> 0 | N10: =F3725o -> 0 | O10: =F3825o -> 0 | P10: =F3825o -> 0 | Q10: =F4025o -> 0 | R10: =F4125o -> 0 | S10: 1 | T10: =E10*S10 -> 73.424
A11: 10 | B11: Xây tường trong, dày 250+ 350, (T: 34-35 -36-37) + dày 300, tường ngoài (T:1-4) | C11: 300.n | D11: m2 | E11: =SUM(F11:R11) -> 162.769 | F11: =F1730n -> 7.731 | G11: =F1830n -> 7.731 | H11: =F1830n -> 7.731 | I11: =F2430n -> 7.731 | J11: =F2530n -> 7.731 | K11: =F2630n -> 7.731 | L11: =K11*L$5 -> 61.848 | M11: =N11*M$5 -> 15.462 | N11: =F3730n -> 7.731 | O11: =F3830n -> 7.731 | P11: =F3830n -> 7.731 | Q11: =F4030n -> 8.174 | R11: =F4130n -> 7.706 | S11: 1 | T11: =E11*S11 -> 162.769
B12: CÔNG TÁC TÔ -CÁN NỀN | E12: =SUM(F12:R12) -> 21 | F12: 1 | G12: 1 | H12: 1 | I12: 1 | J12: 1 | K12: 1 | L12: 8 | M12: 2 | N12: 1 | O12: 1 | P12: 1 | Q12: 1 | R12: 1
A13: 2 | B13: Tô tường trong, vữa M75 | C13: TTtn | D13: m2 | E13: =SUM(F13:R13) -> 93223.759 | F13: =F17TTtn -> 5270.9009 | G13: =F18TTtn -> 5142.5925 | H13: =F18TTtn -> 5142.5925 | I13: =F24TTtn -> 4940.2144 | J13: =F25TTtn -> 4831.944 | K13: =F26TTtn -> 4410.2927 | L13: =K13*L$12 -> 35282.341 | M13: =N13*M$12 -> 8329.5889 | N13: =F37TTtn -> 4164.7944 | O13: =F38TTtn -> 4197.7944 | P13: =F38TTtn -> 4197.7944 | Q13: =F40TTtn -> 4859.7809 | R13: =F41TTtn -> 2453.1279 | S13: 0.9 | T13: =E13*S13 -> 83901.383 | V13: Theo bảng tổng hợp KL xây - tô và % công việc thực hiện còn lại trên thực tế. TẦNG 20 ĐẾN 41
A14: 4 | B14: Tô cột vách trong nhà, vữa M75 | C14: TBTt | D14: m2 | E14: =SUM(F14:R14) -> 12904.569 | F14: ='[1]TRAT BT'!$K$17+'[1]TRAT BT'!$K$125 -> 780.88 | G14: ='[1]TRAT BT'!$K$17+'[1]TRAT BT'!$K$150 -> 767.90775 | H14: ='[1]TRAT BT'!$K$17+'[1]TRAT BT'!$K$150 -> 767.90775 | I14: ='[1]TRAT BT'!K17+'[1]TRAT BT'!K175 -> 750.86275 | J14: ='[1]TRAT BT'!K39+'[1]TRAT BT'!K201 -> 732.96525 | K14: ='[1]TRAT BT'!K63+'[1]TRAT BT'!K227 -> 659.03 | L14: =K14*L$12 -> 5272.24 | M14: =N14*M$12 -> 1269.11 | N14: ='[1]TRAT BT'!K103+'[1]TRAT BT'!K250 -> 634.555 | O14: =$N14 -> 634.555 | P14: =$N14 -> 634.555 | S14: 0.8 | T14: =E14*S14 -> 10323.655
A15: 5 | B15: Tô xà dầm, trần trong nhà, vữa M75 | C15: TDTt | D15: m2 | E15: =SUM(F15:R15) -> 12759.04 | F15: ='[1]TRAT BT'!$L$11 -> 250.88 | G15: ='[1]TRAT BT'!$L$13 -> 232.96 | H15: ='[1]TRAT BT'!$L$13 -> 232.96 | I15: ='[1]TRAT BT'!L12 -> 752.64 | J15: =$I15 -> 752.64 | K15: =$I15 -> 752.64 | L15: =K15*L$12 -> 6021.12 | M15: =N15*M$12 -> 1505.28 | N15: =$I15 -> 752.64 | O15: =$I15 -> 752.64 | P15: =$I15 -> 752.64 | S15: 0.05 | T15: =E15*S15 -> 637.952

Sheet TH KL TRÁM VÁ
A1: Dự án : Havana Nha Trang Plaza Hotel | J1: Khối lượng trám vữa và đóng lưới
A2: Công việc: trám, đóng lưới | I2: Ngày: | J2: 40816
A4: TT | B4: Diễn tả công việc | C4: Mã số | D4: Qty | E4: Kích thướt(m) | G4: Kl chi tiết | H4: Khối lượng | J4: Ghi chú
E5: Dài [l] | F5: Cao [h] | H5: cắt md (a) | I5: ốp md (b)
A6: 1 | B6: 2 | C6: 3 | D6: 4 | E6: 5 | F6: 6 | G6: 7 | H6: 8 | I6: 9 | J6: 10
B7: Tổng(28-39)trừ 38 | H7: =H8*11 -> 937.2 | I7: =I8*11 -> 1478.4
B8: Lầu 28 | H8: =SUBTOTAL(9,H9:H56) -> 85.2 | I8: =SUBTOTAL(9,I9:I56) -> 134.4
A9: 1 | B9: Trong phòng 2803
B10: cạnh cửa VW3 | C10: a | D10: 2 | E10: 1.73 | H10: =+IF(C10="a",E10*D10," ") -> 3.46 | I10: =+IF(C10="b",E10*D10," ")
B11: cạnh tủ tường | C11: b | D11: 3 | E11: 2.4 | H11: =+IF(C11="a",E11*D11," ") | I11: =+IF(C11="b",E11*D11," ") -> 7.2
A12: 2 | B12: Trong phòng 2804
B13: cạnh cửa VW | C13: a | D13: 2 | E13: 1.73 | H13: =+IF(C13="a",E13*D13," ") -> 3.46 | I13: =+IF(C13="b",E13*D13," ")
B14: cạnh tủ tường | C14: b | D14: 3 | E14: 2.4 | H14: =+IF(C14="a",E14*D14," ") | I14: =+IF(C14="b",E14*D14," ") -> 7.2
A15: 3 | B15: Trong phòng 2805
B16: cạnh cửa VW | C16: a | D16: 2 | E16: 1.73 | H16: =+IF(C16="a",E16*D16," ") -> 3.46 | I16: =+IF(C16="b",E16*D16," ")
B17: cạnh tủ tường | C17: b | D17: 3 | E17: 2.4 | H17: =+IF(C17="a",E17*D17," ") | I17: =+IF(C17="b",E17*D17," ") -> 7.2
A18: 4 | B18: Trong phòng 2806
B19: cạnh cửa VW | C19: a | D19: 2 | E19: 1.73 | H19: =+IF(C19="a",E19*D19," ") -> 3.46 | I19: =+IF(C19="b",E19*D19," ")
B20: cạnh tủ tường | C20: b | D20: 3 | E20: 2.4 | H20: =+IF(C20="a",E20*D20," ") | I20: =+IF(C20="b",E20*D20," ") -> 7.2
A21: 5 | B21: Trong phòng 2807
B22: cạnh cửa DS1 | C22: a | D22: 2 | E22: 2 | H22: =+IF(C22="a",E22*D22," ") -> 4 | I22: =+IF(C22="b",E22*D22," ")
C23: b | H23: =+IF(C23="a",E23*D23," ") | I23: =+IF(C23="b",E23*D23," ") -> 0
A24: 6 | B24: Trong phòng 2807B
B25: cạnh cửa VW | C25: a | D25: 2 | E25: 1.73 | H25: =+IF(C25="a",E25*D25," ") -> 3.46 | I25: =+IF(C25="b",E25*D25," ")
B26: cạnh tủ tường | C26: b | D26: 2 | E26: 2.4 | H26: =+IF(C26="a",E26*D26," ") | I26: =+IF(C26="b",E26*D26," ") -> 4.8
A27: 7 | B27: Trong phòng 2808
B28: cạnh cửa VW | C28: a | D28: 2 | E28: 1.73 | H28: =+IF(C28="a",E28*D28," ") -> 3.46 | I28: =+IF(C28="b",E28*D28," ")
B29: cạnh tủ tường | C29: b | D29: 3 | E29: 2.4 | H29: =+IF(C29="a",E29*D29," ") | I29: =+IF(C29="b",E29*D29," ") -> 7.2
A30: 8 | B30: Trong phòng 2809
B31: cạnh cửa VW | C31: a | D31: 2 | E31: 1.73 | H31: =+IF(C31="a",E31*D31," ") -> 3.46 | I31: =+IF(C31="b",E31*D31," ")
B32: cạnh tủ tường | C32: b | D32: 3 | E32: 2.4 | H32: =+IF(C32="a",E32*D32," ") | I32: =+IF(C32="b",E32*D32," ") -> 7.2
A33: 9 | B33: Trong phòng 2810
B34: cạnh cửa DS1 | C34: a | D34: 2 | E34: 2 | H34: =+IF(C34="a",E34*D34," ") -> 4 | I34: =+IF(C34="b",E34*D34," ")
C35: b | H35: =+IF(C35="a",E35*D35," ") | I35: =+IF(C35="b",E35*D35," ") -> 0
A36: 10 | B36: Trong phòng 2810B
B37: cạnh cửa VW | C37: a | D37: 2 | E37: 1.73 | H37: =+IF(C37="a",E37*D37," ") -> 3.46 | I37: =+IF(C37="b",E37*D37," ")
B38: cạnh tủ tường | C38: b | D38: 2 | E38: 2.4 | H38: =+IF(C38="a",E38*D38," ") | I38: =+IF(C38="b",E38*D38," ") -> 4.8
A39: 11 | B39: Trong phòng 2811
B40: cạnh cửa VW | C40: a | D40: 2 | E40: 1.73 | H40: =+IF(C40="a",E40*D40," ") -> 3.46 | I40: =+IF(C40="b",E40*D40," ")
B41: cạnh tủ tường | C41: b | D41: 3 | E41: 2.4 | H41: =+IF(C41="a",E41*D41," ") | I41: =+IF(C41="b",E41*D41," ") -> 7.2
A42: 12 | B42: Trong phòng 2812
B43: cạnh cửa VW | C43: a | D43: 2 | E43: 1.73 | H43: =+IF(C43="a",E43*D43," ") -> 3.46 | I43: =+IF(C43="b",E43*D43," ")
B44: cạnh tủ tường | C44: b | D44: 3 | E44: 2.4 | H44: =+IF(C44="a",E44*D44," ") | I44: =+IF(C44="b",E44*D44," ") -> 7.2
A45: 13 | B45: Trong phòng 2831 | H45: =H10 -> 3.46 | I45: =I11 -> 7.2 | J45: = phòng 2803
A46: 14 | B46: Trong phòng 2830 | H46: =H13 -> 3.46 | I46: =I14 -> 7.2 | J46: = phòng 2804
A47: 15 | B47: Trong phòng 2829 | H47: =H16 -> 3.46 | I47: =I17 -> 7.2 | J47: = phòng 2805
A48: 16 | B48: Trong phòng 2828 | H48: =H19 -> 3.46 | I48: =I20 -> 7.2 | J48: = phòng 2806
A49: 17 | B49: Trong phòng 2827 | H49: =H22 -> 4 | I49: =I23 -> 0 | J49: = phòng 2807
A50: 18 | B50: Trong phòng 2827B | H50: =H25 -> 3.46 | I50: =I26 -> 4.8 | J50: = phòng 2807A
A51: 19 | B51: Trong phòng 2826 | H51: =H28 -> 3.46 | I51: =I29 -> 7.2 | J51: = phòng 2808
A52: 20 | B52: Trong phòng 2825 | H52: =H31 -> 3.46 | I52: =I32 -> 7.2 | J52: = phòng 2809
A53: 21 | B53: Trong phòng 2824 | H53: =H34 -> 4 | I53: =I35 -> 0 | J53: = phòng 2810
A54: 22 | B54: Trong phòng 2824B | H54: =H37 -> 3.46 | I54: =I38 -> 4.8 | J54: = phòng 2810A
A55: 23 | B55: Trong phòng 2823 | H55: =H40 -> 3.46 | I55: =I41 -> 7.2 | J55: = phòng 2811
A56: 24 | B56: Trong phòng 2822 | H56: =H43 -> 3.46 | I56: =I44 -> 7.2 | J56: = phòng 2812
A57: Dự án : Havana Nha Trang Plaza Hotel | J57: Khối lượng trám ống toilet
A58: Công việc: trám ống toilet | I58: Ngày: | J58: 40816
A60: TT | B60: Diễn tả công việc | C60: Mã số | D60: Qty | E60: Kích thướt(m) | G60: Kl chi tiết | H60: Khối lượng | J60: Ghi chú
E61: Dài [l] | F61: Cao [h] | H61: Trám hồ md (a) | I61: Đóng lưới md (b)
A62: 1 | B62: 2 | C62: 3 | D62: 4 | E62: 5 | F62: 6 | G62: 7 | H62: 8 | I62: 9 | J62: 10
B63: Tổng(20-41)trừ 38 | D63: 20 | H63: =H64*D63 -> 6152
B64: Lầu 30 | H64: =SUBTOTAL(9,H65:H100) -> 307.6
A65: 1 | B65: Trong phòng 3003
B66: Trám hồ đường điện | C66: a | D66: 1 | E66: 13 | H66: =+IF(C66="a",E66*D66," ") -> 13 | I66: =+IF(C66="b",E66*D66," ")
A67: 2 | B67: Trong phòng 3004
B68: Trám hồ đường điện | C68: a | D68: 1 | E68: 13.7 | H68: =+IF(C68="a",E68*D68," ") -> 13.7 | I68: =+IF(C68="b",E68*D68," ")
A69: 3 | B69: Trong phòng 3005
B70: Trám hồ đường điện | C70: a | D70: 1 | E70: 9 | H70: =+IF(C70="a",E70*D70," ") -> 9 | I70: =+IF(C70="b",E70*D70," ")
A71: 4 | B71: Trong phòng 3006
B72: Trám hồ đường điện | C72: a | D72: 1 | E72: 11.8 | H72: =+IF(C72="a",E72*D72," ") -> 11.8 | I72: =+IF(C72="b",E72*D72," ")
A73: 5 | B73: Trong phòng 3007
B74: Trám hồ đường điện | C74: a | D74: 1 | E74: 10.1 | H74: =+IF(C74="a",E74*D74," ") -> 10.1 | I74: =+IF(C74="b",E74*D74," ")
A75: 6 | B75: Trong phòng 3007B
B76: Trám hồ đường điện | C76: a | D76: 1 | E76: 15.8 | H76: =+IF(C76="a",E76*D76," ") -> 15.8 | I76: =+IF(C76="b",E76*D76," ")
A77: 7 | B77: Trong phòng 3008
B78: Trám hồ đường điện | C78: a | D78: 1 | E78: 12.4 | H78: =+IF(C78="a",E78*D78," ") -> 12.4 | I78: =+IF(C78="b",E78*D78," ")
A79: 8 | B79: Trong phòng 3009
B80: Trám hồ đường điện | C80: a | D80: 1 | E80: 15 | H80: =+IF(C80="a",E80*D80," ") -> 15 | I80: =+IF(C80="b",E80*D80," ")
A81: 9 | B81: Trong phòng 3010
B82: Trám hồ đường điện | C82: a | D82: 1 | E82: 10.2 | H82: =+IF(C82="a",E82*D82," ") -> 10.2 | I82: =+IF(C82="b",E82*D82," ")
A83: 10 | B83: Trong phòng 3010B
B84: Trám hồ đường điện | C84: a | D84: 1 | E84: 11 | H84: =+IF(C84="a",E84*D84," ") -> 11 | I84: =+IF(C84="b",E84*D84," ")
A85: 11 | B85: Trong phòng 3011
B86: Trám hồ đường điện | C86: a | D86: 1 | E86: 14.7 | H86: =+IF(C86="a",E86*D86," ") -> 14.7 | I86: =+IF(C86="b",E86*D86," ")
A87: 12 | B87: Trong phòng 3012
B88: Trám hồ đường điện | C88: a | D88: 1 | E88: 17.1 | H88: =+IF(C88="a",E88*D88," ") -> 17.1 | I88: =+IF(C88="b",E88*D88," ")
A89: 13 | B89: Trong phòng 3031 | H89: =H66 -> 13 | J89: = phòng 3003
A90: 14 | B90: Trong phòng 3030 | H90: =H68 -> 13.7 | J90: = phòng 3004
A91: 15 | B91: Trong phòng 3029 | H91: =H70 -> 9 | J91: = phòng 3005
A92: 16 | B92: Trong phòng 3028 | H92: =H72 -> 11.8 | J92: = phòng 3006
A93: 17 | B93: Trong phòng 3027 | H93: =H74 -> 10.1 | J93: = phòng 3007
A94: 18 | B94: Trong phòng 3027B | H94: =H76 -> 15.8 | J94: = phòng 3007B
A95: 19 | B95: Trong phòng 3026 | H95: =H78 -> 12.4 | J95: = phòng 3008
A96: 20 | B96: Trong phòng 3025 | H96: =H80 -> 15 | J96: = phòng 23009
A97: 21 | B97: Trong phòng 3024 | H97: =H82 -> 10.2 | J97: = phòng 3010
A98: 22 | B98: Trong phòng 3024B | H98: =H84 -> 11 | J98: = phòng 3010B
A99: 23 | B99: Trong phòng 3023 | H99: =H86 -> 14.7 | J99: = phòng 3011
A100: 24 | B100: Trong phòng 3022 | H100: =H88 -> 17.1 | J100: = phòng 3012
A101: KHỐI LƯỢNG FILL LỖ XUYÊN SÀN | I101: =+IF(C116="b",E116*D116," ")
A102: THEO BẢN VẼ PHÁT HÀNH 18 THÁNG 7 NĂM 2011 VÀ THỰC TẾ HOÀN THIỆN
...

Sheet CÁN NỀN
A1: KHỐI LƯỢNG CÁN NỀN (ỐP - LÁT - TRÃI THÃM)
A2: THEO BẢN VẼ PHÁT HÀNH 24 THÁNG 4 NĂM 2011
A4: SỐ | B4: NỘI DUNG - TÊN CẤU KIỆN | C4: KÝ HiỆU | D4: SỐ | E4: KÍCH THƯỚC | G4: NỀN PHÒNG | H4: H.LAN ĐỆM | I4: Nền VS | J4: Nền VS 10x10 | K4: Lát ngạch Cửa DR | L4: Lát ngạch Cửa Dw | M4: Lát ngạch Cửa Drc
A5: TT | D5: LƯỢNG | E5: DÀI/RỘNG | F5: CAO | G5: C1.p | H5: K1.p | I5: K2.v | J5: K3.v | K5: S3.d | L5: S3.v | M5: S3.p | N5: GHI CHÚ
C6: (mm) | E6: (m) | F6: (m) | G6: ( m2 ) | H6: ( m2 ) | I6: ( m2 ) | J6: ( m2 ) | K6: ( cái ) | L6: ( cái ) | M6: ( cái )
A7: 1 | B7: 2 | C7: 4 | D7: 3 | E7: 5 | F7: 6 | G7: 8 | H7: 10 | I7: 12 | J7: 14 | K7: 16 | L7: 17 | M7: 19 | N7: 23
B8: CỘNG KHỐI LƯỢNG | G8: =SUBTOTAL(9,G9:G1158) -> 22040.9 | H8: =SUBTOTAL(9,H9:H1158) -> 7078.2 | I8: =SUBTOTAL(9,I9:I1158) -> 4447.38 | J8: =SUBTOTAL(9,J9:J1158) -> 211.32 | K8: =SUBTOTAL(9,K9:K957) -> 618.7 | L8: =SUBTOTAL(9,L9:L957) -> 621 | M8: =SUBTOTAL(9,M9:M957) -> 58
B9: TẦNG 16-18 | D9: 2 | G9: =G12*$D9 -> 2274.8 | H9: =H12*$D9 -> 553.2 | I9: =I12*$D9 -> 443.52 | J9: =J12*$D9 -> 16.56 | K9: =K12*$D9 -> 80 | L9: =L12*$D9 -> 80 | M9: =M12*$D9 -> 6 | N9: Giống Tầng 20
B11: CỘNG KHỐI LƯỢNG | G11: =SUBTOTAL(9,G12:G1158) -> 19766.1 | H11: =SUBTOTAL(9,H12:H1158) -> 6525 | I11: =SUBTOTAL(9,I12:I1158) -> 4003.86 | J11: =SUBTOTAL(9,J12:J1158) -> 194.76 | K11: =SUBTOTAL(9,K12:K960) -> 538.7 | L11: =SUBTOTAL(9,L12:L960) -> 541 | M11: =SUBTOTAL(9,M12:M960) -> 52 | N11: TẦNG 20-40
B12: TẦNG 20 | D12: 1 | G12: =SUBTOTAL(9,G13:G325) -> 1137.4 | H12: =SUBTOTAL(9,H13:H325) -> 276.6 | I12: =SUBTOTAL(9,I13:I325) -> 221.76 | J12: =SUBTOTAL(9,J13:J325) -> 8.28 | K12: =SUBTOTAL(9,K13:K325) -> 40 | L12: =SUBTOTAL(9,L13:L325) -> 40 | M12: =SUBTOTAL(9,M13:M325) -> 3
B13: PHÒNG 01 (A1) | D13: 1 | G13: =SUBTOTAL(9,G14:G33) -> 25.9 | H13: =SUBTOTAL(9,H14:H33) -> 26.8 | I13: =SUBTOTAL(9,I14:I33) -> 4.54 | J13: =SUBTOTAL(9,J14:J33) -> 0.36 | K13: =SUBTOTAL(9,K14:K33) -> 1 | L13: =SUBTOTAL(9,L14:L33) -> 1 | M13: =SUBTOTAL(9,M14:M33) -> 0
B14: Thãm nền phòng | C14: C1.p | D14: 1 | E14: 25.9 | G14: =IF($C14=G$5,PRODUCT($D14:$F14),"-") -> 25.9 | H14: =IF($C14=H$5,PRODUCT($D14:$F14),"-") -> - | I14: =IF($C14=I$5,PRODUCT($D14:$F14),"-") -> - | J14: =IF($C14=J$5,PRODUCT($D14:$F14),"-") -> - | K14: =IF($C14=K$5,PRODUCT($D14:$F14),"-") -> - | L14: =IF($C14=L$5,PRODUCT($D14:$F14),"-") -> - | M14: =IF($C14=M$5,PRODUCT($D14:$F14),"-") -> -
B15: Chân tường phòng trãi thãm | C15: C1.c | D15: 1 | E15: 23.3 | G15: =IF($C15=G$5,PRODUCT($D15:$F15),"-") -> - | H15: =IF($C15=H$5,PRODUCT($D15:$F15),"-") -> - | I15: =IF($C15=I$5,PRODUCT($D15:$F15),"-") -> - | J15: =IF($C15=J$5,PRODUCT($D15:$F15),"-") -> - | K15: =IF($C15=K$5,PRODUCT($D15:$F15),"-") -> - | L15: =IF($C15=L$5,PRODUCT($D15:$F15),"-") -> - | M15: =IF($C15=M$5,PRODUCT($D15:$F15),"-") -> -
B16: trừ cửa | C16: C1.c | D16: -2 | E16: 1 | G16: =IF($C16=G$5,PRODUCT($D16:$F16),"-") -> - | H16: =IF($C16=H$5,PRODUCT($D16:$F16),"-") -> - | I16: =IF($C16=I$5,PRODUCT($D16:$F16),"-") -> - | J16: =IF($C16=J$5,PRODUCT($D16:$F16),"-") -> - | K16: =IF($C16=K$5,PRODUCT($D16:$F16),"-") -> - | L16: =IF($C16=L$5,PRODUCT($D16:$F16),"-") -> - | M16: =IF($C16=M$5,PRODUCT($D16:$F16),"-") -> -
B17: trừ đầu giường | C17: C1.c | D17: -1 | E17: 2.8 | G17: =IF($C17=G$5,PRODUCT($D17:$F17),"-") -> - | H17: =IF($C17=H$5,PRODUCT($D17:$F17),"-") -> - | I17: =IF($C17=I$5,PRODUCT($D17:$F17),"-") -> - | J17: =IF($C17=J$5,PRODUCT($D17:$F17),"-") -> - | K17: =IF($C17=K$5,PRODUCT($D17:$F17),"-") -> - | L17: =IF($C17=L$5,PRODUCT($D17:$F17),"-") -> - | M17: =IF($C17=M$5,PRODUCT($D17:$F17),"-") -> -
B18: Lát gạch nền phòng | C18: K1.p | D18: 1 | E18: 26.8 | G18: =IF($C18=G$5,PRODUCT($D18:$F18),"-") -> - | H18: =IF($C18=H$5,PRODUCT($D18:$F18),"-") -> 26.8 | I18: =IF($C18=I$5,PRODUCT($D18:$F18),"-") -> - | J18: =IF($C18=J$5,PRODUCT($D18:$F18),"-") -> - | K18: =IF($C18=K$5,PRODUCT($D18:$F18),"-") -> - | L18: =IF($C18=L$5,PRODUCT($D18:$F18),"-") -> - | M18: =IF($C18=M$5,PRODUCT($D18:$F18),"-") -> -
B19: Chân tường phòng lát gạch | C19: K1.c | D19: 1 | E19: 30 | G19: =IF($C19=G$5,PRODUCT($D19:$F19),"-") -> - | H19: =IF($C19=H$5,PRODUCT($D19:$F19),"-") -> - | I19: =IF($C19=I$5,PRODUCT($D19:$F19),"-") -> - | J19: =IF($C19=J$5,PRODUCT($D19:$F19),"-") -> - | K19: =IF($C19=K$5,PRODUCT($D19:$F19),"-") -> - | L19: =IF($C19=L$5,PRODUCT($D19:$F19),"-") -> - | M19: =IF($C19=M$5,PRODUCT($D19:$F19),"-") -> -
B20: trừ cửa | C20: K1.c | D20: -3 | E20: 0.9 | G20: =IF($C20=G$5,PRODUCT($D20:$F20),"-") -> - | H20: =IF($C20=H$5,PRODUCT($D20:$F20),"-") -> - | I20: =IF($C20=I$5,PRODUCT($D20:$F20),"-") -> - | J20: =IF($C20=J$5,PRODUCT($D20:$F20),"-") -> - | K20: =IF($C20=K$5,PRODUCT($D20:$F20),"-") -> - | L20: =IF($C20=L$5,PRODUCT($D20:$F20),"-") -> - | M20: =IF($C20=M$5,PRODUCT($D20:$F20),"-") -> -
B21: trừ tủ tường | C21: K1.c | D21: -2 | E21: 1.8 | G21: =IF($C21=G$5,PRODUCT($D21:$F21),"-") -> - | H21: =IF($C21=H$5,PRODUCT($D21:$F21),"-") -> - | I21: =IF($C21=I$5,PRODUCT($D21:$F21),"-") -> - | J21: =IF($C21=J$5,PRODUCT($D21:$F21),"-") -> - | K21: =IF($C21=K$5,PRODUCT($D21:$F21),"-") -> - | L21: =IF($C21=L$5,PRODUCT($D21:$F21),"-") -> - | M21: =IF($C21=M$5,PRODUCT($D21:$F21),"-") -> -
B22: Lát nền vệ sinh 30x60 | C22: K2.v | D22: 1 | E22: =4.9-0.18*2 -> 4.54 | G22: =IF($C22=G$5,PRODUCT($D22:$F22),"-") -> - | H22: =IF($C22=H$5,PRODUCT($D22:$F22),"-") -> - | I22: =IF($C22=I$5,PRODUCT($D22:$F22),"-") -> 4.54 | J22: =IF($C22=J$5,PRODUCT($D22:$F22),"-") -> - | K22: =IF($C22=K$5,PRODUCT($D22:$F22),"-") -> - | L22: =IF($C22=L$5,PRODUCT($D22:$F22),"-") -> - | M22: =IF($C22=M$5,PRODUCT($D22:$F22),"-") -> -
B23: Lát nền vệ sinh 10x10 | C23: K3.v | D23: 1 | E23: =0.3*0.6*2 -> 0.36 | G23: =IF($C23=G$5,PRODUCT($D23:$F23),"-") -> - | H23: =IF($C23=H$5,PRODUCT($D23:$F23),"-") -> - | I23: =IF($C23=I$5,PRODUCT($D23:$F23),"-") -> - | J23: =IF($C23=J$5,PRODUCT($D23:$F23),"-") -> 0.36 | K23: =IF($C23=K$5,PRODUCT($D23:$F23),"-") -> - | L23: =IF($C23=L$5,PRODUCT($D23:$F23),"-") -> - | M23: =IF($C23=M$5,PRODUCT($D23:$F23),"-") -> -
B24: Ốp tường vệ sinh 30x60 | C24: K2.o | D24: 1 | E24: 12.4 | F24: 2.3 | G24: =IF($C24=G$5,PRODUCT($D24:$F24),"-") -> - | H24: =IF($C24=H$5,PRODUCT($D24:$F24),"-") -> - | I24: =IF($C24=I$5,PRODUCT($D24:$F24),"-") -> - | J24: =IF($C24=J$5,PRODUCT($D24:$F24),"-") -> - | K24: =IF($C24=K$5,PRODUCT($D24:$F24),"-") -> - | L24: =IF($C24=L$5,PRODUCT($D24:$F24),"-") -> - | M24: =IF($C24=M$5,PRODUCT($D24:$F24),"-") -> -
B25: trừ cửa | C25: K2.o | D25: -1 | E25: 0.8 | F25: 2.22 | G25: =IF($C25=G$5,PRODUCT($D25:$F25),"-") -> - | H25: =IF($C25=H$5,PRODUCT($D25:$F25),"-") -> - | I25: =IF($C25=I$5,PRODUCT($D25:$F25),"-") -> - | J25: =IF($C25=J$5,PRODUCT($D25:$F25),"-") -> - | K25: =IF($C25=K$5,PRODUCT($D25:$F25),"-") -> - | L25: =IF($C25=L$5,PRODUCT($D25:$F25),"-") -> - | M25: =IF($C25=M$5,PRODUCT($D25:$F25),"-") -> -
B26: trừ vách kính Vw | C26: K2.o | D26: -1 | E26: 1.45 | F26: 1.7 | G26: =IF($C26=G$5,PRODUCT($D26:$F26),"-") -> - | H26: =IF($C26=H$5,PRODUCT($D26:$F26),"-") -> - | I26: =IF($C26=I$5,PRODUCT($D26:$F26),"-") -> - | J26: =IF($C26=J$5,PRODUCT($D26:$F26),"-") -> - | K26: =IF($C26=K$5,PRODUCT($D26:$F26),"-") -> - | L26: =IF($C26=L$5,PRODUCT($D26:$F26),"-") -> - | M26: =IF($C26=M$5,PRODUCT($D26:$F26),"-") -> -
B27: Đầu vách bồn tắm nằm | C27: K2.o | D27: -2 | E27: 0.85 | F27: 0.55 | G27: =IF($C27=G$5,PRODUCT($D27:$F27),"-") -> - | H27: =IF($C27=H$5,PRODUCT($D27:$F27),"-") -> - | I27: =IF($C27=I$5,PRODUCT($D27:$F27),"-") -> - | J27: =IF($C27=J$5,PRODUCT($D27:$F27),"-") -> - | K27: =IF($C27=K$5,PRODUCT($D27:$F27),"-") -> - | L27: =IF($C27=L$5,PRODUCT($D27:$F27),"-") -> - | M27: =IF($C27=M$5,PRODUCT($D27:$F27),"-") -> -
B28: Hộc rèm đầu vách kính | C28: K2.o | D28: 1 | E28: 1.85 | F28: 0.25 | G28: =IF($C28=G$5,PRODUCT($D28:$F28),"-") -> - | H28: =IF($C28=H$5,PRODUCT($D28:$F28),"-") -> - | I28: =IF($C28=I$5,PRODUCT($D28:$F28),"-") -> - | J28: =IF($C28=J$5,PRODUCT($D28:$F28),"-") -> - | K28: =IF($C28=K$5,PRODUCT($D28:$F28),"-") -> - | L28: =IF($C28=L$5,PRODUCT($D28:$F28),"-") -> - | M28: =IF($C28=M$5,PRODUCT($D28:$F28),"-") -> -
B29: Ốp đá Mable | C29: MB.v | D29: 1 | E29: 1.85 | F29: 0.85 | G29: =IF($C29=G$5,PRODUCT($D29:$F29),"-") -> - | H29: =IF($C29=H$5,PRODUCT($D29:$F29),"-") -> - | I29: =IF($C29=I$5,PRODUCT($D29:$F29),"-") -> - | J29: =IF($C29=J$5,PRODUCT($D29:$F29),"-") -> - | K29: =IF($C29=K$5,PRODUCT($D29:$F29),"-") -> - | L29: =IF($C29=L$5,PRODUCT($D29:$F29),"-") -> - | M29: =IF($C29=M$5,PRODUCT($D29:$F29),"-") -> -
B30: trừ bồn | C30: MB.v | D30: -1 | E30: 1.45 | F30: 0.6 | G30: =IF($C30=G$5,PRODUCT($D30:$F30),"-") -> - | H30: =IF($C30=H$5,PRODUCT($D30:$F30),"-") -> - | I30: =IF($C30=I$5,PRODUCT($D30:$F30),"-") -> - | J30: =IF($C30=J$5,PRODUCT($D30:$F30),"-") -> - | K30: =IF($C30=K$5,PRODUCT($D30:$F30),"-") -> - | L30: =IF($C30=L$5,PRODUCT($D30:$F30),"-") -> - | M30: =IF($C30=M$5,PRODUCT($D30:$F30),"-") -> -
B31: ngạch cửa S3.1 ( 922 x 110) | C31: S3.d | D31: 1 | G31: =IF($C31=G$5,PRODUCT($D31:$F31),"-") -> - | H31: =IF($C31=H$5,PRODUCT($D31:$F31),"-") -> - | I31: =IF($C31=I$5,PRODUCT($D31:$F31),"-") -> - | J31: =IF($C31=J$5,PRODUCT($D31:$F31),"-") -> - | K31: =IF($C31=K$5,PRODUCT($D31:$F31),"-") -> 1 | L31: =IF($C31=L$5,PRODUCT($D31:$F31),"-") -> - | M31: =IF($C31=M$5,PRODUCT($D31:$F31),"-") -> -
B32: ngạch cửa S3.2 ( 806 x 110) | C32: S3.v | D32: 1 | G32: =IF($C32=G$5,PRODUCT($D32:$F32),"-") -> - | H32: =IF($C32=H$5,PRODUCT($D32:$F32),"-") -> - | I32: =IF($C32=I$5,PRODUCT($D32:$F32),"-") -> - | J32: =IF($C32=J$5,PRODUCT($D32:$F32),"-") -> - | K32: =IF($C32=K$5,PRODUCT($D32:$F32),"-") -> - | L32: =IF($C32=L$5,PRODUCT($D32:$F32),"-") -> 1 | M32: =IF($C32=M$5,PRODUCT($D32:$F32),"-") -> -
G33: =IF($C33=G$5,PRODUCT($D33:$F33),"-") -> - | H33: =IF($C33=H$5,PRODUCT($D33:$F33),"-") -> - | I33: =IF($C33=I$5,PRODUCT($D33:$F33),"-") -> - | J33: =IF($C33=J$5,PRODUCT($D33:$F33),"-") -> - | K33: =IF($C33=K$5,PRODUCT($D33:$F33),"-") -> - | L33: =IF($C33=L$5,PRODUCT($D33:$F33),"-") -> - | M33: =IF($C33=M$5,PRODUCT($D33:$F33),"-") -> -
B34: PHÒNG 02 (A1) | D34: 1 | G34: =SUBTOTAL(9,G35:G52) -> 39.5 | H34: =SUBTOTAL(9,H35:H52) -> 0 | I34: =SUBTOTAL(9,I35:I52) -> 6.04 | J34: =SUBTOTAL(9,J35:J52) -> 0.36 | K34: =SUBTOTAL(9,K35:K52) -> 1 | L34: =SUBTOTAL(9,L35:L52) -> 1 | M34: =SUBTOTAL(9,M35:M52) -> 1
B35: Thãm nền phòng | C35: C1.p | D35: 1 | E35: =18.4+21.1 -> 39.5 | G35: =IF($C35=G$5,PRODUCT($D35:$F35),"-") -> 39.5 | H35: =IF($C35=H$5,PRODUCT($D35:$F35),"-") -> - | I35: =IF($C35=I$5,PRODUCT($D35:$F35),"-") -> - | J35: =IF($C35=J$5,PRODUCT($D35:$F35),"-") -> - | K35: =IF($C35=K$5,PRODUCT($D35:$F35),"-") -> - | L35: =IF($C35=L$5,PRODUCT($D35:$F35),"-") -> - | M35: =IF($C35=M$5,PRODUCT($D35:$F35),"-") -> -
B36: Chân tường phòng trãi thãm | C36: C1.c | D36: 1 | E36: =26.2+21.7 -> 47.9 | G36: =IF($C36=G$5,PRODUCT($D36:$F36),"-") -> - | H36: =IF($C36=H$5,PRODUCT($D36:$F36),"-") -> - | I36: =IF($C36=I$5,PRODUCT($D36:$F36),"-") -> - | J36: =IF($C36=J$5,PRODUCT($D36:$F36),"-") -> - | K36: =IF($C36=K$5,PRODUCT($D36:$F36),"-") -> - | L36: =IF($C36=L$5,PRODUCT($D36:$F36),"-") -> - | M36: =IF($C36=M$5,PRODUCT($D36:$F36),"-") -> -
B37: trừ cửa | C37: C1.c | D37: -4 | E37: 0.9 | G37: =IF($C37=G$5,PRODUCT($D37:$F37),"-") -> - | H37: =IF($C37=H$5,PRODUCT($D37:$F37),"-") -> - | I37: =IF($C37=I$5,PRODUCT($D37:$F37),"-") -> - | J37: =IF($C37=J$5,PRODUCT($D37:$F37),"-") -> - | K37: =IF($C37=K$5,PRODUCT($D37:$F37),"-") -> - | L37: =IF($C37=L$5,PRODUCT($D37:$F37),"-") -> - | M37: =IF($C37=M$5,PRODUCT($D37:$F37),"-") -> -
B38: trừ cửa | C38: C1.c | D38: -1 | E38: 1.25 | G38: =IF($C38=G$5,PRODUCT($D38:$F38),"-") -> - | H38: =IF($C38=H$5,PRODUCT($D38:$F38),"-") -> - | I38: =IF($C38=I$5,PRODUCT($D38:$F38),"-") -> - | J38: =IF($C38=J$5,PRODUCT($D38:$F38),"-") -> - | K38: =IF($C38=K$5,PRODUCT($D38:$F38),"-") -> - | L38: =IF($C38=L$5,PRODUCT($D38:$F38),"-") -> - | M38: =IF($C38=M$5,PRODUCT($D38:$F38),"-") -> -
B39: trừ đầu giường | C39: C1.c | D39: -2 | E39: 2.8 | G39: =IF($C39=G$5,PRODUCT($D39:$F39),"-") -> - | H39: =IF($C39=H$5,PRODUCT($D39:$F39),"-") -> - | I39: =IF($C39=I$5,PRODUCT($D39:$F39),"-") -> - | J39: =IF($C39=J$5,PRODUCT($D39:$F39),"-") -> - | K39: =IF($C39=K$5,PRODUCT($D39:$F39),"-") -> - | L39: =IF($C39=L$5,PRODUCT($D39:$F39),"-") -> - | M39: =IF($C39=M$5,PRODUCT($D39:$F39),"-") -> -
B40: Lát nền vệ sinh 30x60 | C40: K2.v | D40: 1 | E40: =6.4-0.18*2 -> 6.04 | G40: =IF($C40=G$5,PRODUCT($D40:$F40),"-") -> - | H40: =IF($C40=H$5,PRODUCT($D40:$F40),"-") -> - | I40: =IF($C40=I$5,PRODUCT($D40:$F40),"-") -> 6.04 | J40: =IF($C40=J$5,PRODUCT($D40:$F40),"-") -> - | K40: =IF($C40=K$5,PRODUCT($D40:$F40),"-") -> - | L40: =IF($C40=L$5,PRODUCT($D40:$F40),"-") -> - | M40: =IF($C40=M$5,PRODUCT($D40:$F40),"-") -> -
B41: Lát nền vệ sinh 10x10 | C41: K3.v | D41: 1 | E41: =0.3*0.6*2 -> 0.36 | G41: =IF($C41=G$5,PRODUCT($D41:$F41),"-") -> - | H41: =IF($C41=H$5,PRODUCT($D41:$F41),"-") -> - | I41: =IF($C41=I$5,PRODUCT($D41:$F41),"-") -> - | J41: =IF($C41=J$5,PRODUCT($D41:$F41),"-") -> 0.36 | K41: =IF($C41=K$5,PRODUCT($D41:$F41),"-") -> - | L41: =IF($C41=L$5,PRODUCT($D41:$F41),"-") -> - | M41: =IF($C41=M$5,PRODUCT($D41:$F41),"-") -> -
B42: Ốp tường vệ sinh 30x60 | C42: K2.o | D42: 1 | E42: 16.2 | F42: 2.3 | G42: =IF($C42=G$5,PRODUCT($D42:$F42),"-") -> - | H42: =IF($C42=H$5,PRODUCT($D42:$F42),"-") -> - | I42: =IF($C42=I$5,PRODUCT($D42:$F42),"-") -> - | J42: =IF($C42=J$5,PRODUCT($D42:$F42),"-") -> - | K42: =IF($C42=K$5,PRODUCT($D42:$F42),"-") -> - | L42: =IF($C42=L$5,PRODUCT($D42:$F42),"-") -> - | M42: =IF($C42=M$5,PRODUCT($D42:$F42),"-") -> -
B43: trừ cửa | C43: K2.o | D43: -1 | E43: 0.8 | F43: 2.22 | G43: =IF($C43=G$5,PRODUCT($D43:$F43),"-") -> - | H43: =IF($C43=H$5,PRODUCT($D43:$F43),"-") -> - | I43: =IF($C43=I$5,PRODUCT($D43:$F43),"-") -> - | J43: =IF($C43=J$5,PRODUCT($D43:$F43),"-") -> - | K43: =IF($C43=K$5,PRODUCT($D43:$F43),"-") -> - | L43: =IF($C43=L$5,PRODUCT($D43:$F43),"-") -> - | M43: =IF($C43=M$5,PRODUCT($D43:$F43),"-") -> -
B44: trừ vách kính V4 | C44: K2.o | D44: -1 | E44: =2.17+1.27 -> 3.44 | F44: 1.6 | G44: =IF($C44=G$5,PRODUCT($D44:$F44),"-") -> - | H44: =IF($C44=H$5,PRODUCT($D44:$F44),"-") -> - | I44: =IF($C44=I$5,PRODUCT($D44:$F44),"-") -> - | J44: =IF($C44=J$5,PRODUCT($D44:$F44),"-") -> - | K44: =IF($C44=K$5,PRODUCT($D44:$F44),"-") -> - | L44: =IF($C44=L$5,PRODUCT($D44:$F44),"-") -> - | M44: =IF($C44=M$5,PRODUCT($D44:$F44),"-") -> -
B45: Đầu vách bồn tắm nằm | C45: K2.o | D45: 1 | E45: =5.33-1.8 -> 3.53 | F45: 0.55 | G45: =IF($C45=G$5,PRODUCT($D45:$F45),"-") -> - | H45: =IF($C45=H$5,PRODUCT($D45:$F45),"-") -> - | I45: =IF($C45=I$5,PRODUCT($D45:$F45),"-") -> - | J45: =IF($C45=J$5,PRODUCT($D45:$F45),"-") -> - | K45: =IF($C45=K$5,PRODUCT($D45:$F45),"-") -> - | L45: =IF($C45=L$5,PRODUCT($D45:$F45),"-") -> - | M45: =IF($C45=M$5,PRODUCT($D45:$F45),"-") -> -
B46: Hộc rèm đầu vách kính | C46: K2.o | D46: 1 | E46: =E44+0.4 -> 3.84 | F46: 0.25 | G46: =IF($C46=G$5,PRODUCT($D46:$F46),"-") -> - | H46: =IF($C46=H$5,PRODUCT($D46:$F46),"-") -> - | I46: =IF($C46=I$5,PRODUCT($D46:$F46),"-") -> - | J46: =IF($C46=J$5,PRODUCT($D46:$F46),"-") -> - | K46: =IF($C46=K$5,PRODUCT($D46:$F46),"-") -> - | L46: =IF($C46=L$5,PRODUCT($D46:$F46),"-") -> - | M46: =IF($C46=M$5,PRODUCT($D46:$F46),"-") -> -
B47: Ốp đá Mable | C47: MB.v | D47: 1 | E47: 2.15 | F47: 1.15 | G47: =IF($C47=G$5,PRODUCT($D47:$F47),"-") -> - | H47: =IF($C47=H$5,PRODUCT($D47:$F47),"-") -> - | I47: =IF($C47=I$5,PRODUCT($D47:$F47),"-") -> - | J47: =IF($C47=J$5,PRODUCT($D47:$F47),"-") -> - | K47: =IF($C47=K$5,PRODUCT($D47:$F47),"-") -> - | L47: =IF($C47=L$5,PRODUCT($D47:$F47),"-") -> - | M47: =IF($C47=M$5,PRODUCT($D47:$F47),"-") -> -
B48: trừ bồn | C48: MB.v | D48: -1 | E48: 1.65 | F48: 0.7 | G48: =IF($C48=G$5,PRODUCT($D48:$F48),"-") -> - | H48: =IF($C48=H$5,PRODUCT($D48:$F48),"-") -> - | I48: =IF($C48=I$5,PRODUCT($D48:$F48),"-") -> - | J48: =IF($C48=J$5,PRODUCT($D48:$F48),"-") -> - | K48: =IF($C48=K$5,PRODUCT($D48:$F48),"-") -> - | L48: =IF($C48=L$5,PRODUCT($D48:$F48),"-") -> - | M48: =IF($C48=M$5,PRODUCT($D48:$F48),"-") -> -
B49: ngạch cửa S3.1 ( 922 x 110) | C49: S3.d | D49: 1 | G49: =IF($C49=G$5,PRODUCT($D49:$F49),"-") -> - | H49: =IF($C49=H$5,PRODUCT($D49:$F49),"-") -> - | I49: =IF($C49=I$5,PRODUCT($D49:$F49),"-") -> - | J49: =IF($C49=J$5,PRODUCT($D49:$F49),"-") -> - | K49: =IF($C49=K$5,PRODUCT($D49:$F49),"-") -> 1 | L49: =IF($C49=L$5,PRODUCT($D49:$F49),"-") -> - | M49: =IF($C49=M$5,PRODUCT($D49:$F49),"-") -> -
B50: ngạch cửa S3.2 ( 806 x 110) | C50: S3.v | D50: 1 | G50: =IF($C50=G$5,PRODUCT($D50:$F50),"-") -> - | H50: =IF($C50=H$5,PRODUCT($D50:$F50),"-") -> - | I50: =IF($C50=I$5,PRODUCT($D50:$F50),"-") -> - | J50: =IF($C50=J$5,PRODUCT($D50:$F50),"-") -> - | K50: =IF($C50=K$5,PRODUCT($D50:$F50),"-") -> - | L50: =IF($C50=L$5,PRODUCT($D50:$F50),"-") -> 1 | M50: =IF($C50=M$5,PRODUCT($D50:$F50),"-") -> -
B51: ngạch cửa S3.3 ( 1250 x 110) | C51: S3.p | D51: 1 | G51: =IF($C51=G$5,PRODUCT($D51:$F51),"-") -> - | H51: =IF($C51=H$5,PRODUCT($D51:$F51),"-") -> - | I51: =IF($C51=I$5,PRODUCT($D51:$F51),"-") -> - | J51: =IF($C51=J$5,PRODUCT($D51:$F51),"-") -> - | K51: =IF($C51=K$5,PRODUCT($D51:$F51),"-") -> - | L51: =IF($C51=L$5,PRODUCT($D51:$F51),"-") -> - | M51: =IF($C51=M$5,PRODUCT($D51:$F51),"-") -> 1
G52: =IF($C52=G$5,PRODUCT($D52:$F52),"-") -> - | H52: =IF($C52=H$5,PRODUCT($D52:$F52),"-") -> - | I52: =IF($C52=I$5,PRODUCT($D52:$F52),"-") -> - | J52: =IF($C52=J$5,PRODUCT($D52:$F52),"-") -> - | K52: =IF($C52=K$5,PRODUCT($D52:$F52),"-") -> - | L52: =IF($C52=L$5,PRODUCT($D52:$F52),"-") -> - | M52: =IF($C52=M$5,PRODUCT($D52:$F52),"-") -> -
B53: PHÒNG 03 (A1) | D53: 1 | G53: =SUBTOTAL(9,G54:G73) -> 20.2 | H53: =SUBTOTAL(9,H54:H73) -> 5.9 | I53: =SUBTOTAL(9,I54:I73) -> 21.6 | J53: =SUBTOTAL(9,J54:J73) -> 0.36 | K53: =SUBTOTAL(9,K54:K73) -> 1 | L53: =SUBTOTAL(9,L54:L73) -> 1 | M53: =SUBTOTAL(9,M54:M73) -> 0
B54: Thãm nền phòng | C54: C1.p | D54: 1 | E54: 20.2 | G54: =IF($C54=G$5,PRODUCT($D54:$F54),"-") -> 20.2 | H54: =IF($C54=H$5,PRODUCT($D54:$F54),"-") -> - | I54: =IF($C54=I$5,PRODUCT($D54:$F54),"-") -> - | J54: =IF($C54=J$5,PRODUCT($D54:$F54),"-") -> - | K54: =IF($C54=K$5,PRODUCT($D54:$F54),"-") -> - | L54: =IF($C54=L$5,PRODUCT($D54:$F54),"-") -> - | M54: =IF($C54=M$5,PRODUCT($D54:$F54),"-") -> -
B55: Chân tường phòng trãi thãm | C55: C1.c | D55: 1 | E55: 19.7 | G55: =IF($C55=G$5,PRODUCT($D55:$F55),"-") -> - | H55: =IF($C55=H$5,PRODUCT($D55:$F55),"-") -> - | I55: =IF($C55=I$5,PRODUCT($D55:$F55),"-") -> - | J55: =IF($C55=J$5,PRODUCT($D55:$F55),"-") -> - | K55: =IF($C55=K$5,PRODUCT($D55:$F55),"-") -> - | L55: =IF($C55=L$5,PRODUCT($D55:$F55),"-") -> - | M55: =IF($C55=M$5,PRODUCT($D55:$F55),"-") -> -
B56: trừ cửa | C56: C1.c | D56: -1 | E56: =1.2+0.8*2 -> 2.8 | G56: =IF($C56=G$5,PRODUCT($D56:$F56),"-") -> - | H56: =IF($C56=H$5,PRODUCT($D56:$F56),"-") -> - | I56: =IF($C56=I$5,PRODUCT($D56:$F56),"-") -> - | J56: =IF($C56=J$5,PRODUCT($D56:$F56),"-") -> - | K56: =IF($C56=K$5,PRODUCT($D56:$F56),"-") -> - | L56: =IF($C56=L$5,PRODUCT($D56:$F56),"-") -> - | M56: =IF($C56=M$5,PRODUCT($D56:$F56),"-") -> -
B57: trừ đầu giường | C57: C1.c | D57: -1 | E57: 2.8 | G57: =IF($C57=G$5,PRODUCT($D57:$F57),"-") -> - | H57: =IF($C57=H$5,PRODUCT($D57:$F57),"-") -> - | I57: =IF($C57=I$5,PRODUCT($D57:$F57),"-") -> - | J57: =IF($C57=J$5,PRODUCT($D57:$F57),"-") -> - | K57: =IF($C57=K$5,PRODUCT($D57:$F57),"-") -> - | L57: =IF($C57=L$5,PRODUCT($D57:$F57),"-") -> - | M57: =IF($C57=M$5,PRODUCT($D57:$F57),"-") -> -
B58: Lát gạch nền phòng | C58: K1.p | D58: 1 | E58: 5.9 | G58: =IF($C58=G$5,PRODUCT($D58:$F58),"-") -> - | H58: =IF($C58=H$5,PRODUCT($D58:$F58),"-") -> 5.9 | I58: =IF($C58=I$5,PRODUCT($D58:$F58),"-") -> - | J58: =IF($C58=J$5,PRODUCT($D58:$F58),"-") -> - | K58: =IF($C58=K$5,PRODUCT($D58:$F58),"-") -> - | L58: =IF($C58=L$5,PRODUCT($D58:$F58),"-") -> - | M58: =IF($C58=M$5,PRODUCT($D58:$F58),"-") -> -
B59: Chân tường phòng lát gạch | C59: K1.c | D59: 1 | E59: 12.2 | G59: =IF($C59=G$5,PRODUCT($D59:$F59),"-") -> - | H59: =IF($C59=H$5,PRODUCT($D59:$F59),"-") -> - | I59: =IF($C59=I$5,PRODUCT($D59:$F59),"-") -> - | J59: =IF($C59=J$5,PRODUCT($D59:$F59),"-") -> - | K59: =IF($C59=K$5,PRODUCT($D59:$F59),"-") -> - | L59: =IF($C59=L$5,PRODUCT($D59:$F59),"-") -> - | M59: =IF($C59=M$5,PRODUCT($D59:$F59),"-") -> -
B60: trừ cửa | C60: K1.c | D60: -1 | E60: 2 | G60: =IF($C60=G$5,PRODUCT($D60:$F60),"-") -> - | H60: =IF($C60=H$5,PRODUCT($D60:$F60),"-") -> - | I60: =IF($C60=I$5,PRODUCT($D60:$F60),"-") -> - | J60: =IF($C60=J$5,PRODUCT($D60:$F60),"-") -> - | K60: =IF($C60=K$5,PRODUCT($D60:$F60),"-") -> - | L60: =IF($C60=L$5,PRODUCT($D60:$F60),"-") -> - | M60: =IF($C60=M$5,PRODUCT($D60:$F60),"-") -> -
B61: trừ tủ tường | C61: K1.c | D61: -1 | E61: 2.8 | G61: =IF($C61=G$5,PRODUCT($D61:$F61),"-") -> - | H61: =IF($C61=H$5,PRODUCT($D61:$F61),"-") -> - | I61: =IF($C61=I$5,PRODUCT($D61:$F61),"-") -> - | J61: =IF($C61=J$5,PRODUCT($D61:$F61),"-") -> - | K61: =IF($C61=K$5,PRODUCT($D61:$F61),"-") -> - | L61: =IF($C61=L$5,PRODUCT($D61:$F61),"-") -> - | M61: =IF($C61=M$5,PRODUCT($D61:$F61),"-") -> -
B62: Ốp tường vệ sinh 30x60 | C62: K2.o | D62: 1 | E62: 12 | F62: 2.3 | G62: =IF($C62=G$5,PRODUCT($D62:$F62),"-") -> - | H62: =IF($C62=H$5,PRODUCT($D62:$F62),"-") -> - | I62: =IF($C62=I$5,PRODUCT($D62:$F62),"-") -> - | J62: =IF($C62=J$5,PRODUCT($D62:$F62),"-") -> - | K62: =IF($C62=K$5,PRODUCT($D62:$F62),"-") -> - | L62: =IF($C62=L$5,PRODUCT($D62:$F62),"-") -> - | M62: =IF($C62=M$5,PRODUCT($D62:$F62),"-") -> -
B63: trừ cửa | C63: K2.o | D63: -1 | E63: 0.8 | F63: 2.2 | G63: =IF($C63=G$5,PRODUCT($D63:$F63),"-") -> - | H63: =IF($C63=H$5,PRODUCT($D63:$F63),"-") -> - | I63: =IF($C63=I$5,PRODUCT($D63:$F63),"-") -> - | J63: =IF($C63=J$5,PRODUCT($D63:$F63),"-") -> - | K63: =IF($C63=K$5,PRODUCT($D63:$F63),"-") -> - | L63: =IF($C63=L$5,PRODUCT($D63:$F63),"-") -> - | M63: =IF($C63=M$5,PRODUCT($D63:$F63),"-") -> -
B64: trừ vách kính Vw | C64: K2.o | D64: -1 | E64: 1.7 | F64: 1.7 | G64: =IF($C64=G$5,PRODUCT($D64:$F64),"-") -> - | H64: =IF($C64=H$5,PRODUCT($D64:$F64),"-") -> - | I64: =IF($C64=I$5,PRODUCT($D64:$F64),"-") -> - | J64: =IF($C64=J$5,PRODUCT($D64:$F64),"-") -> - | K64: =IF($C64=K$5,PRODUCT($D64:$F64),"-") -> - | L64: =IF($C64=L$5,PRODUCT($D64:$F64),"-") -> - | M64: =IF($C64=M$5,PRODUCT($D64:$F64),"-") -> -
B65: Đầu vách bồn tắm nằm | C65: K2.o | D65: -2 | E65: 0.85 | F65: 0.55 | G65: =IF($C65=G$5,PRODUCT($D65:$F65),"-") -> - | H65: =IF($C65=H$5,PRODUCT($D65:$F65),"-") -> - | I65: =IF($C65=I$5,PRODUCT($D65:$F65),"-") -> - | J65: =IF($C65=J$5,PRODUCT($D65:$F65),"-") -> - | K65: =IF($C65=K$5,PRODUCT($D65:$F65),"-") -> - | L65: =IF($C65=L$5,PRODUCT($D65:$F65),"-") -> - | M65: =IF($C65=M$5,PRODUCT($D65:$F65),"-") -> -
B66: Hộc rèm đầu vách kính | C66: K2.o | D66: 1 | E66: 2 | F66: 0.25 | G66: =IF($C66=G$5,PRODUCT($D66:$F66),"-") -> - | H66: =IF($C66=H$5,PRODUCT($D66:$F66),"-") -> - | I66: =IF($C66=I$5,PRODUCT($D66:$F66),"-") -> - | J66: =IF($C66=J$5,PRODUCT($D66:$F66),"-") -> - | K66: =IF($C66=K$5,PRODUCT($D66:$F66),"-") -> - | L66: =IF($C66=L$5,PRODUCT($D66:$F66),"-") -> - | M66: =IF($C66=M$5,PRODUCT($D66:$F66),"-") -> -
B67: Lát nền vệ sinh 30x60 | C67: K2.v | D67: 1 | E67: =4.5-0.18 -> 4.32 | F67: 5 | G67: =IF($C67=G$5,PRODUCT($D67:$F67),"-") -> - | H67: =IF($C67=H$5,PRODUCT($D67:$F67),"-") -> - | I67: =IF($C67=I$5,PRODUCT($D67:$F67),"-") -> 21.6 | J67: =IF($C67=J$5,PRODUCT($D67:$F67),"-") -> - | K67: =IF($C67=K$5,PRODUCT($D67:$F67),"-") -> - | L67: =IF($C67=L$5,PRODUCT($D67:$F67),"-") -> - | M67: =IF($C67=M$5,PRODUCT($D67:$F67),"-") -> -
B68: Lát nền vệ sinh 10x10 | C68: K3.v | D68: 1 | E68: =0.3*0.6*2 -> 0.36 | G68: =IF($C68=G$5,PRODUCT($D68:$F68),"-") -> - | H68: =IF($C68=H$5,PRODUCT($D68:$F68),"-") -> - | I68: =IF($C68=I$5,PRODUCT($D68:$F68),"-") -> - | J68: =IF($C68=J$5,PRODUCT($D68:$F68),"-") -> 0.36 | K68: =IF($C68=K$5,PRODUCT($D68:$F68),"-") -> - | L68: =IF($C68=L$5,PRODUCT($D68:$F68),"-") -> - | M68: =IF($C68=M$5,PRODUCT($D68:$F68),"-") -> -
B69: Ốp đá Mable | C69: MB.v | D69: 1 | E69: 2 | F69: 0.9 | G69: =IF($C69=G$5,PRODUCT($D69:$F69),"-") -> - | H69: =IF($C69=H$5,PRODUCT($D69:$F69),"-") -> - | I69: =IF($C69=I$5,PRODUCT($D69:$F69),"-") -> - | J69: =IF($C69=J$5,PRODUCT($D69:$F69),"-") -> - | K69: =IF($C69=K$5,PRODUCT($D69:$F69),"-") -> - | L69: =IF($C69=L$5,PRODUCT($D69:$F69),"-") -> - | M69: =IF($C69=M$5,PRODUCT($D69:$F69),"-") -> -
B70: trừ bồn | C70: MB.v | D70: -1 | E70: 1.65 | F70: 0.7 | G70: =IF($C70=G$5,PRODUCT($D70:$F70),"-") -> - | H70: =IF($C70=H$5,PRODUCT($D70:$F70),"-") -> - | I70: =IF($C70=I$5,PRODUCT($D70:$F70),"-") -> - | J70: =IF($C70=J$5,PRODUCT($D70:$F70),"-") -> - | K70: =IF($C70=K$5,PRODUCT($D70:$F70),"-") -> - | L70: =IF($C70=L$5,PRODUCT($D70:$F70),"-") -> - | M70: =IF($C70=M$5,PRODUCT($D70:$F70),"-") -> -
B71: ngạch cửa S3.1 ( 922 x 110) | C71: S3.d | D71: 1 | G71: =IF($C71=G$5,PRODUCT($D71:$F71),"-") -> - | H71: =IF($C71=H$5,PRODUCT($D71:$F71),"-") -> - | I71: =IF($C71=I$5,PRODUCT($D71:$F71),"-") -> - | J71: =IF($C71=J$5,PRODUCT($D71:$F71),"-") -> - | K71: =IF($C71=K$5,PRODUCT($D71:$F71),"-") -> 1 | L71: =IF($C71=L$5,PRODUCT($D71:$F71),"-") -> - | M71: =IF($C71=M$5,PRODUCT($D71:$F71),"-") -> -
B72: ngạch cửa S3.2 ( 806 x 110) | C72: S3.v | D72: 1 | G72: =IF($C72=G$5,PRODUCT($D72:$F72),"-") -> - | H72: =IF($C72=H$5,PRODUCT($D72:$F72),"-") -> - | I72: =IF($C72=I$5,PRODUCT($D72:$F72),"-") -> - | J72: =IF($C72=J$5,PRODUCT($D72:$F72),"-") -> - | K72: =IF($C72=K$5,PRODUCT($D72:$F72),"-") -> - | L72: =IF($C72=L$5,PRODUCT($D72:$F72),"-") -> 1 | M72: =IF($C72=M$5,PRODUCT($D72:$F72),"-") -> -
G73: =IF($C73=G$5,PRODUCT($D73:$F73),"-") -> - | H73: =IF($C73=H$5,PRODUCT($D73:$F73),"-") -> - | I73: =IF($C73=I$5,PRODUCT($D73:$F73),"-") -> - | J73: =IF($C73=J$5,PRODUCT($D73:$F73),"-") -> - | K73: =IF($C73=K$5,PRODUCT($D73:$F73),"-") -> - | L73: =IF($C73=L$5,PRODUCT($D73:$F73),"-") -> - | M73: =IF($C73=M$5,PRODUCT($D73:$F73),"-") -> -
B74: PHÒNG 04 (A1) | D74: 1 | G74: =SUBTOTAL(9,G75:G94) -> 20.2 | H74: =SUBTOTAL(9,H75:H94) -> 6.3 | I74: =SUBTOTAL(9,I75:I94) -> 4.04 | J74: =SUBTOTAL(9,J75:J94) -> 0.36 | K74: =SUBTOTAL(9,K75:K94) -> 1 | L74: =SUBTOTAL(9,L75:L94) -> 1 | M74: =SUBTOTAL(9,M75:M94) -> 0
B75: Thãm nền phòng | C75: C1.p | D75: 1 | E75: 20.2 | G75: =IF($C75=G$5,PRODUCT($D75:$F75),"-") -> 20.2 | H75: =IF($C75=H$5,PRODUCT($D75:$F75),"-") -> - | I75: =IF($C75=I$5,PRODUCT($D75:$F75),"-") -> - | J75: =IF($C75=J$5,PRODUCT($D75:$F75),"-") -> - | K75: =IF($C75=K$5,PRODUCT($D75:$F75),"-") -> - | L75: =IF($C75=L$5,PRODUCT($D75:$F75),"-") -> - | M75: =IF($C75=M$5,PRODUCT($D75:$F75),"-") -> -
B76: Chân tường phòng trãi thãm | C76: C1.c | D76: 1 | E76: 19.7 | G76: =IF($C76=G$5,PRODUCT($D76:$F76),"-") -> - | H76: =IF($C76=H$5,PRODUCT($D76:$F76),"-") -> - | I76: =IF($C76=I$5,PRODUCT($D76:$F76),"-") -> - | J76: =IF($C76=J$5,PRODUCT($D76:$F76),"-") -> - | K76: =IF($C76=K$5,PRODUCT($D76:$F76),"-") -> - | L76: =IF($C76=L$5,PRODUCT($D76:$F76),"-") -> - | M76: =IF($C76=M$5,PRODUCT($D76:$F76),"-") -> -
B77: trừ cửa | C77: C1.c | D77: -1 | E77: 1.2 | G77: =IF($C77=G$5,PRODUCT($D77:$F77),"-") -> - | H77: =IF($C77=H$5,PRODUCT($D77:$F77),"-") -> - | I77: =IF($C77=I$5,PRODUCT($D77:$F77),"-") -> - | J77: =IF($C77=J$5,PRODUCT($D77:$F77),"-") -> - | K77: =IF($C77=K$5,PRODUCT($D77:$F77),"-") -> - | L77: =IF($C77=L$5,PRODUCT($D77:$F77),"-") -> - | M77: =IF($C77=M$5,PRODUCT($D77:$F77),"-") -> -
B78: trừ đầu giường | C78: C1.c | D78: -1 | E78: 3.2 | G78: =IF($C78=G$5,PRODUCT($D78:$F78),"-") -> - | H78: =IF($C78=H$5,PRODUCT($D78:$F78),"-") -> - | I78: =IF($C78=I$5,PRODUCT($D78:$F78),"-") -> - | J78: =IF($C78=J$5,PRODUCT($D78:$F78),"-") -> - | K78: =IF($C78=K$5,PRODUCT($D78:$F78),"-") -> - | L78: =IF($C78=L$5,PRODUCT($D78:$F78),"-") -> - | M78: =IF($C78=M$5,PRODUCT($D78:$F78),"-") -> -
B79: Lát gạch nền phòng | C79: K1.p | D79: 1 | E79: 6.3 | G79: =IF($C79=G$5,PRODUCT($D79:$F79),"-") -> - | H79: =IF($C79=H$5,PRODUCT($D79:$F79),"-") -> 6.3 | I79: =IF($C79=I$5,PRODUCT($D79:$F79),"-") -> - | J79: =IF($C79=J$5,PRODUCT($D79:$F79),"-") -> - | K79: =IF($C79=K$5,PRODUCT($D79:$F79),"-") -> - | L79: =IF($C79=L$5,PRODUCT($D79:$F79),"-") -> - | M79: =IF($C79=M$5,PRODUCT($D79:$F79),"-") -> -
B80: Chân tường phòng lát gạch | C80: K1.c | D80: 1 | E80: 12.4 | G80: =IF($C80=G$5,PRODUCT($D80:$F80),"-") -> - | H80: =IF($C80=H$5,PRODUCT($D80:$F80),"-") -> - | I80: =IF($C80=I$5,PRODUCT($D80:$F80),"-") -> - | J80: =IF($C80=J$5,PRODUCT($D80:$F80),"-") -> - | K80: =IF($C80=K$5,PRODUCT($D80:$F80),"-") -> - | L80: =IF($C80=L$5,PRODUCT($D80:$F80),"-") -> - | M80: =IF($C80=M$5,PRODUCT($D80:$F80),"-") -> -
B81: trừ cửa | C81: K1.c | D81: -1 | E81: =1.2+0.8*2 -> 2.8 | G81: =IF($C81=G$5,PRODUCT($D81:$F81),"-") -> - | H81: =IF($C81=H$5,PRODUCT($D81:$F81),"-") -> - | I81: =IF($C81=I$5,PRODUCT($D81:$F81),"-") -> - | J81: =IF($C81=J$5,PRODUCT($D81:$F81),"-") -> - | K81: =IF($C81=K$5,PRODUCT($D81:$F81),"-") -> - | L81: =IF($C81=L$5,PRODUCT($D81:$F81),"-") -> - | M81: =IF($C81=M$5,PRODUCT($D81:$F81),"-") -> -
B82: trừ tủ tường | C82: K1.c | D82: -1 | E82: 2.6 | G82: =IF($C82=G$5,PRODUCT($D82:$F82),"-") -> - | H82: =IF($C82=H$5,PRODUCT($D82:$F82),"-") -> - | I82: =IF($C82=I$5,PRODUCT($D82:$F82),"-") -> - | J82: =IF($C82=J$5,PRODUCT($D82:$F82),"-") -> - | K82: =IF($C82=K$5,PRODUCT($D82:$F82),"-") -> - | L82: =IF($C82=L$5,PRODUCT($D82:$F82),"-") -> - | M82: =IF($C82=M$5,PRODUCT($D82:$F82),"-") -> -
B83: Lát nền vệ sinh 30x60 | C83: K2.v | D83: 1 | E83: =4.4-0.36 -> 4.04 | G83: =IF($C83=G$5,PRODUCT($D83:$F83),"-") -> - | H83: =IF($C83=H$5,PRODUCT($D83:$F83),"-") -> - | I83: =IF($C83=I$5,PRODUCT($D83:$F83),"-") -> 4.04 | J83: =IF($C83=J$5,PRODUCT($D83:$F83),"-") -> - | K83: =IF($C83=K$5,PRODUCT($D83:$F83),"-") -> - | L83: =IF($C83=L$5,PRODUCT($D83:$F83),"-") -> - | M83: =IF($C83=M$5,PRODUCT($D83:$F83),"-") -> -
B84: Lát nền vệ sinh 10x10 | C84: K3.v | D84: 1 | E84: =0.3*0.6*2 -> 0.36 | G84: =IF($C84=G$5,PRODUCT($D84:$F84),"-") -> - | H84: =IF($C84=H$5,PRODUCT($D84:$F84),"-") -> - | I84: =IF($C84=I$5,PRODUCT($D84:$F84),"-") -> - | J84: =IF($C84=J$5,PRODUCT($D84:$F84),"-") -> 0.36 | K84: =IF($C84=K$5,PRODUCT($D84:$F84),"-") -> - | L84: =IF($C84=L$5,PRODUCT($D84:$F84),"-") -> - | M84: =IF($C84=M$5,PRODUCT($D84:$F84),"-") -> -
B85: Ốp tường vệ sinh 30x60 | C85: K2.o | D85: 1 | E85: 11.6 | F85: 2.3 | G85: =IF($C85=G$5,PRODUCT($D85:$F85),"-") -> - | H85: =IF($C85=H$5,PRODUCT($D85:$F85),"-") -> - | I85: =IF($C85=I$5,PRODUCT($D85:$F85),"-") -> - | J85: =IF($C85=J$5,PRODUCT($D85:$F85),"-") -> - | K85: =IF($C85=K$5,PRODUCT($D85:$F85),"-") -> - | L85: =IF($C85=L$5,PRODUCT($D85:$F85),"-") -> - | M85: =IF($C85=M$5,PRODUCT($D85:$F85),"-") -> -
B86: trừ cửa | C86: K2.o | D86: -1 | E86: 0.8 | F86: 2.22 | G86: =IF($C86=G$5,PRODUCT($D86:$F86),"-") -> - | H86: =IF($C86=H$5,PRODUCT($D86:$F86),"-") -> - | I86: =IF($C86=I$5,PRODUCT($D86:$F86),"-") -> - | J86: =IF($C86=J$5,PRODUCT($D86:$F86),"-") -> - | K86: =IF($C86=K$5,PRODUCT($D86:$F86),"-") -> - | L86: =IF($C86=L$5,PRODUCT($D86:$F86),"-") -> - | M86: =IF($C86=M$5,PRODUCT($D86:$F86),"-") -> -
B87: trừ vách kính Vw | C87: K2.o | D87: -1 | E87: 1.6 | F87: 1.7 | G87: =IF($C87=G$5,PRODUCT($D87:$F87),"-") -> - | H87: =IF($C87=H$5,PRODUCT($D87:$F87),"-") -> - | I87: =IF($C87=I$5,PRODUCT($D87:$F87),"-") -> - | J87: =IF($C87=J$5,PRODUCT($D87:$F87),"-") -> - | K87: =IF($C87=K$5,PRODUCT($D87:$F87),"-") -> - | L87: =IF($C87=L$5,PRODUCT($D87:$F87),"-") -> - | M87: =IF($C87=M$5,PRODUCT($D87:$F87),"-") -> -
B88: Đầu vách bồn tắm nằm | C88: K2.o | D88: -2 | E88: 0.85 | F88: 0.55 | G88: =IF($C88=G$5,PRODUCT($D88:$F88),"-") -> - | H88: =IF($C88=H$5,PRODUCT($D88:$F88),"-") -> - | I88: =IF($C88=I$5,PRODUCT($D88:$F88),"-") -> - | J88: =IF($C88=J$5,PRODUCT($D88:$F88),"-") -> - | K88: =IF($C88=K$5,PRODUCT($D88:$F88),"-") -> - | L88: =IF($C88=L$5,PRODUCT($D88:$F88),"-") -> - | M88: =IF($C88=M$5,PRODUCT($D88:$F88),"-") -> -
B89: Hộc rèm đầu vách kính | C89: K2.o | D89: 1 | E89: 1.9 | F89: 0.25 | G89: =IF($C89=G$5,PRODUCT($D89:$F89),"-") -> - | H89: =IF($C89=H$5,PRODUCT($D89:$F89),"-") -> - | I89: =IF($C89=I$5,PRODUCT($D89:$F89),"-") -> - | J89: =IF($C89=J$5,PRODUCT($D89:$F89),"-") -> - | K89: =IF($C89=K$5,PRODUCT($D89:$F89),"-") -> - | L89: =IF($C89=L$5,PRODUCT($D89:$F89),"-") -> - | M89: =IF($C89=M$5,PRODUCT($D89:$F89),"-") -> -
B90: Ốp đá Mable | C90: MB.v | D90: 1 | E90: 1.9 | F90: 0.9 | G90: =IF($C90=G$5,PRODUCT($D90:$F90),"-") -> - | H90: =IF($C90=H$5,PRODUCT($D90:$F90),"-") -> - | I90: =IF($C90=I$5,PRODUCT($D90:$F90),"-") -> - | J90: =IF($C90=J$5,PRODUCT($D90:$F90),"-") -> - | K90: =IF($C90=K$5,PRODUCT($D90:$F90),"-") -> - | L90: =IF($C90=L$5,PRODUCT($D90:$F90),"-") -> - | M90: =IF($C90=M$5,PRODUCT($D90:$F90),"-") -> -
B91: trừ bồn | C91: MB.v | D91: -1 | E91: 1.65 | F91: 0.7 | G91: =IF($C91=G$5,PRODUCT($D91:$F91),"-") -> - | H91: =IF($C91=H$5,PRODUCT($D91:$F91),"-") -> - | I91: =IF($C91=I$5,PRODUCT($D91:$F91),"-") -> - | J91: =IF($C91=J$5,PRODUCT($D91:$F91),"-") -> - | K91: =IF($C91=K$5,PRODUCT($D91:$F91),"-") -> - | L91: =IF($C91=L$5,PRODUCT($D91:$F91),"-") -> - | M91: =IF($C91=M$5,PRODUCT($D91:$F91),"-") -> -
B92: ngạch cửa S3.1 ( 922 x 110) | C92: S3.d | D92: 1 | G92: =IF($C92=G$5,PRODUCT($D92:$F92),"-") -> - | H92: =IF($C92=H$5,PRODUCT($D92:$F92),"-") -> - | I92: =IF($C92=I$5,PRODUCT($D92:$F92),"-") -> - | J92: =IF($C92=J$5,PRODUCT($D92:$F92),"-") -> - | K92: =IF($C92=K$5,PRODUCT($D92:$F92),"-") -> 1 | L92: =IF($C92=L$5,PRODUCT($D92:$F92),"-") -> - | M92: =IF($C92=M$5,PRODUCT($D92:$F92),"-") -> -
B93: ngạch cửa S3.2 ( 806 x 110) | C93: S3.v | D93: 1 | G93: =IF($C93=G$5,PRODUCT($D93:$F93),"-") -> - | H93: =IF($C93=H$5,PRODUCT($D93:$F93),"-") -> - | I93: =IF($C93=I$5,PRODUCT($D93:$F93),"-") -> - | J93: =IF($C93=J$5,PRODUCT($D93:$F93),"-") -> - | K93: =IF($C93=K$5,PRODUCT($D93:$F93),"-") -> - | L93: =IF($C93=L$5,PRODUCT($D93:$F93),"-") -> 1 | M93: =IF($C93=M$5,PRODUCT($D93:$F93),"-") -> -
G94: =IF($C94=G$5,PRODUCT($D94:$F94),"-") -> - | H94: =IF($C94=H$5,PRODUCT($D94:$F94),"-") -> - | I94: =IF($C94=I$5,PRODUCT($D94:$F94),"-") -> - | J94: =IF($C94=J$5,PRODUCT($D94:$F94),"-") -> - | K94: =IF($C94=K$5,PRODUCT($D94:$F94),"-") -> - | L94: =IF($C94=L$5,PRODUCT($D94:$F94),"-") -> - | M94: =IF($C94=M$5,PRODUCT($D94:$F94),"-") -> -
B95: PHÒNG 05 (A1) | D95: 1 | G95: =SUBTOTAL(9,G96:G114) -> 23.3 | H95: =SUBTOTAL(9,H96:H114) -> 4.4 | I95: =SUBTOTAL(9,I96:I114) -> 2.6 | J95: =SUBTOTAL(9,J96:J114) -> 0 | K95: =SUBTOTAL(9,K96:K114) -> 1 | L95: =SUBTOTAL(9,L96:L114) -> 1 | M95: =SUBTOTAL(9,M96:M114) -> 0
B96: Thãm nền phòng | C96: C1.p | D96: 1 | E96: 23.3 | G96: =IF($C96=G$5,PRODUCT($D96:$F96),"-") -> 23.3 | H96: =IF($C96=H$5,PRODUCT($D96:$F96),"-") -> - | I96: =IF($C96=I$5,PRODUCT($D96:$F96),"-") -> - | J96: =IF($C96=J$5,PRODUCT($D96:$F96),"-") -> - | K96: =IF($C96=K$5,PRODUCT($D96:$F96),"-") -> - | L96: =IF($C96=L$5,PRODUCT($D96:$F96),"-") -> - | M96: =IF($C96=M$5,PRODUCT($D96:$F96),"-") -> -
B97: Chân tường phòng trãi thãm | C97: C1.c | D97: 1 | E97: 21.2 | G97: =IF($C97=G$5,PRODUCT($D97:$F97),"-") -> - | H97: =IF($C97=H$5,PRODUCT($D97:$F97),"-") -> - | I97: =IF($C97=I$5,PRODUCT($D97:$F97),"-") -> - | J97: =IF($C97=J$5,PRODUCT($D97:$F97),"-") -> - | K97: =IF($C97=K$5,PRODUCT($D97:$F97),"-") -> - | L97: =IF($C97=L$5,PRODUCT($D97:$F97),"-") -> - | M97: =IF($C97=M$5,PRODUCT($D97:$F97),"-") -> -
B98: trừ cửa | C98: C1.c | D98: -1 | E98: 1.2 | G98: =IF($C98=G$5,PRODUCT($D98:$F98),"-") -> - | H98: =IF($C98=H$5,PRODUCT($D98:$F98),"-") -> - | I98: =IF($C98=I$5,PRODUCT($D98:$F98),"-") -> - | J98: =IF($C98=J$5,PRODUCT($D98:$F98),"-") -> - | K98: =IF($C98=K$5,PRODUCT($D98:$F98),"-") -> - | L98: =IF($C98=L$5,PRODUCT($D98:$F98),"-") -> - | M98: =IF($C98=M$5,PRODUCT($D98:$F98),"-") -> -
B99: trừ đầu giường | C99: C1.c | D99: -1 | E99: 3.2 | G99: =IF($C99=G$5,PRODUCT($D99:$F99),"-") -> - | H99: =IF($C99=H$5,PRODUCT($D99:$F99),"-") -> - | I99: =IF($C99=I$5,PRODUCT($D99:$F99),"-") -> - | J99: =IF($C99=J$5,PRODUCT($D99:$F99),"-") -> - | K99: =IF($C99=K$5,PRODUCT($D99:$F99),"-") -> - | L99: =IF($C99=L$5,PRODUCT($D99:$F99),"-") -> - | M99: =IF($C99=M$5,PRODUCT($D99:$F99),"-") -> -
B100: Lát gạch nền phòng | C100: K1.p | D100: 1 | E100: 4.4 | G100: =IF($C100=G$5,PRODUCT($D100:$F100),"-") -> - | H100: =IF($C100=H$5,PRODUCT($D100:$F100),"-") -> 4.4 | I100: =IF($C100=I$5,PRODUCT($D100:$F100),"-") -> - | J100: =IF($C100=J$5,PRODUCT($D100:$F100),"-") -> - | K100: =IF($C100=K$5,PRODUCT($D100:$F100),"-") -> - | L100: =IF($C100=L$5,PRODUCT($D100:$F100),"-") -> - | M100: =IF($C100=M$5,PRODUCT($D100:$F100),"-") -> -
B101: Chân tường phòng lát gạch | C101: K1.c | D101: 1 | E101: 10.5 | G101: =IF($C101=G$5,PRODUCT($D101:$F101),"-") -> - | H101: =IF($C101=H$5,PRODUCT($D101:$F101),"-") -> - | I101: =IF($C101=I$5,PRODUCT($D101:$F101),"-") -> - | J101: =IF($C101=J$5,PRODUCT($D101:$F101),"-") -> - | K101: =IF($C101=K$5,PRODUCT($D101:$F101),"-") -> - | L101: =IF($C101=L$5,PRODUCT($D101:$F101),"-") -> - | M101: =IF($C101=M$5,PRODUCT($D101:$F101),"-") -> -
B102: trừ cửa | C102: K1.c | D102: -1 | E102: =1.2+0.8*2 -> 2.8 | G102: =IF($C102=G$5,PRODUCT($D102:$F102),"-") -> - | H102: =IF($C102=H$5,PRODUCT($D102:$F102),"-") -> - | I102: =IF($C102=I$5,PRODUCT($D102:$F102),"-") -> - | J102: =IF($C102=J$5,PRODUCT($D102:$F102),"-") -> - | K102: =IF($C102=K$5,PRODUCT($D102:$F102),"-") -> - | L102: =IF($C102=L$5,PRODUCT($D102:$F102),"-") -> - | M102: =IF($C102=M$5,PRODUCT($D102:$F102),"-") -> -
...

Sheet CHỐNG THẤM
A1: Dự án : Havana Nha Trang Plaza Hotel | J1: Khối lượng chống thấm
A2: Công việc: Chống thấm | J2: 40816
A4: TT | B4: Diễn tả công việc | C4: Mã số | D4: Qty | E4: Kích thướt(m) | H4: Kl chi tiết | I4: Khối lượng | J4: Ghi chú
E5: Dài [l] | F5: Rộng [w] | G5: Cao (h) | I5: Diện tích m2 ©
A6: 1 | B6: 2 | C6: 3 | D6: 4 | E6: 5 | F6: 6 | G6: 7 | H6: 8 | I6: 9 | J6: 10
B7: Tổng 38,39 | I7: =I8*2 -> 712.2021
B8: Tầng 39=tầng 38 | I8: =I9 -> 356.10105
B9: Tầng 38 | I9: =SUM(I10,I18:I19,I26,I29,I36:I37,I44:I45,I52:I53,I60:I61,I64:I65,I72:I73,I80:I81,I88:I89,I92:I93,I100:I101,I108:I109,I116:I117,I123:I124,I128:I129,I136) -> 356.10105
B10: Toilet phòng 01 | I10: =SUBTOTAL(9,I11:I17) -> 16.8298
B11: Nền toilet | D11: 1 | E11: 3.38 | F11: 3.395 | H11: =PRODUCT(E11:G11) -> 11.4751 | I11: =H11*D11 -> 11.4751
B12: Nền toilet | D12: 1 | E12: 0.75 | F12: 1.145 | H12: =PRODUCT(E12:G12) -> 0.85875 | I12: =H12*D12 -> 0.85875
B13: trừ hộp gen | D13: -1 | E13: 1.545 | F13: 0.84 | H13: =PRODUCT(E13:G13) -> 1.2978 | I13: =H13*D13 -> -1.2978
B14: tường vách kính | D14: 1 | E14: 3.145 | G14: 0.35 | H14: =PRODUCT(E14:G14) -> 1.10075 | I14: =H14*D14 -> 1.10075
B15: tường bồn tắm | D15: 1 | E15: 1.17 | G15: 0.5 | H15: =PRODUCT(E15:G15) -> 0.585 | I15: =H15*D15 -> 0.585
B16: Chân tường | D16: 2 | E16: =E11+F11+E12+F12 -> 8.67 | G16: 0.2 | H16: =PRODUCT(E16:G16) -> 1.734 | I16: =H16*D16 -> 3.468
B17: Chân tường ngăn | D17: 2 | E17: =0.95+0.65 -> 1.6 | G17: 0.2 | H17: =PRODUCT(E17:G17) -> 0.32 | I17: =H17*D17 -> 0.64
B18: Toilet phòng 32A=p01 | I18: =I10 -> 16.8298
B19: Toilet phòng 02 | I19: =SUBTOTAL(9,I20:I25) -> 11.4641
B20: Nền toilet | D20: 1 | E20: 4.29 | F20: 1.84 | H20: =PRODUCT(E20:G20) -> 7.8936 | I20: =H20*D20 -> 7.8936
B21: trừ hộp gen | D21: -1 | E21: 1.32 | F21: 0.6 | H21: =PRODUCT(E21:G21) -> 0.792 | I21: =H21*D21 -> -0.792
B22: tường vách kính | D22: 1 | E22: 1.13 | G22: 0.35 | H22: =PRODUCT(E22:G22) -> 0.3955 | I22: =H22*D22 -> 0.3955
B23: tường bồn tắm | D23: 1 | E23: =2*0.9+F20-E22 -> 2.51 | G23: 0.5 | H23: =PRODUCT(E23:G23) -> 1.255 | I23: =H23*D23 -> 1.255
B24: Chân tường | D24: 2 | E24: =E20+F20 -> 6.13 | G24: 0.2 | H24: =PRODUCT(E24:G24) -> 1.226 | I24: =H24*D24 -> 2.452
B25: Chân tường ngăn | D25: 2 | E25: 0.65 | G25: 0.2 | H25: =PRODUCT(E25:G25) -> 0.13 | I25: =H25*D25 -> 0.26
B26: Toilet phòng 32B | I26: =SUBTOTAL(9,I27:I28) -> 6.0605
B27: Nền toilet | D27: 1 | E27: 3.95 | F27: 1.03 | H27: =PRODUCT(E27:G27) -> 4.0685 | I27: =H27*D27 -> 4.0685
B28: diện tích tường | D28: 2 | E28: =E27+F27 -> 4.98 | G28: 0.2 | H28: =PRODUCT(E28:G28) -> 0.996 | I28: =H28*D28 -> 1.992
B29: toilet phòng 03 | I29: =SUBTOTAL(9,I30:I35) -> 10.8282
B30: Nền toilet | D30: 1 | E30: 3.86 | F30: 1.87 | H30: =PRODUCT(E30:G30) -> 7.2182 | I30: =H30*D30 -> 7.2182
B31: trừ hộp gen | D31: -1 | E31: 0.9 | F31: 0.6 | H31: =PRODUCT(E31:G31) -> 0.54 | I31: =H31*D31 -> -0.54
B32: tường vách kính | D32: 1 | E32: 1.58 | G32: 0.35 | H32: =PRODUCT(E32:G32) -> 0.553 | I32: =H32*D32 -> 0.553
B33: tường bồn tắm | D33: 1 | E33: =2*0.9+F30-E32 -> 2.09 | G33: 0.5 | H33: =PRODUCT(E33:G33) -> 1.045 | I33: =H33*D33 -> 1.045
B34: Chân tường | D34: 2 | E34: =E30+F30 -> 5.73 | G34: 0.2 | H34: =PRODUCT(E34:G34) -> 1.146 | I34: =H34*D34 -> 2.292
B35: Chân tường ngăn | D35: 2 | E35: 0.65 | G35: 0.2 | H35: =PRODUCT(E35:G35) -> 0.13 | I35: =H35*D35 -> 0.26
B36: Toilet phòng 31=p03 | I36: =I29 -> 10.8282
B37: Toilet phòng 04 | I37: =SUBTOTAL(9,I38:I43) -> 10.852
B38: Nền toilet | D38: 1 | E38: 3.86 | F38: 1.875 | H38: =PRODUCT(E38:G38) -> 7.2375 | I38: =H38*D38 -> 7.2375
B39: trừ hộp gen | D39: -1 | E39: 0.6 | F39: 0.9 | H39: =PRODUCT(E39:G39) -> 0.54 | I39: =H39*D39 -> -0.54
B40: tường vách kính | D40: 1 | E40: 1.58 | G40: 0.35 | H40: =PRODUCT(E40:G40) -> 0.553 | I40: =H40*D40 -> 0.553
B41: tường bồn tắm | D41: 1 | E41: =2*0.9+F38-E40 -> 2.095 | G41: 0.5 | H41: =PRODUCT(E41:G41) -> 1.0475 | I41: =H41*D41 -> 1.0475
B42: Chân tường | D42: 2 | E42: =E38+F38 -> 5.735 | G42: 0.2 | H42: =PRODUCT(E42:G42) -> 1.147 | I42: =H42*D42 -> 2.294
B43: Chân tường ngăn | D43: 2 | E43: 0.65 | G43: 0.2 | H43: =PRODUCT(E43:G43) -> 0.13 | I43: =H43*D43 -> 0.26
B44: Toilet phòng 30=p04 | I44: =I37 -> 10.852
B45: Toilet phòng 05 | I45: =SUBTOTAL(9,I46:I51) -> 10.5515
B46: Nền toilet | D46: 1 | E46: 3.05 | F46: 2.055 | H46: =PRODUCT(E46:G46) -> 6.26775 | I46: =H46*D46 -> 6.26775
B47: trừ hộp gen | D47: -1 | E47: 0.9 | F47: 0.9 | H47: =PRODUCT(E47:G47) -> 0.81 | I47: =H47*D47 -> -0.81
B48: tường vách kính | D48: 1 | E48: 1.685 | G48: 0.35 | H48: =PRODUCT(E48:G48) -> 0.58975 | I48: =H48*D48 -> 0.58975
B49: tường bồn tắm | D49: 2 | E49: =2*0.9+F46-E48 -> 2.17 | G49: 0.5 | H49: =PRODUCT(E49:G49) -> 1.085 | I49: =H49*D49 -> 2.17
B50: Chân tường | D50: 2 | E50: =E46+F46 -> 5.105 | G50: 0.2 | H50: =PRODUCT(E50:G50) -> 1.021 | I50: =H50*D50 -> 2.042
B51: Chân tường ngăn | D51: 2 | E51: 0.73 | G51: 0.2 | H51: =PRODUCT(E51:G51) -> 0.146 | I51: =H51*D51 -> 0.292
B52: Toilet phòng 29=p05 | I52: =I45 -> 10.5515
B53: Toilet phòng 06 | I53: =SUBTOTAL(9,I54:I59) -> 11.692925
B54: Nền toilet | D54: 1 | E54: 3.885 | F54: 2.155 | H54: =PRODUCT(E54:G54) -> 8.372175 | I54: =H54*D54 -> 8.372175
B55: trừ hộp gen | D55: -1 | E55: 1.2 | F55: 0.9 | H55: =PRODUCT(E55:G55) -> 1.08 | I55: =H55*D55 -> -1.08
B56: tường vách kính | D56: 1 | E56: 1.685 | G56: 0.35 | H56: =PRODUCT(E56:G56) -> 0.58975 | I56: =H56*D56 -> 0.58975
B57: tường bồn tắm | D57: 1 | E57: =2*0.9+F54-E56 -> 2.27 | G57: 0.5 | H57: =PRODUCT(E57:G57) -> 1.135 | I57: =H57*D57 -> 1.135
B58: Chân tường | D58: 2 | E58: =E54+F54 -> 6.04 | G58: 0.2 | H58: =PRODUCT(E58:G58) -> 1.208 | I58: =H58*D58 -> 2.416
B59: Chân tường ngăn | D59: 2 | E59: 0.65 | G59: 0.2 | H59: =PRODUCT(E59:G59) -> 0.13 | I59: =H59*D59 -> 0.26
B60: Toilet phòng 28=p06 | I60: =I53 -> 11.692925
B61: Toilet phòng 07A | I61: =SUBTOTAL(9,I62:I63) -> 4.1181
B62: Nền toilet | D62: 1 | E62: 1.39 | F62: 1.99 | H62: =PRODUCT(E62:G62) -> 2.7661 | I62: =H62*D62 -> 2.7661
B63: tường toilet | D63: 2 | E63: =E62+F62 -> 3.38 | G63: 0.2 | H63: =PRODUCT(E63:G63) -> 0.676 | I63: =H63*D63 -> 1.352
B64: Toilet phòng 27A=p07A | I64: =I61 -> 4.1181
B65: Toilet phòng 07B | I65: =SUBTOTAL(9,I66:I71) -> 11.3666
B66: Nền toilet | D66: 1 | E66: 3.88 | F66: 1.82 | H66: =PRODUCT(E66:G66) -> 7.0616 | I66: =H66*D66 -> 7.0616
B67: trừ hộp gen | D67: -1 | E67: 0.1 | F67: 0.8 | H67: =PRODUCT(E67:G67) -> 0.08 | I67: =H67*D67 -> -0.08
B68: tường vách kính | D68: 1 | E68: 1.5 | G68: 0.35 | H68: =PRODUCT(E68:G68) -> 0.525 | I68: =H68*D68 -> 0.525
B69: tường bồn tắm | D69: 1 | E69: =2*0.9+F66-E68 -> 2.12 | G69: 0.5 | H69: =PRODUCT(E69:G69) -> 1.06 | I69: =H69*D69 -> 1.06
B70: Chân tường | D70: 2 | E70: =E66+F66 -> 5.7 | G70: 0.2 | H70: =PRODUCT(E70:G70) -> 1.14 | I70: =H70*D70 -> 2.28
B71: Chân tường ngăn | D71: 4 | E71: 0.65 | G71: 0.2 | H71: =PRODUCT(E71:G71) -> 0.13 | I71: =H71*D71 -> 0.52
B72: Toilet phòng 27B=p07B | I72: =I65 -> 11.3666
B73: Toilet phòng 08 | I73: =SUBTOTAL(9,I74:I79) -> 11.5736
B74: Nền toilet | D74: 1 | E74: 3.88 | F74: 2.12 | H74: =PRODUCT(E74:G74) -> 8.2256 | I74: =H74*D74 -> 8.2256
B75: trừ hộp gen | D75: -1 | E75: 1.15 | F75: 0.9 | H75: =PRODUCT(E75:G75) -> 1.035 | I75: =H75*D75 -> -1.035
B76: tường vách kính | D76: 1 | E76: 1.58 | G76: 0.35 | H76: =PRODUCT(E76:G76) -> 0.553 | I76: =H76*D76 -> 0.553
B77: tường bồn tắm | D77: 1 | E77: =2*0.9+F74-E76 -> 2.34 | G77: 0.5 | H77: =PRODUCT(E77:G77) -> 1.17 | I77: =H77*D77 -> 1.17
B78: Chân tường | D78: 2 | E78: =E74+F74 -> 6 | G78: 0.2 | H78: =PRODUCT(E78:G78) -> 1.2 | I78: =H78*D78 -> 2.4
B79: Chân tường ngăn | D79: 2 | E79: 0.65 | G79: 0.2 | H79: =PRODUCT(E79:G79) -> 0.13 | I79: =H79*D79 -> 0.26
B80: Toilet phòng 26=p08 | I80: =I73 -> 11.5736
B81: Toilet phòng 09 | I81: =SUBTOTAL(9,I82:I87) -> 11.568
B82: Nền toilet | D82: 1 | E82: 3.88 | F82: 2.1 | H82: =PRODUCT(E82:G82) -> 8.148 | I82: =H82*D82 -> 8.148
B83: trừ hộp gen | D83: -1 | E83: 1.05 | F83: 0.9 | H83: =PRODUCT(E83:G83) -> 0.945 | I83: =H83*D83 -> -0.945
B84: tường vách kính | D84: 1 | E84: 1.58 | G84: 0.35 | H84: =PRODUCT(E84:G84) -> 0.553 | I84: =H84*D84 -> 0.553
B85: tường bồn tắm | D85: 1 | E85: =2*0.9+F82-E84 -> 2.32 | G85: 0.5 | H85: =PRODUCT(E85:G85) -> 1.16 | I85: =H85*D85 -> 1.16
B86: Chân tường | D86: 2 | E86: =E82+F82 -> 5.98 | G86: 0.2 | H86: =PRODUCT(E86:G86) -> 1.196 | I86: =H86*D86 -> 2.392
B87: Chân tường ngăn | D87: 2 | E87: 0.65 | G87: 0.2 | H87: =PRODUCT(E87:G87) -> 0.13 | I87: =H87*D87 -> 0.26
B88: Toilet phòng 25=p09 | I88: =I81 -> 11.568
B89: Toilet phòng 10A | I89: =SUBTOTAL(9,I90:I91) -> 4.1181
B90: Nền toilet | D90: 1 | E90: 1.39 | F90: 1.99 | H90: =F90*E90 -> 2.7661 | I90: =H90*D90 -> 2.7661
B91: tường toilet | D91: 2 | E91: =E90+F90 -> 3.38 | G91: 0.2 | H91: =(E91+F91)*G91 -> 0.676 | I91: =H91*D91 -> 1.352
B92: Toilet phòng 24A=p10A | I92: =I89 -> 4.1181
B93: Toilet phòng 10B | I93: =SUBTOTAL(9,I94:I99) -> 11.3666
B94: Nền toilet | D94: 1 | E94: 3.88 | F94: 1.82 | H94: =PRODUCT(E94:G94) -> 7.0616 | I94: =H94*D94 -> 7.0616
B95: trừ hộp gen | D95: -1 | E95: 0.1 | F95: 0.8 | H95: =PRODUCT(E95:G95) -> 0.08 | I95: =H95*D95 -> -0.08
B96: tường vách kính | D96: 1 | E96: 1.5 | G96: 0.35 | H96: =PRODUCT(E96:G96) -> 0.525 | I96: =H96*D96 -> 0.525
B97: tường bồn tắm | D97: 1 | E97: =2*0.9+F94-E96 -> 2.12 | G97: 0.5 | H97: =PRODUCT(E97:G97) -> 1.06 | I97: =H97*D97 -> 1.06
B98: Chân tường | D98: 2 | E98: =E94+F94 -> 5.7 | G98: 0.2 | H98: =PRODUCT(E98:G98) -> 1.14 | I98: =H98*D98 -> 2.28
B99: Chân tường ngăn | D99: 4 | E99: 0.65 | G99: 0.2 | H99: =PRODUCT(E99:G99) -> 0.13 | I99: =H99*D99 -> 0.52
B100: Toilet phòng 24B=p10B | I100: =I93 -> 11.3666
B101: Toilet phòng 11 | I101: =SUBTOTAL(9,I102:I107) -> 11.5736
...

Sheet DỰ TRÙ VT XÂY TÔ
A1: BẢNG TỔNG HỢP KHỐI LƯỢNG HAO PHÍ VẬT TƯ XÂY -TRÁT- HOÀN THIỆN
A3: TT | B3: TÊN CÔNG ViỆC | C3: ĐƠN VỊ | D3: KHỐI LƯỢNG | AQ3: GHI CHÚ
E4: ĐÁ 1x2 | F4: GẠCH ỐNG | G4: GẠCH THẺ | H4: CÁT Xây | I4: CÁT Tô | J4: XI MĂNG | K4: KEO DÁN | L4: BỘT JON | M4: G.ốp 30x60 | N4: G.lát 30x30 | O4: G.lát 1 60x60 | P4: G.lát 2 60x60 | Q4: Đá lát 60x60 | R4: G.tàu 30x30 | S4: Men ốp 30x30 | T4: Mapei plastic | U4: Mapei 2k | V4: Mapei Planicrete SP | X4: ĐÁ 1x2 | Y4: GẠCH ỐNG | Z4: GẠCH THẺ | AA4: CÁT Xây | AB4: CÁT Tô | AC4: XI MĂNG | AD4: KEO DÁN | AE4: BỘT JON | AF4: G.ốp 30x60 | AG4: G.lát 30x30 | AH4: G.lát 1 60x60 | AI4: G.lát 2 60x60 | AJ4: Đá lát 60x60 | AK4: G.tàu 30x30 | AL4: Men ốp 30x30 | AM4: Mapei plastic | AN4: Mapei 2k | AO4: Mapei Planicrete SP
E5: (m3) | F5: (Viên) | G5: (Viên) | H5: (m3) | I5: (m3) | J5: (Kg) | K5: (Kg) | L5: (Kg) | M5: (Viên) | N5: (Viên) | O5: (Viên) | P5: (Viên) | Q5: (Viên) | R5: (Viên) | S5: (Viên) | T5: (Kg) | U5: (Kg) | V5: (Kg) | X5: (m3) | Y5: (Viên) | Z5: (Viên) | AA5: (m3) | AB5: (m3) | AC5: (Kg) | AD5: (Kg) | AE5: (Kg) | AF5: (Viên) | AG5: (Viên) | AH5: (Viên) | AI5: (Viên) | AJ5: (Viên) | AK5: (Viên) | AL5: (Viên) | AM5: (Bộ) | AN5: (Bộ) | AO5: (Can)
B6: TỔNG CỘNG: | X6: =SUBTOTAL(9,X7:X34) -> 5.04965 | Y6: =SUBTOTAL(9,Y7:Y34) -> 379303.06 | Z6: =SUBTOTAL(9,Z7:Z34) -> 117729.23 | AA6: =SUBTOTAL(9,AA7:AA34) -> 302.17869 | AB6: =SUBTOTAL(9,AB7:AB34) -> 3186.7767 | AC6: =SUBTOTAL(9,AC7:AC34) -> 872306.72 | AD6: =SUBTOTAL(9,AD7:AD34) -> 24337.882 | AE6: =SUBTOTAL(9,AE7:AE34) -> 3698.2443 | ... AO6: =SUBTOTAL(9,AO7:AO34) -> 0
B7: CÔNG TÁC XÂY | X7: =SUBTOTAL(9,X8:X13) -> 5.04965 | Y7: =SUBTOTAL(9,Y8:Y13) -> 379303.06 | Z7: =SUBTOTAL(9,Z8:Z13) -> 117729.23 | AA7: =SUBTOTAL(9,AA8:AA13) -> 196.11819 | AB7: =SUBTOTAL(9,AB8:AB13) -> 4.558 | AC7: =SUBTOTAL(9,AC8:AC13) -> 32684.209 | AD7: =SUBTOTAL(9,AD8:AD13) -> 0 | AE7: =SUBTOTAL(9,AE8:AE13) -> 0 | ... AO7: =SUBTOTAL(9,AO8:AO13) -> 0 | AQ7: Tầng 20-41
A8: 1 | B8: Xây tường gạch ống, dày 200, tường WC | C8: m2 | D8: 175.93058 | F8: =F9*2 -> 108.8 | G8: =G9*2 -> 34 | H8: =H9*2.2 -> 0.0605 | J8: =J9*2.2 -> 9.24 | X8: =$D8*E8 -> 0 | Y8: =$D8*F8 -> 19141.247 | Z8: =$D8*G8 -> 5981.6397 | AA8: =$D8*H8 -> 10.6438 | AB8: =$D8*I8 -> 0 | AC8: =$D8*J8 -> 1625.5986 | AD8: =$D8*K8 -> 0 | AE8: =$D8*L8 -> 0 | ... AO8: =$D8*V8 -> 0
A9: 3 | B9: Xây tường gạch ống, dày 100, hộp kỹ thuật | C9: m2 | D9: =(3266.392092+1041)*1.1 -> 4738.1313 | F9: 54.4 | G9: =17 -> 17 | H9: =0.025*1.1 -> 0.0275 | J9: 4.2 | X9: =$D9*E9 -> 0 | Y9: =$D9*F9 -> 257754.34 | Z9: =$D9*G9 -> 80548.232 | AA9: =$D9*H9 -> 130.29861 | AB9: =$D9*I9 -> 0 | AC9: =$D9*J9 -> 19900.151 | AD9: =$D9*K9 -> 0 | AE9: =$D9*L9 -> 0 | ... AO9: =$D9*V9 -> 0
A10: 4 | B10: Xây kết cấu phức tạp, bệ bồn tắm | C10: m2 | D10: =136.291837377202*10 -> 1362.9184 | F10: 54.4 | G10: =17 -> 17 | H10: =0.03 -> 0.03 | J10: 4.2 | X10: =$D10*E10 -> 0 | Y10: =$D10*F10 -> 74142.76 | Z10: =$D10*G10 -> 23169.612 | AA10: =$D10*H10 -> 40.887551 | AB10: =$D10*I10 -> 0 | AC10: =$D10*J10 -> 5724.2572 | AD10: =$D10*K10 -> 0 | AE10: =$D10*L10 -> 0 | ... AO10: =$D10*V10 -> 0
A11: 5 | B11: Xây tường trong, dày 250~ 350, | C11: m2 | D11: =73.4+162.769 -> 236.169 | F11: =F9*2.2 -> 119.68 | G11: =G9*2 -> 34 | H11: =H9*2.2 -> 0.0605 | J11: =J9*2.2 -> 9.24 | X11: =$D11*E11 -> 0 | Y11: =$D11*F11 -> 28264.706 | Z11: =$D11*G11 -> 8029.746 | AA11: =$D11*H11 -> 14.288225 | AB11: =$D11*I11 -> 0 | AC11: =$D11*J11 -> 2182.2016 | AD11: =$D11*K11 -> 0 | AE11: =$D11*L11 -> 0 | ... AO11: =$D11*V11 -> 0
A12: 6 | B12: Trám vá các lỗ ống nước xuyên sàn | C12: m3 | D12: ='TH KL TRÁM VÁ'!$I$107*0.1*0.1*0.2 -> 4.93 | E12: 0.505 | I12: 0.6 | J12: 400 | X12: =$D12*E12 -> 2.48965 | Y12: =$D12*F12 -> 0 | Z12: =$D12*G12 -> 0 | AA12: =$D12*H12 -> 0 | AB12: =$D12*I12 -> 2.958 | AC12: =$D12*J12 -> 1972 | AD12: =$D12*K12 -> 0 | AE12: =$D12*L12 -> 0 | ... AO12: =$D12*V12 -> 0
A13: 7 | B13: Đổ BT các loại ( lanh tô …) | C13: m3 | D13: =10*20*1.6*0.1*0.1 -> 3.2 | E13: 0.8 | I13: 0.5 | J13: 400 | X13: =$D13*E13 -> 2.56 | Y13: =$D13*F13 -> 0 | Z13: =$D13*G13 -> 0 | AA13: =$D13*H13 -> 0 | AB13: =$D13*I13 -> 1.6 | AC13: =$D13*J13 -> 1280 | AD13: =$D13*K13 -> 0 | AE13: =$D13*L13 -> 0 | ... AO13: =$D13*V13 -> 0
B14: CÔNG TÁC TÔ -CÁN NỀN | X14: =SUBTOTAL(9,X15:X20) -> 0 | Y14: =SUBTOTAL(9,Y15:Y20) -> 0 | Z14: =SUBTOTAL(9,Z15:Z20) -> 0 | AA14: =SUBTOTAL(9,AA15:AA20) -> 0 | AB14: =SUBTOTAL(9,AB15:AB20) -> 3171.8987 | AC14: =SUBTOTAL(9,AC15:AC20) -> 732620.2 | AD14: =SUBTOTAL(9,AD15:AD20) -> 0 | AE14: =SUBTOTAL(9,AE15:AE20) -> 0 | ... AO14: =SUBTOTAL(9,AO15:AO20) -> 0 | AQ14: Tầng 20-41
A15: 1 | B15: Tô tường trong, vữa M75, dày 1,5cm | C15: m2 | D15: 83901.383 | I15: 0.02 | J15: 4.73 | X15: =$D15*E15 -> 0 | Y15: =$D15*F15 -> 0 | Z15: =$D15*G15 -> 0 | AA15: =$D15*H15 -> 0 | AB15: =$D15*I15 -> 1678.0277 | AC15: =$D15*J15 -> 396853.54 | AD15: =$D15*K15 -> 0 | AE15: =$D15*L15 -> 0 | ... AO15: =$D15*V15 -> 0
A16: 2 | B16: Tô cột vách trong nhà, vữa M75, dày 1,5cm | C16: m2 | D16: 10323.655 | I16: 0.019 | J16: 4.73 | X16: =$D16*E16 -> 0 | Y16: =$D16*F16 -> 0 | Z16: =$D16*G16 -> 0 | AA16: =$D16*H16 -> 0 | AB16: =$D16*I16 -> 196.14944 | AC16: =$D16*J16 -> 48830.887 | AD16: =$D16*K16 -> 0 | AE16: =$D16*L16 -> 0 | ... AO16: =$D16*V16 -> 0
A17: 3 | B17: Tô xà dầm, trần trong nhà, vữa M75, dày 1cm | C17: m2 | D17: 637.952 | I17: 0.013 | J17: 3.34 | X17: =$D17*E17 -> 0 | Y17: =$D17*F17 -> 0 | Z17: =$D17*G17 -> 0 | AA17: =$D17*H17 -> 0 | AB17: =$D17*I17 -> 8.293376 | AC17: =$D17*J17 -> 2130.7597 | AD17: =$D17*K17 -> 0 | AE17: =$D17*L17 -> 0 | ... AO17: =$D17*V17 -> 0
A18: 4 | B18: Cán nền phòng & hành lang, dày Tb: 2,5cm | C18: m2 | D18: ='CÁN NỀN'!G11+'CÁN NỀN'!H11 -> 26291.1 | I18: 0.039 | J18: 8.65 | X18: =$D18*E18 -> 0 | Y18: =$D18*F18 -> 0 | Z18: =$D18*G18 -> 0 | AA18: =$D18*H18 -> 0 | AB18: =$D18*I18 -> 1025.3529 | AC18: =$D18*J18 -> 227418.01 | AD18: =$D18*K18 -> 0 | AE18: =$D18*L18 -> 0 | ... AO18: =$D18*V18 -> 0
A19: 5 | B19: Cán nền phòng vệ sinh, dày Tb: 4 cm | C19: m2 | D19: ='CÁN NỀN'!I11+'CÁN NỀN'!J11 -> 4198.62 | I19: =I18*1.5 -> 0.0585 | J19: =J18*1.5 -> 12.975 | X19: =$D19*E19 -> 0 | Y19: =$D19*F19 -> 0 | Z19: =$D19*G19 -> 0 | AA19: =$D19*H19 -> 0 | AB19: =$D19*I19 -> 245.61927 | AC19: =$D19*J19 -> 54477.094 | AD19: =$D19*K19 -> 0 | AE19: =$D19*L19 -> 0 | ... AO19: =$D19*V19 -> 0
A20: 6 | B20: Trám vá đường điện- nước | C20: m | D20: ='TH KL TRÁM VÁ'!H63*0.1 -> 615.2 | I20: 0.03 | J20: 4.73 | X20: =$D20*E20 -> 0 | Y20: =$D20*F20 -> 0 | Z20: =$D20*G20 -> 0 | AA20: =$D20*H20 -> 0 | AB20: =$D20*I20 -> 18.456 | AC20: =$D20*J20 -> 2909.896 | AD20: =$D20*K20 -> 0 | AE20: =$D20*L20 -> 0 | ... AO20: =$D20*V20 -> 0
B21: CÔNG TÁC ỐP-LÁT | X21: =SUBTOTAL(9,X22:X29) -> 0 | Y21: =SUBTOTAL(9,Y22:Y29) -> 0 | Z21: =SUBTOTAL(9,Z22:Z29) -> 0 | AA21: =SUBTOTAL(9,AA22:AA29) -> 106.0605 | AB21: =SUBTOTAL(9,AB22:AB29) -> 10.32 | AC21: =SUBTOTAL(9,AC22:AC29) -> 107002.31 | AD21: =SUBTOTAL(9,AD22:AD29) -> 24337.882 | AE21: =SUBTOTAL(9,AE22:AE29) -> 3698.2443 | ... AO21: =SUBTOTAL(9,AO22:AO29) -> 0 | AQ21: Tầng 20-41
A22: 1 | B22: Ốp tường gạch 30x60 (tường vệ sinh) | C22: m2 | D22: ='DỰ TRÙ VT ỐP LÁT'!G8 -> 15763.394 | J22: 2.4 | K22: 0.72 | L22: 0.13 | M22: =1.05/0.3/0.6 -> 5.8333333 | X22: =$D22*E22 -> 0 | Y22: =$D22*F22 -> 0 | Z22: =$D22*G22 -> 0 | AA22: =$D22*H22 -> 0 | AB22: =$D22*I22 -> 0 | AC22: =$D22*J22 -> 37832.147 | AD22: =$D22*K22 -> 11349.644 | AE22: =$D22*L22 -> 2049.2413 | ... AO22: =$D22*V22 -> 0 | AQ22: Tầng 20-41
A23: 2 | B23: Lát nền Gạch 30x60 (nền vệ sinh) | C23: m2 | D23: ='DỰ TRÙ VT ỐP LÁT'!F8 -> 3634.9 | J23: 4 | K23: 1.2 | L23: 0.13 | M23: =1.03/0.3/0.6 -> 5.7222222 | X23: =$D23*E23 -> 0 | Y23: =$D23*F23 -> 0 | Z23: =$D23*G23 -> 0 | AA23: =$D23*H23 -> 0 | AB23: =$D23*I23 -> 0 | AC23: =$D23*J23 -> 14539.6 | AD23: =$D23*K23 -> 4361.88 | AE23: =$D23*L23 -> 472.537 | ... AO23: =$D23*V23 -> 0 | AQ23: Tầng 20-41
A24: 3 | B24: Lát nền gạch Mosaic 30x30 (nền vệ sinh) | C24: m2 | D24: ='DỰ TRÙ VT ỐP LÁT'!H8 -> 211.05 | J24: 4 | K24: 1.2 | L24: 2 | N24: =1.005/0.3/0.3 -> 11.166667 | X24: =$D24*E24 -> 0 | Y24: =$D24*F24 -> 0 | Z24: =$D24*G24 -> 0 | AA24: =$D24*H24 -> 0 | AB24: =$D24*I24 -> 0 | AC24: =$D24*J24 -> 844.2 | AD24: =$D24*K24 -> 253.26 | AE24: =$D24*L24 -> 422.1 | ... AO24: =$D24*V24 -> 0 | AQ24: Tầng 20-41
A25: 4 | B25: Lát nền gạch Ceramic 60x60 (nền hành lang) | C25: m2 | D25: ='DỰ TRÙ VT ỐP LÁT'!E8 -> 5460.04 | J25: 4.5 | K25: 1.35 | L25: 0.12 | O25: =1.03/0.6/0.6 -> 2.8611111 | X25: =$D25*E25 -> 0 | Y25: =$D25*F25 -> 0 | Z25: =$D25*G25 -> 0 | AA25: =$D25*H25 -> 0 | AB25: =$D25*I25 -> 0 | AC25: =$D25*J25 -> 24570.18 | AD25: =$D25*K25 -> 7371.054 | AE25: =$D25*L25 -> 655.2048 | ... AO25: =$D25*V25 -> 0 | AQ25: Tầng 20-41
A26: 5 | B26: Lát nền gạch men 60x60 (nền ban công T40-41) | C26: m2 | D26: ='DỰ TRÙ VT ỐP LÁT'!D8 -> 172.71 | J26: 4.5 | K26: 1.35 | L26: 0.12 | P26: =1.01/0.6/0.6 -> 2.8055556 | X26: =$D26*E26 -> 0 | Y26: =$D26*F26 -> 0 | Z26: =$D26*G26 -> 0 | AA26: =$D26*H26 -> 0 | AB26: =$D26*I26 -> 0 | AC26: =$D26*J26 -> 777.195 | AD26: =$D26*K26 -> 233.1585 | AE26: =$D26*L26 -> 20.7252 | ... AO26: =$D26*V26 -> 0
A27: 6 | B27: Lát nền đá 60x60 (nền phòng tầng 40) | C27: m2 | D27: ='DỰ TRÙ VT ỐP LÁT'!C8 -> 80.3 | J27: 4.5 | K27: 1.35 | L27: 0.12 | Q27: =1.01/0.6/0.6 -> 2.8055556 | X27: =$D27*E27 -> 0 | Y27: =$D27*F27 -> 0 | Z27: =$D27*G27 -> 0 | AA27: =$D27*H27 -> 0 | AB27: =$D27*I27 -> 0 | AC27: =$D27*J27 -> 361.35 | AD27: =$D27*K27 -> 108.405 | AE27: =$D27*L27 -> 9.636 | ... AO27: =$D27*V27 -> 0
A28: 7 | B28: Lát nền gạch tàu 30x30 (T26-KT2-mái) | C28: m2 | D28: =738+432+643 -> 1813 | H28: 0.0585 | J28: =12.975*1.1 -> 14.2725 | R28: =1.002/0.3/0.3 -> 11.133333 | X28: =$D28*E28 -> 0 | Y28: =$D28*F28 -> 0 | Z28: =$D28*G28 -> 0 | AA28: =$D28*H28 -> 106.0605 | AB28: =$D28*I28 -> 0 | AC28: =$D28*J28 -> 25876.043 | AD28: =$D28*K28 -> 0 | AE28: =$D28*L28 -> 0 | ... AO28: =$D28*V28 -> 0
A29: 8 | B29: Ốp tường gạch men 30x30 (bể nước T26-mái) | C29: m2 | D29: 344 | I29: 0.03 | J29: 6.4 | K29: =J29*30% -> 1.92 | L29: 0.2 | S29: =1.01/0.3/0.3 -> 11.222222 | X29: =$D29*E29 -> 0 | Y29: =$D29*F29 -> 0 | Z29: =$D29*G29 -> 0 | AA29: =$D29*H29 -> 0 | AB29: =$D29*I29 -> 10.32 | AC29: =$D29*J29 -> 2201.6 | AD29: =$D29*K29 -> 660.48 | AE29: =$D29*L29 -> 68.8 | ... AO29: =$D29*V29 -> 0
B30: CÔNG TÁC CHỐNG THẤM | X30: =SUBTOTAL(9,X31:X33) -> 0 | Y30: =SUBTOTAL(9,Y31:Y33) -> 0 | Z30: =SUBTOTAL(9,Z31:Z33) -> 0 | AA30: =SUBTOTAL(9,AA31:AA33) -> 0 | AB30: =SUBTOTAL(9,AB31:AB33) -> 0 | AC30: =SUBTOTAL(9,AC31:AC33) -> 0 | AD30: =SUBTOTAL(9,AD31:AD33) -> 0 | AE30: =SUBTOTAL(9,AE31:AE33) -> 0 | ... AO30: =SUBTOTAL(9,AO31:AO33) -> 0 | AQ30: Tầng 20-41
A31: 1 | B31: Chống thấm phòng vệ sinh | C31: m2 | D31: =356.1*20 -> 7122 | X31: =$D31*E31 -> 0 | Y31: =$D31*F31 -> 0 | Z31: =$D31*G31 -> 0 | AA31: =$D31*H31 -> 0 | AB31: =$D31*I31 -> 0 | AC31: =$D31*J31 -> 0 | AD31: =$D31*K31 -> 0 | AE31: =$D31*L31 -> 0 | ... AO31: =$D31*V31 -> 0 | AQ31: Tầng 20-41
A32: 2 | B32: Chống thấm bể nước | C32: m2 | X32: =$D32*E32 -> 0 | Y32: =$D32*F32 -> 0 | Z32: =$D32*G32 -> 0 | AA32: =$D32*H32 -> 0 | AB32: =$D32*I32 -> 0 | AC32: =$D32*J32 -> 0 | AD32: =$D32*K32 -> 0 | AE32: =$D32*L32 -> 0 | ... AO32: =$D32*V32 -> 0 | AQ32: Tầng 26-mái
A33: 3 | B33: Chống thấm mái- ban công | C33: m2 | X33: =$D33*E33 -> 0 | Y33: =$D33*F33 -> 0 | Z33: =$D33*G33 -> 0 | AA33: =$D33*H33 -> 0 | AB33: =$D33*I33 -> 0 | AC33: =$D33*J33 -> 0 | AD33: =$D33*K33 -> 0 | AE33: =$D33*L33 -> 0 | ... AO33: =$D33*V33 -> 0 | AQ33: 26-40-41-KT-mái
X34: =$D34*E34 -> 0 | Y34: =$D34*F34 -> 0 | Z34: =$D34*G34 -> 0 | AA34: =$D34*H34 -> 0 | AB34: =$D34*I34 -> 0 | AC34: =$D34*J34 -> 0 | AD34: =$D34*K34 -> 0 | AE34: =$D34*L34 -> 0 | ... AO34: =$D34*V34 -> 0
B35: TỔNG SỐ LƯỢNG DỰ TRÙ | X35: =SUBTOTAL(9,X7:X34) -> 5.04965 | Y35: =SUBTOTAL(9,Y7:Y34) -> 379303.06 | Z35: =SUBTOTAL(9,Z7:Z34) -> 117729.23 | AA35: =SUBTOTAL(9,AA7:AA34) -> 302.17869 | AB35: =SUBTOTAL(9,AB7:AB34) -> 3186.7767 | AC35: =SUBTOTAL(9,AC7:AC34) -> 872306.72 | AD35: =SUBTOTAL(9,AD7:AD34) -> 24337.882 | AE35: =SUBTOTAL(9,AE7:AE34) -> 3698.2443 | ... AO35: =SUBTOTAL(9,AO7:AO34) -> 0
B36: SỐ LƯỢNG ĐÃ NHẬP (Đến ngày 24/11/2011) | X36: 3 | Y36: =274500+3300 -> 277800 | Z36: 108000 | AA36: 298 | AB36: 1917 | AC36: =10780*50 -> 539000 | AD36: 2500 | AE36: 500 | AF36: =1554*8 -> 12432 | AG36: 22 | AH36: =986*4 -> 3944 | AK36: =1835*11 -> 20185 | AL36: =220*11 -> 2420 | AM36: 60 | AN36: 197 | AO36: 5
B37: SỐ LƯỢNG CÒN LẠI (CẦN NHẬP) | X37: =X35-X36 -> 2.04965 | Y37: =Y35-Y36 -> 101503.06 | Z37: =Z35-Z36 -> 9729.2302 | AA37: =AA35-AA36 -> 4.1786866 | AB37: =AB35-AB36 -> 1269.7767 | AC37: =AC35-AC36 -> 333306.72 | AD37: =AD35-AD36 -> 21837.882 | AE37: =AE35-AE36 -> 3198.2443 | ... AO37: =AO35-AO36 -> -5

Sheet DỰ TRÙ VT ỐP LÁT
A1: KHỐI LƯỢNG VẬT TƯ ỐP - LÁT - KHỐI PHÒNG NGŨ
A2: THEO BẢN VẼ MỚI NGÀY 29 THÁNG 10 NĂM 2011
I4: =0.6*0.6 -> 0.36 | J4: =0.6*0.6 -> 0.36 | K4: =0.6*0.6 -> 0.36 | L4: =0.3*0.6 -> 0.18 | M4: =0.3*0.3 -> 0.09 | N4: 4 | O4: 4 | P4: 4 | Q4: 8 | R4: 11
C5: DIỆN TÍCH TÍNH TOÁN (m2) | I5: SỐ LƯỢNG GẠCH (Viên) | N5: SL GẠCH (Thùng)
A6: SỐ TT | B6: NỘI DUNG | C6: Đá 60x60 | D6: Gạch* 60x60 | E6: Gạch nền 60x60 | F6: Nền VS 30x60 | G6: Tường VS 30x60 | H6: Nền VS 30x30 | I6: Đá 60x60 | J6: Gạch* 60x60 | K6: Gạch 60x60 | L6: Gạch 30x60 | M6: Gạch 30x30 | N6: Đá 60x60 | O6: Gạch* 60x60 | P6: Gạch 60x60 | Q6: Gạch 30x60 | R6: Gạch 30x30
C7: ( m2 ) | D7: ( m2 ) | E7: ( m2 ) | F7: ( m2 ) | G7: ( m2 ) | H7: ( m2 ) | I7: ( viên) | J7: ( viên) | K7: ( viên) | L7: ( viên) | M7: ( viên) | N7: (T/4v) | O7: (T/4v) | P7: (T/4v) | Q7: (T/8v) | R7: ( T/11v)
B8: TỔNG CỘNG: | C8: =SUM(C9:C11) -> 80.3 | D8: =SUM(D9:D11) -> 172.71 | E8: =SUM(E9:E11) -> 5460.04 | F8: =SUM(F9:F11) -> 3634.9 | G8: =SUM(G9:G11) -> 15763.394 | H8: =SUM(H9:H11) -> 211.05 | I8: =SUM(I9:I11) -> 223.05556 | J8: =SUM(J9:J11) -> 479.75 | ... R8: =SUM(R9:R11) -> 213.18182
B9: CỘNG Tầng 09 đến tầng 19 | K9: =E9/K$4 -> 0 | L9: =G9/L$4 -> 0 | M9: =H9/M$4 -> 0 | P9: =K9/4 -> 0 | Q9: =L9/8 -> 0 | R9: =M9/11 -> 0
B10: CỘNG Tầng 20 đến tầng 39 | E10: ='[2]OP-LAT TANG 20-39'!G11 -> 5151.5 | F10: ='[2]OP-LAT TANG 20-39'!H11 -> 3326.36 | G10: ='[2]OP-LAT TANG 20-39'!I11 -> 14625.222 | H10: ='[2]OP-LAT TANG 20-39'!J11 -> 197.01 | K10: =E10/K$4 -> 14309.722 | L10: =(G10+F10)/L$4 -> 99731.014 | M10: =H10/M$4 -> 2189 | P10: =K10/4 -> 3577.4306 | Q10: =L10/8 -> 12466.377 | R10: =M10/11 -> 199
B11: CỘNG Tầng 40 đến tầng 41 | C11: ='[2]OP-LAT TANG 40-41'!G11 -> 80.3 | D11: ='[2]OP-LAT TANG 40-41'!H11 -> 172.71 | E11: ='[2]OP-LAT TANG 40-41'!I11 -> 308.54 | F11: ='[2]OP-LAT TANG 40-41'!I11 -> 308.54 | G11: ='[2]OP-LAT TANG 40-41'!K11 -> 1138.172 | H11: ='[2]OP-LAT TANG 40-41'!L11 -> 14.04 | I11: =C11/I$4 -> 223.05556 | J11: =D11/J$4 -> 479.75 | K11: =E11/K$4 -> 857.05556 | L11: =(G11+F11)/L$4 -> 8037.2889 | M11: =H11/M$4 -> 156 | N11: =I11/4 -> 55.763889 | O11: =J11/4 -> 119.9375 | P11: =K11/4 -> 214.26389 | Q11: =L11/8 -> 1004.6611 | R11: =M11/11 -> 14.181818
B12: Định mức vật tư | C12: Vữa dán dày 5mm | D12: Vữa dán dày 5mm | E12: Vữa dán dày 5mm | F12: Vữa dán dày 5mm | G12: Vữa dán dày 3mm | H12: Vữa dán dày 5mm
B13: Gạch ốp (m2) | C13: 1.01 | D13: 1.01 | E13: 1.03 | F13: 1.03 | G13: 1.05 | H13: 1.005
B14: Xi Măng (kg) | C14: =0.9*5 -> 4.5 | D14: =0.9*5 -> 4.5 | E14: =0.9*5 -> 4.5 | F14: =0.8*5 -> 4 | G14: =0.8*3 -> 2.4 | H14: =0.8*5 -> 4
B15: Keo dán (=30% XM) (kg) | C15: =C14*0.3 -> 1.35 | D15: =D14*0.3 -> 1.35 | E15: =E14*0.3 -> 1.35 | F15: =F14*0.3 -> 1.2 | G15: =G14*0.3 -> 0.72 | H15: =H14*0.3 -> 1.2
B16: Bột ron (kg) | C16: 0.12 | D16: 0.12 | E16: 0.12 | F16: 0.14 | G16: 0.14 | H16: 2
B17: TỔNG HỢP HAO PHÍ VẬT TƯ
B18: Gạch ốp (m2) | C18: =C$8*C13 -> 81.103 | D18: =D$8*D13 -> 174.4371 | E18: =E$8*E13 -> 5623.8412 | F18: =F$8*F13 -> 3743.947 | G18: =G$8*G13 -> 16551.564 | H18: =H$8*H13 -> 212.10525 | N18: =N$8*C13 -> 56.321528 | O18: =O$8*D13 -> 121.13688 | P18: =P$8*E13 -> 3905.4453 | Q18: =Q$8*F13 -> 13875.169 | R18: =R$8*G13 -> 223.84091
B19: Xi Măng (kg) | C19: =C$8*C14 -> 361.35 | D19: =D$8*D14 -> 777.195 | E19: =E$8*E14 -> 24570.18 | F19: =F$8*F14 -> 14539.6 | G19: =G$8*G14 -> 37832.147 | H19: =H$8*H14 -> 844.2
B20: Keo dán (kg) | C20: =C$8*C15 -> 108.405 | D20: =D$8*D15 -> 233.1585 | E20: =E$8*E15 -> 7371.054 | F20: =F$8*F15 -> 4361.88 | G20: =G$8*G15 -> 11349.644 | H20: =H$8*H15 -> 253.26
B21: Bột ron (kg) | C21: =C$8*C16 -> 9.636 | D21: =D$8*D16 -> 20.7252 | E21: =E$8*E16 -> 655.2048 | F21: =F$8*F16 -> 508.886 | G21: =G$8*G16 -> 2206.8752 | H21: =H$8*H16 -> 422.1
B22: KHỐI LƯỢNG ĐÃ NHẬP (TÍNH ĐẾN 14/11/2011) | I22: 0 | J22: 0 | K22: =P22*4 -> 0 | L22: =Q22*8 -> 0 | M22: =R22*11 -> 0
B23: Gạch ốp (m2) | C23: =4*N23*0.6^2 -> 0 | D23: =4*O23*0.6^2 -> 0 | E23: =4*P23*0.6^2 -> 1419.84 | F23: =8*Q23*0.3*0.6*1/4 -> 559.44 | G23: =8*Q23*0.3*0.6*3/4 -> 1678.32 | H23: =11*R23*0.3^2 -> 1.98 | P23: 986 | Q23: 1554 | R23: =22/11 -> 2
B24: Xi Măng (kg)
B25: Keo dán (kg) | C25: 2500
B26: Bột ron (kg) | C26: 500
B27: KHỐI LƯỢNG CẦN PHẢI NHẬP THÊM | I27: =I8-I22 -> 223.05556 | J27: =J8-J22 -> 479.75 | K27: =K8-K22 -> 15166.778 | L27: =L8-L22 -> 107768.3 | M27: =M8-M22 -> 2345
B28: Gạch ốp (m2) | C28: =C18-C23 -> 81.103 | D28: =D18-D23 -> 174.4371 | E28: =E18-E23 -> 4204.0012 | F28: =F18-F23 -> 3184.507 | G28: =G18-G23 -> 14873.244 | H28: =H18-H23 -> 210.12525 | N28: =N18-N23 -> 56.321528 | O28: =O18-O23 -> 121.13688 | P28: =P18-P23 -> 2919.4453 | Q28: =Q18-Q23 -> 12321.169 | R28: =R18-R23 -> 221.84091
B29: Xi Măng (kg) | C29: =SUM(C19:H19)-C24 -> 78924.672 | N29: =N19-N24 -> 0 | O29: =O19-O24 -> 0 | P29: =P19-P24 -> 0 | Q29: =Q19-Q24 -> 0 | R29: =R19-R24 -> 0
B30: Keo dán (kg) | C30: =SUM(C20:H20)-C25 -> 21177.402 | N30: =N20-N25 -> 0 | O30: =O20-O25 -> 0 | P30: =P20-P25 -> 0 | Q30: =Q20-Q25 -> 0 | R30: =R20-R25 -> 0
B31: Bột ron (kg) | C31: =SUM(C21:H21)-C26 -> 3323.4272 | N31: =N21-N26 -> 0 | O31: =O21-O26 -> 0 | P31: =P21-P26 -> 0 | Q31: =Q21-Q26 -> 0 | R31: =R21-R26 -> 0
B33: NGƯỜI LẬP | P33: BAN QUẢN LÝ DỰ ÁN
B35: LÊ ANH TUẤN
