Workbook
Name BANGBT: DATA!$B$3:$N$17
Name BANGXAY: DATA!$B$20:$N$29
Name CBBT: '5.CBBT'!$A$2:$AC$1027
Name CDT: 'List - Nha'!$Q:$Q
Name CGĐ: '8.CGĐ'!$A$2:$R$21
Name CPBT: CPBT!$B$2:$K$31
Name CVCDT: DATA!$C$40
Name CVDVTC: DATA!$G$40
Name CVGS: DATA!$E$40
Name CVTNV: DATA!$I$40
Name DIEMTDC: 'List - Nha'!$F$3:$F$1480
Name DONVI: '9.1.LMVX'!$AC:$AC
Name DVTC: 'List - Nha'!$R:$R
Name GSBT: '6.GSBT'!$A$2:$AD$705
Name LIST_NHA: 'List - Nha'!$A$1:$R$1034
Name LMBT: '7.1.TVK'!$A$2:$R$1543
Name LMBT: '7.LMBT'!$A$2:$AC$1543
Name LMBT2PTX: '[1]7.LMBT'!$A$2:$AC$141
Name LMVXM2PPC: '9.1.LMVX'!$A$2:$AA$108
Name lmvxm2ptx: #REF!
Name LMVXM60TX: '[2]9.1.LMVX'!$A$2:$AA$43
Name LMXAY: '9.1.LMVX'!$A$2:$AA$924
Name LOAIVLXAY: '9.1.LMVX'!$A$2:$AB$258
Name MH_CBBT: BBNT!#REF!
Name MH_CBBT: BBNT!#REF!
Name MH_GSBT: BBNT!#REF!
Name MH_GSBT: BBNT!#REF!
Name MH_LMBT: BBNT!#REF!
Name MH_LMBT: BBNT!#REF!
Name MH_NTBT: BBNT!#REF!
Name MH_NTBT: BBNT!#REF!
Name MH_NTCT: BBNT!#REF!
Name MH_NTCT: BBNT!#REF!
Name MH_NTVK: BBNT!#REF!
Name MH_NTVK: BBNT!#REF!
Name MH_VLDV: BBNT!#REF!
Name MH_VLDV: BBNT!#REF!
Name MHCBBT: BBNT!$E$2
Name MHCT: BBNT!$C$2
Name MHGSBT: BBNT!$F$2
Name MHLMBT: BBNT!$G$2
Name MHNTBT: BBNT!$I$2
Name MHTVK: BBNT!$H$2
Name MHVK: BBNT!$D$2
Name MHVL: BBNT!$B$2
Name NTBT: '8.CGĐ'!$A$2:$R$926
Name NTBT: '8.NTBT'!$A$2:$R$926
Name NTCT: '3.CT'!$A$2:$R$433
Name NTCVKHAC: '9.3. NTCV.KHAC'!$A$2:$R$429
Name NTVK: '4.VK'!$A$2:$R$151
Name NTXAY: '9.2.XAY'!$A$2:$R$615
Name NVH100M2: '1.DAO MONG'!$C$1:$P$24
Name NVH100M2: '2.VL'!$C$1:$P$32
Name NVH100M2: '3.CT'!$C$1:$P$24
Name NVH100M2: '4.VK'!$C$1:$P$24
Name NVH100M2: '5.CBBT'!$C$1:$P$24
Name NVH100M2: '6.GSBT'!$C$1:$P$24
Name NVH100M2: '7.1.TVK'!$C$1:$P$24
Name NVH100M2: '7.LMBT'!$C$1:$P$24
Name NVH100M2: '8.CGĐ'!$C$1:$P$24

Sheet List - Nha
A1: STT | B1: SHBB | C1: NT | D1: Nội dung công việc | E1: Vị trí | F1: Điểm TĐC | G1: Số hiệu PYC | H1: Số hiệu NTCV | I1: DATE PYC | J1: MONTH PYC | K1: Ngày PYC | L1: H-START | M1: H-END | N1: DATE NTCV | O1: MONTH NTCV | P1: Ngày NTCV | Q1: CĐT | R1: ĐVTC | T1: MỤC | U1: ĐIỂM TĐC
C2: 1 | D2: 2 | E2: 3 | F2: 4 | G2: 5 | H2: 6 | I2: 7 | J2: 8 | K2: 9 | L2: 10 | M2: 11 | N2: 12 | O2: 13 | P2: 14 | Q2: 15 | R2: 16
A3: 1 | B3: DMTH3PC | C3: NTCV1 | D3: Đào hố móng | E3: Nhà tiểu học 3 phòng | F3: Điểm TĐC Pom Chốn | G3: =A3&"/"&B3 -> 1/DMTH3PC | H3: =A3&"/"&B3 -> 1/DMTH3PC | I3: =TEXT(DAY(K3),"00") -> 18 | J3: =TEXT(MONTH(K3),"00") -> 08 | K3: =P3-1 -> 41869 | L3: 08 giờ 00 | M3: 09 giờ 00 | N3: =TEXT(DAY(P3),"00") -> 19 | O3: =TEXT(MONTH(P3),"00") -> 08 | P3: 41870 | Q3: Nguyễn Xuân Quỳnh | R3: Lê Văn Thái | T3: ="Mục : "&E3 -> Mục : Nhà tiểu học 3 phòng | U3: =F3 -> Điểm TĐC Pom Chốn
A4: =A3+1 -> 2 | B4: VLTH3PC | C4: VLBT1 | D4: Vật liệu trước khi đổ bê tông lót móng | E4: Nhà tiểu học 3 phòng | F4: Điểm TĐC Pom Chốn | G4: =A4&"/"&B4 -> 2/VLTH3PC | H4: =A4&"/"&B4 -> 2/VLTH3PC | I4: =TEXT(DAY(K4),"00") -> 18 | J4: =TEXT(MONTH(K4),"00") -> 08 | K4: =P4-1 -> 41869 | L4: 08 giờ 00 | M4: 09 giờ 00 | N4: =TEXT(DAY(P4),"00") -> 19 | O4: =TEXT(MONTH(P4),"00") -> 08 | P4: =P3 -> 41870 | Q4: Nguyễn Xuân Quỳnh | R4: Lê Văn Thái
A5: =A4 -> 2 | B5: VKTH3PC | C5: VKBT1 | D5: Nghiệm thu công tác lắp dựng ván khuôn bê tông lót móng | E5: Nhà tiểu học 3 phòng | F5: Điểm TĐC Pom Chốn | G5: =A5&"/"&B5 -> 2/VKTH3PC | H5: =A5&"/"&B5 -> 2/VKTH3PC | I5: =TEXT(DAY(K5),"00") -> 18 | J5: =TEXT(MONTH(K5),"00") -> 08 | K5: =P5-1 -> 41869 | L5: 09 giờ 00 | M5: 10 giờ 00 | N5: =TEXT(DAY(P5),"00") -> 19 | O5: =TEXT(MONTH(P5),"00") -> 08 | P5: =P4 -> 41870 | Q5: Nguyễn Xuân Quỳnh | R5: Lê Văn Thái
A6: =A5 -> 2 | B6: CBTH3PC | C6: CBBT1 | D6: Kiểm tra công tác chuẩn bị đổ bê tông lót móng | E6: Nhà tiểu học 3 phòng | F6: Điểm TĐC Pom Chốn | G6: =A6&"/"&B6 -> 2/CBTH3PC | H6: =A6&"/"&B6 -> 2/CBTH3PC | I6: =TEXT(DAY(K6),"00") -> 18 | J6: =TEXT(MONTH(K6),"00") -> 08 | K6: =P6-1 -> 41869 | L6: 10 giờ 00 | M6: 11 giờ 00 | N6: =TEXT(DAY(P6),"00") -> 19 | O6: =TEXT(MONTH(P6),"00") -> 08 | P6: =P5 -> 41870 | Q6: Nguyễn Xuân Quỳnh | R6: Lê Văn Thái
A7: =A6 -> 2 | B7: GSTH3PC | C7: GSBT1 | D7: Giám sát quá trình đổ bê tông lót móng | E7: Nhà tiểu học 3 phòng | F7: Điểm TĐC Pom Chốn | G7: =A7&"/"&B7 -> 2/GSTH3PC | H7: =A7&"/"&B7 -> 2/GSTH3PC | I7: =TEXT(DAY(K7),"00") -> 18 | J7: =TEXT(MONTH(K7),"00") -> 08 | K7: =P7-1 -> 41869 | L7: 14 giờ 00 | M7: 16 giờ 00 | N7: =TEXT(DAY(P7),"00") -> 19 | O7: =TEXT(MONTH(P7),"00") -> 08 | P7: =P6 -> 41870 | Q7: Nguyễn Xuân Quỳnh | R7: Lê Văn Thái
A8: =A7 -> 2 | B8: LMTH3PC | C8: LMBT1 | D8: Lấy mẫu bê tông lót móng | E8: Nhà tiểu học 3 phòng | F8: Điểm TĐC Pom Chốn | G8: =A8&"/"&B8 -> 2/LMTH3PC | H8: =A8&"/"&B8 -> 2/LMTH3PC | I8: =TEXT(DAY(K8),"00") -> 18 | J8: =TEXT(MONTH(K8),"00") -> 08 | K8: =P8-1 -> 41869 | L8: 14 giờ 00 | M8: 16 giờ 00 | N8: =TEXT(DAY(P8),"00") -> 19 | O8: =TEXT(MONTH(P8),"00") -> 08 | P8: =P7 -> 41870 | Q8: Nguyễn Xuân Quỳnh | R8: Lê Văn Thái
A9: =A8 -> 2 | B9: TVKTH3PC | C9: TVK1 | D9: Nghiệm thu công tác tháo ván khuôn bê tông lót móng | E9: Nhà tiểu học 3 phòng | F9: Điểm TĐC Pom Chốn | G9: =A9&"/"&B9 -> 2/TVKTH3PC | H9: =A9&"/"&B9 -> 2/TVKTH3PC | I9: =TEXT(DAY(K9),"00") -> 21 | J9: =TEXT(MONTH(K9),"00") -> 08 | K9: =P9-1 -> 41872 | L9: 08 giờ 00 | M9: 09 giờ 00 | N9: =TEXT(DAY(P9),"00") -> 22 | O9: =TEXT(MONTH(P9),"00") -> 08 | P9: =P8+3 -> 41873 | Q9: Nguyễn Xuân Quỳnh | R9: Lê Văn Thái
A10: =A9 -> 2 | B10: BTTH3PC | C10: NTBT1 | D10: Nghiệm thu bê tông lót móng | E10: Nhà tiểu học 3 phòng | F10: Điểm TĐC Pom Chốn | G10: =A10&"/"&B10 -> 2/BTTH3PC | H10: =A10&"/"&B10 -> 2/BTTH3PC | I10: =TEXT(DAY(K10),"00") -> 15 | J10: =TEXT(MONTH(K10),"00") -> 09 | K10: =P10-1 -> 41897 | L10: 08 giờ 00 | M10: 09 giờ 00 | N10: =TEXT(DAY(P10),"00") -> 16 | O10: =TEXT(MONTH(P10),"00") -> 09 | P10: =P8+28 -> 41898 | Q10: Nguyễn Xuân Quỳnh | R10: Lê Văn Thái
A11: =A10+1 -> 3 | B11: VLTH3PC | C11: VLXAY1 | D11: Vật liệu trước khi xây móng đá hộc | E11: Nhà tiểu học 3 phòng | F11: Điểm TĐC Pom Chốn | G11: =A11&"/"&B11 -> 3/VLTH3PC | H11: =A11&"/"&B11 -> 3/VLTH3PC | I11: =TEXT(DAY(K11),"00") -> 22 | J11: =TEXT(MONTH(K11),"00") -> 08 | K11: =P11-1 -> 41873 | L11: 08 giờ 00 | M11: 09 giờ 00 | N11: =TEXT(DAY(P11),"00") -> 23 | O11: =TEXT(MONTH(P11),"00") -> 08 | P11: =P9+1 -> 41874 | Q11: Nguyễn Xuân Quỳnh | R11: Lê Văn Thái
A12: =A11 -> 3 | B12: LMTH3PC | C12: LMXAY1 | D12: Lấy mẫu vữa xi măng xây móng đá hộc | E12: Nhà tiểu học 3 phòng | F12: Điểm TĐC Pom Chốn | G12: =A12&"/"&B12 -> 3/LMTH3PC | H12: =A12&"/"&B12 -> 3/LMTH3PC | I12: =TEXT(DAY(K12),"00") -> 23 | J12: =TEXT(MONTH(K12),"00") -> 08 | K12: =P12-1 -> 41874 | L12: 09 giờ 00 | M12: 10 giờ 00 | N12: =TEXT(DAY(P12),"00") -> 24 | O12: =TEXT(MONTH(P12),"00") -> 08 | P12: =P11+1 -> 41875 | Q12: Nguyễn Xuân Quỳnh | R12: Lê Văn Thái
A13: =A12 -> 3 | B13: XAYTH3PC | C13: XAY1 | D13: Xây móng nhà bằng đá hộc, vữa xi măng mác 75# | E13: Nhà tiểu học 3 phòng | F13: Điểm TĐC Pom Chốn | G13: =A13&"/"&B13 -> 3/XAYTH3PC | H13: =A13&"/"&B13 -> 3/XAYTH3PC | I13: =TEXT(DAY(K13),"00") -> 25 | J13: =TEXT(MONTH(K13),"00") -> 08 | K13: =P13-1 -> 41876 | L13: 16 giờ 00 | M13: 17 giờ 00 | N13: =TEXT(DAY(P13),"00") -> 26 | O13: =TEXT(MONTH(P13),"00") -> 08 | P13: 41877 | Q13: Nguyễn Xuân Quỳnh | R13: Lê Văn Thái
A14: =A13+1 -> 4 | B14: VLTH3PC | C14: VLBT2 | D14: Vật liệu trước khi đổ bê tông giằng móng | E14: Nhà tiểu học 3 phòng | F14: Điểm TĐC Pom Chốn | G14: =A14&"/"&B14 -> 4/VLTH3PC | H14: =A14&"/"&B14 -> 4/VLTH3PC | I14: =TEXT(DAY(K14),"00") -> 26 | J14: =TEXT(MONTH(K14),"00") -> 08 | K14: =P14-1 -> 41877 | L14: 08 giờ 00 | M14: 09 giờ 00 | N14: =TEXT(DAY(P14),"00") -> 27 | O14: =TEXT(MONTH(P14),"00") -> 08 | P14: 41878 | Q14: Nguyễn Xuân Quỳnh | R14: Lê Văn Thái
A15: =A14 -> 4 | B15: VKTH3PC | C15: VKBT2 | D15: Nghiệm thu ván khuôn bê tông giằng móng | E15: Nhà tiểu học 3 phòng | F15: Điểm TĐC Pom Chốn | G15: =A15&"/"&B15 -> 4/VKTH3PC | H15: =A15&"/"&B15 -> 4/VKTH3PC | I15: =TEXT(DAY(K15),"00") -> 26 | J15: =TEXT(MONTH(K15),"00") -> 08 | K15: =P15-1 -> 41877 | L15: 08 giờ 00 | M15: 09 giờ 00 | N15: =TEXT(DAY(P15),"00") -> 27 | O15: =TEXT(MONTH(P15),"00") -> 08 | P15: =P14 -> 41878 | Q15: Nguyễn Xuân Quỳnh | R15: Lê Văn Thái
A16: =A15 -> 4 | B16: CTTH3PC | C16: CTBT2 | D16: Nghiệm thu cốt thép giằng móng | E16: Nhà tiểu học 3 phòng | F16: Điểm TĐC Pom Chốn | G16: =A16&"/"&B16 -> 4/CTTH3PC | H16: =A16&"/"&B16 -> 4/CTTH3PC | I16: =TEXT(DAY(K16),"00") -> 26 | J16: =TEXT(MONTH(K16),"00") -> 08 | K16: =P16-1 -> 41877 | L16: 09 giờ 00 | M16: 10 giờ 00 | N16: =TEXT(DAY(P16),"00") -> 27 | O16: =TEXT(MONTH(P16),"00") -> 08 | P16: =P15 -> 41878 | Q16: Nguyễn Xuân Quỳnh | R16: Lê Văn Thái
A17: =A16 -> 4 | B17: CBTH3PC | C17: CBBT2 | D17: Kiểm tra công tác chuẩn bị đổ bê tông giằng móng | E17: Nhà tiểu học 3 phòng | F17: Điểm TĐC Pom Chốn | G17: =A17&"/"&B17 -> 4/CBTH3PC | H17: =A17&"/"&B17 -> 4/CBTH3PC | I17: =TEXT(DAY(K17),"00") -> 26 | J17: =TEXT(MONTH(K17),"00") -> 08 | K17: =P17-1 -> 41877 | L17: 10 giờ 00 | M17: 11 giờ 00 | N17: =TEXT(DAY(P17),"00") -> 27 | O17: =TEXT(MONTH(P17),"00") -> 08 | P17: =P16 -> 41878 | Q17: Nguyễn Xuân Quỳnh | R17: Lê Văn Thái
A18: =A17 -> 4 | B18: GSTH3PC | C18: GSBT2 | D18: Giám sát quá trình đổ bê tông giằng móng | E18: Nhà tiểu học 3 phòng | F18: Điểm TĐC Pom Chốn | G18: =A18&"/"&B18 -> 4/GSTH3PC | H18: =A18&"/"&B18 -> 4/GSTH3PC | I18: =TEXT(DAY(K18),"00") -> 26 | J18: =TEXT(MONTH(K18),"00") -> 08 | K18: =P18-1 -> 41877 | L18: 14 giờ 00 | M18: 16 giờ 00 | N18: =TEXT(DAY(P18),"00") -> 27 | O18: =TEXT(MONTH(P18),"00") -> 08 | P18: =P17 -> 41878 | Q18: Nguyễn Xuân Quỳnh | R18: Lê Văn Thái
A19: =A18 -> 4 | B19: LMTH3PC | C19: LMBT2 | D19: Lấy mẫu bê tông giằng móng | E19: Nhà tiểu học 3 phòng | F19: Điểm TĐC Pom Chốn | G19: =A19&"/"&B19 -> 4/LMTH3PC | H19: =A19&"/"&B19 -> 4/LMTH3PC | I19: =TEXT(DAY(K19),"00") -> 26 | J19: =TEXT(MONTH(K19),"00") -> 08 | K19: =P19-1 -> 41877 | L19: 14 giờ 00 | M19: 16 giờ 00 | N19: =TEXT(DAY(P19),"00") -> 27 | O19: =TEXT(MONTH(P19),"00") -> 08 | P19: =P18 -> 41878 | Q19: Nguyễn Xuân Quỳnh | R19: Lê Văn Thái
A20: =A19 -> 4 | B20: TVKTH3PC | C20: TVK2 | D20: Nghiệm thu bê tông giằng móng sau khi tháo ván khuôn | E20: Nhà tiểu học 3 phòng | F20: Điểm TĐC Pom Chốn | G20: =A20&"/"&B20 -> 4/TVKTH3PC | H20: =A20&"/"&B20 -> 4/TVKTH3PC | I20: =TEXT(DAY(K20),"00") -> 29 | J20: =TEXT(MONTH(K20),"00") -> 08 | K20: =P20-1 -> 41880 | L20: 08 giờ 00 | M20: 09 giờ 00 | N20: =TEXT(DAY(P20),"00") -> 30 | O20: =TEXT(MONTH(P20),"00") -> 08 | P20: =P19+3 -> 41881 | Q20: Nguyễn Xuân Quỳnh | R20: Lê Văn Thái
A21: =A20 -> 4 | B21: BTTH3PC | C21: NTBT2 | D21: Nghiệm thu bê tông giằng móng | E21: Nhà tiểu học 3 phòng | F21: Điểm TĐC Pom Chốn | G21: =A21&"/"&B21 -> 4/BTTH3PC | H21: =A21&"/"&B21 -> 4/BTTH3PC | I21: =TEXT(DAY(K21),"00") -> 23 | J21: =TEXT(MONTH(K21),"00") -> 09 | K21: =P21-1 -> 41905 | L21: 08 giờ 00 | M21: 09 giờ 00 | N21: =TEXT(DAY(P21),"00") -> 24 | O21: =TEXT(MONTH(P21),"00") -> 09 | P21: =P19+28 -> 41906 | Q21: Nguyễn Xuân Quỳnh | R21: Lê Văn Thái
A22: 1 | B22: HTMONG | C22: NTHT1 | D22: Nghiệm thu hoàn thành phần móng | E22: Nhà tiểu học 3 phòng | F22: Điểm TĐC Pom Chốn | G22: =A22&"/"&B22 -> 1/HTMONG | H22: =A22&"/"&B22 -> 1/HTMONG | I22: =TEXT(DAY(K22),"00") -> 23 | J22: =TEXT(MONTH(K22),"00") -> 09 | K22: =P22-1 -> 41905 | L22: 10 giờ 00 | M22: 11 giờ 00 | N22: =TEXT(DAY(P22),"00") -> 24 | O22: =TEXT(MONTH(P22),"00") -> 09 | P22: =P21 -> 41906 | Q22: Nguyễn Xuân Quỳnh | R22: Lê Văn Thái
A23: =A21+1 -> 5 | B23: VLTH3PC | C23: VLXAY2 | D23: Vật liệu trước khi xây tường, xây cột (từ cốt 0.00 đến cốt lanh tô) | E23: Nhà tiểu học 3 phòng | F23: Điểm TĐC Pom Chốn | G23: =A23&"/"&B23 -> 5/VLTH3PC | H23: =A23&"/"&B23 -> 5/VLTH3PC | I23: ….. | J23: ….. | K23: =P23-1 -> -1 | L23: …..giờ….. | M23: …..giờ….. | N23: ….. | O23: ….. | Q23: Nguyễn Xuân Quỳnh | R23: Lê Văn Thái
A24: =A23 -> 5 | B24: LMTH3PC | C24: LMXAY2 | D24: Lấy mẫu vữa xi măng xây tường, xây cột, mác 50# (từ cốt 0.00 đến cốt lanh tô) | E24: Nhà tiểu học 3 phòng | F24: Điểm TĐC Pom Chốn | G24: =A24&"/"&B24 -> 5/LMTH3PC | H24: =A24&"/"&B24 -> 5/LMTH3PC | I24: ….. | J24: ….. | K24: =P24-1 -> -1 | L24: …..giờ….. | M24: …..giờ….. | N24: ….. | O24: ….. | Q24: Nguyễn Xuân Quỳnh | R24: Lê Văn Thái
A25: =A24 -> 5 | B25: XAYTH3PC | C25: XAY2 | D25: Nghiệm thu công tác xây tường nhà bằng gạch chỉ đặc, vữa xi măng mác 50# (từ cốt 0.00 đến cốt lanh tô) | E25: Nhà tiểu học 3 phòng | F25: Điểm TĐC Pom Chốn | G25: =A25&"/"&B25 -> 5/XAYTH3PC | H25: =A25&"/"&B25 -> 5/XAYTH3PC | I25: ….. | J25: ….. | K25: =P25-1 -> -1 | L25: …..giờ….. | M25: …..giờ….. | N25: ….. | O25: ….. | Q25: Nguyễn Xuân Quỳnh | R25: Lê Văn Thái
A26: =A25+1 -> 6 | B26: VLTH3PC | C26: VLBT3 | D26: Vật liệu trước khi đổ bê tông lanh tô cửa sổ và cửa đi | E26: Nhà tiểu học 3 phòng | F26: Điểm TĐC Pom Chốn | G26: =A26&"/"&B26 -> 6/VLTH3PC | H26: =A26&"/"&B26 -> 6/VLTH3PC | I26: ….. | J26: ….. | K26: =P26-1 -> -1 | L26: …..giờ….. | M26: …..giờ….. | N26: ….. | O26: ….. | Q26: Nguyễn Xuân Quỳnh | R26: Lê Văn Thái
A27: =A26 -> 6 | B27: VKTH3PC | C27: VKBT3 | D27: Nghiệm thu công tác lắp dựng ván khuôn lanh tô cửa sổ và cửa đi | E27: Nhà tiểu học 3 phòng | F27: Điểm TĐC Pom Chốn | G27: =A27&"/"&B27 -> 6/VKTH3PC | H27: =A27&"/"&B27 -> 6/VKTH3PC | I27: ….. | J27: ….. | K27: =P27-1 -> -1 | L27: …..giờ….. | M27: …..giờ….. | N27: ….. | O27: ….. | Q27: Nguyễn Xuân Quỳnh | R27: Lê Văn Thái
A28: =A27 -> 6 | B28: CTTH3PC | C28: CTBT3 | D28: Nghiệm thu công tác lắp dựng cốt thép lanh tô cửa sổ và cửa đi | E28: Nhà tiểu học 3 phòng | F28: Điểm TĐC Pom Chốn | G28: =A28&"/"&B28 -> 6/CTTH3PC | H28: =A28&"/"&B28 -> 6/CTTH3PC | I28: ….. | J28: ….. | K28: =P28-1 -> -1 | L28: …..giờ….. | M28: …..giờ….. | N28: ….. | O28: ….. | Q28: Nguyễn Xuân Quỳnh | R28: Lê Văn Thái
A29: =A28 -> 6 | B29: CBTH3PC | C29: CBBT3 | D29: Kiểm tra công tác chuẩn bị trước khi đổ bê tông lanh tô cửa sổ và cửa đi | E29: Nhà tiểu học 3 phòng | F29: Điểm TĐC Pom Chốn | G29: =A29&"/"&B29 -> 6/CBTH3PC | H29: =A29&"/"&B29 -> 6/CBTH3PC | I29: ….. | J29: ….. | K29: =P29-1 -> -1 | L29: …..giờ….. | M29: …..giờ….. | N29: ….. | O29: ….. | Q29: Nguyễn Xuân Quỳnh | R29: Lê Văn Thái
A30: =A29 -> 6 | B30: GSTH3PC | C30: GSBT3 | D30: Giám sát quá trình đổ bê tông lanh tô cửa sổ và cửa đi | E30: Nhà tiểu học 3 phòng | F30: Điểm TĐC Pom Chốn | G30: =A30&"/"&B30 -> 6/GSTH3PC | H30: =A30&"/"&B30 -> 6/GSTH3PC | I30: ….. | J30: ….. | K30: =P30-1 -> -1 | L30: …..giờ….. | M30: …..giờ….. | N30: ….. | O30: ….. | Q30: Nguyễn Xuân Quỳnh | R30: Lê Văn Thái
A31: =A30 -> 6 | B31: LMTH3PC | C31: LMBT3 | D31: Lấy mẫu bê tông lanh tô cửa sổ và cửa đi | E31: Nhà tiểu học 3 phòng | F31: Điểm TĐC Pom Chốn | G31: =A31&"/"&B31 -> 6/LMTH3PC | H31: =A31&"/"&B31 -> 6/LMTH3PC | I31: ….. | J31: ….. | K31: =P31-1 -> -1 | L31: …..giờ….. | M31: …..giờ….. | N31: ….. | O31: ….. | Q31: Nguyễn Xuân Quỳnh | R31: Lê Văn Thái
A32: =A31 -> 6 | B32: BTTH3PC | C32: NTBT3 | D32: Nghiệm thu bê tông lanh tô cửa sổ và cửa đi | E32: Nhà tiểu học 3 phòng | F32: Điểm TĐC Pom Chốn | G32: =A32&"/"&B32 -> 6/BTTH3PC | H32: =A32&"/"&B32 -> 6/BTTH3PC | I32: ….. | J32: ….. | K32: =P32-1 -> -1 | L32: …..giờ….. | M32: …..giờ….. | N32: ….. | O32: ….. | Q32: Nguyễn Xuân Quỳnh | R32: Lê Văn Thái
A33: =A32+1 -> 7 | B33: VLTH3PC | C33: VLXAY3 | D33: Vật liệu trước khi xây tường, xây cột (từ cốt lanh tô đến cốt +3.60) | E33: Nhà tiểu học 3 phòng | F33: Điểm TĐC Pom Chốn | G33: =A33&"/"&B33 -> 7/VLTH3PC | H33: =A33&"/"&B33 -> 7/VLTH3PC | I33: ….. | J33: ….. | K33: =P33-1 -> -1 | L33: …..giờ….. | M33: …..giờ….. | N33: ….. | O33: ….. | Q33: Nguyễn Xuân Quỳnh | R33: Lê Văn Thái
A34: =A33 -> 7 | B34: LMTH3PC | C34: LMXAY3 | D34: Lấy mẫu vữa xi măng xây tường, xây cột, mác 50# (từ cốt lanh tô đến cốt +3.60) | E34: Nhà tiểu học 3 phòng | F34: Điểm TĐC Pom Chốn | G34: =A34&"/"&B34 -> 7/LMTH3PC | H34: =A34&"/"&B34 -> 7/LMTH3PC | I34: ….. | J34: ….. | K34: =P34-1 -> -1 | L34: …..giờ….. | M34: …..giờ….. | N34: ….. | O34: ….. | Q34: Nguyễn Xuân Quỳnh | R34: Lê Văn Thái
A35: =A34 -> 7 | B35: XAYTH3PC | C35: XAY3 | D35: Nghiệm thu công tác xây tường nhà bằng gạch chỉ đặc, vữa xi măng mác 50# (từ cốt lanh tô đến cốt +3.60) | E35: Nhà tiểu học 3 phòng | F35: Điểm TĐC Pom Chốn | G35: =A35&"/"&B35 -> 7/XAYTH3PC | H35: =A35&"/"&B35 -> 7/XAYTH3PC | I35: ….. | J35: ….. | K35: =P35-1 -> -1 | L35: …..giờ….. | M35: …..giờ….. | N35: ….. | O35: ….. | Q35: Nguyễn Xuân Quỳnh | R35: Lê Văn Thái
A36: =A35+1 -> 8 | B36: VLTH3PC | C36: VLBT4 | D36: Vật liệu trước khi đổ bê tông dầm D1, D2, D3, D4, D4A, D4B, bê tông sàn, sê nô thu nước | E36: Nhà tiểu học 3 phòng | F36: Điểm TĐC Pom Chốn | G36: =A36&"/"&B36 -> 8/VLTH3PC | H36: =A36&"/"&B36 -> 8/VLTH3PC | I36: ….. | J36: ….. | K36: =P36-1 -> -1 | L36: …..giờ….. | M36: …..giờ….. | N36: ….. | O36: ….. | Q36: Nguyễn Xuân Quỳnh | R36: Lê Văn Thái
A37: =A36 -> 8 | B37: VKTH3PC | C37: VKBT4 | D37: Nghiệm thu ván khuôn bê tông dầm D1, D2, D3, D4, D4A, D4B, bê tông sàn, sê nô thu nước | E37: Nhà tiểu học 3 phòng | F37: Điểm TĐC Pom Chốn | G37: =A37&"/"&B37 -> 8/VKTH3PC | H37: =A37&"/"&B37 -> 8/VKTH3PC | I37: ….. | J37: ….. | K37: =P37-1 -> -1 | L37: …..giờ….. | M37: …..giờ….. | N37: ….. | O37: ….. | Q37: Nguyễn Xuân Quỳnh | R37: Lê Văn Thái
A38: =A37 -> 8 | B38: CTTH3PC | C38: CTBT4 | D38: Nghiệm thu cốt thép dầm D1, D2, D3, D4, D4A, D4B, bê tông sàn, sê nô thu nước | E38: Nhà tiểu học 3 phòng | F38: Điểm TĐC Pom Chốn | G38: =A38&"/"&B38 -> 8/CTTH3PC | H38: =A38&"/"&B38 -> 8/CTTH3PC | I38: ….. | J38: ….. | K38: =P38-1 -> -1 | L38: …..giờ….. | M38: …..giờ….. | N38: ….. | O38: ….. | Q38: .......................................... | R38: Lê Văn Thái
A39: =A38 -> 8 | B39: CBTH3PC | C39: CBBT4 | D39: Kiểm tra công tác chuẩn bị đổ bê tông dầm D1, D2, D3, D4, D4A, D4B, bê tông sàn, sê nô thu nước | E39: Nhà tiểu học 3 phòng | F39: Điểm TĐC Pom Chốn | G39: =A39&"/"&B39 -> 8/CBTH3PC | H39: =A39&"/"&B39 -> 8/CBTH3PC | I39: ….. | J39: ….. | K39: =P39-1 -> -1 | L39: …..giờ….. | M39: …..giờ….. | N39: ….. | O39: ….. | Q39: .......................................... | R39: Lê Văn Thái
A40: =A39 -> 8 | B40: GSTH3PC | C40: GSBT4 | D40: Giám sát quá trình đổ bê tông dầm D1, D2, D3, D4, D4A, D4B, bê tông sàn, sê nô thu nước | E40: Nhà tiểu học 3 phòng | F40: Điểm TĐC Pom Chốn | G40: =A40&"/"&B40 -> 8/GSTH3PC | H40: =A40&"/"&B40 -> 8/GSTH3PC | I40: ….. | J40: ….. | K40: =P40-1 -> -1 | L40: …..giờ….. | M40: …..giờ….. | N40: ….. | O40: ….. | Q40: .......................................... | R40: Lê Văn Thái
...

Sheet 1.DAO MONG
A1: LIST | B1: SHBB | C1: MH | D1: Nội dung công việc | E1: Vị trí | F1: Điểm TĐC | G1: Số hiệu PYC | H1: Số hiệu NTCV | I1: DATE PYC | J1: MONTH PYC | K1: Ngày PYC | L1: H-START | M1: H-END | N1: DATE NTCV | O1: MONTH NTCV | P1: Ngày NTCV | Q1: CĐT | R1: ĐVTC
A2: 1 | C2: NTCV1 | D2: =VLOOKUP($C2,TUANBV,2,0) -> Đào hố móng | E2: =VLOOKUP($C2,TUANBV,3,0) -> Nhà tiểu học 3 phòng | F2: =VLOOKUP($C2,TUANBV,4,0) -> Điểm TĐC Pom Chốn | G2: =VLOOKUP($C2,TUANBV,5,0) -> 1/DMTH3PC | H2: =VLOOKUP($C2,TUANBV,6,0) -> 1/DMTH3PC | I2: =VLOOKUP($C2,TUANBV,7,0) -> 18 | J2: =VLOOKUP($C2,TUANBV,8,0) -> 08 | K2: =VLOOKUP($C2,TUANBV,9,0) -> 41869 | L2: =VLOOKUP($C2,TUANBV,10,0) -> 08 giờ 00 | M2: =VLOOKUP($C2,TUANBV,11,0) -> 09 giờ 00 | N2: =VLOOKUP($C2,TUANBV,12,0) -> 19 | O2: =VLOOKUP($C2,TUANBV,13,0) -> 08 | P2: =VLOOKUP($C2,TUANBV,14,0) -> 41870 | Q2: =VLOOKUP($C2,TUANBV,15,0) -> Nguyễn Xuân Quỳnh | R2: =VLOOKUP($C2,TUANBV,16,0) -> Lê Văn Thái

Sheet PYC
A1: STT | B1: SỐ BB | C1: NỘI DUNG CÔNG VIỆC | D1: LÝ TRÌNH | E1: SỐ HIỆU BBNT NỘI BỘ | F1: SỐ HIỆU PHIẾU YÊU CẦU | G1: SỐ HIỆU BBNT CÔNG VIỆC | H1: GIỜ BĐ | I1: GIỜ KT | J1: NGÀY NB | K1: THÁNG NB | L1: NGÀY CV | M1: THÁNG CV | N1: GIỜ YC | O1: THỜI GIAN PYC | P1: THỜI GIAN NGHIỆM THU NỘI BỘ | Q1: THỜI GIAN NGHIỆM THU CÔNG VIỆC | R1: TIÊU CHUẨN
A2: 1 | B2: 01 | C2: YCNT bình đồ hiện trạng khu TĐC Pom Chốn | N2: 14h00 | O2: 41719 | Q2: 41720
A3: 2 | B3: 02 | C3: YCNT Phòng thí nghiệm hiện trường | N3: 14h00 | O3: 41719 | Q3: 41720
A4: 3 | B4: 03 | C4: YCNT Địa chất khu San nền Pom Chốn và Pa Púa | N4: 8h00 | O4: 41723 | Q4: 41724
A5: 4 | B5: 04 | C5: YCNT lấy mẫu Cát các loại | N5: 8h00 | O5: 41723 | Q5: 41724
A6: 5 | B6: 05 | C6: YCNT lấy mẫu Đá các loại | N6: 8h00 | O6: 41723 | Q6: 41724
A7: 6 | B7: 06 | C7: YCNT lấy mẫu Xi măng | N7: 8h00 | O7: 41723 | Q7: 41724
A8: 7 | B8: 07 | C8: YCNT lấy mẫu Thép các loại - Thép Shengli | N8: 8h00 | O8: 41723 | Q8: 41724
A9: 8 | B9: 08 | C9: YCNT lấy mẫu Đất đồi | N9: 14h00 | O9: 41723 | Q9: 41724
A10: 9 | B10: 09 | C10: YCNT Bình đồ hiện trạng khu TĐC Tổ Xước | N10: 15h00 | O10: 41726 | Q10: 41726
A11: 10 | B11: 10 | C11: YCNT công tác phát quang khu TĐC Tổ Xước | N11: 16h00 | O11: 41726 | Q11: 41726
A12: 11 | B12: 11 | C12: YCNT bình đồ hiện trạng khu TĐC Pa Púa | N12: 09h00 | O12: 41726 | Q12: 41729
A13: 12 | B13: 12
A14: 13 | B14: 13
A15: 14
A16: 15
A17: 16
A18: 17
A19: 18

Sheet 2.VLtruoc (2)
A1: TT | B1: Nội dung | C1: Chủng loại vật liệu | D1: Số lượng | E1: Qui cách mẫu | F1: Vị trí lấy mẫu
A2: 1 | B2: Lấy mẫu vật liệu đổ bê tông lót móng | C2: Xi măng Tam điệp PCB40 | F2: Kho bãi tại công trường
A3: 2 | C3: Đá 4x6
A4: 3 | C4: Cát đổ bê tông
A5: 1 | B5: Lấy mẫu vật liệu đổ bê tông móng cột | C5: Xi măng Tam điệp PCB40 | F5: Kho bãi tại công trường
A6: 2 | C6: Đá 1x2
A7: 3 | C7: Cát đổ bê tông
A8: 4 | C8: Thép
A9: 1 | B9: Lấy mẫu vật liệu đổ bê tông cột | C9: Xi măng Tam điệp PCB40 | F9: Kho bãi tại công trường
A10: 2 | C10: Đá 1x2
A11: 3 | C11: Cát đổ bê tông
A12: 4 | C12: Thép
A13: 1 | B13: Lấy mẫu vật liệu đổ bê tông dầm | C13: Xi măng Tam điệp PCB40 | F13: Kho bãi tại công trường
A14: 2 | C14: Đá 1x2
A15: 3 | C15: Cát đổ bê tông
A16: 4 | C16: Thép
A17: 1 | B17: Lấy mẫu vật liệu đổ bê tông sàn | C17: Xi măng Tam điệp PCB40 | F17: Kho bãi tại công trường
A18: 2 | C18: Đá 1x2
A19: 3 | C19: Cát đổ bê tông
A20: 4 | C20: Thép

Sheet Danh muc BB
B1: Công trình: Thủy điện Trung Sơn
B2: Hạng mục: Bồi thường, hỗ trợ và tái định cư
B3: Mục công trình : Nhà văn hóa 100m2
B4: Gói thầu: W-RE-01 “Xây dựng khu TĐC số 01”
B5: Địa điểm xây dựng: Huyện Quan Hoá, Tỉnh Thanh Hoá
A7: DANH MỤC BIÊN BẢN NGHIỆM THU
A9: STT | B9: NỘI DUNG CÔNG VIỆC | C9: VỊ TRÍ | D9: SỐ HIỆU BIÊN BẢN | E9: SỐ HIỆU BBNT NỘI BỘ | F9: SỐ HIỆU BBNT CÔNG VIỆC | G9: NGÀY THÁNG | H9: NGÀY NGHIỆM THU NỘI BỘ | I9: NGÀY NGHIỆM THU CÔNG VIỆC
A10: I | B10: Mục công trình : Nhà văn hóa 100m2
A11: A | B11: Bê tông lót móng
A12: 1 | B12: PYC nghiệm thu vật liệu trước khi đổ bê tông lót móng | C12: Lô nhà văn hóa, điểm tái định cư Pom Chốn | D12: 1/VL/PYC | E12: 1/NVH100-PC/NTNB | F12: 1/NVH100-PC/NTCV | G12: 41742 | H12: =G12 -> 41742 | I12: 41743
A13: 2 | B13: BBNT Vật liệu trước khi đổ bê tông lót móng | D13: 1/NVH100-PC/LMHT | G13: 41743
A14: 3 | B14: PYC Nghiệm thu ván khuôn bê tông lót móng | D14: 1/VK/PYC | G14: 41742
A15: 4 | B15: BBNT Ván khuôn bê tông lót móng | D15: 1/NVH100-PC/NTVK | G15: 41743
A16: 5 | B16: PYC nghiệm thu công tác chuẩn bị đổ bê tông lót móng | D16: 1/CBBT/PYC | G16: 41742
A17: 6 | B17: BBNT công tác chuẩn bị đổ bê tông lót móng | D17: 1/NVH100-PC/CBBT | G17: 41743
A18: 7 | B18: PYC theo dõi quá trình đổ bê tông lót móng | D18: 1/TDBT/PYC | G18: 41742
A19: 8 | B19: Phiếu giám sát quá trình đổ bê tông lót móng | D19: 1/NVH100-PC/TDBT | G19: 41743
A20: 9 | B20: PYC Lấy mẫu bê tông lót móng | D20: 1/LM/PYC | G20: 41742
A21: 10 | B21: Biên bản lấy mẫu bê tông lót móng M100 | D21: 1/NVH100-PC/LMBT | G21: 41743
A22: 11 | B22: PYC theo dõi công tác nén mẫu bê tông lót móng M100, R7 | D22: 1/EP/PYC | G22: 41749
A23: 12 | B23: Kết quả nén mẫu bê tông lót móng M100, R7 | D23: 01-EP/NVH100-PC/M100 | G23: 41749
A24: 13 | B24: PYC Nghiệm thu bê tông lót móng | D24: 1/BT/PYC | G24: 41749
A25: 14 | B25: BBNT Bê tông lót móng | D25: 1/NVH100-PC/NTCV | G25: 41749
A26: B | B26: Bê tông móng cột
A27: 1 | B27: PYC nghiệm thu vật liệu trước khi đổ bê tông móng cột | C27: Lô nhà văn hóa, điểm tái định cư Pom Chốn | D27: 2/LM/PYC | E27: 1/NVH100-PC/NTNB | F27: 1/NVH100-PC/NTCV | G27: 41746 | H27: =G27 -> 41746 | I27: 41743
A28: 2 | B28: BBNT Vật liệu trước khi đổ bê tông lót móng | D28: 2/NVH100-PC/LMHT | G28: 41747
A29: 3 | B29: PYC Nghiệm thu cốt thép bê tông móng cột | D29: 2/CT/PYC | G29: 41746
A30: 4 | B30: BBNT cốt thép bê tông móng cột | D30: 2/NVH100-PC/NTCT | G30: 41747
A31: 3 | B31: PYC Nghiệm thu ván khuôn bê tông móng cột | D31: 2/VK/PYC | G31: 41746
A32: 4 | B32: BBNT Ván khuôn bê tông móng cột | D32: 2/NVH100-PC/NTVK | G32: 41747
A33: 5 | B33: PYC nghiệm thu công tác chuẩn bị đổ bê tông móng cột | D33: 2/CBBT/PYC | G33: 41746
A34: 6 | B34: BBNT công tác chuẩn bị đổ bê tông lót móng | D34: 2/NVH100-PC/CBBT | G34: 41747
A35: 7 | B35: PYC theo dõi quá trình đổ bê tông móng cột | D35: 2/TDBT/PYC | G35: 41746
A36: 8 | B36: Phiếu giám sát quá trình đổ bê tông móng cột | D36: 2/NVH100-PC/TDBT | G36: 41747
A37: 9 | B37: PYC Lấy mẫu bê tông móng cột M200 | D37: 2/LM/PYC | G37: 41746
A38: 10 | B38: Biên bản lấy mẫu bê tông móng cột M200 | D38: 2/NVH100-PC/LMBT | G38: 41747
A39: 11 | B39: PYC theo dõi công tác nén mẫu bê tông móng cột M200, R7 | D39: 2/NVH100-PC/R7/PYC | G39: 41749
... A42: 14 | B42: BBNT Bê tông móng cột | D42: 1/NVH100-PC/NTCV | G42: 41749
A43: C | B43: Bê tông móng cột

Sheet TIEU CHUAN
B4: Xi măng | C4: TCVN 2682 -92
B5: Cốt Thép | C5: TCVN 1651-2008
C6: TCXDVN 170:1989 | D6: Kết cấu thép - Gia công,lắp ráp và nghiệm thu.Yêu cầu kĩ thuật
C7: TCXDVN 296:2004 | D7: Dàn giáo - Các yêu cầu về an toàn
C8: TCVN 6052:1995 | D8: Giàn giáo thép
B9: Cát | C9: TCVN 1770 - 1986
B10: Đá dăm (Cốt liệu thô) | C10: TCVN 1171-1986, 22TCN 57-1984
B11: Gạch Xây | C11: TCVN 1770 -86
C12: TCVN 4085:1985 | D12: Kết cấu gạch đá. Quy phạm thi công và nghiệm thu
B13: Phụ gia | C13: TCXD 173 – 1989
B14: Nước | C14: TCVN 4506-1987
B15: Cốp pha, Đà giáo | C15: TCVN 1075:1971
B16: Bê tông | C16: TCXDVN 305:2004 | D16: Bêtông khối lớn - Quy phạm thi công và nghiệm thu
C17: TCVN 4453:1995 | D17: Kết cấu bêtông và bêtông cốt thép toàn khối - Quy phạm thi công và nghiệm thu
C18: TCVN 5592:1991 | D18: Bêtông nặng - Yêu cầu dưõng ẩm tự nhiên
C19: TCVN 4452:1987 | D19: Kết cấu bêtông và bêtông cốt thép lắp ghép - Quy phạm thi công và nghiệm thu
B20: Đất | C20: TCVN 4447:1987 | D20: Công tác đất - Quy phạm thi công và nghiệm thu
C21: TCXDVN 79:1980 | D21: Thi công và nghiệm thu các công tác nền móng

Sheet TC
A2: Tiêu chuẩn thi công nghiệm thu và thí nghiệm vật liệu
A3: STT | B3: TIÊU CHUẨN | C3: KÝ HIỆU
C4: TCVN | D4: TCQT
A5: 1 | B5: Cường độ của đất - lấy mẫu | C5: TCVN 7593-1:2006
A6: 2 | B6: Độ chặt của đất tại hiện trường - Pp phễu rót cát | C6: 22 TCN346-06 | D6: AASHTO T191-02(2006)
A7: 3 | B7: Chất lượng đất. Lấy mẫu. Hướng dẫn lấy mẫu, bảo quản và đánh giá trong phòng TN | C7: TCVN 5960-95
A8: 4 | B8: Đất xây dựng, giới hạn dẻo và chảy | C8: TCVN 4197-95 | D8: AASHTO T89-02(2006) & AASHTO T90-00(2004)
A9: 5 | B9: Đất xây dựng, Phân tích cỡ hạt | C9: TCVN 4198-95 | D9: AASHTO T88-00(2004)
A10: 6 | B10: Xác định sự trương nở của đất | D10: AASHTO T258-81(2004) hoặc ASTM D4546-2003
A11: 7 | B11: Vật liệu đắp nền đường và lớp nền thượng | D11: AASHTO M57-80(2004)
A12: 8 | B12: Sức chịu tải CBR | C12: 22 TCN 332-06 | D12: AASHTO T193-99(2007)
A13: 9 | B13: Đầm nén đất và vật liệu cấp phối trong phòng TN | C13: 22 TCN 333-06
A14: 10 | B14: Vữa XD - Pp thử | C14: TCVN 3121-2003
A15: 11 | B15: Vữa XD - YCKT | C15: TCVN 4314-2003
A16: 12 | B16: Xi măng Pooc lăng bền sun phát - YCKT | C16: TCVN 6067:2006
A17: 13 | B17: Xi măng Pooc lăng - YCKT | C17: TCVN 2682:2009
A18: 14 | B18: Xi măng Pooc lăng hỗn hợp - YCKT | C18: TCVN 6260 : 2009
A19: 15 | B19: Xi măng, pp xác định độ mịn | C19: TCVN 4030-2003
A20: 16 | B20: Cốt liệu cho bê tông và vữa - yckt | C20: TCVN 7572-2 : 06 | D20: AASHTO T27-06ASTM C33-07 & AASHTO M6-08 & AASHTO M80-08
A21: 17 | B21: Đúc và bảo quản mẫu bê tông trong phòng tn | D21: AASHTO T126-99
A22: 18 | B22: Đúc và bảo quản mẫu bê tông ngoài hiện trường | D22: AASHTO T23-08 hoặc ASTM C31M-08a
A23: 19 | B23: Hỗ hợp bê tông nặng và bê tông nặng - Lấy mẫu, chế tạo và bảo dưỡng mẫu thử | C23: TCVN 3015 : 1993
A24: 20 | B24: Nước cho bê tông và vữa | C24: TCXDVN 302-2004
A25: 21 | B25: Phụ gia bê tông | C25: TCVN 6882-2001
A26: 22 | B26: Thép cốt bê tông | C26: TCVN 1651-2008
A27: 23 | B27: Thép các bon dùng trong xd. Tiêu chuẩn kỹ thuật | C27: TCVN 5709-1993
A28: 24 | B28: Sản phẩm thép và sắt mạ kẽm | D28: AASHTO M111-04
A29: 25 | B29: Gạch xây - pp thử | C29: Từ TCVN 246-1986 đến TCVN 250-1986
A30: 26 | B30: Gạch rỗng đất sét nung | C30: TCVN 1450-1986
A31: 27 | B31: Gạch đặc đất sét nung | C31: TCVN 1451-1986
A32: 28 | B32: Công tác đất - Tiêu chuẩn thi công và nghiệm thu | C32: TCVN 4447-1987
A33: 29 | B33: Thi công và nghiệm thu các công tác nền móng | C33: TCXD 79 : 1980
A34: 30 | B34: Cầu và cống- Tiêu chuẩn thi công và nghiệm thu | C34: 22TCN 266-2000
A35: 31 | B35: Yêu cầu kỹ thuật chế tạo và nghiệm thu dầm cầu thép trong công xưởng | C35: 22TCN288-02
A36: 32 | B36: Kết cấu bê tông đúc sẵn và bê tông cốt thép. Quy định thi công và nghiệm thu | C36: TCXDVN 390-2007
A37: 33 | B37: BTCT, chỉ dẫn chống nứt | C37: TCXDVN 390-2007
A38: 34 | B38: Bê tông. Kiểm soát cường độ và đánh giá. Các yêu cầu chung | C38: TCVN 5440-91
A39: 35 | B39: Ống bê tông cốt thép thoát nước | C39: TCXDVN 372-2006
A40: 36 | B40: Ống bê tông cốt thép - yckt | C40: 22TCN 159-86
... A55: 51 | B55: Công tác trắc địa trong xây dựng | C55: TCXDVN 309:2004
...

Sheet TC1
B1: Ký hiệu | C1: Tên tiêu chuẩn | D1: Tải về
B2: Tiêu chuẩn thi công và nghiệm thu công trình xây dựng.
B3: TCVN 4091:198 | C3: Nghiệm thu các công trình xây dựng | D3: Tải về
B4: TCVN 4085:1985 | C4: Kết cấu gạch đá. Quy phạm thi công và nghiệm thu | D4: Tải về
B5: TCVN 4452:1987 | C5: Kết cấu bê tông và BTCT lắp ghép.Quy phạm thi công và nghiệm thu | D5: Tải về
B6: TCVN 4453:1995 | C6: Kết cấu bê tông và BTCT toàn khối.Quy phạm thi công và nghiệm thu | D6: Tải về 1 2 3
B7: TCVN 4519:1988 | C7: HT cấp thoát nước bên trong nhà và CT. Quy phạm thi công và nghiệm thu | D7: Tải về
B8: TCVN 5637:1991 | C8: Quản lý chất lượng xây lắp công trình xây dựng. Nguyên tắc cơ bản | D8: Tải về
B9: TCVN 5639:1991 | C9: Nghiệm thu thiết bị đã lắp đặt xong- Nguyên tắc cơ bản | D9: Tải về
B10: TCVN 5640:1991 | C10: Bàn giao công trình xây dựng. Nguyên tắc cơ bản | D10: Tải về
B11: TCVN 5641:1991 | C11: Bể chứa bằng bê tông cốt thép. Quy phạm thi công và nghiệm thu | D11: Tải về
B12: TCVN 5674:1992 | C12: Công tác hoàn thiện trong xây dựng. Thi công và nghiệm thu | D12: Tải về
B13: TCVN 5718:1993 | C13: Mái và sàn BTCT trong công trình xây dựng.Yêu cầu kỹ thuật chống thấm nước | D13: Tải về
B14: TCVN 3972:1985 | C14: Công tác trắc địa trong xây dựng | D14: Tải về 1 2
... B20: TCVN4447:1987 | C20: Công tác đất - Quy phạm thi công và nghiệm thu | D20: Tải về 1 2 3

Sheet TC2
A1: Mã hiệu và tên tiêu chuẩn hết hiệu lực | C1: Mã hiệu và tên tiêu chuẩn hiện hành
A2: 1. TCXD 44:1970 | B2: Quy phạm thiết kế kết cấu gỗ | C2: Hủy do không còn phù hợp
A3: 2. TCXD 45:1978 | B3: Tiêu chuẩn thiết kế nền nhà và công trình | C3: TCVN 9362:2012 | D3: Tiêu chuẩn thiết kế nền nhà và công trình
A4: 3. TCXD 79:1980 | B4: Thi công và nghiệm thu các công tác nền móng | C4: ` | D4: Công tác nền móng – Thi công và nghiệm thu
A5: 4. TCXD 128 : 1985 | B5: Thuỷ tinh - Phương pháp chuẩn bị mẫu trong phòng thí nghiệm để phân tích hoá học - Quy định chung | C5: TCVN 9171:2012 | D5: Thủy tinh và cát để sản xuất thủy tinh – Quy định chung trong phân tích hóa học
A6: (Gộp với: TCXD 136 : 1985)
A7: 5. TCXD 129 : 1985 | B7: Thuỷ tinh - Phương pháp phân tích hoá học xác định hàm lượng Silic dioxyt | C7: TCVN 9172:2012 | D7: Thuỷ tinh không màu - Phương pháp xác định hàm lượng Silic đioxit
A8: 6. TCXD 130 : 1985 | B8: Thuỷ tinh - Phương pháp phân tích hoá học xác định hàm lượng lưu huỳnh trioxyt | C8: TCVN 9173:2012 | D8: Thuỷ tinh không màu - Phương pháp xác định hàm lượng Sunfua trioxit
A9: 7. TCXD 131 : 1985 | B9: Thuỷ tinh - Phương pháp phân tích hoá học xác định hàm lượng sắt ôxýt | C9: TCVN 9174:2012 | D9: Thuỷ tinh không màu - Phương pháp xác định hàm lượng Sắt oxit
A10: 8. TCXD 132 : 1985 | B10: Thuỷ tinh - Phương pháp phân tích hoá học xác định hàm lượng nhôm oxyt | C10: TCVN 9175:2012 | D10: Thuỷ tinh không màu - Phương pháp xác định hàm lượng Nhôm oxit
A11: 9. TCXD 133 : 1985 | B11: Thuỷ tinh - Phương pháp phân tích hoá học xác định hàm lượng canxi oxyt và magiê oxyt | C11: TCVN 9176:2012 | D11: Thuỷ tinh không màu - Phương pháp xác định hàm lượng Canxi oxit và Magiê oxit
A12: 10.TCXD 134 : 1985 | B12: Thuỷ tinh - Phương pháp phân tích hoá học xác định hàm lượng natri oxyt và kali oxyt | C12: TCVN 9177:2012 | D12: Thuỷ tinh không màu - Phương pháp xác định hàm lượng Natri oxit và Kali oxit
A13: 11.TCXD 137 : 1985 | B13: Thuỷ tinh - Cát để sản xuất thuỷ tinh phương pháp phân tích hoá học - Xác định hàm lượng sắt oxyt | C13: TCVN 9178:2012 | D13: Thuỷ tinh màu - Phương pháp xác định hàm lượngSắt oxit
A14: 12.TCXD 138 : 1985 | B14: Thuỷ tinh - Cát để sản xuất thuỷ tinh phương pháp phân tích hoá học - Xác định hàm lượng titan đioxyt | C14: TCVN 9179:2012 | D14: Thuỷ tinh màu - Phương pháp xác định hàm lượngTitan đioxit
A15: 13.TCXD 139 : 1985 | B15: Thuỷ tinh - Cát để sản xuất thuỷ tinh - Phương pháp phân tích hoá học - Xác định hàm lượng đồng oxyt | C15: TCVN 9180:2012 | D15: Thuỷ tinh màu - Phương pháp xác định hàm lượngĐồng oxit
A16: 14.TCXD 140 : 1985 | B16: Thuỷ tinh - Cát để sản xuất thuỷ tinh - Phương pháp phân tích hoá học - Xác định hàm lượng côban oxyt | C16: TCVN 9181:2012 | D16: Thuỷ tinh màu - Phương pháp xác định hàm lượngCoban oxit
A17: 15.TCXD 141 : 1985 | B17: Thuỷ tinh - Cát để sản xuất thuỷ tinh - Phương pháp phân tích hoá học - Xác định hàm lượng niken oxyt | C17: TCVN 9182:2012 | D17: Thuỷ tinh màu - Phương pháp xác định hàm lượngNiken oxit
A18: 16.TCXD 147 : 1986 | B18: Nhà ở lắp ghép tấm lớn - Tiêu chuẩn thi công và nghiệm thu | C18: TCVN 9376:2012 | D18: Nhà ở lắp ghép tấm lớn - Thi công và nghiệm thu công tác lắp ghép
A20: 17.TCXD 149:1986 | B20: Bảo vệ kết cấu xây dựng khỏi bị ăn mòn | C20: Hủy do không còn phù hợp
A22: 18.TCXD 151 : 1986 | B22: Cátsử dụng trong công nghiệp thuỷ tinh - Yêu cầu kỹ thuật | C22: TCVN 9036:2012 | D22: Nguyên liệu để sản xuất thủy tinh cát – Yêu cầu kỹ thuật
A24: 19.TCXD 152 : 1986 | B24: Cát sử dụng trong công nghiệp thuỷ tinh - Phương pháp lấy mẫu | C24: TCVN 9037:2012 | D24: Nguyên liệu để sản xuất thủy tinh cát – Phương pháp lấy mẫu
A26: 20.TCXD 153 : 1986 | B26: Cát sử dụng trong công nghiệp thuỷ tinh - Phương pháp xác định hàm lượng silic đioxyt (SiO2) | C26: TCVN 9183:2012 | D26: Cát để sản xuất thủy tinh – Phương pháp xác định hàm lượng Silic đioxit
A28: 21.TCXD 154 : 1986 | B28: Cát sử dụng trong công nghiệp thuỷ tinh - Phương pháp xác định hàm lượng sắt oxyt (Fe2O3) | C28: TCVN 9184:2012 | D28: Cát để sản xuất thủy tinh – Phương pháp xác định hàm lượng Sắt oxit
A30: 22.TCXD 155 : 1986 | B30: Cát sử dụng trong công nghiệp thuỷ tinh - Phương pháp xác định hàm lượng nhôm oxyt (Al2O3) | C30: TCVN 9185:2012 | D30: Cát để sản xuất thủy tinh – Phương pháp xác định hàm lượng Nhôm oxit
A32: 23.TCXD 156 : 1986 | B32: Cát sử dụng trong công nghiệp thuỷ tinh - Phương pháp xác định hàm lượng titan oxyt (TiO2) | C32: TCVN 9186:2012 | D32: Cát để sản xuất thủy tinh – Phương pháp xác định hàm lượng Titan đioxit
A34: 24.TCXD 157 : 1986 | B34: Cát sử dụng trong công nghiệp thuỷ tinh - Phương pháp xác định độ ẩm | C34: TCVN 9187:2012 | D34: Cát để sản xuất thủy tinh – Phương pháp xác định hàm lượng độ ẩm
A36: 25.TCXD 158 : 1986 | B36: Cát sử dụng trong công nghiệp thuỷ tinh - Phương pháp xác định thành phần cỡ hạt | C36: TCVN 9038:2011 | D36: Nguyên liệu để sản xuất thủy tinh cát – Phương pháp xác định thành phần cỡ hạt
A37: 26.TCXD 159 : 1986 | B37: Trát đá trang trí - Thi công và nghiệm thu | C37: TCVN 9377-2:2012 | D37: (Gộp TCXD 159:1986 với TCXD 303:2006)
A38: 27.TCXD 40 : 1987 | B38: Kết cấu xây dựng và nền - Nguyên tắc cơ bản về tính toán | C38: TCVN 9379:2012 | D38: Kết cấu xây dựng và nền - Nguyên tắc cơ bản về tính toán
A39: 28.TCXD 74:1987 | B39: Đất xây dựng - Phương pháp chỉnh lý thống kê các kết quả xác định các đặc trưng của chúng | C39: TCVN 9153:2012 | D39: Đất xây dựng – Phương pháp chỉnh lý kết quả thí nghiệm mẫu đất
A40: 29.TCXD 160:1987 | B40: Khảo sát địa kỹ thuật phục vụ cho thiết kế và thi công móng cọc | C40: Hủy do không còn phù hợp
A41: 30.TCXD 163 : 1987 | B41: Nhà nâng sàn- Thi công và nghiệm thu | C41: Hủy do không còn phù hợp
A42: 31.TCXD 166 : 1989 | B42: Giàn giáo xây dựng | C42: Hủy do không còn phù hợp
A43: 32.TCXD 167:1989 | B43: Xi măng poóc lăng dùng để sản xuất tấm sóng amiăng - Xi măng - Yêu cầu kỹ thuật | C43: Hủy do không còn phù hợp
A44: 33.TCXD 169 : 1989 | B44: Nhà nâng sàn - Tiêu chuẩn thiết kế | C44: Hủy do không còn phù hợp
A45: 34.TCXD 171 : 1989 | B45: Bê tông nặng - Phương pháp không phá hoại sử dụng kết hợp máy đo siêu âm và súng bật nẩy để xác định cường độ nén | C45: TCVN 9335:2012 | D45: Bê tông nặng – Phương pháp thử không phá hủy – Xác định cường độ nén sử dụng kết hợp máy đo siêu âm và súng bật nẩy
A46: 35.TCXD 25 : 1991 | B46: Đặt đường dẫn điện trong nhà ở và công trình công cộng - Tiêu chuẩn thiết kế | C46: TCVN 9207:2012 | D46: Đặt đường dẫn điện trong nhà ở và công trình công cộng - Tiêu chuẩn thiết kế
A47: 36.TCXD 27 : 1991 | B47: Đặt thiết bị điện trong nhà ở và công trình công cộng - Tiêu chuẩn thiết kế | C47: TCVN 9206:2012 | D47: Đặt thiết bị điện trong nhà ở và công trình công cộng - Tiêu chuẩn thiết kế
A48: 37.TCXD 192 : 1996 | B48: Cửa gỗ, cửa đi, cửa sổ - Yêu cầu kỹ thuật | C48: TCN 9366-1 : 2012 | D48: Cửa đi, cửa sổ - Phần 1- Cửa gỗ
A49: 38.TCXD 193 : 1996 | B49: Dung sai trong xây dựng công trình - Các phương pháp đo kiểm công trình và cấu kiện chế sẵn của công trình | C49: TCVN 9262-1:2012 | D49: Dung sai trong xây dựng công trình – Phương pháp đo kiểm công trình và cấu kiện chế sẵn của công trình – Phần 1: Phương pháp và dụng cụ đo
...

Sheet TC3
C4: TCVN 9361:2012 | D4: Công tác nền móng – Thi công và nghiệm thu
C5: TCVN 9335:2012 | D5: Bê tông nặng – Phương pháp thử không phá hủy – Xác định cường độ nén sử dụng kết hợp máy đo siêu âm và súng bật nẩy
C6: TCVN 9207:2012 | D6: Đặt đường dẫn điện trong nhà ở và công trình công cộng - Tiêu chuẩn thiết kế
C7: TCVN 9206:2012 | D7: Đặt thiết bị điện trong nhà ở và công trình công cộng - Tiêu chuẩn thiết kế
C8: TCN 9366-1 : 2012 | D8: Cửa đi, cửa sổ - Phần 1- Cửa gỗ
C9: TCN 9366-2 : 2012 | D9: Cửa đi, cửa sổ- Phần 2- Cửa kim loại
C10: Sử dụng | D10: Thép thanh côt bê tông – Thử uốn và uốn lại không hoàn toàn
C11: TCVN 6287:1997
C12: (ISO 10065:1990)
C13: TCVN 9392:2012 | D13: Thép cốt bê tông - Hàn hồ quang
C14: TCVN 9259-1:2012 | D14: Dung sai trong xây dựng công trình - Nguyên tắc cơ bản để đánh giá và yêu cầu kỹ thuật
C15: (ISO 3443-1:1979)
C16: TCVN 9354:2012 | D16: Đất xây dựng - Phương phápxác định mô đun biến dạng tại hiện trường bằng tấm nén phẳng
C17: TCVN 2682:2009 | D17: Xi măng pooc lăng – Yêu cầu kỹ thuật
C18: TCVN 9070:2012 | D18: Ống nhựa gân xoắn HDPE
C19: TCVN 9347:2012 | D19: Cấu kiện bê tông và bê tông cốt thép đúc sẵn - Phương pháp thí nghiệm gia tải để đánh giá độ bền, độ cứng và khả năng chống nứt
C20: TCVN 9394:2012 | D20: Đóng và ép cọc - Thi công và nghiệm thu
C21: TCVN 4506 :2012 | D21: Nước trộn bê tông và vữa - Yêu cầu kỹ thuật
C22: TCVN 9377-1:2012 | D22: Công tác hoàn thiện trong xây dựng - Thi công và nghiệm thu
D23: Phần 1 : Công tác lát và láng trong xây dựng
C24: TCVN 9377-2:2012 | D24: Công tác hoàn thiện trong xây dựng – Thi công và nghiệm thu – Phần 2: Công tác trát trong xây dựng
C26: TCVN 9377-3:2012 | D26: Công tác hoàn thiện trong xây dựng – Thi công và nghiệm thu – Phần 3: Công tác ốp trong xây dựng
C27: TCVN 9343:2012 | D27: Kết cấu bê tông và bê tông cốt thép - Hướng dẫn công tác bảo trì
C28: TCVN 9202:2012 | D28: Xi măng xây trát
C29: TCVN 8826:2011 | D29: Phụ gia hoá học cho bê tông
C30: TCVN 9395:2012 | D30: Cọc khoan nhồi - Thi công và nghiệm thu
C31: TCVN 9339:2012 | D31: Bê tông và vữa xây dựng - Phương pháp xác định PH
C32: Sử dụng tiêu chuẩn | D32: Sơn bảo vệ kết cấu thép – Qui trình thi công và nghiệm thu
C33: TCVN 8790:2011
C34: TCVN 9113 : 2012 | D34: Ống bê tông cốt thép thoát nước
C35: TCVN 9340:2012 | D35: Hỗn hợp bê tông trộn sẵn – Yêu cầu cơ bản đánh giá chất lượng và nghiệm thu
C36: TCVN 9385:2012 | D36: Chống sét cho công trình xây dựng – Hướng dẫn thiết kế, kiểm tra và bảo trì hệ thống
C37: TCVN 9115:2012 | D37: Kết cấu bê tông và bê tông cốt thép lắp ghép - Thi công và nghiệm thu
C38: TCVN 8828:2011 | D38: Bê tông - Yêu cầu bảo dưỡng ẩm tự nhiên
C39: TCVN 9116:2012 | D39: Cống hộp bê tông cốt thép
C40: TCVN 7447 (gồm 14 TCVN) | D40: Hệ thống lắp đặt điện hạ áp
C41: TCXDVN 305:2004 | D41: Bêtông khối lớn - Quy phạm thi công và nghiệm thu

Sheet tc4
A1: PHẦN TIÊU CHUẨN PHỤC VỤ CHO THI CÔNG CẦU CỐNG
A2: - Quy thi công và nghiệm thu cầu cống (QĐ166)
A3: - Cống tròn BTCT lắp ghép 22 TCN 159 – 86
A4: - Cầu và cống Quy phạm thi công và nghiệm thu 22TCN 266 – 2000.
A5: - Quy phạm kỹ thuật an toàn trong xây dựng: TCVN 5038 –1991
A6: - Kết cấu gạch đá – Quy phạm thi công và nghiệm thu TCVN 4085 – 1985
A7: - KCBT và BTCT toàn khối + Quy phạm thi công và nghiệm thu TCVN 4453 – 1995
A8: - Kết cấu BT và BTCT lắp ghép + Quy trình thi công và nghiệm thu TCVN 4452 – 1987
A9: - Tiêu chuẩn thi công – Nghiệm thu gia công lắp dựng cấu kiện thép TCXD170 – 89
A10: - Quy trình thi công và nghiệm thu dầm cầu bê tông cốt thép dự ứng lực: 22TCN247 – 98
A11: - Lan can an toàn. Điều kiện kỹ thuật: TCVN 4431 – 1987
A12: - Tiêu chuẩn thi công và nghiệm thu đóng và ép cọc: TCXDVN 326 – 2003
... A48: - Cửa kim loại – Cửa đi, cửa sổ – Yêu cầu kỹ thuật TCVN 192 – 1996
A49: =A14 -> - Sơn cầu thép và kết cấu cầu thép TC và NT: 22TCN 253– 98

Sheet PhieuBT
A1: Công trình: Thủy điện Trung Sơn | E1: Công trình: Thủy điện Trung Sơn
A2: Hạng mục: Bồi thường, hỗ trợ và tái định cư | E2: Hạng mục: Bồi thường, hỗ trợ và tái định cư
A3: Gói thầu: W-RE-01 “Xây dựng khu TĐC số 01” | E3: Gói thầu: W-RE-01 “Xây dựng khu TĐC số 01”
A4: Địa điểm xây dựng: Xã Trung Sơn, Huyện Quan Hoá, Tỉnh Thanh Hoá | E4: Địa điểm xây dựng: Xã Trung Sơn, Huyện Quan Hoá, Tỉnh Thanh Hoá
A6: PHIẾU LẤY MẪU BÊ TÔNG | E6: PHIẾU LẤY MẪU BÊ TÔNG
A8: Đối tượng lấy mẫu | E8: Đối tượng lấy mẫu
A9: Vị trí lấy mẫu | E9: Vị trí lấy mẫu
A10: Số tổ mẫu …….. Tổ | B10: Ký hiệu mẫu :………………………………………………….. | E10: Số tổ mẫu …….. Tổ | F10: Ký hiệu mẫu :…………………………………………………..
A11: Mác bê tông thiết kế | E11: Mác bê tông thiết kế
A12: Ngày đúc mẫu | B12: …….. / …….. / 2014 | E12: Ngày đúc mẫu | F12: …….. / …….. / 2014
A13: Ngày nén mẫu R7 : …….. / …….. / 2014 ; Ngày nén mẫu R28 : …….. / …….. / 2014 | E13: Ngày nén mẫu R7 : …….. / …….. / 2014 ; Ngày nén mẫu R28 : …….. / …….. / 2014
A15: KIỂM TRA CỦA CHỦ ĐẦU TƯ | B15: TƯ VẤN GIÁM SÁT | E15: KIỂM TRA CỦA CHỦ ĐẦU TƯ | F15: TƯ VẤN GIÁM SÁT
A20: ĐƠN VỊ THI CÔNG | B20: ĐƠN VỊ THÍ NGHIỆM | E20: ĐƠN VỊ THI CÔNG | F20: ĐƠN VỊ THÍ NGHIỆM
A27: Công trình: Thủy điện Trung Sơn | E27: Công trình: Thủy điện Trung Sơn
A28: Hạng mục: Bồi thường, hỗ trợ và tái định cư | E28: Hạng mục: Bồi thường, hỗ trợ và tái định cư
A29: Gói thầu: W-RE-01 “Xây dựng khu TĐC số 01” | E29: Gói thầu: W-RE-01 “Xây dựng khu TĐC số 01”
A30: Địa điểm xây dựng: Xã Trung Sơn, Huyện Quan Hoá, Tỉnh Thanh Hoá | E30: Địa điểm xây dựng: Xã Trung Sơn, Huyện Quan Hoá, Tỉnh Thanh Hoá
A32: PHIẾU LẤY MẪU BÊ TÔNG | E32: PHIẾU LẤY MẪU BÊ TÔNG
A34: Đối tượng lấy mẫu | E34: Đối tượng lấy mẫu
A35: Vị trí lấy mẫu | E35: Vị trí lấy mẫu
A36: Số tổ mẫu …….. Tổ | B36: Ký hiệu mẫu :………………………………………………….. | E36: Số tổ mẫu …….. Tổ | F36: Ký hiệu mẫu :…………………………………………………..
A37: Mác bê tông thiết kế | E37: Mác bê tông thiết kế
A38: Ngày đúc mẫu | B38: …….. / …….. / 2014 | E38: Ngày đúc mẫu | F38: …….. / …….. / 2014
A39: Ngày nén mẫu R7 : …….. / …….. / 2014 ; Ngày nén mẫu R28 : …….. / …….. / 2014 | E39: Ngày nén mẫu R7 : …….. / …….. / 2014 ; Ngày nén mẫu R28 : …….. / …….. / 2014
A41: KIỂM TRA CỦA CHỦ ĐẦU TƯ | B41: TƯ VẤN GIÁM SÁT | E41: KIỂM TRA CỦA CHỦ ĐẦU TƯ | F41: TƯ VẤN GIÁM SÁT
A46: ĐƠN VỊ THI CÔNG | B46: ĐƠN VỊ THÍ NGHIỆM | E46: ĐƠN VỊ THI CÔNG | F46: ĐƠN VỊ THÍ NGHIỆM
A53: Công trình: Thủy điện Trung Sơn | E53: Công trình: Thủy điện Trung Sơn
A54: Hạng mục: Bồi thường, hỗ trợ và tái định cư | E54: Hạng mục: Bồi thường, hỗ trợ và tái định cư
A55: Gói thầu: W-RE-01 “Xây dựng khu TĐC số 01” | E55: Gói thầu: W-RE-01 “Xây dựng khu TĐC số 01”
A56: Địa điểm xây dựng: Xã Trung Sơn, Huyện Quan Hoá, Tỉnh Thanh Hoá | E56: Địa điểm xây dựng: Xã Trung Sơn, Huyện Quan Hoá, Tỉnh Thanh Hoá
A58: PHIẾU LẤY MẪU BÊ TÔNG | E58: PHIẾU LẤY MẪU BÊ TÔNG
A60: Đối tượng lấy mẫu | E60: Đối tượng lấy mẫu
A61: Vị trí lấy mẫu | E61: Vị trí lấy mẫu
A62: Số tổ mẫu …….. Tổ | B62: Ký hiệu mẫu :………………………………………………….. | E62: Số tổ mẫu …….. Tổ | F62: Ký hiệu mẫu :…………………………………………………..
A63: Mác bê tông thiết kế | E63: Mác bê tông thiết kế
A64: Ngày đúc mẫu | B64: …….. / …….. / 2014 | E64: Ngày đúc mẫu | F64: …….. / …….. / 2014
A65: Ngày nén mẫu R7 : …….. / …….. / 2014 ; Ngày nén mẫu R28 : …….. / …….. / 2014 | E65: Ngày nén mẫu R7 : …….. / …….. / 2014 ; Ngày nén mẫu R28 : …….. / …….. / 2014
A67: KIỂM TRA CỦA CHỦ ĐẦU TƯ | B67: TƯ VẤN GIÁM SÁT | E67: KIỂM TRA CỦA CHỦ ĐẦU TƯ | F67: TƯ VẤN GIÁM SÁT
A72: ĐƠN VỊ THI CÔNG | B72: ĐƠN VỊ THÍ NGHIỆM | E72: ĐƠN VỊ THI CÔNG | F72: ĐƠN VỊ THÍ NGHIỆM

Sheet PhieuVUA
A1: Công trình: Thủy điện Trung Sơn | E1: Công trình: Thủy điện Trung Sơn
A2: Hạng mục: Bồi thường, hỗ trợ và tái định cư | E2: Hạng mục: Bồi thường, hỗ trợ và tái định cư
A3: Gói thầu: W-RE-01 “Xây dựng khu TĐC số 01” | E3: Gói thầu: W-RE-01 “Xây dựng khu TĐC số 01”
A4: Địa điểm xây dựng: Xã Trung Sơn, Huyện Quan Hoá, Tỉnh Thanh Hoá | E4: Địa điểm xây dựng: Xã Trung Sơn, Huyện Quan Hoá, Tỉnh Thanh Hoá
A6: PHIẾU LẤY MẪU VỮA | E6: PHIẾU LẤY MẪU VỮA
A8: Đối tượng lấy mẫu | E8: Đối tượng lấy mẫu
A9: Vị trí lấy mẫu | E9: Vị trí lấy mẫu
A10: Số tổ mẫu …….. Tổ | B10: Ký hiệu mẫu :………………………………………………….. | E10: Số tổ mẫu …….. Tổ | F10: Ký hiệu mẫu :…………………………………………………..
A11: Mác vữa thiết kế | E11: Mác vữa thiết kế
A12: Ngày đúc mẫu | B12: …….. / …….. / 2014 | E12: Ngày đúc mẫu | F12: …….. / …….. / 2014
A13: Ngày nén mẫu R7 : …….. / …….. / 2014 ; Ngày nén mẫu R28 : …….. / …….. / 2014 | E13: Ngày nén mẫu R7 : …….. / …….. / 2014 ; Ngày nén mẫu R28 : …….. / …….. / 2014
A15: KIỂM TRA CỦA CHỦ ĐẦU TƯ | B15: TƯ VẤN GIÁM SÁT | E15: KIỂM TRA CỦA CHỦ ĐẦU TƯ | F15: TƯ VẤN GIÁM SÁT
A20: ĐƠN VỊ THI CÔNG | B20: ĐƠN VỊ THÍ NGHIỆM | E20: ĐƠN VỊ THI CÔNG | F20: ĐƠN VỊ THÍ NGHIỆM
A27: PHIẾU LẤY MẪU VỮA | E27: PHIẾU LẤY MẪU VỮA
A29: Đối tượng lấy mẫu | E29: Đối tượng lấy mẫu
A30: Vị trí lấy mẫu | E30: Vị trí lấy mẫu
A31: Số tổ mẫu …….. Tổ | B31: Ký hiệu mẫu :………………………………………………….. | E31: Số tổ mẫu …….. Tổ | F31: Ký hiệu mẫu :…………………………………………………..
A32: Mác vữa thiết kế | E32: Mác vữa thiết kế
A33: Ngày đúc mẫu | B33: …….. / …….. / 2014 | E33: Ngày đúc mẫu | F33: …….. / …….. / 2014
A34: Ngày nén mẫu R7 : …….. / …….. / 2014 ; Ngày nén mẫu R28 : …….. / …….. / 2014 | E34: Ngày nén mẫu R7 : …….. / …….. / 2014 ; Ngày nén mẫu R28 : …….. / …….. / 2014
A36: KIỂM TRA CỦA CHỦ ĐẦU TƯ | B36: TƯ VẤN GIÁM SÁT | E36: KIỂM TRA CỦA CHỦ ĐẦU TƯ | F36: TƯ VẤN GIÁM SÁT
A41: ĐƠN VỊ THI CÔNG | B41: ĐƠN VỊ THÍ NGHIỆM | E41: ĐƠN VỊ THI CÔNG | F41: ĐƠN VỊ THÍ NGHIỆM
A47: PHIẾU LẤY MẪU VỮA | E47: PHIẾU LẤY MẪU VỮA
A49: Đối tượng lấy mẫu | E49: Đối tượng lấy mẫu
A50: Vị trí lấy mẫu | E50: Vị trí lấy mẫu
A51: Số tổ mẫu …….. Tổ | B51: Ký hiệu mẫu :………………………………………………….. | E51: Số tổ mẫu …….. Tổ | F51: Ký hiệu mẫu :…………………………………………………..
A52: Mác vữa thiết kế | E52: Mác vữa thiết kế
A53: Ngày đúc mẫu | B53: …….. / …….. / 2014 | E53: Ngày đúc mẫu | F53: …….. / …….. / 2014
A54: Ngày nén mẫu R7 : …….. / …….. / 2014 ; Ngày nén mẫu R28 : …….. / …….. / 2014 | E54: Ngày nén mẫu R7 : …….. / …….. / 2014 ; Ngày nén mẫu R28 : …….. / …….. / 2014
A56: KIỂM TRA CỦA CHỦ ĐẦU TƯ | B56: TƯ VẤN GIÁM SÁT | E56: KIỂM TRA CỦA CHỦ ĐẦU TƯ | F56: TƯ VẤN GIÁM SÁT
A61: ĐƠN VỊ THI CÔNG | B61: ĐƠN VỊ THÍ NGHIỆM | E61: ĐƠN VỊ THI CÔNG | F61: ĐƠN VỊ THÍ NGHIỆM
A67: PHIẾU LẤY MẪU VỮA | E67: PHIẾU LẤY MẪU VỮA
A69: Đối tượng lấy mẫu | E69: Đối tượng lấy mẫu
A70: Vị trí lấy mẫu | E70: Vị trí lấy mẫu
A71: Số tổ mẫu …….. Tổ | B71: Ký hiệu mẫu :………………………………………………….. | E71: Số tổ mẫu …….. Tổ | F71: Ký hiệu mẫu :…………………………………………………..
A72: Mác vữa thiết kế | E72: Mác vữa thiết kế
A73: Ngày đúc mẫu | B73: …….. / …….. / 2014 | E73: Ngày đúc mẫu | F73: …….. / …….. / 2014
A74: Ngày nén mẫu R7 : …….. / …….. / 2014 ; Ngày nén mẫu R28 : …….. / …….. / 2014 | E74: Ngày nén mẫu R7 : …….. / …….. / 2014 ; Ngày nén mẫu R28 : …….. / …….. / 2014
A76: KIỂM TRA CỦA CHỦ ĐẦU TƯ | B76: TƯ VẤN GIÁM SÁT | E76: KIỂM TRA CỦA CHỦ ĐẦU TƯ | F76: TƯ VẤN GIÁM SÁT
A81: ĐƠN VỊ THI CÔNG | B81: ĐƠN VỊ THÍ NGHIỆM | E81: ĐƠN VỊ THI CÔNG | F81: ĐƠN VỊ THÍ NGHIỆM

Sheet DATA
B1: NHẬP DỮ LIỆU CHO MỤC ĐỔ BÊ TÔNG
B2: *MH | C2: XI MĂNG | D2: CÁT | E2: ĐÁ | F2: THÉP | G2: KL BT TK | H2: MÁC BT | I2: KL THÉP | J2: ĐỘ C | K2: MẪU 1 | L2: MẪU 2 | M2: MẪU 3 | N2: MÃ NHÀ | P2: NỘI DUNG
B3: 1 | C3: The Vissai PCB30 | D3: vàng bê tông | E3: Đá 4x6cm | F3: Shengly | G3: 8.63 | H3: Bê tông mác 100# | I3: 0 | J3: 29 độ C | K3: 1 | L3: =K3+1 -> 2 | M3: =L3+1 -> 3 | N3: TH3PC | P3: =VLOOKUP($B3,VLDV,4,0) -> Vật liệu trước khi đổ bê tông lót móng
B4: 2 | C4: The Vissai PCB30 | D4: vàng bê tông | E4: Đá 1x2cm | F4: Shengly | G4: 2.05 | H4: Bê tông mác 200# | I4: =(170.35+26.97) -> 197.32 | J4: 29 độ C | K4: =M3+1 -> 4 | L4: =K4+1 -> 5 | M4: =L4+1 -> 6 | N4: =N3 -> TH3PC | P4: =VLOOKUP($B4,VLDV,4,0) -> Vật liệu trước khi đổ bê tông giằng móng
B5: 3 | C5: The Vissai PCB30 | D5: vàng bê tông | E5: Đá 1x2cm | F5: Shengly | G5: 0.78 | H5: Bê tông mác 200# | I5: =0.06*1000 -> 60 | J5: 28 độ C | K5: =M4+1 -> 7 | L5: =K5+1 -> 8 | M5: =L5+1 -> 9 | N5: =N4 -> TH3PC | P5: =VLOOKUP($B5,VLDV,4,0) -> Vật liệu trước khi đổ bê tông lanh tô cửa sổ và cửa đi
B6: 4 | C6: The Vissai PCB30 | D6: vàng bê tông | E6: Đá 1x2cm | F6: Shengly | G6: 23.98 | H6: Bê tông mác 200# | I6: =2.09*1000 -> 2090 | J6: 29 độ C | K6: =M5+1 -> 10 | L6: =K6+1 -> 11 | M6: =L6+1 -> 12 | N6: =N5 -> TH3PC | P6: =VLOOKUP($B6,VLDV,4,0) -> Vật liệu trước khi đổ bê tông dầm D1, D2, D3, D4, D4A, D4B, bê tông sàn, sê nô thu nước
B7: 5 | C7: The Vissai PCB30 | D7: vàng bê tông | E7: Đá 1x2cm | F7: Shengly | G7: 1.11 | H7: Bê tông mác 200# | I7: =0.08*1000 -> 80 | J7: 29 độ C | K7: =M6+1 -> 13 | L7: =K7+1 -> 14 | M7: =L7+1 -> 15 | N7: =N6 -> TH3PC | P7: =VLOOKUP($B7,VLDV,4,0) -> Vật liệu trước khi đổ bê tông giằng tường thu hồi
B8: 6 | C8: The Vissai PCB30 | D8: vàng bê tông | E8: Đá 1x2cm | F8: Shengly | G8: 0.68 | H8: Bê tông mác 200# | I8: =0.12*1000 -> 120 | J8: 28 độ C | K8: =M7+1 -> 16 | L8: =K8+1 -> 17 | M8: =L8+1 -> 18 | N8: =N7 -> TH3PC | P8: =VLOOKUP($B8,VLDV,4,0) -> Vật liệu trước khi đổ bê tông Lam trang trí
B9: 7 | P9: =VLOOKUP($B9,VLDV,4,0) -> #N/A
B10: 8 | P10: =VLOOKUP($B10,VLDV,4,0) -> #N/A
B11: 9 | P11: =VLOOKUP($B11,VLDV,4,0) -> #N/A
B12: 10 | P12: =VLOOKUP($B12,VLDV,4,0) -> #N/A
B13: 11 | P13: =VLOOKUP($B13,VLDV,4,0) -> #N/A
B14: 12 | P14: =VLOOKUP($B14,VLDV,4,0) -> #N/A
B15: 13 | P15: =VLOOKUP($B15,VLDV,4,0) -> #N/A
B16: 14 | P16: =VLOOKUP($B16,VLDV,4,0) -> #N/A
B17: 15 | P17: =VLOOKUP($B17,VLDV,4,0) -> #N/A
B18: NHẬP DỮ LIỆU CHO MỤC XÂY
B19: *MH | C19: MÁC VỮA | D19: KL XÂY TT | E19: KL VỮA ĐM | F19: ĐM VẬT LIỆU | G19: MẪU V1 | H19: MẪU V2 | I19: MẪU V3 | J19: Loại VL
B20: 1 | C20: Mác 75 | D20: 44.63 | E20: 0.42 | F20: 1.2 | G20: 1 | H20: 2 | I20: 3 | J20: Đá hộc | P20: =VLOOKUP($B20,VLXAY,4,0) -> Vật liệu trước khi xây móng đá hộc
B21: 2 | C21: Mác 50 | D21: 27.25 | E21: 0.29 | F21: 550 | G21: =I20+1 -> 4 | H21: =G21+1 -> 5 | I21: =H21+1 -> 6 | J21: Gạch | P21: =VLOOKUP($B21,VLXAY,4,0) -> Vật liệu trước khi xây tường, xây cột (từ cốt 0.00 đến cốt lanh tô)
B22: 3 | C22: Mác 50 | D22: 19.37 | E22: 0.29 | F22: 550 | G22: =I21+1 -> 7 | H22: =G22+1 -> 8 | I22: =H22+1 -> 9 | J22: Gạch | P22: =VLOOKUP($B22,VLXAY,4,0) -> Vật liệu trước khi xây tường, xây cột (từ cốt lanh tô đến cốt +3.60)
B23: 4 | C23: Mác 75 | D23: 11.2 | E23: 0.29 | F23: 550 | G23: =I22+1 -> 10 | H23: =G23+1 -> 11 | I23: =H23+1 -> 12 | J23: Gạch | P23: =VLOOKUP($B23,VLXAY,4,0) -> Vật liệu trước khi xây tường thu hồi, tường chắn mái
B24: 5 | P24: =VLOOKUP($B24,VLXAY,4,0) -> #N/A
B25: 6 | P25: =VLOOKUP($B25,VLXAY,4,0) -> #N/A
B26: 7 | P26: =VLOOKUP($B26,VLXAY,4,0) -> #N/A
B27: 8 | P27: =VLOOKUP($B27,VLXAY,4,0) -> #N/A
B28: 9 | P28: =VLOOKUP($B28,VLXAY,4,0) -> #N/A
B29: 10 | P29: =VLOOKUP($B29,VLXAY,4,0) -> #N/A
B31: THÀNH PHẦN
B32: *MH | C32: CĐT | E32: TVGS | G32: ĐVTC | I32: ĐVTN
B33: Tên | C33: .......................................... | E33: .......................................... | G33: Lê Văn Thái | I33: Giáp Văn Định
B38: CHỨC VỤ
C39: CĐT | E39: TVGS | G39: ĐVTC | I39: DVTN
B40: CV | C40: ................................. | E40: ................................. | G40: Cán bộ kỹ thuật | I40: Thí nghiệm viên

Sheet 2.VL
A1: LIST | B1: SHBB | C1: MH | D1: Nội dung công việc | E1: Vị trí | F1: Điểm TĐC | G1: Số hiệu PYC | H1: Số hiệu NTCV | I1: DATE PYC | J1: MONTH PYC | K1: Ngày PYC | L1: H-START | M1: H-END | N1: DATE NTCV | O1: MONTH NTCV | P1: Ngày NTCV | Q1: CĐT | R1: ĐVTC | S1: XI MĂNG | T1: CÁT | U1: ĐÁ | V1: THÉP | W1: KL BÊ TÔNG TK | X1: KL BÊ TÔNG NT | Y1: MÁC BT | Z1: XI ĐM(kg) | AA1: CÁT ĐM(m3) | AB1: ĐÁ ĐM(m3) | AC1: NƯỚC ĐM(lít) | AE1: XI NT | AF1: CÁT NT | AG1: ĐÁ NT | AH1: NƯỚC NT | AI1: THÉP NT | AJ1: XI TT | AK1: CÁT TT | AL1: ĐÁ TT | AM1: NƯỚC TT | AN1: THÉP TT | AP1: VXM M50# | AQ1: Gạch vỡ | AR1: >>>> | AS1: VXM-TT | AT1: Gạch vỡ-TT | AU1: Cấp phối VXM50 | AV1: Xi_CP | AW1: Cát_CP | AX1: Nước_CP | AY1: Xi_GV_TT | AZ1: Cát_GV_TT | BA1: Gạch_GV_TT | BB1: Nước_GV_TT | BC1: Xi_GV_NT | BD1: Cát_GV_NT | BE1: Gạch_GV_NT | BF1: Nước_GV_NT
A2: 1 | C2: VLBT1 | D2: =VLOOKUP($C2,TUANBV,2,0) -> Vật liệu trước khi đổ bê tông lót móng | E2: =VLOOKUP($C2,TUANBV,3,0) -> Nhà tiểu học 3 phòng | F2: =VLOOKUP($C2,TUANBV,4,0) -> Điểm TĐC Pom Chốn | G2: =VLOOKUP($C2,TUANBV,5,0) -> 2/VLTH3PC | H2: =VLOOKUP($C2,TUANBV,6,0) -> 2/VLTH3PC | I2: =VLOOKUP($C2,TUANBV,7,0) -> 18 | J2: =VLOOKUP($C2,TUANBV,8,0) -> 08 | K2: =VLOOKUP($C2,TUANBV,9,0) -> 41869 | L2: =VLOOKUP($C2,TUANBV,10,0) -> 08 giờ 00 | M2: =VLOOKUP($C2,TUANBV,11,0) -> 09 giờ 00 | N2: =VLOOKUP($C2,TUANBV,12,0) -> 19 | O2: =VLOOKUP($C2,TUANBV,13,0) -> 08 | P2: =VLOOKUP($C2,TUANBV,14,0) -> 41870 | Q2: =VLOOKUP($C2,TUANBV,15,0) -> Nguyễn Xuân Quỳnh | R2: =VLOOKUP($C2,TUANBV,16,0) -> Lê Văn Thái | S2: =VLOOKUP($A2,BANGBT,2,0) -> The Vissai PCB30 | T2: =VLOOKUP($A2,BANGBT,3,0) -> vàng bê tông | U2: =VLOOKUP($A2,BANGBT,4,0) -> Đá 4x6cm | V2: =VLOOKUP($A2,BANGBT,5,0) -> Shengly | W2: =VLOOKUP($A2,BANGBT,6,0) -> 8.63 | X2: 8,17 | Y2: =VLOOKUP($A2,BANGBT,7,0) -> Bê tông mác 100# | Z2: =VLOOKUP($Y2,CPBT,2,0) -> 187 | AA2: =VLOOKUP($Y2,CPBT,3,0) -> 0.502 | AB2: =VLOOKUP($Y2,CPBT,4,0) -> 0.898 | AC2: =VLOOKUP($Y2,CPBT,5,0) -> 175 | AE2: 1.527,79 | AF2: 4,1 | AG2: 7,34 | AH2: 1.429,75 | AI2: 0 | AJ2: =ROUND($W2*Z2,2) -> 1613.81 | AK2: =ROUND($W2*AA2,2) -> 4.33 | AL2: =ROUND($W2*AB2,2) -> 7.75 | AM2: =ROUND($W2*AC2,2) -> 1510.25 | AN2: =VLOOKUP($A2,BANGBT,8,0) -> 0
A3: 2 | C3: VLBT2 | D3: =VLOOKUP($C3,TUANBV,2,0) -> Vật liệu trước khi đổ bê tông giằng móng | E3: =VLOOKUP($C3,TUANBV,3,0) -> Nhà tiểu học 3 phòng | F3: =VLOOKUP($C3,TUANBV,4,0) -> Điểm TĐC Pom Chốn | G3: =VLOOKUP($C3,TUANBV,5,0) -> 4/VLTH3PC | H3: =VLOOKUP($C3,TUANBV,6,0) -> 4/VLTH3PC | I3: =VLOOKUP($C3,TUANBV,7,0) -> 26 | J3: =VLOOKUP($C3,TUANBV,8,0) -> 08 | K3: =VLOOKUP($C3,TUANBV,9,0) -> 41877 | L3: =VLOOKUP($C3,TUANBV,10,0) -> 08 giờ 00 | M3: =VLOOKUP($C3,TUANBV,11,0) -> 09 giờ 00 | N3: =VLOOKUP($C3,TUANBV,12,0) -> 27 | O3: =VLOOKUP($C3,TUANBV,13,0) -> 08 | P3: =VLOOKUP($C3,TUANBV,14,0) -> 41878 | Q3: =VLOOKUP($C3,TUANBV,15,0) -> Nguyễn Xuân Quỳnh | R3: =VLOOKUP($C3,TUANBV,16,0) -> Lê Văn Thái | S3: =VLOOKUP($A3,BANGBT,2,0) -> The Vissai PCB30 | T3: =VLOOKUP($A3,BANGBT,3,0) -> vàng bê tông | U3: =VLOOKUP($A3,BANGBT,4,0) -> Đá 1x2cm | V3: =VLOOKUP($A3,BANGBT,5,0) -> Shengly | W3: =VLOOKUP($A3,BANGBT,6,0) -> 2.05 | X3: 0,72 | Y3: =VLOOKUP($A3,BANGBT,7,0) -> Bê tông mác 200# | Z3: =VLOOKUP($Y3,CPBT,2,0) -> 341 | AA3: =VLOOKUP($Y3,CPBT,3,0) -> 0.45 | AB3: =VLOOKUP($Y3,CPBT,4,0) -> 0.866 | AC3: =VLOOKUP($Y3,CPBT,5,0) -> 195 | AE3: 245,52 | AF3: 0,32 | AG3: 0,62 | AH3: 140,40 | AI3: 122,08 | AJ3: =ROUND($W3*Z3,2) -> 699.05 | AK3: =ROUND($W3*AA3,2) -> 0.92 | AL3: =ROUND($W3*AB3,2) -> 1.78 | AM3: =ROUND($W3*AC3,2) -> 399.75 | AN3: =VLOOKUP($A3,BANGBT,8,0) -> 197.32
A4: 3 | C4: VLBT3 | D4: =VLOOKUP($C4,TUANBV,2,0) -> Vật liệu trước khi đổ bê tông lanh tô cửa sổ và cửa đi | E4: =VLOOKUP($C4,TUANBV,3,0) -> Nhà tiểu học 3 phòng | F4: =VLOOKUP($C4,TUANBV,4,0) -> Điểm TĐC Pom Chốn | G4: =VLOOKUP($C4,TUANBV,5,0) -> 6/VLTH3PC | H4: =VLOOKUP($C4,TUANBV,6,0) -> 6/VLTH3PC | I4: =VLOOKUP($C4,TUANBV,7,0) -> ….. | J4: =VLOOKUP($C4,TUANBV,8,0) -> ….. | K4: =VLOOKUP($C4,TUANBV,9,0) -> -1 | L4: =VLOOKUP($C4,TUANBV,10,0) -> …..giờ….. | M4: =VLOOKUP($C4,TUANBV,11,0) -> …..giờ….. | N4: =VLOOKUP($C4,TUANBV,12,0) -> ….. | O4: =VLOOKUP($C4,TUANBV,13,0) -> ….. | P4: =VLOOKUP($C4,TUANBV,14,0) -> 0 | Q4: =VLOOKUP($C4,TUANBV,15,0) -> Nguyễn Xuân Quỳnh | R4: =VLOOKUP($C4,TUANBV,16,0) -> Lê Văn Thái | S4: =VLOOKUP($A4,BANGBT,2,0) -> The Vissai PCB30 | T4: =VLOOKUP($A4,BANGBT,3,0) -> vàng bê tông | U4: =VLOOKUP($A4,BANGBT,4,0) -> Đá 1x2cm | V4: =VLOOKUP($A4,BANGBT,5,0) -> Shengly | W4: =VLOOKUP($A4,BANGBT,6,0) -> 0.78 | X4: 1,09 | Y4: =VLOOKUP($A4,BANGBT,7,0) -> Bê tông mác 200# | Z4: =VLOOKUP($Y4,CPBT,2,0) -> 341 | AA4: =VLOOKUP($Y4,CPBT,3,0) -> 0.45 | AB4: =VLOOKUP($Y4,CPBT,4,0) -> 0.866 | AC4: =VLOOKUP($Y4,CPBT,5,0) -> 195 | AE4: 371,69 | AF4: 0,49 | AG4: 0,94 | AH4: 212,55 | AI4: 142,56 | AJ4: =ROUND($W4*Z4,2) -> 265.98 | AK4: =ROUND($W4*AA4,2) -> 0.35 | AL4: =ROUND($W4*AB4,2) -> 0.68 | AM4: =ROUND($W4*AC4,2) -> 152.1 | AN4: =VLOOKUP($A4,BANGBT,8,0) -> 60
A5: 4 | C5: VLBT4 | D5: =VLOOKUP($C5,TUANBV,2,0) -> Vật liệu trước khi đổ bê tông dầm D1, D2, D3, D4, D4A, D4B, bê tông sàn, sê nô thu nước | E5: =VLOOKUP($C5,TUANBV,3,0) -> Nhà tiểu học 3 phòng | F5: =VLOOKUP($C5,TUANBV,4,0) -> Điểm TĐC Pom Chốn | G5: =VLOOKUP($C5,TUANBV,5,0) -> 8/VLTH3PC | H5: =VLOOKUP($C5,TUANBV,6,0) -> 8/VLTH3PC | I5: =VLOOKUP($C5,TUANBV,7,0) -> ….. | J5: =VLOOKUP($C5,TUANBV,8,0) -> ….. | K5: =VLOOKUP($C5,TUANBV,9,0) -> -1 | L5: =VLOOKUP($C5,TUANBV,10,0) -> …..giờ….. | M5: =VLOOKUP($C5,TUANBV,11,0) -> …..giờ….. | N5: =VLOOKUP($C5,TUANBV,12,0) -> ….. | O5: =VLOOKUP($C5,TUANBV,13,0) -> ….. | P5: =VLOOKUP($C5,TUANBV,14,0) -> 0 | Q5: =VLOOKUP($C5,TUANBV,15,0) -> Nguyễn Xuân Quỳnh | R5: =VLOOKUP($C5,TUANBV,16,0) -> Lê Văn Thái | S5: =VLOOKUP($A5,BANGBT,2,0) -> The Vissai PCB30 | T5: =VLOOKUP($A5,BANGBT,3,0) -> vàng bê tông | U5: =VLOOKUP($A5,BANGBT,4,0) -> Đá 1x2cm | V5: =VLOOKUP($A5,BANGBT,5,0) -> Shengly | W5: =VLOOKUP($A5,BANGBT,6,0) -> 23.98 | X5: 2,01 | Y5: =VLOOKUP($A5,BANGBT,7,0) -> Bê tông mác 200# | Z5: =VLOOKUP($Y5,CPBT,2,0) -> 341 | AA5: =VLOOKUP($Y5,CPBT,3,0) -> 0.45 | AB5: =VLOOKUP($Y5,CPBT,4,0) -> 0.866 | AC5: =VLOOKUP($Y5,CPBT,5,0) -> 195 | AE5: 685,41 | AF5: 0,9 | AG5: 1,74 | AH5: 391,95 | AI5: 225,09 | AJ5: =ROUND($W5*Z5,2) -> 8177.18 | AK5: =ROUND($W5*AA5,2) -> 10.79 | AL5: =ROUND($W5*AB5,2) -> 20.77 | AM5: =ROUND($W5*AC5,2) -> 4676.1 | AN5: =VLOOKUP($A5,BANGBT,8,0) -> 2090 | AP5: 0.538 | AQ5: 0.893 | AS5: =W5*AP5 -> 12.90124 | AT5: =W5*AQ5 -> 21.41414 | AV5: 230.02 | AW5: 1.12 | AX5: 260 | AY5: =ROUND(AS5*AV5,2) -> 2967.54 | AZ5: =ROUND(AS5*AW5,2) -> 14.45 | BA5: =ROUND(AT5,2) -> 21.41 | BB5: =ROUND(AX5*AS5,2) -> 3354.32 | BC5: 1.206,57 | BD5: 5,87 | BE5: 8,71 | BF5: 1.363,83
