Workbook
Name BANGBT: DATA!$B$3:$N$17
Name BANGXAY: DATA!$B$20:$N$29
Name CBBT: '5.CBBT'!$A$2:$AC$1027
Name CDT: 'List - Nha'!$Q:$Q
Name CGĐ: '8.CGĐ'!$A$2:$R$21
Name CPBT: CPBT!$B$2:$K$31
Name CVCDT: DATA!$C$40
Name CVDVTC: DATA!$G$40
Name CVGS: DATA!$E$40
Name CVTNV: DATA!$I$40
Name DIEMTDC: 'List - Nha'!$F$3:$F$1480
Name DONVI: '9.1.LMVX'!$AC:$AC
Name DVTC: 'List - Nha'!$R:$R
Name GSBT: '6.GSBT'!$A$2:$AD$705
Name LIST_NHA: 'List - Nha'!$A$1:$R$1034
Name LMBT: '7.1.TVK'!$A$2:$R$1543
Name LMBT: '7.LMBT'!$A$2:$AC$1543
Name LMBT2PTX: '[1]7.LMBT'!$A$2:$AC$141
Name LMVXM2PPC: '9.1.LMVX'!$A$2:$AA$108
Name lmvxm2ptx: #REF!
Name LMVXM60TX: '[2]9.1.LMVX'!$A$2:$AA$43
Name LMXAY: '9.1.LMVX'!$A$2:$AA$924
Name LOAIVLXAY: '9.1.LMVX'!$A$2:$AB$258
Name MH_CBBT: BBNT!#REF!
Name MH_CBBT: BBNT!#REF!
Name MH_GSBT: BBNT!#REF!
Name MH_GSBT: BBNT!#REF!
Name MH_LMBT: BBNT!#REF!
Name MH_LMBT: BBNT!#REF!
Name MH_NTBT: BBNT!#REF!
Name MH_NTBT: BBNT!#REF!
Name MH_NTCT: BBNT!#REF!
Name MH_NTCT: BBNT!#REF!
Name MH_NTVK: BBNT!#REF!
Name MH_NTVK: BBNT!#REF!
Name MH_VLDV: BBNT!#REF!
Name MH_VLDV: BBNT!#REF!
Name MHCBBT: BBNT!$E$2
Name MHCT: BBNT!$C$2
Name MHGSBT: BBNT!$F$2
Name MHLMBT: BBNT!$G$2
Name MHNTBT: BBNT!$I$2
Name MHTVK: BBNT!$H$2
Name MHVK: BBNT!$D$2
Name MHVL: BBNT!$B$2
Name NTBT: '8.CGĐ'!$A$2:$R$926
Name NTBT: '8.NTBT'!$A$2:$R$926
Name NTCT: '3.CT'!$A$2:$R$433
Name NTCVKHAC: '9.3. NTCV.KHAC'!$A$2:$R$429
Name NTVK: '4.VK'!$A$2:$R$151
Name NTXAY: '9.2.XAY'!$A$2:$R$615
Name NVH100M2: '1.DAO MONG'!$C$1:$P$24
Name NVH100M2: '2.VL'!$C$1:$P$32
Name NVH100M2: '3.CT'!$C$1:$P$24
Name NVH100M2: '4.VK'!$C$1:$P$24
Name NVH100M2: '5.CBBT'!$C$1:$P$24
Name NVH100M2: '6.GSBT'!$C$1:$P$24
Name NVH100M2: '7.1.TVK'!$C$1:$P$24
Name NVH100M2: '7.LMBT'!$C$1:$P$24
Name NVH100M2: '8.CGĐ'!$C$1:$P$24

Sheet List - Nha
A1: STT | B1: SHBB | C1: NT | D1: Nội dung công việc | E1: Vị trí | F1: Điểm TĐC | G1: Số hiệu PYC | H1: Số hiệu NTCV | I1: DATE PYC | J1: MONTH PYC | K1: Ngày PYC | L1: H-START | M1: H-END | N1: DATE NTCV | O1: MONTH NTCV | P1: Ngày NTCV | Q1: CĐT | R1: ĐVTC | T1: MỤC | U1: ĐIỂM TĐC
C2: 1 | D2: 2 | E2: 3 | F2: 4 | G2: 5 | H2: 6 | I2: 7 | J2: 8 | K2: 9 | L2: 10 | M2: 11 | N2: 12 | O2: 13 | P2: 14 | Q2: 15 | R2: 16
A3: 1 | B3: DMTH3PC | C3: NTCV1 | D3: Đào hố móng | E3: Nhà tiểu học 3 phòng | F3: Điểm TĐC Pom Chốn | G3: =A3&"/"&B3 -> 1/DMTH3PC | H3: =A3&"/"&B3 -> 1/DMTH3PC | I3: =TEXT(DAY(K3),"00") -> 18 | J3: =TEXT(MONTH(K3),"00") -> 08 | K3: =P3-1 -> 41869 | L3: 08 giờ 00 | M3: 09 giờ 00 | N3: =TEXT(DAY(P3),"00") -> 19 | O3: =TEXT(MONTH(P3),"00") -> 08 | P3: 41870 | Q3: Nguyễn Xuân Quỳnh | R3: Lê Văn Thái | T3: ="Mục : "&E3 -> Mục : Nhà tiểu học 3 phòng | U3: =F3 -> Điểm TĐC Pom Chốn
A4: =A3+1 -> 2 | B4: VLTH3PC | C4: VLBT1 | D4: Vật liệu trước khi đổ bê tông lót móng | E4: Nhà tiểu học 3 phòng | F4: Điểm TĐC Pom Chốn | G4: =A4&"/"&B4 -> 2/VLTH3PC | H4: =A4&"/"&B4 -> 2/VLTH3PC | I4: =TEXT(DAY(K4),"00") -> 18 | J4: =TEXT(MONTH(K4),"00") -> 08 | K4: =P4-1 -> 41869 | L4: 08 giờ 00 | M4: 09 giờ 00 | N4: =TEXT(DAY(P4),"00") -> 19 | O4: =TEXT(MONTH(P4),"00") -> 08 | P4: =P3 -> 41870 | Q4: Nguyễn Xuân Quỳnh | R4: Lê Văn Thái
A5: =A4 -> 2 | B5: VKTH3PC | C5: VKBT1 | D5: Nghiệm thu công tác lắp dựng ván khuôn bê tông lót móng | E5: Nhà tiểu học 3 phòng | F5: Điểm TĐC Pom Chốn | G5: =A5&"/"&B5 -> 2/VKTH3PC | H5: =A5&"/"&B5 -> 2/VKTH3PC | I5: =TEXT(DAY(K5),"00") -> 18 | J5: =TEXT(MONTH(K5),"00") -> 08 | K5: =P5-1 -> 41869 | L5: 09 giờ 00 | M5: 10 giờ 00 | N5: =TEXT(DAY(P5),"00") -> 19 | O5: =TEXT(MONTH(P5),"00") -> 08 | P5: =P4 -> 41870 | Q5: Nguyễn Xuân Quỳnh | R5: Lê Văn Thái
A6: =A5 -> 2 | B6: CBTH3PC | C6: CBBT1 | D6: Kiểm tra công tác chuẩn bị đổ bê tông lót móng | E6: Nhà tiểu học 3 phòng | F6: Điểm TĐC Pom Chốn | G6: =A6&"/"&B6 -> 2/CBTH3PC | H6: =A6&"/"&B6 -> 2/CBTH3PC | I6: =TEXT(DAY(K6),"00") -> 18 | J6: =TEXT(MONTH(K6),"00") -> 08 | K6: =P6-1 -> 41869 | L6: 10 giờ 00 | M6: 11 giờ 00 | N6: =TEXT(DAY(P6),"00") -> 19 | O6: =TEXT(MONTH(P6),"00") -> 08 | P6: =P5 -> 41870 | Q6: Nguyễn Xuân Quỳnh | R6: Lê Văn Thái
A7: =A6 -> 2 | B7: GSTH3PC | C7: GSBT1 | D7: Giám sát quá trình đổ bê tông lót móng | E7: Nhà tiểu học 3 phòng | F7: Điểm TĐC Pom Chốn | G7: =A7&"/"&B7 -> 2/GSTH3PC | H7: =A7&"/"&B7 -> 2/GSTH3PC | I7: =TEXT(DAY(K7),"00") -> 18 | J7: =TEXT(MONTH(K7),"00") -> 08 | K7: =P7-1 -> 41869 | L7: 14 giờ 00 | M7: 16 giờ 00 | N7: =TEXT(DAY(P7),"00") -> 19 | O7: =TEXT(MONTH(P7),"00") -> 08 | P7: =P6 -> 41870 | Q7: Nguyễn Xuân Quỳnh | R7: Lê Văn Thái
A8: =A7 -> 2 | B8: LMTH3PC | C8: LMBT1 | D8: Lấy mẫu bê tông lót móng | E8: Nhà tiểu học 3 phòng | F8: Điểm TĐC Pom Chốn | G8: =A8&"/"&B8 -> 2/LMTH3PC | H8: =A8&"/"&B8 -> 2/LMTH3PC | I8: =TEXT(DAY(K8),"00") -> 18 | J8: =TEXT(MONTH(K8),"00") -> 08 | K8: =P8-1 -> 41869 | L8: 14 giờ 00 | M8: 16 giờ 00 | N8: =TEXT(DAY(P8),"00") -> 19 | O8: =TEXT(MONTH(P8),"00") -> 08 | P8: =P7 -> 41870 | Q8: Nguyễn Xuân Quỳnh | R8: Lê Văn Thái
A9: =A8 -> 2 | B9: TVKTH3PC | C9: TVK1 | D9: Nghiệm thu công tác tháo ván khuôn bê tông lót móng | E9: Nhà tiểu học 3 phòng | F9: Điểm TĐC Pom Chốn | G9: =A9&"/"&B9 -> 2/TVKTH3PC | H9: =A9&"/"&B9 -> 2/TVKTH3PC | I9: =TEXT(DAY(K9),"00") -> 21 | J9: =TEXT(MONTH(K9),"00") -> 08 | K9: =P9-1 -> 41872 | L9: 08 giờ 00 | M9: 09 giờ 00 | N9: =TEXT(DAY(P9),"00") -> 22 | O9: =TEXT(MONTH(P9),"00") -> 08 | P9: =P8+3 -> 41873 | Q9: Nguyễn Xuân Quỳnh | R9: Lê Văn Thái
A10: =A9 -> 2 | B10: BTTH3PC | C10: NTBT1 | D10: Nghiệm thu bê tông lót móng | E10: Nhà tiểu học 3 phòng | F10: Điểm TĐC Pom Chốn | G10: =A10&"/"&B10 -> 2/BTTH3PC | H10: =A10&"/"&B10 -> 2/BTTH3PC | I10: =TEXT(DAY(K10),"00") -> 15 | J10: =TEXT(MONTH(K10),"00") -> 09 | K10: =P10-1 -> 41897 | L10: 08 giờ 00 | M10: 09 giờ 00 | N10: =TEXT(DAY(P10),"00") -> 16 | O10: =TEXT(MONTH(P10),"00") -> 09 | P10: =P8+28 -> 41898 | Q10: Nguyễn Xuân Quỳnh | R10: Lê Văn Thái
A11: =A10+1 -> 3 | B11: VLTH3PC | C11: VLXAY1 | D11: Vật liệu trước khi xây móng đá hộc | E11: Nhà tiểu học 3 phòng | F11: Điểm TĐC Pom Chốn | G11: =A11&"/"&B11 -> 3/VLTH3PC | H11: =A11&"/"&B11 -> 3/VLTH3PC | I11: =TEXT(DAY(K11),"00") -> 22 | J11: =TEXT(MONTH(K11),"00") -> 08 | K11: =P11-1 -> 41873 | L11: 08 giờ 00 | M11: 09 giờ 00 | N11: =TEXT(DAY(P11),"00") -> 23 | O11: =TEXT(MONTH(P11),"00") -> 08 | P11: =P9+1 -> 41874 | Q11: Nguyễn Xuân Quỳnh | R11: Lê Văn Thái
A12: =A11 -> 3 | B12: LMTH3PC | C12: LMXAY1 | D12: Lấy mẫu vữa xi măng xây móng đá hộc | E12: Nhà tiểu học 3 phòng | F12: Điểm TĐC Pom Chốn | G12: =A12&"/"&B12 -> 3/LMTH3PC | H12: =A12&"/"&B12 -> 3/LMTH3PC | I12: =TEXT(DAY(K12),"00") -> 23 | J12: =TEXT(MONTH(K12),"00") -> 08 | K12: =P12-1 -> 41874 | L12: 09 giờ 00 | M12: 10 giờ 00 | N12: =TEXT(DAY(P12),"00") -> 24 | O12: =TEXT(MONTH(P12),"00") -> 08 | P12: =P11+1 -> 41875 | Q12: Nguyễn Xuân Quỳnh | R12: Lê Văn Thái
A13: =A12 -> 3 | B13: XAYTH3PC | C13: XAY1 | D13: Xây móng nhà bằng đá hộc, vữa xi măng mác 75# | E13: Nhà tiểu học 3 phòng | F13: Điểm TĐC Pom Chốn | G13: =A13&"/"&B13 -> 3/XAYTH3PC | H13: =A13&"/"&B13 -> 3/XAYTH3PC | I13: =TEXT(DAY(K13),"00") -> 25 | J13: =TEXT(MONTH(K13),"00") -> 08 | K13: =P13-1 -> 41876 | L13: 16 giờ 00 | M13: 17 giờ 00 | N13: =TEXT(DAY(P13),"00") -> 26 | O13: =TEXT(MONTH(P13),"00") -> 08 | P13: 41877 | Q13: Nguyễn Xuân Quỳnh | R13: Lê Văn Thái
A14: =A13+1 -> 4 | B14: VLTH3PC | C14: VLBT2 | D14: Vật liệu trước khi đổ bê tông giằng móng | E14: Nhà tiểu học 3 phòng | F14: Điểm TĐC Pom Chốn | G14: =A14&"/"&B14 -> 4/VLTH3PC | H14: =A14&"/"&B14 -> 4/VLTH3PC | I14: =TEXT(DAY(K14),"00") -> 26 | J14: =TEXT(MONTH(K14),"00") -> 08 | K14: =P14-1 -> 41877 | L14: 08 giờ 00 | M14: 09 giờ 00 | N14: =TEXT(DAY(P14),"00") -> 27 | O14: =TEXT(MONTH(P14),"00") -> 08 | P14: 41878 | Q14: Nguyễn Xuân Quỳnh | R14: Lê Văn Thái
A15: =A14 -> 4 | B15: VKTH3PC | C15: VKBT2 | D15: Nghiệm thu ván khuôn bê tông giằng móng | E15: Nhà tiểu học 3 phòng | F15: Điểm TĐC Pom Chốn | G15: =A15&"/"&B15 -> 4/VKTH3PC | H15: =A15&"/"&B15 -> 4/VKTH3PC | I15: =TEXT(DAY(K15),"00") -> 26 | J15: =TEXT(MONTH(K15),"00") -> 08 | K15: =P15-1 -> 41877 | L15: 08 giờ 00 | M15: 09 giờ 00 | N15: =TEXT(DAY(P15),"00") -> 27 | O15: =TEXT(MONTH(P15),"00") -> 08 | P15: =P14 -> 41878 | Q15: Nguyễn Xuân Quỳnh | R15: Lê Văn Thái
A16: =A15 -> 4 | B16: CTTH3PC | C16: CTBT2 | D16: Nghiệm thu cốt thép giằng móng | E16: Nhà tiểu học 3 phòng | F16: Điểm TĐC Pom Chốn | G16: =A16&"/"&B16 -> 4/CTTH3PC | H16: =A16&"/"&B16 -> 4/CTTH3PC | I16: =TEXT(DAY(K16),"00") -> 26 | J16: =TEXT(MONTH(K16),"00") -> 08 | K16: =P16-1 -> 41877 | L16: 09 giờ 00 | M16: 10 giờ 00 | N16: =TEXT(DAY(P16),"00") -> 27 | O16: =TEXT(MONTH(P16),"00") -> 08 | P16: =P15 -> 41878 | Q16: Nguyễn Xuân Quỳnh | R16: Lê Văn Thái
A17: =A16 -> 4 | B17: CBTH3PC | C17: CBBT2 | D17: Kiểm tra công tác chuẩn bị đổ bê tông giằng móng | E17: Nhà tiểu học 3 phòng | F17: Điểm TĐC Pom Chốn | G17: =A17&"/"&B17 -> 4/CBTH3PC | H17: =A17&"/"&B17 -> 4/CBTH3PC | I17: =TEXT(DAY(K17),"00") -> 26 | J17: =TEXT(MONTH(K17),"00") -> 08 | K17: =P17-1 -> 41877 | L17: 10 giờ 00 | M17: 11 giờ 00 | N17: =TEXT(DAY(P17),"00") -> 27 | O17: =TEXT(MONTH(P17),"00") -> 08 | P17: =P16 -> 41878 | Q17: Nguyễn Xuân Quỳnh | R17: Lê Văn Thái
A18: =A17 -> 4 | B18: GSTH3PC | C18: GSBT2 | D18: Giám sát quá trình đổ bê tông giằng móng | E18: Nhà tiểu học 3 phòng | F18: Điểm TĐC Pom Chốn | G18: =A18&"/"&B18 -> 4/GSTH3PC | H18: =A18&"/"&B18 -> 4/GSTH3PC | I18: =TEXT(DAY(K18),"00") -> 26 | J18: =TEXT(MONTH(K18),"00") -> 08 | K18: =P18-1 -> 41877 | L18: 14 giờ 00 | M18: 16 giờ 00 | N18: =TEXT(DAY(P18),"00") -> 27 | O18: =TEXT(MONTH(P18),"00") -> 08 | P18: =P17 -> 41878 | Q18: Nguyễn Xuân Quỳnh | R18: Lê Văn Thái
A19: =A18 -> 4 | B19: LMTH3PC | C19: LMBT2 | D19: Lấy mẫu bê tông giằng móng | E19: Nhà tiểu học 3 phòng | F19: Điểm TĐC Pom Chốn | G19: =A19&"/"&B19 -> 4/LMTH3PC | H19: =A19&"/"&B19 -> 4/LMTH3PC | I19: =TEXT(DAY(K19),"00") -> 26 | J19: =TEXT(MONTH(K19),"00") -> 08 | K19: =P19-1 -> 41877 | L19: 14 giờ 00 | M19: 16 giờ 00 | N19: =TEXT(DAY(P19),"00") -> 27 | O19: =TEXT(MONTH(P19),"00") -> 08 | P19: =P18 -> 41878 | Q19: Nguyễn Xuân Quỳnh | R19: Lê Văn Thái
A20: =A19 -> 4 | B20: TVKTH3PC | C20: TVK2 | D20: Nghiệm thu bê tông giằng móng sau khi tháo ván khuôn | E20: Nhà tiểu học 3 phòng | F20: Điểm TĐC Pom Chốn | G20: =A20&"/"&B20 -> 4/TVKTH3PC | H20: =A20&"/"&B20 -> 4/TVKTH3PC | I20: =TEXT(DAY(K20),"00") -> 29 | J20: =TEXT(MONTH(K20),"00") -> 08 | K20: =P20-1 -> 41880 | L20: 08 giờ 00 | M20: 09 giờ 00 | N20: =TEXT(DAY(P20),"00") -> 30 | O20: =TEXT(MONTH(P20),"00") -> 08 | P20: =P19+3 -> 41881 | Q20: Nguyễn Xuân Quỳnh | R20: Lê Văn Thái
A21: =A20 -> 4 | B21: BTTH3PC | C21: NTBT2 | D21: Nghiệm thu bê tông giằng móng | E21: Nhà tiểu học 3 phòng | F21: Điểm TĐC Pom Chốn | G21: =A21&"/"&B21 -> 4/BTTH3PC | H21: =A21&"/"&B21 -> 4/BTTH3PC | I21: =TEXT(DAY(K21),"00") -> 23 | J21: =TEXT(MONTH(K21),"00") -> 09 | K21: =P21-1 -> 41905 | L21: 08 giờ 00 | M21: 09 giờ 00 | N21: =TEXT(DAY(P21),"00") -> 24 | O21: =TEXT(MONTH(P21),"00") -> 09 | P21: =P19+28 -> 41906 | Q21: Nguyễn Xuân Quỳnh | R21: Lê Văn Thái
A22: 1 | B22: HTMONG | C22: NTHT1 | D22: Nghiệm thu hoàn thành phần móng | E22: Nhà tiểu học 3 phòng | F22: Điểm TĐC Pom Chốn | G22: =A22&"/"&B22 -> 1/HTMONG | H22: =A22&"/"&B22 -> 1/HTMONG | I22: =TEXT(DAY(K22),"00") -> 23 | J22: =TEXT(MONTH(K22),"00") -> 09 | K22: =P22-1 -> 41905 | L22: 10 giờ 00 | M22: 11 giờ 00 | N22: =TEXT(DAY(P22),"00") -> 24 | O22: =TEXT(MONTH(P22),"00") -> 09 | P22: =P21 -> 41906 | Q22: Nguyễn Xuân Quỳnh | R22: Lê Văn Thái
A23: =A21+1 -> 5 | B23: VLTH3PC | C23: VLXAY2 | D23: Vật liệu trước khi xây tường, xây cột (từ cốt 0.00 đến cốt lanh tô) | E23: Nhà tiểu học 3 phòng | F23: Điểm TĐC Pom Chốn | G23: =A23&"/"&B23 -> 5/VLTH3PC | H23: =A23&"/"&B23 -> 5/VLTH3PC | I23: ….. | J23: ….. | K23: =P23-1 -> -1 | L23: …..giờ….. | M23: …..giờ….. | N23: ….. | O23: ….. | Q23: Nguyễn Xuân Quỳnh | R23: Lê Văn Thái
A24: =A23 -> 5 | B24: LMTH3PC | C24: LMXAY2 | D24: Lấy mẫu vữa xi măng xây tường, xây cột, mác 50# (từ cốt 0.00 đến cốt lanh tô) | E24: Nhà tiểu học 3 phòng | F24: Điểm TĐC Pom Chốn | G24: =A24&"/"&B24 -> 5/LMTH3PC | H24: =A24&"/"&B24 -> 5/LMTH3PC | I24: ….. | J24: ….. | K24: =P24-1 -> -1 | L24: …..giờ….. | M24: …..giờ….. | N24: ….. | O24: ….. | Q24: Nguyễn Xuân Quỳnh | R24: Lê Văn Thái
A25: =A24 -> 5 | B25: XAYTH3PC | C25: XAY2 | D25: Nghiệm thu công tác xây tường nhà bằng gạch chỉ đặc, vữa xi măng mác 50# (từ cốt 0.00 đến cốt lanh tô) | E25: Nhà tiểu học 3 phòng | F25: Điểm TĐC Pom Chốn | G25: =A25&"/"&B25 -> 5/XAYTH3PC | H25: =A25&"/"&B25 -> 5/XAYTH3PC | I25: ….. | J25: ….. | K25: =P25-1 -> -1 | L25: …..giờ….. | M25: …..giờ….. | N25: ….. | O25: ….. | Q25: Nguyễn Xuân Quỳnh | R25: Lê Văn Thái
A26: =A25+1 -> 6 | B26: VLTH3PC | C26: VLBT3 | D26: Vật liệu trước khi đổ bê tông lanh tô cửa sổ và cửa đi | E26: Nhà tiểu học 3 phòng | F26: Điểm TĐC Pom Chốn | G26: =A26&"/"&B26 -> 6/VLTH3PC | H26: =A26&"/"&B26 -> 6/VLTH3PC | I26: ….. | J26: ….. | K26: =P26-1 -> -1 | L26: …..giờ….. | M26: …..giờ….. | N26: ….. | O26: ….. | Q26: Nguyễn Xuân Quỳnh | R26: Lê Văn Thái
A27: =A26 -> 6 | B27: VKTH3PC | C27: VKBT3 | D27: Nghiệm thu công tác lắp dựng ván khuôn lanh tô cửa sổ và cửa đi | E27: Nhà tiểu học 3 phòng | F27: Điểm TĐC Pom Chốn | G27: =A27&"/"&B27 -> 6/VKTH3PC | H27: =A27&"/"&B27 -> 6/VKTH3PC | I27: ….. | J27: ….. | K27: =P27-1 -> -1 | L27: …..giờ….. | M27: …..giờ….. | N27: ….. | O27: ….. | Q27: Nguyễn Xuân Quỳnh | R27: Lê Văn Thái
A28: =A27 -> 6 | B28: CTTH3PC | C28: CTBT3 | D28: Nghiệm thu công tác lắp dựng cốt thép lanh tô cửa sổ và cửa đi | E28: Nhà tiểu học 3 phòng | F28: Điểm TĐC Pom Chốn | G28: =A28&"/"&B28 -> 6/CTTH3PC | H28: =A28&"/"&B28 -> 6/CTTH3PC | I28: ….. | J28: ….. | K28: =P28-1 -> -1 | L28: …..giờ….. | M28: …..giờ….. | N28: ….. | O28: ….. | Q28: Nguyễn Xuân Quỳnh | R28: Lê Văn Thái
A29: =A28 -> 6 | B29: CBTH3PC | C29: CBBT3 | D29: Kiểm tra công tác chuẩn bị trước khi đổ bê tông lanh tô cửa sổ và cửa đi | E29: Nhà tiểu học 3 phòng | F29: Điểm TĐC Pom Chốn | G29: =A29&"/"&B29 -> 6/CBTH3PC | H29: =A29&"/"&B29 -> 6/CBTH3PC | I29: ….. | J29: ….. | K29: =P29-1 -> -1 | L29: …..giờ….. | M29: …..giờ….. | N29: ….. | O29: ….. | Q29: Nguyễn Xuân Quỳnh | R29: Lê Văn Thái
A30: =A29 -> 6 | B30: GSTH3PC | C30: GSBT3 | D30: Giám sát quá trình đổ bê tông lanh tô cửa sổ và cửa đi | E30: Nhà tiểu học 3 phòng | F30: Điểm TĐC Pom Chốn | G30: =A30&"/"&B30 -> 6/GSTH3PC | H30: =A30&"/"&B30 -> 6/GSTH3PC | I30: ….. | J30: ….. | K30: =P30-1 -> -1 | L30: …..giờ….. | M30: …..giờ….. | N30: ….. | O30: ….. | Q30: Nguyễn Xuân Quỳnh | R30: Lê Văn Thái
A31: =A30 -> 6 | B31: LMTH3PC | C31: LMBT3 | D31: Lấy mẫu bê tông lanh tô cửa sổ và cửa đi | E31: Nhà tiểu học 3 phòng | F31: Điểm TĐC Pom Chốn | G31: =A31&"/"&B31 -> 6/LMTH3PC | H31: =A31&"/"&B31 -> 6/LMTH3PC | I31: ….. | J31: ….. | K31: =P31-1 -> -1 | L31: …..giờ….. | M31: …..giờ….. | N31: ….. | O31: ….. | Q31: Nguyễn Xuân Quỳnh | R31: Lê Văn Thái
A32: =A31 -> 6 | B32: BTTH3PC | C32: NTBT3 | D32: Nghiệm thu bê tông lanh tô cửa sổ và cửa đi | E32: Nhà tiểu học 3 phòng | F32: Điểm TĐC Pom Chốn | G32: =A32&"/"&B32 -> 6/BTTH3PC | H32: =A32&"/"&B32 -> 6/BTTH3PC | I32: ….. | J32: ….. | K32: =P32-1 -> -1 | L32: …..giờ….. | M32: …..giờ….. | N32: ….. | O32: ….. | Q32: Nguyễn Xuân Quỳnh | R32: Lê Văn Thái
A33: =A32+1 -> 7 | B33: VLTH3PC | C33: VLXAY3 | D33: Vật liệu trước khi xây tường, xây cột (từ cốt lanh tô đến cốt +3.60) | E33: Nhà tiểu học 3 phòng | F33: Điểm TĐC Pom Chốn | G33: =A33&"/"&B33 -> 7/VLTH3PC | H33: =A33&"/"&B33 -> 7/VLTH3PC | I33: ….. | J33: ….. | K33: =P33-1 -> -1 | L33: …..giờ….. | M33: …..giờ….. | N33: ….. | O33: ….. | Q33: Nguyễn Xuân Quỳnh | R33: Lê Văn Thái
A34: =A33 -> 7 | B34: LMTH3PC | C34: LMXAY3 | D34: Lấy mẫu vữa xi măng xây tường, xây cột, mác 50# (từ cốt lanh tô đến cốt +3.60) | E34: Nhà tiểu học 3 phòng | F34: Điểm TĐC Pom Chốn | G34: =A34&"/"&B34 -> 7/LMTH3PC | H34: =A34&"/"&B34 -> 7/LMTH3PC | I34: ….. | J34: ….. | K34: =P34-1 -> -1 | L34: …..giờ….. | M34: …..giờ….. | N34: ….. | O34: ….. | Q34: Nguyễn Xuân Quỳnh | R34: Lê Văn Thái
A35: =A34 -> 7 | B35: XAYTH3PC | C35: XAY3 | D35: Nghiệm thu công tác xây tường nhà bằng gạch chỉ đặc, vữa xi măng mác 50# (từ cốt lanh tô đến cốt +3.60) | E35: Nhà tiểu học 3 phòng | F35: Điểm TĐC Pom Chốn | G35: =A35&"/"&B35 -> 7/XAYTH3PC | H35: =A35&"/"&B35 -> 7/XAYTH3PC | I35: ….. | J35: ….. | K35: =P35-1 -> -1 | L35: …..giờ….. | M35: …..giờ….. | N35: ….. | O35: ….. | Q35: Nguyễn Xuân Quỳnh | R35: Lê Văn Thái
A36: =A35+1 -> 8 | B36: VLTH3PC | C36: VLBT4 | D36: Vật liệu trước khi đổ bê tông dầm D1, D2, D3, D4, D4A, D4B, bê tông sàn, sê nô thu nước | E36: Nhà tiểu học 3 phòng | F36: Điểm TĐC Pom Chốn | G36: =A36&"/"&B36 -> 8/VLTH3PC | H36: =A36&"/"&B36 -> 8/VLTH3PC | I36: ….. | J36: ….. | K36: =P36-1 -> -1 | L36: …..giờ….. | M36: …..giờ….. | N36: ….. | O36: ….. | Q36: Nguyễn Xuân Quỳnh | R36: Lê Văn Thái
A37: =A36 -> 8 | B37: VKTH3PC | C37: VKBT4 | D37: Nghiệm thu ván khuôn bê tông dầm D1, D2, D3, D4, D4A, D4B, bê tông sàn, sê nô thu nước | E37: Nhà tiểu học 3 phòng | F37: Điểm TĐC Pom Chốn | G37: =A37&"/"&B37 -> 8/VKTH3PC | H37: =A37&"/"&B37 -> 8/VKTH3PC | I37: ….. | J37: ….. | K37: =P37-1 -> -1 | L37: …..giờ….. | M37: …..giờ….. | N37: ….. | O37: ….. | Q37: Nguyễn Xuân Quỳnh | R37: Lê Văn Thái
A38: =A37 -> 8 | B38: CTTH3PC | C38: CTBT4 | D38: Nghiệm thu cốt thép dầm D1, D2, D3, D4, D4A, D4B, bê tông sàn, sê nô thu nước | E38: Nhà tiểu học 3 phòng | F38: Điểm TĐC Pom Chốn | G38: =A38&"/"&B38 -> 8/CTTH3PC | H38: =A38&"/"&B38 -> 8/CTTH3PC | I38: ….. | J38: ….. | K38: =P38-1 -> -1 | L38: …..giờ….. | M38: …..giờ….. | N38: ….. | O38: ….. | Q38: .......................................... | R38: Lê Văn Thái
A39: =A38 -> 8 | B39: CBTH3PC | C39: CBBT4 | D39: Kiểm tra công tác chuẩn bị đổ bê tông dầm D1, D2, D3, D4, D4A, D4B, bê tông sàn, sê nô thu nước | E39: Nhà tiểu học 3 phòng | F39: Điểm TĐC Pom Chốn | G39: =A39&"/"&B39 -> 8/CBTH3PC | H39: =A39&"/"&B39 -> 8/CBTH3PC | I39: ….. | J39: ….. | K39: =P39-1 -> -1 | L39: …..giờ….. | M39: …..giờ….. | N39: ….. | O39: ….. | Q39: .......................................... | R39: Lê Văn Thái
A40: =A39 -> 8 | B40: GSTH3PC | C40: GSBT4 | D40: Giám sát quá trình đổ bê tông dầm D1, D2, D3, D4, D4A, D4B, bê tông sàn, sê nô thu nước | E40: Nhà tiểu học 3 phòng | F40: Điểm TĐC Pom Chốn | G40: =A40&"/"&B40 -> 8/GSTH3PC | H40: =A40&"/"&B40 -> 8/GSTH3PC | I40: ….. | J40: ….. | K40: =P40-1 -> -1 | L40: …..giờ….. | M40: …..giờ….. | N40: ….. | O40: ….. | Q40: .......................................... | R40: Lê Văn Thái
A41: =A40 -> 8 | B41: LMTH3PC | C41: LMBT4 | D41: Lấy mẫu bê tông dầm D1, D2, D3, D4, D4A, D4B, bê tông sàn, sê nô thu nước | E41: Nhà tiểu học 3 phòng | F41: Điểm TĐC Pom Chốn | G41: =A41&"/"&B41 -> 8/LMTH3PC | H41: =A41&"/"&B41 -> 8/LMTH3PC | I41: ….. | J41: ….. | K41: =P41-1 -> -1 | L41: …..giờ….. | M41: …..giờ….. | N41: ….. | O41: ….. | Q41: .......................................... | R41: Lê Văn Thái
A42: =A41 -> 8 | B42: TVKTH3PC | C42: TVK4 | D42: Tháo ván khuôn bê tông dầm D1, D2, D3, D4, D4A, D4B, bê tông sàn, sê nô thu nước | E42: Nhà tiểu học 3 phòng | F42: Điểm TĐC Pom Chốn | G42: =A42&"/"&B42 -> 8/TVKTH3PC | H42: =A42&"/"&B42 -> 8/TVKTH3PC | I42: ….. | J42: ….. | K42: =P42-1 -> -1 | L42: …..giờ….. | M42: …..giờ….. | N42: ….. | O42: ….. | Q42: .......................................... | R42: Lê Văn Thái
A43: =A42 -> 8 | B43: BTTH3PC | C43: NTBT4 | D43: Nghiệm thu bê tông dầm D1, D2, D3, D4, D4A, D4B, bê tông sàn, sê nô thu nước | E43: Nhà tiểu học 3 phòng | F43: Điểm TĐC Pom Chốn | G43: =A43&"/"&B43 -> 8/BTTH3PC | H43: =A43&"/"&B43 -> 8/BTTH3PC | I43: ….. | J43: ….. | K43: =P43-1 -> -1 | L43: …..giờ….. | M43: …..giờ….. | N43: ….. | O43: ….. | Q43: .......................................... | R43: Lê Văn Thái
A44: =A43+1 -> 9 | B44: VLTH3PC | C44: VLXAY4 | D44: Vật liệu trước khi xây tường thu hồi, tường chắn mái | E44: Nhà tiểu học 3 phòng | F44: Điểm TĐC Pom Chốn | G44: =A44&"/"&B44 -> 9/VLTH3PC | H44: =A44&"/"&B44 -> 9/VLTH3PC | I44: ….. | J44: ….. | K44: =P44-1 -> -1 | L44: …..giờ….. | M44: …..giờ….. | N44: ….. | O44: ….. | Q44: .......................................... | R44: Lê Văn Thái
A45: =A44 -> 9 | B45: LMTH3PC | C45: LMXAY4 | D45: Lấy mẫu vữa xi măng mác 75#, xây tường thu hồi, tường chắn mái | E45: Nhà tiểu học 3 phòng | F45: Điểm TĐC Pom Chốn | G45: =A45&"/"&B45 -> 9/LMTH3PC | H45: =A45&"/"&B45 -> 9/LMTH3PC | I45: ….. | J45: ….. | K45: =P45-1 -> -1 | L45: …..giờ….. | M45: …..giờ….. | N45: ….. | O45: ….. | Q45: .......................................... | R45: Lê Văn Thái
A46: =A45 -> 9 | B46: XAYTH3PC | C46: XAY4 | D46: Nghiệm thu công tác xây tường thu hồi, tường chắn mái | E46: Nhà tiểu học 3 phòng | F46: Điểm TĐC Pom Chốn | G46: =A46&"/"&B46 -> 9/XAYTH3PC | H46: =A46&"/"&B46 -> 9/XAYTH3PC | I46: ….. | J46: ….. | K46: =P46-1 -> -1 | L46: …..giờ….. | M46: …..giờ….. | N46: ….. | O46: ….. | Q46: .......................................... | R46: Lê Văn Thái
A47: =A46+1 -> 10 | B47: VLTH3PC | C47: VLBT5 | D47: Vật liệu trước khi đổ bê tông giằng tường thu hồi | E47: Nhà tiểu học 3 phòng | F47: Điểm TĐC Pom Chốn | G47: =A47&"/"&B47 -> 10/VLTH3PC | H47: =A47&"/"&B47 -> 10/VLTH3PC | I47: ….. | J47: ….. | K47: =P47-1 -> -1 | L47: …..giờ….. | M47: …..giờ….. | N47: ….. | O47: ….. | Q47: .......................................... | R47: Lê Văn Thái
A48: =A47 -> 10 | B48: VKTH3PC | C48: VKBT5 | D48: Nghiệm thu ván khuôn bê tông giằng tường thu hồi | E48: Nhà tiểu học 3 phòng | F48: Điểm TĐC Pom Chốn | G48: =A48&"/"&B48 -> 10/VKTH3PC | H48: =A48&"/"&B48 -> 10/VKTH3PC | I48: ….. | J48: ….. | K48: =P48-1 -> -1 | L48: …..giờ….. | M48: …..giờ….. | N48: ….. | O48: ….. | Q48: .......................................... | R48: Lê Văn Thái
A49: =A48 -> 10 | B49: CTTH3PC | C49: CTBT5 | D49: Nghiệm thu cốt thép giằng tường thu hồi | E49: Nhà tiểu học 3 phòng | F49: Điểm TĐC Pom Chốn | G49: =A49&"/"&B49 -> 10/CTTH3PC | H49: =A49&"/"&B49 -> 10/CTTH3PC | I49: ….. | J49: ….. | K49: =P49-1 -> -1 | L49: …..giờ….. | M49: …..giờ….. | N49: ….. | O49: ….. | Q49: .......................................... | R49: Lê Văn Thái
A50: =A49 -> 10 | B50: CBTH3PC | C50: CBBT5 | D50: Kiểm tra công tác chuẩn bị đổ bê tông giằng tường thu hồi | E50: Nhà tiểu học 3 phòng | F50: Điểm TĐC Pom Chốn | G50: =A50&"/"&B50 -> 10/CBTH3PC | H50: =A50&"/"&B50 -> 10/CBTH3PC | I50: ….. | J50: ….. | K50: =P50-1 -> -1 | L50: …..giờ….. | M50: …..giờ….. | N50: ….. | O50: ….. | Q50: .......................................... | R50: Lê Văn Thái
A51: =A50 -> 10 | B51: GSTH3PC | C51: GSBT5 | D51: Giám sát quá trình đổ bê tông giằng tường thu hồi | E51: Nhà tiểu học 3 phòng | F51: Điểm TĐC Pom Chốn | G51: =A51&"/"&B51 -> 10/GSTH3PC | H51: =A51&"/"&B51 -> 10/GSTH3PC | I51: ….. | J51: ….. | K51: =P51-1 -> -1 | L51: …..giờ….. | M51: …..giờ….. | N51: ….. | O51: ….. | Q51: .......................................... | R51: Lê Văn Thái
A52: =A51 -> 10 | B52: LMTH3PC | C52: LMBT5 | D52: Lấy mẫu bê tông giằng tường thu hồi | E52: Nhà tiểu học 3 phòng | F52: Điểm TĐC Pom Chốn | G52: =A52&"/"&B52 -> 10/LMTH3PC | H52: =A52&"/"&B52 -> 10/LMTH3PC | I52: ….. | J52: ….. | K52: =P52-1 -> -1 | L52: …..giờ….. | M52: …..giờ….. | N52: ….. | O52: ….. | Q52: .......................................... | R52: Lê Văn Thái
A53: =A52 -> 10 | B53: TVKTH3PC | C53: TVK5 | D53: Nghiệm thu tháo ván khuôn bê tông giằng tường thu hồi | E53: Nhà tiểu học 3 phòng | F53: Điểm TĐC Pom Chốn | G53: =A53&"/"&B53 -> 10/TVKTH3PC | H53: =A53&"/"&B53 -> 10/TVKTH3PC | I53: ….. | J53: ….. | K53: =P53-1 -> -1 | L53: …..giờ….. | M53: …..giờ….. | N53: ….. | O53: ….. | Q53: .......................................... | R53: Lê Văn Thái
A54: =A53 -> 10 | B54: BTTH3PC | C54: NTBT5 | D54: Nghiệm thu bê tông giằng tường thu hồi | E54: Nhà tiểu học 3 phòng | F54: Điểm TĐC Pom Chốn | G54: =A54&"/"&B54 -> 10/BTTH3PC | H54: =A54&"/"&B54 -> 10/BTTH3PC | I54: ….. | J54: ….. | K54: =P54-1 -> -1 | L54: …..giờ….. | M54: …..giờ….. | N54: ….. | O54: ….. | Q54: .......................................... | R54: Lê Văn Thái
A55: =A54+1 -> 11 | B55: VLTH3PC | C55: VLBT6 | D55: Vật liệu trước khi đổ bê tông Lam trang trí | E55: Nhà tiểu học 3 phòng | F55: Điểm TĐC Pom Chốn | G55: =A55&"/"&B55 -> 11/VLTH3PC | H55: =A55&"/"&B55 -> 11/VLTH3PC | I55: ….. | J55: ….. | K55: =P55-1 -> -1 | L55: …..giờ….. | M55: …..giờ….. | N55: ….. | O55: ….. | Q55: .......................................... | R55: Lê Văn Thái
A56: =A55 -> 11 | B56: VKTH3PC | C56: VKBT6 | D56: Nghiệm thu ván khuôn bê tông Lam trang trí | E56: Nhà tiểu học 3 phòng | F56: Điểm TĐC Pom Chốn | G56: =A56&"/"&B56 -> 11/VKTH3PC | H56: =A56&"/"&B56 -> 11/VKTH3PC | I56: ….. | J56: ….. | K56: =P56-1 -> -1 | L56: …..giờ….. | M56: …..giờ….. | N56: ….. | O56: ….. | Q56: .......................................... | R56: Lê Văn Thái
A57: =A56 -> 11 | B57: CTTH3PC | C57: CTBT6 | D57: Nghiệm thu cốt thép Lam trang trí | E57: Nhà tiểu học 3 phòng | F57: Điểm TĐC Pom Chốn | G57: =A57&"/"&B57 -> 11/CTTH3PC | H57: =A57&"/"&B57 -> 11/CTTH3PC | I57: ….. | J57: ….. | K57: =P57-1 -> -1 | L57: …..giờ….. | M57: …..giờ….. | N57: ….. | O57: ….. | Q57: .......................................... | R57: Lê Văn Thái
A58: =A57 -> 11 | B58: CBTH3PC | C58: CBBT6 | D58: Kiểm tra công tác chuẩn bị đổ bê tông Lam trang trí | E58: Nhà tiểu học 3 phòng | F58: Điểm TĐC Pom Chốn | G58: =A58&"/"&B58 -> 11/CBTH3PC | H58: =A58&"/"&B58 -> 11/CBTH3PC | I58: ….. | J58: ….. | K58: =P58-1 -> -1 | L58: …..giờ….. | M58: …..giờ….. | N58: ….. | O58: ….. | Q58: .......................................... | R58: Lê Văn Thái
A59: =A58 -> 11 | B59: GSTH3PC | C59: GSBT6 | D59: Giám sát quá trình đổ bê tông Lam trang trí | E59: Nhà tiểu học 3 phòng | F59: Điểm TĐC Pom Chốn | G59: =A59&"/"&B59 -> 11/GSTH3PC | H59: =A59&"/"&B59 -> 11/GSTH3PC | I59: ….. | J59: ….. | K59: =P59-1 -> -1 | L59: …..giờ….. | M59: …..giờ….. | N59: ….. | O59: ….. | Q59: .......................................... | R59: Lê Văn Thái
A60: =A59 -> 11 | B60: LMTH3PC | C60: LMBT6 | D60: Lấy mẫu bê tông Lam trang trí | E60: Nhà tiểu học 3 phòng | F60: Điểm TĐC Pom Chốn | G60: =A60&"/"&B60 -> 11/LMTH3PC | H60: =A60&"/"&B60 -> 11/LMTH3PC | I60: ….. | J60: ….. | K60: =P60-1 -> -1 | L60: …..giờ….. | M60: …..giờ….. | N60: ….. | O60: ….. | Q60: .......................................... | R60: Lê Văn Thái
A61: =A60 -> 11 | B61: TVKTH3PC | C61: TVK6 | D61: Nghiệm thu tháo ván khuôn bê tông Lam trang trí | E61: Nhà tiểu học 3 phòng | F61: Điểm TĐC Pom Chốn | G61: =A61&"/"&B61 -> 11/TVKTH3PC | H61: =A61&"/"&B61 -> 11/TVKTH3PC | I61: ….. | J61: ….. | K61: =P61-1 -> -1 | L61: …..giờ….. | M61: …..giờ….. | N61: ….. | O61: ….. | Q61: .......................................... | R61: Lê Văn Thái
A62: =A61 -> 11 | B62: BTTH3PC | C62: NTBT6 | D62: Nghiệm thu bê tông Lam trang trí | E62: Nhà tiểu học 3 phòng | F62: Điểm TĐC Pom Chốn | G62: =A62&"/"&B62 -> 11/BTTH3PC | H62: =A62&"/"&B62 -> 11/BTTH3PC | I62: ….. | J62: ….. | K62: =P62-1 -> -1 | L62: …..giờ….. | M62: …..giờ….. | N62: ….. | O62: ….. | Q62: .......................................... | R62: Lê Văn Thái
A63: =A62+1 -> 12 | E63: Nhà tiểu học 3 phòng | F63: Điểm TĐC Pom Chốn | G63: =A63&"/"&B63 -> 12/ | H63: =A63&"/"&B63 -> 12/ | I63: ….. | J63: ….. | K63: =P63-1 -> -1 | L63: …..giờ….. | M63: …..giờ….. | N63: ….. | O63: ….. | Q63: .......................................... | R63: Lê Văn Thái
A64: =A63 -> 12 | E64: Nhà tiểu học 3 phòng | F64: Điểm TĐC Pom Chốn | G64: =A64&"/"&B64 -> 12/ | H64: =A64&"/"&B64 -> 12/ | I64: ….. | J64: ….. | K64: =P64-1 -> -1 | L64: …..giờ….. | M64: …..giờ….. | N64: ….. | O64: ….. | Q64: .......................................... | R64: Lê Văn Thái
A65: =A64 -> 12 | E65: Nhà tiểu học 3 phòng | F65: Điểm TĐC Pom Chốn | G65: =A65&"/"&B65 -> 12/ | H65: =A65&"/"&B65 -> 12/ | I65: ….. | J65: ….. | K65: =P65-1 -> -1 | L65: …..giờ….. | M65: …..giờ….. | N65: ….. | O65: ….. | Q65: .......................................... | R65: Lê Văn Thái
A66: =A65 -> 12 | E66: Nhà tiểu học 3 phòng | F66: Điểm TĐC Pom Chốn | G66: =A66&"/"&B66 -> 12/ | H66: =A66&"/"&B66 -> 12/ | I66: ….. | J66: ….. | K66: =P66-1 -> -1 | L66: …..giờ….. | M66: …..giờ….. | N66: ….. | O66: ….. | Q66: .......................................... | R66: Lê Văn Thái
A67: =A66 -> 12 | E67: Nhà tiểu học 3 phòng | F67: Điểm TĐC Pom Chốn | G67: =A67&"/"&B67 -> 12/ | H67: =A67&"/"&B67 -> 12/ | I67: ….. | J67: ….. | K67: =P67-1 -> -1 | L67: …..giờ….. | M67: …..giờ….. | N67: ….. | O67: ….. | Q67: .......................................... | R67: Lê Văn Thái
A68: =A67 -> 12 | E68: Nhà tiểu học 3 phòng | F68: Điểm TĐC Pom Chốn | G68: =A68&"/"&B68 -> 12/ | H68: =A68&"/"&B68 -> 12/ | I68: ….. | J68: ….. | K68: =P68-1 -> -1 | L68: …..giờ….. | M68: …..giờ….. | N68: ….. | O68: ….. | Q68: .......................................... | R68: Lê Văn Thái
A69: =A68 -> 12 | E69: Nhà tiểu học 3 phòng | F69: Điểm TĐC Pom Chốn | G69: =A69&"/"&B69 -> 12/ | H69: =A69&"/"&B69 -> 12/ | I69: ….. | J69: ….. | K69: =P69-1 -> -1 | L69: …..giờ….. | M69: …..giờ….. | N69: ….. | O69: ….. | Q69: .......................................... | R69: Lê Văn Thái
A70: =A69 -> 12 | E70: Nhà tiểu học 3 phòng | F70: Điểm TĐC Pom Chốn | G70: =A70&"/"&B70 -> 12/ | H70: =A70&"/"&B70 -> 12/ | I70: ….. | J70: ….. | K70: =P70-1 -> -1 | L70: …..giờ….. | M70: …..giờ….. | N70: ….. | O70: ….. | Q70: .......................................... | R70: Lê Văn Thái
A71: =A70 -> 12 | E71: Nhà tiểu học 3 phòng | F71: Điểm TĐC Pom Chốn | G71: =A71&"/"&B71 -> 12/ | H71: =A71&"/"&B71 -> 12/ | I71: ….. | J71: ….. | K71: =P71-1 -> -1 | L71: …..giờ….. | M71: …..giờ….. | N71: ….. | O71: ….. | Q71: .......................................... | R71: Lê Văn Thái
A72: =A71 -> 12 | E72: Nhà tiểu học 3 phòng | F72: Điểm TĐC Pom Chốn | G72: =A72&"/"&B72 -> 12/ | H72: =A72&"/"&B72 -> 12/ | I72: ….. | J72: ….. | K72: =P72-1 -> -1 | L72: …..giờ….. | M72: …..giờ….. | N72: ….. | O72: ….. | Q72: .......................................... | R72: Lê Văn Thái
A73: =A72 -> 12 | E73: Nhà tiểu học 3 phòng | F73: Điểm TĐC Pom Chốn | G73: =A73&"/"&B73 -> 12/ | H73: =A73&"/"&B73 -> 12/ | I73: ….. | J73: ….. | K73: =P73-1 -> -1 | L73: …..giờ….. | M73: …..giờ….. | N73: ….. | O73: ….. | Q73: .......................................... | R73: Lê Văn Thái
A74: =A73 -> 12 | E74: Nhà tiểu học 3 phòng | F74: Điểm TĐC Pom Chốn | G74: =A74&"/"&B74 -> 12/ | H74: =A74&"/"&B74 -> 12/ | I74: ….. | J74: ….. | K74: =P74-1 -> -1 | L74: …..giờ….. | M74: …..giờ….. | N74: ….. | O74: ….. | Q74: .......................................... | R74: Lê Văn Thái
A75: =A74 -> 12 | E75: Nhà tiểu học 3 phòng | F75: Điểm TĐC Pom Chốn | G75: =A75&"/"&B75 -> 12/ | H75: =A75&"/"&B75 -> 12/ | I75: ….. | J75: ….. | K75: =P75-1 -> -1 | L75: …..giờ….. | M75: …..giờ….. | N75: ….. | O75: ….. | Q75: .......................................... | R75: Lê Văn Thái
... A80: =A79 -> 12 | E80: Nhà tiểu học 3 phòng | F80: Điểm TĐC Pom Chốn | G80: =A80&"/"&B80 -> 12/ | H80: =A80&"/"&B80 -> 12/ | I80: ….. | J80: ….. | K80: =P80-1 -> -1 | L80: …..giờ….. | M80: …..giờ….. | N80: ….. | O80: ….. | Q80: .......................................... | R80: Lê Văn Thái
A81: =A80 -> 12 | E81: Nhà tiểu học 3 phòng | F81: Điểm TĐC Pom Chốn | G81: =A81&"/"&B81 -> 12/ | H81: =A81&"/"&B81 -> 12/ | I81: ….. | J81: ….. | K81: =P81-1 -> -1 | L81: …..giờ….. | M81: …..giờ….. | N81: =DAY(P81) -> 0 | O81: =MONTH(P81) -> 1 | R81: Lê Văn Thái
A82: =A81 -> 12 | E82: Nhà tiểu học 3 phòng | F82: Điểm TĐC Pom Chốn | G82: =A82&"/"&B82 -> 12/ | H82: =A82&"/"&B82 -> 12/ | I82: ….. | J82: ….. | K82: =P82-1 -> -1 | L82: …..giờ….. | M82: …..giờ….. | N82: =DAY(P82) -> 0 | O82: =MONTH(P82) -> 1 | R82: Lê Văn Thái
A83: =A82 -> 12 | E83: Nhà tiểu học 3 phòng | F83: Điểm TĐC Pom Chốn | G83: =A83&"/"&B83 -> 12/ | H83: =A83&"/"&B83 -> 12/ | I83: ….. | J83: ….. | K83: =P83-1 -> -1 | L83: …..giờ….. | M83: …..giờ….. | N83: =DAY(P83) -> 0 | O83: =MONTH(P83) -> 1 | R83: Lê Văn Thái
A84: =A83 -> 12 | E84: Nhà tiểu học 3 phòng | F84: Điểm TĐC Pom Chốn | G84: =A84&"/"&B84 -> 12/ | H84: =A84&"/"&B84 -> 12/ | I84: ….. | J84: ….. | K84: =P84-1 -> -1 | L84: …..giờ….. | M84: …..giờ….. | N84: =DAY(P84) -> 0 | O84: =MONTH(P84) -> 1 | R84: Lê Văn Thái
A85: =A84 -> 12 | E85: Nhà tiểu học 3 phòng | F85: Điểm TĐC Pom Chốn | G85: =A85&"/"&B85 -> 12/ | H85: =A85&"/"&B85 -> 12/ | I85: ….. | J85: ….. | K85: =P85-1 -> -1 | N85: =DAY(P85) -> 0 | O85: =MONTH(P85) -> 1 | R85: Lê Văn Thái
A86: =A85 -> 12 | E86: Nhà tiểu học 3 phòng | F86: Điểm TĐC Pom Chốn | G86: =A86&"/"&B86 -> 12/ | H86: =A86&"/"&B86 -> 12/ | I86: ….. | J86: ….. | K86: =P86-1 -> -1 | N86: =DAY(P86) -> 0 | O86: =MONTH(P86) -> 1 | R86: Lê Văn Thái
A87: =A86 -> 12 | E87: Nhà tiểu học 3 phòng | F87: Điểm TĐC Pom Chốn | G87: =A87&"/"&B87 -> 12/ | H87: =A87&"/"&B87 -> 12/ | I87: ….. | J87: ….. | K87: =P87-1 -> -1 | N87: =DAY(P87) -> 0 | O87: =MONTH(P87) -> 1 | R87: Lê Văn Thái
A88: =A87 -> 12 | E88: Nhà tiểu học 3 phòng | F88: Điểm TĐC Pom Chốn | G88: =A88&"/"&B88 -> 12/ | H88: =A88&"/"&B88 -> 12/ | I88: ….. | J88: ….. | K88: =P88-1 -> -1 | N88: =DAY(P88) -> 0 | O88: =MONTH(P88) -> 1 | R88: Lê Văn Thái
A89: =A88 -> 12 | E89: Nhà tiểu học 3 phòng | F89: Điểm TĐC Pom Chốn | G89: =A89&"/"&B89 -> 12/ | H89: =A89&"/"&B89 -> 12/ | I89: ….. | J89: ….. | K89: =P89-1 -> -1 | N89: =DAY(P89) -> 0 | O89: =MONTH(P89) -> 1 | R89: Lê Văn Thái
A90: =A89 -> 12 | E90: Nhà tiểu học 3 phòng | F90: Điểm TĐC Pom Chốn | G90: =A90&"/"&B90 -> 12/ | H90: =A90&"/"&B90 -> 12/ | I90: ….. | J90: ….. | K90: =P90-1 -> -1 | N90: =DAY(P90) -> 0 | O90: =MONTH(P90) -> 1 | R90: Lê Văn Thái
A91: =A90 -> 12 | E91: Nhà tiểu học 3 phòng | F91: Điểm TĐC Pom Chốn | G91: =A91&"/"&B91 -> 12/ | H91: =A91&"/"&B91 -> 12/ | I91: ….. | J91: ….. | K91: =P91-1 -> -1 | N91: =DAY(P91) -> 0 | O91: =MONTH(P91) -> 1 | R91: Lê Văn Thái
A92: =A91 -> 12 | E92: Nhà tiểu học 3 phòng | F92: Điểm TĐC Pom Chốn | G92: =A92&"/"&B92 -> 12/ | H92: =A92&"/"&B92 -> 12/ | I92: ….. | J92: ….. | K92: =P92-1 -> -1 | N92: =DAY(P92) -> 0 | O92: =MONTH(P92) -> 1 | R92: Lê Văn Thái
A93: =A92 -> 12 | E93: Nhà tiểu học 3 phòng | F93: Điểm TĐC Pom Chốn | G93: =A93&"/"&B93 -> 12/ | H93: =A93&"/"&B93 -> 12/ | I93: ….. | J93: ….. | K93: =P93-1 -> -1 | N93: =DAY(P93) -> 0 | O93: =MONTH(P93) -> 1 | R93: Lê Văn Thái
A94: =A93 -> 12 | E94: Nhà tiểu học 3 phòng | F94: Điểm TĐC Pom Chốn | G94: =A94&"/"&B94 -> 12/ | H94: =A94&"/"&B94 -> 12/ | I94: ….. | J94: ….. | K94: =P94-1 -> -1 | N94: =DAY(P94) -> 0 | O94: =MONTH(P94) -> 1 | R94: Lê Văn Thái
A95: =A94 -> 12 | E95: Nhà tiểu học 3 phòng | F95: Điểm TĐC Pom Chốn | G95: =A95&"/"&B95 -> 12/ | H95: =A95&"/"&B95 -> 12/ | I95: ….. | J95: ….. | K95: =P95-1 -> -1 | N95: =DAY(P95) -> 0 | O95: =MONTH(P95) -> 1 | R95: Lê Văn Thái
A96: =A95 -> 12 | E96: Nhà tiểu học 3 phòng | F96: Điểm TĐC Pom Chốn | G96: =A96&"/"&B96 -> 12/ | H96: =A96&"/"&B96 -> 12/ | I96: ….. | J96: ….. | K96: =P96-1 -> -1 | N96: =DAY(P96) -> 0 | O96: =MONTH(P96) -> 1 | R96: Lê Văn Thái
... A129: =A128 -> 12 | E129: Nhà tiểu học 3 phòng | F129: Điểm TĐC Pom Chốn | G129: =A129&"/"&B129 -> 12/ | H129: =A129&"/"&B129 -> 12/ | I129: ….. | J129: ….. | K129: =P129-1 -> -1 | N129: =DAY(P129) -> 0 | O129: =MONTH(P129) -> 1 | R129: Lê Văn Thái
A130: =A129 -> 12 | E130: Nhà tiểu học 3 phòng | F130: Điểm TĐC Pom Chốn | G130: =A130&"/"&B130 -> 12/ | H130: =A130&"/"&B130 -> 12/ | I130: =DAY(K130) -> #NUM! | J130: =MONTH(K130) -> #NUM! | K130: =P130-1 -> -1 | N130: =DAY(P130) -> 0 | O130: =MONTH(P130) -> 1 | R130: Lê Văn Thái
A131: =A130 -> 12 | E131: Nhà tiểu học 3 phòng | F131: Điểm TĐC Pom Chốn | G131: =A131&"/"&B131 -> 12/ | H131: =A131&"/"&B131 -> 12/ | I131: =DAY(K131) -> #NUM! | J131: =MONTH(K131) -> #NUM! | K131: =P131-1 -> -1 | N131: =DAY(P131) -> 0 | O131: =MONTH(P131) -> 1 | R131: Lê Văn Thái
A132: =A131 -> 12 | E132: Nhà tiểu học 3 phòng | F132: Điểm TĐC Pom Chốn | G132: =A132&"/"&B132 -> 12/ | H132: =A132&"/"&B132 -> 12/ | I132: =DAY(K132) -> #NUM! | J132: =MONTH(K132) -> #NUM! | K132: =P132-1 -> -1 | N132: =DAY(P132) -> 0 | O132: =MONTH(P132) -> 1 | R132: Lê Văn Thái
A133: =A132 -> 12 | E133: Nhà tiểu học 3 phòng | F133: Điểm TĐC Pom Chốn | G133: =A133&"/"&B133 -> 12/ | H133: =A133&"/"&B133 -> 12/ | I133: =DAY(K133) -> #NUM! | J133: =MONTH(K133) -> #NUM! | K133: =P133-1 -> -1 | N133: =DAY(P133) -> 0 | O133: =MONTH(P133) -> 1 | R133: Lê Văn Thái
A134: =A133 -> 12 | E134: Nhà tiểu học 3 phòng | F134: Điểm TĐC Pom Chốn | G134: =A134&"/"&B134 -> 12/ | H134: =A134&"/"&B134 -> 12/ | I134: =DAY(K134) -> #NUM! | J134: =MONTH(K134) -> #NUM! | K134: =P134-1 -> -1 | N134: =DAY(P134) -> 0 | O134: =MONTH(P134) -> 1 | R134: Lê Văn Thái
A135: =A134 -> 12 | E135: Nhà tiểu học 3 phòng | F135: Điểm TĐC Pom Chốn | G135: =A135&"/"&B135 -> 12/ | H135: =A135&"/"&B135 -> 12/ | I135: =DAY(K135) -> #NUM! | J135: =MONTH(K135) -> #NUM! | K135: =P135-1 -> -1 | N135: =DAY(P135) -> 0 | O135: =MONTH(P135) -> 1 | R135: Lê Văn Thái
A136: =A135 -> 12 | E136: Nhà tiểu học 3 phòng | F136: Điểm TĐC Pom Chốn | G136: =A136&"/"&B136 -> 12/ | H136: =A136&"/"&B136 -> 12/ | I136: =DAY(K136) -> #NUM! | J136: =MONTH(K136) -> #NUM! | K136: =P136-1 -> -1 | N136: =DAY(P136) -> 0 | O136: =MONTH(P136) -> 1 | R136: Lê Văn Thái
...

Sheet 1.DAO MONG
A1: LIST | B1: SHBB | C1: MH | D1: Nội dung công việc | E1: Vị trí | F1: Điểm TĐC | G1: Số hiệu PYC | H1: Số hiệu NTCV | I1: DATE PYC | J1: MONTH PYC | K1: Ngày PYC | L1: H-START | M1: H-END | N1: DATE NTCV | O1: MONTH NTCV | P1: Ngày NTCV | Q1: CĐT | R1: ĐVTC
A2: 1 | C2: NTCV1 | D2: =VLOOKUP($C2,TUANBV,2,0) -> Đào hố móng | E2: =VLOOKUP($C2,TUANBV,3,0) -> Nhà tiểu học 3 phòng | F2: =VLOOKUP($C2,TUANBV,4,0) -> Điểm TĐC Pom Chốn | G2: =VLOOKUP($C2,TUANBV,5,0) -> 1/DMTH3PC | H2: =VLOOKUP($C2,TUANBV,6,0) -> 1/DMTH3PC | I2: =VLOOKUP($C2,TUANBV,7,0) -> 18 | J2: =VLOOKUP($C2,TUANBV,8,0) -> 08 | K2: =VLOOKUP($C2,TUANBV,9,0) -> 41869 | L2: =VLOOKUP($C2,TUANBV,10,0) -> 08 giờ 00 | M2: =VLOOKUP($C2,TUANBV,11,0) -> 09 giờ 00 | N2: =VLOOKUP($C2,TUANBV,12,0) -> 19 | O2: =VLOOKUP($C2,TUANBV,13,0) -> 08 | P2: =VLOOKUP($C2,TUANBV,14,0) -> 41870 | Q2: =VLOOKUP($C2,TUANBV,15,0) -> Nguyễn Xuân Quỳnh | R2: =VLOOKUP($C2,TUANBV,16,0) -> Lê Văn Thái

Sheet PYC
A1: STT | B1: SỐ BB | C1: NỘI DUNG CÔNG VIỆC | D1: LÝ TRÌNH | E1: SỐ HIỆU BBNT NỘI BỘ | F1: SỐ HIỆU PHIẾU YÊU CẦU | G1: SỐ HIỆU BBNT CÔNG VIỆC | H1: GIỜ BĐ | I1: GIỜ KT | J1: NGÀY NB | K1: THÁNG NB | L1: NGÀY CV | M1: THÁNG CV | N1: GIỜ YC | O1: THỜI GIAN PYC | P1: THỜI GIAN NGHIỆM THU NỘI BỘ | Q1: THỜI GIAN NGHIỆM THU CÔNG VIỆC | R1: TIÊU CHUẨN
A2: 1 | B2: 01 | C2: YCNT bình đồ hiện trạng khu TĐC Pom Chốn | N2: 14h00 | O2: 41719 | Q2: 41720
A3: 2 | B3: 02 | C3: YCNT Phòng thí nghiệm hiện trường | N3: 14h00 | O3: 41719 | Q3: 41720
A4: 3 | B4: 03 | C4: YCNT Địa chất khu San nền Pom Chốn và Pa Púa | N4: 8h00 | O4: 41723 | Q4: 41724
A5: 4 | B5: 04 | C5: YCNT lấy mẫu Cát các loại | N5: 8h00 | O5: 41723 | Q5: 41724
A6: 5 | B6: 05 | C6: YCNT lấy mẫu Đá các loại | N6: 8h00 | O6: 41723 | Q6: 41724
A7: 6 | B7: 06 | C7: YCNT lấy mẫu Xi măng | N7: 8h00 | O7: 41723 | Q7: 41724
A8: 7 | B8: 07 | C8: YCNT lấy mẫu Thép các loại - Thép Shengli | N8: 8h00 | O8: 41723 | Q8: 41724
A9: 8 | B9: 08 | C9: YCNT lấy mẫu Đất đồi | N9: 14h00 | O9: 41723 | Q9: 41724
A10: 9 | B10: 09 | C10: YCNT Bình đồ hiện trạng khu TĐC Tổ Xước | N10: 15h00 | O10: 41726 | Q10: 41726
A11: 10 | B11: 10 | C11: YCNT công tác phát quang khu TĐC Tổ Xước | N11: 16h00 | O11: 41726 | Q11: 41726
A12: 11 | B12: 11 | C12: YCNT bình đồ hiện trạng khu TĐC Pa Púa | N12: 09h00 | O12: 41726 | Q12: 41729
A13: 12 | B13: 12
A14: 13 | B14: 13
A15: 14
A16: 15
A17: 16
A18: 17
A19: 18

Sheet 2.VLtruoc (2)
A1: TT | B1: Nội dung | C1: Chủng loại vật liệu | D1: Số lượng | E1: Qui cách mẫu | F1: Vị trí lấy mẫu
A2: 1 | B2: Lấy mẫu vật liệu đổ bê tông lót móng | C2: Xi măng Tam điệp PCB40 | F2: Kho bãi tại công trường
A3: 2 | C3: Đá 4x6
A4: 3 | C4: Cát đổ bê tông
A5: 1 | B5: Lấy mẫu vật liệu đổ bê tông móng cột | C5: Xi măng Tam điệp PCB40 | F5: Kho bãi tại công trường
A6: 2 | C6: Đá 1x2
A7: 3 | C7: Cát đổ bê tông
A8: 4 | C8: Thép
A9: 1 | B9: Lấy mẫu vật liệu đổ bê tông cột | C9: Xi măng Tam điệp PCB40 | F9: Kho bãi tại công trường
A10: 2 | C10: Đá 1x2
A11: 3 | C11: Cát đổ bê tông
A12: 4 | C12: Thép
A13: 1 | B13: Lấy mẫu vật liệu đổ bê tông dầm | C13: Xi măng Tam điệp PCB40 | F13: Kho bãi tại công trường
A14: 2 | C14: Đá 1x2
A15: 3 | C15: Cát đổ bê tông
A16: 4 | C16: Thép
A17: 1 | B17: Lấy mẫu vật liệu đổ bê tông sàn | C17: Xi măng Tam điệp PCB40 | F17: Kho bãi tại công trường
A18: 2 | C18: Đá 1x2
A19: 3 | C19: Cát đổ bê tông
A20: 4 | C20: Thép

Sheet Danh muc BB
B1: Công trình: Thủy điện Trung Sơn
B2: Hạng mục: Bồi thường, hỗ trợ và tái định cư
B3: Mục công trình : Nhà văn hóa 100m2
B4: Gói thầu: W-RE-01 “Xây dựng khu TĐC số 01”
B5: Địa điểm xây dựng: Huyện Quan Hoá, Tỉnh Thanh Hoá
A7: DANH MỤC BIÊN BẢN NGHIỆM THU
A9: STT | B9: NỘI DUNG CÔNG VIỆC | C9: VỊ TRÍ | D9: SỐ HIỆU BIÊN BẢN | E9: SỐ HIỆU BBNT NỘI BỘ | F9: SỐ HIỆU BBNT CÔNG VIỆC | G9: NGÀY THÁNG | H9: NGÀY NGHIỆM THU NỘI BỘ | I9: NGÀY NGHIỆM THU CÔNG VIỆC
A10: I | B10: Mục công trình : Nhà văn hóa 100m2
A11: A | B11: Bê tông lót móng
A12: 1 | B12: PYC nghiệm thu vật liệu trước khi đổ bê tông lót móng | C12: Lô nhà văn hóa, điểm tái định cư Pom Chốn | D12: 1/VL/PYC | E12: 1/NVH100-PC/NTNB | F12: 1/NVH100-PC/NTCV | G12: 41742 | H12: =G12 -> 41742 | I12: 41743
A13: 2 | B13: BBNT Vật liệu trước khi đổ bê tông lót móng | D13: 1/NVH100-PC/LMHT | G13: 41743
A14: 3 | B14: PYC Nghiệm thu ván khuôn bê tông lót móng | D14: 1/VK/PYC | G14: 41742
A15: 4 | B15: BBNT Ván khuôn bê tông lót móng | D15: 1/NVH100-PC/NTVK | G15: 41743
A16: 5 | B16: PYC nghiệm thu công tác chuẩn bị đổ bê tông lót móng | D16: 1/CBBT/PYC | G16: 41742
A17: 6 | B17: BBNT công tác chuẩn bị đổ bê tông lót móng | D17: 1/NVH100-PC/CBBT | G17: 41743
A18: 7 | B18: PYC theo dõi quá trình đổ bê tông lót móng | D18: 1/TDBT/PYC | G18: 41742
A19: 8 | B19: Phiếu giám sát quá trình đổ bê tông lót móng | D19: 1/NVH100-PC/TDBT | G19: 41743
A20: 9 | B20: PYC Lấy mẫu bê tông lót móng | D20: 1/LM/PYC | G20: 41742
A21: 10 | B21: Biên bản lấy mẫu bê tông lót móng M100 | D21: 1/NVH100-PC/LMBT | G21: 41743
A22: 11 | B22: PYC theo dõi công tác nén mẫu bê tông lót móng M100, R7 | D22: 1/EP/PYC | G22: 41749
A23: 12 | B23: Kết quả nén mẫu bê tông lót móng M100, R7 | D23: 01-EP/NVH100-PC/M100 | G23: 41749
A24: 13 | B24: PYC Nghiệm thu bê tông lót móng | D24: 1/BT/PYC | G24: 41749
A25: 14 | B25: BBNT Bê tông lót móng | D25: 1/NVH100-PC/NTCV | G25: 41749
A26: B | B26: Bê tông móng cột
A27: 1 | B27: PYC nghiệm thu vật liệu trước khi đổ bê tông móng cột | C27: Lô nhà văn hóa, điểm tái định cư Pom Chốn | D27: 2/LM/PYC | E27: 1/NVH100-PC/NTNB | F27: 1/NVH100-PC/NTCV | G27: 41746 | H27: =G27 -> 41746 | I27: 41743
A28: 2 | B28: BBNT Vật liệu trước khi đổ bê tông lót móng | D28: 2/NVH100-PC/LMHT | G28: 41747
A29: 3 | B29: PYC Nghiệm thu cốt thép bê tông móng cột | D29: 2/CT/PYC | G29: 41746
A30: 4 | B30: BBNT cốt thép bê tông móng cột | D30: 2/NVH100-PC/NTCT | G30: 41747
A31: 3 | B31: PYC Nghiệm thu ván khuôn bê tông móng cột | D31: 2/VK/PYC | G31: 41746
A32: 4 | B32: BBNT Ván khuôn bê tông móng cột | D32: 2/NVH100-PC/NTVK | G32: 41747
A33: 5 | B33: PYC nghiệm thu công tác chuẩn bị đổ bê tông móng cột | D33: 2/CBBT/PYC | G33: 41746
A34: 6 | B34: BBNT công tác chuẩn bị đổ bê tông lót móng | D34: 2/NVH100-PC/CBBT | G34: 41747
A35: 7 | B35: PYC theo dõi quá trình đổ bê tông móng cột | D35: 2/TDBT/PYC | G35: 41746
A36: 8 | B36: Phiếu giám sát quá trình đổ bê tông móng cột | D36: 2/NVH100-PC/TDBT | G36: 41747
A37: 9 | B37: PYC Lấy mẫu bê tông móng cột M200 | D37: 2/LM/PYC | G37: 41746
A38: 10 | B38: Biên bản lấy mẫu bê tông móng cột M200 | D38: 2/NVH100-PC/LMBT | G38: 41747
A39: 11 | B39: PYC theo dõi công tác nén mẫu bê tông móng cột M200, R7 | D39: 2/NVH100-PC/R7/PYC | G39: 41749
... A42: 14 | B42: BBNT Bê tông móng cột | D42: 1/NVH100-PC/NTCV | G42: 41749
A43: C | B43: Bê tông móng cột

Sheet TIEU CHUAN
B4: Xi măng | C4: TCVN 2682 -92
B5: Cốt Thép | C5: TCVN 1651-2008
C6: TCXDVN 170:1989 | D6: Kết cấu thép - Gia công,lắp ráp và nghiệm thu.Yêu cầu kĩ thuật
C7: TCXDVN 296:2004 | D7: Dàn giáo - Các yêu cầu về an toàn
C8: TCVN 6052:1995 | D8: Giàn giáo thép
B9: Cát | C9: TCVN 1770 - 1986
B10: Đá dăm (Cốt liệu thô) | C10: TCVN 1171-1986, 22TCN 57-1984
B11: Gạch Xây | C11: TCVN 1770 -86
C12: TCVN 4085:1985 | D12: Kết cấu gạch đá. Quy phạm thi công và nghiệm thu
B13: Phụ gia | C13: TCXD 173 – 1989
B14: Nước | C14: TCVN 4506-1987
B15: Cốp pha, Đà giáo | C15: TCVN 1075:1971
B16: Bê tông | C16: TCXDVN 305:2004 | D16: Bêtông khối lớn - Quy phạm thi công và nghiệm thu
C17: TCVN 4453:1995 | D17: Kết cấu bêtông và bêtông cốt thép toàn khối - Quy phạm thi công và nghiệm thu
C18: TCVN 5592:1991 | D18: Bêtông nặng - Yêu cầu dưõng ẩm tự nhiên
C19: TCVN 4452:1987 | D19: Kết cấu bêtông và bêtông cốt thép lắp ghép - Quy phạm thi công và nghiệm thu
B20: Đất | C20: TCVN 4447:1987 | D20: Công tác đất - Quy phạm thi công và nghiệm thu
C21: TCXDVN 79:1980 | D21: Thi công và nghiệm thu các công tác nền móng

Sheet TC
A2: Tiêu chuẩn thi công nghiệm thu và thí nghiệm vật liệu
A3: STT | B3: TIÊU CHUẨN | C3: KÝ HIỆU
C4: TCVN | D4: TCQT
A5: 1 | B5: Cường độ của đất - lấy mẫu | C5: TCVN 7593-1:2006
A6: 2 | B6: Độ chặt của đất tại hiện trường - Pp phễu rót cát | C6: 22 TCN346-06 | D6: AASHTO T191-02(2006)
A7: 3 | B7: Chất lượng đất. Lấy mẫu. Hướng dẫn lấy mẫu, bảo quản và đánh giá trong phòng TN | C7: TCVN 5960-95
A8: 4 | B8: Đất xây dựng, giới hạn dẻo và chảy | C8: TCVN 4197-95 | D8: AASHTO T89-02(2006) & AASHTO T90-00(2004)
A9: 5 | B9: Đất xây dựng, Phân tích cỡ hạt | C9: TCVN 4198-95 | D9: AASHTO T88-00(2004)
A10: 6 | B10: Xác định sự trương nở của đất | D10: AASHTO T258-81(2004) hoặc ASTM D4546-2003
A11: 7 | B11: Vật liệu đắp nền đường và lớp nền thượng | D11: AASHTO M57-80(2004)
A12: 8 | B12: Sức chịu tải CBR | C12: 22 TCN 332-06 | D12: AASHTO T193-99(2007)
A13: 9 | B13: Đầm nén đất và vật liệu cấp phối trong phòng TN | C13: 22 TCN 333-06
A14: 10 | B14: Vữa XD - Pp thử | C14: TCVN 3121-2003
A15: 11 | B15: Vữa XD - YCKT | C15: TCVN 4314-2003
A16: 12 | B16: Xi măng Pooc lăng bền sun phát - YCKT | C16: TCVN 6067:2006
A17: 13 | B17: Xi măng Pooc lăng - YCKT | C17: TCVN 2682:2009
A18: 14 | B18: Xi măng Pooc lăng hỗn hợp - YCKT | C18: TCVN 6260 : 2009
A19: 15 | B19: Xi măng, pp xác định độ mịn | C19: TCVN 4030-2003
A20: 16 | B20: Cốt liệu cho bê tông và vữa - yckt | C20: TCVN 7572-2 : 06 | D20: AASHTO T27-06ASTM C33-07 & AASHTO M6-08 & AASHTO M80-08
A21: 17 | B21: Đúc và bảo quản mẫu bê tông trong phòng tn | D21: AASHTO T126-99
A22: 18 | B22: Đúc và bảo quản mẫu bê tông ngoài hiện trường | D22: AASHTO T23-08 hoặc ASTM C31M-08a
A23: 19 | B23: Hỗ hợp bê tông nặng và bê tông nặng - Lấy mẫu, chế tạo và bảo dưỡng mẫu thử | C23: TCVN 3015 : 1993
A24: 20 | B24: Nước cho bê tông và vữa | C24: TCXDVN 302-2004
A25: 21 | B25: Phụ gia bê tông | C25: TCVN 6882-2001
A26: 22 | B26: Thép cốt bê tông | C26: TCVN 1651-2008
A27: 23 | B27: Thép các bon dùng trong xd. Tiêu chuẩn kỹ thuật | C27: TCVN 5709-1993
A28: 24 | B28: Sản phẩm thép và sắt mạ kẽm | D28: AASHTO M111-04
A29: 25 | B29: Gạch xây - pp thử | C29: Từ TCVN 246-1986 đến TCVN 250-1986
A30: 26 | B30: Gạch rỗng đất sét nung | C30: TCVN 1450-1986
A31: 27 | B31: Gạch đặc đất sét nung | C31: TCVN 1451-1986
A32: 28 | B32: Công tác đất - Tiêu chuẩn thi công và nghiệm thu | C32: TCVN 4447-1987
A33: 29 | B33: Thi công và nghiệm thu các công tác nền móng | C33: TCXD 79 : 1980
A34: 30 | B34: Cầu và cống- Tiêu chuẩn thi công và nghiệm thu | C34: 22TCN 266-2000
A35: 31 | B35: Yêu cầu kỹ thuật chế tạo và nghiệm thu dầm cầu thép trong công xưởng | C35: 22TCN288-02
A36: 32 | B36: Kết cấu bê tông đúc sẵn và bê tông cốt thép. Quy định thi công và nghiệm thu | C36: TCXDVN 390-2007
A37: 33 | B37: BTCT, chỉ dẫn chống nứt | C37: TCXDVN 390-2007
A38: 34 | B38: Bê tông. Kiểm soát cường độ và đánh giá. Các yêu cầu chung | C38: TCVN 5440-91
A39: 35 | B39: Ống bê tông cốt thép thoát nước | C39: TCXDVN 372-2006
A40: 36 | B40: Ống bê tông cốt thép - yckt | C40: 22TCN 159-86
... A55: 51 | B55: Công tác trắc địa trong xây dựng | C55: TCXDVN 309:2004
A56: 52 | B56: Vải phản quang trong điều khiển giao thông | D56: AASHTO M268-08; ASTM D4956-07e; ASTM E810-03(2008)
A57: 53 | B57: Tiêu chuẩn tiếp nối đất và điểm O cho thiết bị điện | C57: TCVN 4756:1989
A58: 54 | B58: Và các tiêu chuẩn khác liên quan
B59: Các văn bản quy định về quản lý chất lượng thi công
A60: 1 | B60: Luật xây dựng | C60: Số 16/2003/QH11
A61: 2 | B61: Nghị định Quản lý chất lượng công trình xây dựng | C61: Nghị định 15/2013/NĐ-CP ngày 06/02/2013
A62: 3 | B62: Nghiệm thu chất lượng thi công công trình xây dựng ban hành kèm theo Quyết định số 41/2006/QĐ-BXD ngày 29/12/2006 | C62: TCXDVN 371 : 2006
A63: 4 | B63: Quản lý chất lượng xây lắp công trình xây dựng - Nguyên tắc cơ bản | C63: TCVN 5637 : 1991
A64: 5 | B64: Và các văn bản khác có liên quan

Sheet TC1
B1: Ký hiệu | C1: Tên tiêu chuẩn | D1: Tải về
B2: Tiêu chuẩn thi công và nghiệm thu công trình xây dựng.
B3: TCVN 4091:198 | C3: Nghiệm thu các công trình xây dựng | D3: Tải về
B4: TCVN 4085:1985 | C4: Kết cấu gạch đá. Quy phạm thi công và nghiệm thu | D4: Tải về
B5: TCVN 4452:1987 | C5: Kết cấu bê tông và BTCT lắp ghép.Quy phạm thi công và nghiệm thu | D5: Tải về
B6: TCVN 4453:1995 | C6: Kết cấu bê tông và BTCT toàn khối.Quy phạm thi công và nghiệm thu | D6: Tải về 1 2 3
B7: TCVN 4519:1988 | C7: HT cấp thoát nước bên trong nhà và CT. Quy phạm thi công và nghiệm thu | D7: Tải về
B8: TCVN 5637:1991 | C8: Quản lý chất lượng xây lắp công trình xây dựng. Nguyên tắc cơ bản | D8: Tải về
B9: TCVN 5639:1991 | C9: Nghiệm thu thiết bị đã lắp đặt xong- Nguyên tắc cơ bản | D9: Tải về
B10: TCVN 5640:1991 | C10: Bàn giao công trình xây dựng. Nguyên tắc cơ bản | D10: Tải về
B11: TCVN 5641:1991 | C11: Bể chứa bằng bê tông cốt thép. Quy phạm thi công và nghiệm thu | D11: Tải về
B12: TCVN 5674:1992 | C12: Công tác hoàn thiện trong xây dựng. Thi công và nghiệm thu | D12: Tải về
B13: TCVN 5718:1993 | C13: Mái và sàn BTCT trong công trình xây dựng.Yêu cầu kỹ thuật chống thấm nước | D13: Tải về
B14: TCVN 3972:1985 | C14: Công tác trắc địa trong xây dựng | D14: Tải về 1 2
... B20: TCVN4447:1987 | C20: Công tác đất - Quy phạm thi công và nghiệm thu | D20: Tải về 1 2 3

Sheet TC2
A1: Mã hiệu và tên tiêu chuẩn hết hiệu lực | C1: Mã hiệu và tên tiêu chuẩn hiện hành
A2: 1. TCXD 44:1970 | B2: Quy phạm thiết kế kết cấu gỗ | C2: Hủy do không còn phù hợp
A3: 2. TCXD 45:1978 | B3: Tiêu chuẩn thiết kế nền nhà và công trình | C3: TCVN 9362:2012 | D3: Tiêu chuẩn thiết kế nền nhà và công trình
A4: 3. TCXD 79:1980 | B4: Thi công và nghiệm thu các công tác nền móng | C4: ` | D4: Công tác nền móng – Thi công và nghiệm thu
A5: 4. TCXD 128 : 1985 | B5: Thuỷ tinh - Phương pháp chuẩn bị mẫu trong phòng thí nghiệm để phân tích hoá học - Quy định chung | C5: TCVN 9171:2012 | D5: Thủy tinh và cát để sản xuất thủy tinh – Quy định chung trong phân tích hóa học
A6: (Gộp với: TCXD 136 : 1985)
A7: 5. TCXD 129 : 1985 | B7: Thuỷ tinh - Phương pháp phân tích hoá học xác định hàm lượng Silic dioxyt | C7: TCVN 9172:2012 | D7: Thuỷ tinh không màu - Phương pháp xác định hàm lượng Silic đioxit
A8: 6. TCXD 130 : 1985 | B8: Thuỷ tinh - Phương pháp phân tích hoá học xác định hàm lượng lưu huỳnh trioxyt | C8: TCVN 9173:2012 | D8: Thuỷ tinh không màu - Phương pháp xác định hàm lượng Sunfua trioxit
A9: 7. TCXD 131 : 1985 | B9: Thuỷ tinh - Phương pháp phân tích hoá học xác định hàm lượng sắt ôxýt | C9: TCVN 9174:2012 | D9: Thuỷ tinh không màu - Phương pháp xác định hàm lượng Sắt oxit
A10: 8. TCXD 132 : 1985 | B10: Thuỷ tinh - Phương pháp phân tích hoá học xác định hàm lượng nhôm oxyt | C10: TCVN 9175:2012 | D10: Thuỷ tinh không màu - Phương pháp xác định hàm lượng Nhôm oxit
A11: 9. TCXD 133 : 1985 | B11: Thuỷ tinh - Phương pháp phân tích hoá học xác định hàm lượng canxi oxyt và magiê oxyt | C11: TCVN 9176:2012 | D11: Thuỷ tinh không màu - Phương pháp xác định hàm lượng Canxi oxit và Magiê oxit
A12: 10.TCXD 134 : 1985 | B12: Thuỷ tinh - Phương pháp phân tích hoá học xác định hàm lượng natri oxyt và kali oxyt | C12: TCVN 9177:2012 | D12: Thuỷ tinh không màu - Phương pháp xác định hàm lượng Natri oxit và Kali oxit
A13: 11.TCXD 137 : 1985 | B13: Thuỷ tinh - Cát để sản xuất thuỷ tinh phương pháp phân tích hoá học - Xác định hàm lượng sắt oxyt | C13: TCVN 9178:2012 | D13: Thuỷ tinh màu - Phương pháp xác định hàm lượngSắt oxit
A14: 12.TCXD 138 : 1985 | B14: Thuỷ tinh - Cát để sản xuất thuỷ tinh phương pháp phân tích hoá học - Xác định hàm lượng titan đioxyt | C14: TCVN 9179:2012 | D14: Thuỷ tinh màu - Phương pháp xác định hàm lượngTitan đioxit
A15: 13.TCXD 139 : 1985 | B15: Thuỷ tinh - Cát để sản xuất thuỷ tinh - Phương pháp phân tích hoá học - Xác định hàm lượng đồng oxyt | C15: TCVN 9180:2012 | D15: Thuỷ tinh màu - Phương pháp xác định hàm lượngĐồng oxit
A16: 14.TCXD 140 : 1985 | B16: Thuỷ tinh - Cát để sản xuất thuỷ tinh - Phương pháp phân tích hoá học - Xác định hàm lượng côban oxyt | C16: TCVN 9181:2012 | D16: Thuỷ tinh màu - Phương pháp xác định hàm lượngCoban oxit
A17: 15.TCXD 141 : 1985 | B17: Thuỷ tinh - Cát để sản xuất thuỷ tinh - Phương pháp phân tích hoá học - Xác định hàm lượng niken oxyt | C17: TCVN 9182:2012 | D17: Thuỷ tinh màu - Phương pháp xác định hàm lượngNiken oxit
A18: 16.TCXD 147 : 1986 | B18: Nhà ở lắp ghép tấm lớn - Tiêu chuẩn thi công và nghiệm thu | C18: TCVN 9376:2012 | D18: Nhà ở lắp ghép tấm lớn - Thi công và nghiệm thu công tác lắp ghép
A20: 17.TCXD 149:1986 | B20: Bảo vệ kết cấu xây dựng khỏi bị ăn mòn | C20: Hủy do không còn phù hợp
A22: 18.TCXD 151 : 1986 | B22: Cátsử dụng trong công nghiệp thuỷ tinh - Yêu cầu kỹ thuật | C22: TCVN 9036:2012 | D22: Nguyên liệu để sản xuất thủy tinh cát – Yêu cầu kỹ thuật
A24: 19.TCXD 152 : 1986 | B24: Cát sử dụng trong công nghiệp thuỷ tinh - Phương pháp lấy mẫu | C24: TCVN 9037:2012 | D24: Nguyên liệu để sản xuất thủy tinh cát – Phương pháp lấy mẫu
A26: 20.TCXD 153 : 1986 | B26: Cát sử dụng trong công nghiệp thuỷ tinh - Phương pháp xác định hàm lượng silic đioxyt (SiO2) | C26: TCVN 9183:2012 | D26: Cát để sản xuất thủy tinh – Phương pháp xác định hàm lượng Silic đioxit
A28: 21.TCXD 154 : 1986 | B28: Cát sử dụng trong công nghiệp thuỷ tinh - Phương pháp xác định hàm lượng sắt oxyt (Fe2O3) | C28: TCVN 9184:2012 | D28: Cát để sản xuất thủy tinh – Phương pháp xác định hàm lượng Sắt oxit
A30: 22.TCXD 155 : 1986 | B30: Cát sử dụng trong công nghiệp thuỷ tinh - Phương pháp xác định hàm lượng nhôm oxyt (Al2O3) | C30: TCVN 9185:2012 | D30: Cát để sản xuất thủy tinh – Phương pháp xác định hàm lượng Nhôm oxit
A32: 23.TCXD 156 : 1986 | B32: Cát sử dụng trong công nghiệp thuỷ tinh - Phương pháp xác định hàm lượng titan oxyt (TiO2) | C32: TCVN 9186:2012 | D32: Cát để sản xuất thủy tinh – Phương pháp xác định hàm lượng Titan đioxit
A34: 24.TCXD 157 : 1986 | B34: Cát sử dụng trong công nghiệp thuỷ tinh - Phương pháp xác định độ ẩm | C34: TCVN 9187:2012 | D34: Cát để sản xuất thủy tinh – Phương pháp xác định hàm lượng độ ẩm
A36: 25.TCXD 158 : 1986 | B36: Cát sử dụng trong công nghiệp thuỷ tinh - Phương pháp xác định thành phần cỡ hạt | C36: TCVN 9038:2011 | D36: Nguyên liệu để sản xuất thủy tinh cát – Phương pháp xác định thành phần cỡ hạt
A37: 26.TCXD 159 : 1986 | B37: Trát đá trang trí - Thi công và nghiệm thu | C37: TCVN 9377-2:2012 | D37: (Gộp TCXD 159:1986 với TCXD 303:2006)
A38: 27.TCXD 40 : 1987 | B38: Kết cấu xây dựng và nền - Nguyên tắc cơ bản về tính toán | C38: TCVN 9379:2012 | D38: Kết cấu xây dựng và nền - Nguyên tắc cơ bản về tính toán
A39: 28.TCXD 74:1987 | B39: Đất xây dựng - Phương pháp chỉnh lý thống kê các kết quả xác định các đặc trưng của chúng | C39: TCVN 9153:2012 | D39: Đất xây dựng – Phương pháp chỉnh lý kết quả thí nghiệm mẫu đất
A40: 29.TCXD 160:1987 | B40: Khảo sát địa kỹ thuật phục vụ cho thiết kế và thi công móng cọc | C40: Hủy do không còn phù hợp
A41: 30.TCXD 163 : 1987 | B41: Nhà nâng sàn- Thi công và nghiệm thu | C41: Hủy do không còn phù hợp
A42: 31.TCXD 166 : 1989 | B42: Giàn giáo xây dựng | C42: Hủy do không còn phù hợp
A43: 32.TCXD 167:1989 | B43: Xi măng poóc lăng dùng để sản xuất tấm sóng amiăng - Xi măng - Yêu cầu kỹ thuật | C43: Hủy do không còn phù hợp
A44: 33.TCXD 169 : 1989 | B44: Nhà nâng sàn - Tiêu chuẩn thiết kế | C44: Hủy do không còn phù hợp
A45: 34.TCXD 171 : 1989 | B45: Bê tông nặng - Phương pháp không phá hoại sử dụng kết hợp máy đo siêu âm và súng bật nẩy để xác định cường độ nén | C45: TCVN 9335:2012 | D45: Bê tông nặng – Phương pháp thử không phá hủy – Xác định cường độ nén sử dụng kết hợp máy đo siêu âm và súng bật nẩy
A46: 35.TCXD 25 : 1991 | B46: Đặt đường dẫn điện trong nhà ở và công trình công cộng - Tiêu chuẩn thiết kế | C46: TCVN 9207:2012 | D46: Đặt đường dẫn điện trong nhà ở và công trình công cộng - Tiêu chuẩn thiết kế
A47: 36.TCXD 27 : 1991 | B47: Đặt thiết bị điện trong nhà ở và công trình công cộng - Tiêu chuẩn thiết kế | C47: TCVN 9206:2012 | D47: Đặt thiết bị điện trong nhà ở và công trình công cộng - Tiêu chuẩn thiết kế
A48: 37.TCXD 192 : 1996 | B48: Cửa gỗ, cửa đi, cửa sổ - Yêu cầu kỹ thuật | C48: TCN 9366-1 : 2012 | D48: Cửa đi, cửa sổ - Phần 1- Cửa gỗ
A49: 38.TCXD 193 : 1996 | B49: Dung sai trong xây dựng công trình - Các phương pháp đo kiểm công trình và cấu kiện chế sẵn của công trình | C49: TCVN 9262-1:2012 | D49: Dung sai trong xây dựng công trình – Phương pháp đo kiểm công trình và cấu kiện chế sẵn của công trình – Phần 1: Phương pháp và dụng cụ đo
C50: (ISO 7976-1:1989)
A51: 39.TCXD 200 : 1997 | B51: Nhà cao tầng - Kỹ thuật về bê tông bơm | C51: Hủy do không còn phù hợp
A52: 40.TCXD 201 : 1997 | B52: Nhà cao tầng - Kỹ thuật sử dụng giáo treo | C52: TCVN 9380:2012 | D52: Nhà cao tầng - Kỹ thuật sử dụng giáo treo
A53: 41.TCXD 202 : 1997 | B53: Nhà cao tầng - Thi công phần thân | C53: Hủy do không còn phù hợp
A55: 42.TCXD 203 : 1997 | B55: Nhà cao tầng - Kỹ thuật đo đạc phục vụ công tác thi công | C55: TCVN 9364:2012 | D55: Nhà cao tầng - Kỹ thuật đo đạc phục vụ công tác thi công
A56: 43.TCXD 208 : 1998 | B56: Đá Bazan làm phụ gia cho xi măng - Yêu cầu kỹ thuật và phương pháp thử | C56: Hủy do không còn phù hợp
A57: 44.TCXD 210 : 1998 | B57: Dung sai trong xây dựng công trình - Phương pháp đo kiểu công trình và các cấu kiện chế sẵn của công trình - vị trí các điểm đo | C57: TCVN 9264:2012 | D57: Dung sai trong xây dựng công trình - Phương pháp đo kiểm công trình và cấu kiện chế sẵn của công trình – Phần 2: Vị trí các điểm đo
C58: (ISO 7976-2:1989)
A59: 45.TCXD 211 : 1998 | B59: Dung sai trong xây dựng công trình - Giám định về kích thước và kiểm tra công tác thi công | C59: TCVN 9259-8:2012 | D59: Dung sai trong xây dựng công trình – Phần 8: Giám định về kích thước và kiểm tra công tác thi công
C60: (ISO 3443-8:1989)
A61: 46.TCXD 213 : 1998 | B61: Nhà và công trình dân dụng - Từ vựng - Thuật ngữ chung | C61: TCVN 9254-1:2012 | D61: Nhà và công trình dân dụng- Từ vựng- Phần 1: Thuật ngữ chung
C62: (ISO 6707-1: 2003)
A63: 47.TCXD 215 : 1998 | B63: Phòng cháy chữa cháy - Từ vựng - Phát hiện cháy và báo động cháy | C63: TCVN 9310-3: 2012 | D63: Phòng cháy chữa cháy - Từ vựng - Phát hiện cháy và báo động cháy
C64: (ISO 8421-3:1990)
A65: 48.TCXD 216 : 1998 | B65: Phòng cháy chữa cháy - Từ vựng - Thiết bị chữa cháy | C65: TCVN 9310-4: 2012 | D65: Phòng cháy chữa cháy - Từ vựng - Thiết bị chữa cháy
C66: (ISO 8421-4:1990)
A67: 49.TCXD 217 : 1998 | B67: Phòng cháy chữa cháy - Từ vựng - Thuật ngữ chuyên dùng cho phòng cháy chữa cháy cứu nạn và xử lý vật liệu nguy hiểm | C67: TCVN 9310-8: 2012 | D67: Phòng cháy chữa cháy - Từ vựng - Thuật ngữ chuyên dùng cho phòng cháy chữa cháy cứu nạn và xử lý vật liệu nguy hiểm
C68: (ISO 8421-8:1990)
A69: 50.TCXD 224 : 1998 | B69: Thép dùng trong bê tông cốt thép - Phương pháp thử uốn và uốn lại | C69: Sử dụng | D69: Thép thanh côt bê tông – Thử uốn và uốn lại không hoàn toàn
C70: TCVN 6287:1997
C71: (ISO 10065:1990)
A72: 51.TCXD 225 : 1998 | B72: Bê tông nặng - Đánh giá chất lượng bê tông - Phương pháp xác định vận tốc xung siêu âm | C72: TCVN 9357:2012 | D72: Bê tông nặng - Đánh giá chất lượng bê tông - Phương pháp xác định vận tốc xung siêu âm
A73: 52.TCXD 226 : 1999 | B73: Đất xây dựng - Phương pháp thí nghiệm hiện trường - Thí nghiệm xuyên tiêu chuẩn | C73: TCVN 9351:2012 | D73: Đất xây dựng - Phương phápthí nghiệm hiện trường - Thí nghiệm xuyên tiêu chuẩn (SPT)
A74: 53.TCXD 227 : 1999 | B74: Cốt thép trong bê tông - Hàn hồ quang | C74: TCVN 9392:2012 | D74: Thép cốt bê tông - Hàn hồ quang
A75: 54.TCXD 230 : 1998 | B75: Nền nhà chống nồm - Tiêu chuẩn thiết kế thi công | C75: TCVN 9359:2012 | D75: Nền nhà chống nồm - Thiết kế và thi công
A77: 55.TCXD 231 : 1999 | B77: Chất kết dính vôi - Đá bazan - Yêu cầu kỹ thuật | C77: Hủy do không còn phù hợp
A78: 56.TCXD 234 : 1999 | B78: Nối cốt thép có gờ bằng phương pháp dập ép ống nối - Hướng dẫn thiết kế thi công và nghiệm thu | C78: TCVN 9390:2012 | D78: Thép cốt bê tông – Mối nối bằng dập ép ống – Yêu cầu thiết kế thi công và nghiệm thu
A79: 57.TCXD 236 : 1999 | B79: Lớp phủ mặt kết cấu xây dựng - Phương pháp kéo đứt thử độ bám dính bền | C79: TCVN 9349:2012 | D79: Lớp phủ mặt kết cấu xây dựng - Phương pháp kéo đứt thử độ bám dính bền
A80: 58.TCXD 237 : 1999 | B80: Cửa kim loại, cửa đi, cửa sổ - Yêu cầu kỹ thuật chung | C80: TCN 9366-2 : 2012 | D80: Cửa đi, cửa sổ- Phần 2- Cửa kim loại
A81: 59.TCXD 238 : 1999 | B81: Cốt liệu bê tông - Phương pháp hóa học xác định khả năng phản ứng kiềm - silic | C81: Hủy do không còn phù hợp
A83: 60.TCXD 240 : 2000 | B83: Kết cấu bê tông cốt thép - Phương pháp điện từ xác định chiều dày bê tông bảo vệ vị trí và đường kính cốt thép trong bê tông | C83: TCVN 9356:2012 | D83: Kết cấu bê tông cốt thép - Phương pháp điện từ xác định chiều dày lớp bê tông bảo vệ, vị trí và đường kính cốt thép trong bê tông
A84: 61.TCXD 246 : 2000 | B84: Cốt liệu bê tông - Phương pháp thanh vữa xác định khả năng phản ứng kiềm - silic | C84: Hủy do không còn phù hợp
A86: 62.TCXD 247 : 2001 | B86: Dung sai trong xây dựng - Nguyên tắc cơ bản để đánh giá và yêu cầu riêng | C86: TCVN 9259-1:2012 | D86: Dung sai trong xây dựng công trình - Nguyên tắc cơ bản để đánh giá và yêu cầu kỹ thuật
A87: (ISO 3443-1:1979) | C87: (ISO 3443-1:1979)
A88: 63.TCXD 251 : 2001 | B88: Bản vẽ xây dựng - Cách thể hiện độ sai lệch giới hạn | C88: TCVN 9260 : 2012 | D88: Bản vẽ xây dựng - Cách thể hiện độ sai lệch giới hạn
C89: (ISO 6284:1996)
A90: 64.TCXD 252 : 2001 | B90: Xây dựng công trình - Dung sai - Cách thể hiện chính xác kích thước - Nguyên tắc và thuật ngữ | C90: TCVN 9261:2012 | D90: Xây dựng công trình - Dung sai - Cách thể hiện độ chính xác kích thước – Nguyên tắc và thuật ngữ
C91: (ISO 1803:1997)
A92: 65.TCXD 254 : 2001 | B92: Công trình bê tông cốt thép toàn khối xây dựng bằng cốp pha trượt - Hướng dẫn thi công và nghiệm thu | C92: TCVN 9342:2012 | D92: Công trình bê tông cốt thép toàn khối xây dựng bằng cốp pha trượt - Thi công và nghiệm thu
A93: 66.TCXD 258 : 2001 | B93: Hỗn hợp vữa xi măng không co - Yêu cầu kỹ thuật và Phương pháp thử | C93: TCVN 9204:2012 | D93: Vữa xi măng khô trộn sẵn không co
A94: 67.TCXDVN 262 : 2001 | B94: Bê tông nặng - Phương pháp xác định hàm lượng clorua trong cốt liệu bê tông | C94: TCVN 7572-15:2006 | D94: Cốt liệu cho bê tông và vữa – Phương pháp thử - Phần 15: Xác định hàm lượng clorua
A95: 68.TCXDVN 80 : 2002 | B95: Đất xây dựng - Phương pháp xác định mô đun biến dạng tại hiện trường bằng tấm nén phẳng | C95: TCVN 9354:2012 | D95: Đất xây dựng - Phương phápxác định mô đun biến dạng tại hiện trường bằng tấm nén phẳng
A96: 69.TCXDVN 167 : 2002 | B96: Xi măng để sản xuất tấm sóng Amiăng xi măng | C96: TCVN 2682:2009 | D96: Xi măng pooc lăng – Yêu cầu kỹ thuật
A97: 70.TCXDVN 263 : 2002 | B97: Lắp đặt cáp và dây điện cho các công trình công nghiệp | C97: TCVN 9208:2012 | D97: Lắp đặt cáp và dây điện cho các công trình công nghiệp
A98: 71.TCXDVN 267 : 2002 | B98: Lưới thép hàn dùng trong kết cấu bê tông cốt thép - Tiêu chuẩn thiết kế, thi công lắp đặt và nghiệm thu | C98: TCVN 9391:2012 | D98: Lưới thép hàn dùng trong kết cấu bê tông cốt thép - Tiêu chuẩn thiết kế, thi công lắp đặt và nghiệm thu
A99: 72.TCXDVN 269 : 2002 | B99: Cọc - Phương pháp thí nghiệm bằng tải trọng tĩnh ép dọc trục | C99: TCVN 9393:2012 | D99: Cọc - Phương pháp thử nghiệm tại hiện trường bằng tải trọng tĩnh ép dọc trục
A100: 73.TCXDVN 270 : 2002 | B100: Khảo sát đánh giá tình trạng nhà và công trình xây gạch đá | C100: TCVN 9378:2012 | D100: Khảo sát đánh giá tình trạng nhà và công trình xây gạch đá
A101: 74.TCXD 271 : 2002 | B101: Quy trình kỹ thuật xác định độ lún công trình dân dụng và công nghiệp bằng Phương pháp đo cao hình học | C101: TCVN 9360:2012 | D101: Quy trình kỹ thuật xác định độ lún công trình dân dụng và công nghiệp bằng Phương pháp đo cao hình học
A102: 75.TCXDVN 272 : 2002 | B102: Ống nhựa gân xoắn HDPE | C102: TCVN 9070:2012 | D102: Ống nhựa gân xoắn HDPE
A103: 76.TCXDVN 273 : 2002 | B103: Tiêu chuẩn cấp bậc công nhân kỹ thuật | C103: Hủy do không phù hợp với đối tượng tiêu chuẩn
A104: 77.TCXDVN 274 : 2002 | B104: Cấu kiện bê tông và bê tông cốt thép đúc sẵn - Phương pháp thí nghiệm gia tải để đánh giá độ bền, độ cứng và khả năng chống nứt | C104: TCVN 9347:2012 | D104: Cấu kiện bê tông và bê tông cốt thép đúc sẵn - Phương pháp thí nghiệm gia tải để đánh giá độ bền, độ cứng và khả năng chống nứt
A105: 78.TCXDVN 275 : 2002 | B105: Trường trung cấp chuyên nghiệp - Tiêu chuẩn thiết kế | C105: TCVN 4602:2012 | D105: Trường trung cấp chuyên nghiệp - Tiêu chuẩn thiết kế
A106: 79.TCXDVN 283 : 2002 | B106: Tiêu chuẩn Amiăng Crizotin để sản xuất tấm sóng amiăng xi măng | C106: TCVN 9188:2012 | D106: Amiăng Crizôtin để sản xuất tấm sóng amiăng xi măng
A108: 80.TCXDVN 284 : 2002 | B108: Định lượng các khoáng cơ bản trong clanhke xi măng poóc lăng bằng nhiễm xạ tia X - Phương pháp chuẩn | C108: TCVN 9189:2012 | D108: Định lượng các khoáng cơ bản trong clanhke xi măng pooc lăng bằng nhiễu xạ tia X theo phương pháp chuẩn
A109: 81.TCXDVN 290 : 2002 | B109: Băng chắn nước dùng trong mối nối công trình xây dựng - Yêu cầu sử dụng. | C109: TCVN 9384:2012 | D109: Băng chắn nước dùng trong mối nối công trình xây dựng - Yêu cầu sử dụng.
A110: 82.TCXDVN 291: 2002 | B110: Nguyên liệu để sản xuất thuỷ tinh xây dựng - Đá vôi dạng cục và dạng bột mịn | C110: TCVN 9039:2011 | D110: Nguyên liệu để sản xuất thủy tinh xây dựng – Đá vôi
A111: 83.TCXDVN 292 : 2002 | B111: Vật liệu cacbua silic - Phương pháp phân tích hoá học | C111: TCVN 9190:2011 | D111: Vật liệu cacbua silic - Phương pháp phân tích hoá học
A112: 84.TCXDVN 60 : 2003 | B112: Trường dạy nghề - Tiêu chuẩn thiết kế | C112: TCVN 9210:2012 | D112: Trường dạy nghề - Tiêu chuẩn thiết kế
A113: 85.TCXD 174 : 2003 | B113: Đất xây dựng – Phương pháp thí nghiệm xuyên tĩnh | C113: TCVN 9352:2012 | D113: Đất xây dựng – Phương pháp thí nghiệm xuyên tĩnh
A114: 86.TCXDVN 286 : 2003 | B114: Đóng và ép cọc - Tiêu chuẩn thi công và nghiệm thu | C114: TCVN 9394:2012 | D114: Đóng và ép cọc - Thi công và nghiệm thu
...

Sheet TC3
C4: TCVN 9361:2012 | D4: Công tác nền móng – Thi công và nghiệm thu
C5: TCVN 9335:2012 | D5: Bê tông nặng – Phương pháp thử không phá hủy – Xác định cường độ nén sử dụng kết hợp máy đo siêu âm và súng bật nẩy
C6: TCVN 9207:2012 | D6: Đặt đường dẫn điện trong nhà ở và công trình công cộng - Tiêu chuẩn thiết kế
C7: TCVN 9206:2012 | D7: Đặt thiết bị điện trong nhà ở và công trình công cộng - Tiêu chuẩn thiết kế
C8: TCN 9366-1 : 2012 | D8: Cửa đi, cửa sổ - Phần 1- Cửa gỗ
C9: TCN 9366-2 : 2012 | D9: Cửa đi, cửa sổ- Phần 2- Cửa kim loại
C10: Sử dụng | D10: Thép thanh côt bê tông – Thử uốn và uốn lại không hoàn toàn
C11: TCVN 6287:1997
C12: (ISO 10065:1990)
C13: TCVN 9392:2012 | D13: Thép cốt bê tông - Hàn hồ quang
C14: TCVN 9259-1:2012 | D14: Dung sai trong xây dựng công trình - Nguyên tắc cơ bản để đánh giá và yêu cầu kỹ thuật
C15: (ISO 3443-1:1979)
C16: TCVN 9354:2012 | D16: Đất xây dựng - Phương phápxác định mô đun biến dạng tại hiện trường bằng tấm nén phẳng
C17: TCVN 2682:2009 | D17: Xi măng pooc lăng – Yêu cầu kỹ thuật
C18: TCVN 9070:2012 | D18: Ống nhựa gân xoắn HDPE
C19: TCVN 9347:2012 | D19: Cấu kiện bê tông và bê tông cốt thép đúc sẵn - Phương pháp thí nghiệm gia tải để đánh giá độ bền, độ cứng và khả năng chống nứt
C20: TCVN 9394:2012 | D20: Đóng và ép cọc - Thi công và nghiệm thu
C21: TCVN 4506 :2012 | D21: Nước trộn bê tông và vữa - Yêu cầu kỹ thuật
C22: TCVN 9377-1:2012 | D22: Công tác hoàn thiện trong xây dựng - Thi công và nghiệm thu
D23: Phần 1 : Công tác lát và láng trong xây dựng
C24: TCVN 9377-2:2012 | D24: Công tác hoàn thiện trong xây dựng – Thi công và nghiệm thu – Phần 2: Công tác trát trong xây dựng
C26: TCVN 9377-3:2012 | D26: Công tác hoàn thiện trong xây dựng – Thi công và nghiệm thu – Phần 3: Công tác ốp trong xây dựng
C27: TCVN 9343:2012 | D27: Kết cấu bê tông và bê tông cốt thép - Hướng dẫn công tác bảo trì
C28: TCVN 9202:2012 | D28: Xi măng xây trát
C29: TCVN 8826:2011 | D29: Phụ gia hoá học cho bê tông
C30: TCVN 9395:2012 | D30: Cọc khoan nhồi - Thi công và nghiệm thu
C31: TCVN 9339:2012 | D31: Bê tông và vữa xây dựng - Phương pháp xác định PH
C32: Sử dụng tiêu chuẩn | D32: Sơn bảo vệ kết cấu thép – Qui trình thi công và nghiệm thu
C33: TCVN 8790:2011
C34: TCVN 9113 : 2012 | D34: Ống bê tông cốt thép thoát nước
C35: TCVN 9340:2012 | D35: Hỗn hợp bê tông trộn sẵn – Yêu cầu cơ bản đánh giá chất lượng và nghiệm thu
C36: TCVN 9385:2012 | D36: Chống sét cho công trình xây dựng – Hướng dẫn thiết kế, kiểm tra và bảo trì hệ thống
C37: TCVN 9115:2012 | D37: Kết cấu bê tông và bê tông cốt thép lắp ghép - Thi công và nghiệm thu
C38: TCVN 8828:2011 | D38: Bê tông - Yêu cầu bảo dưỡng ẩm tự nhiên
C39: TCVN 9116:2012 | D39: Cống hộp bê tông cốt thép
C40: TCVN 7447 (gồm 14 TCVN) | D40: Hệ thống lắp đặt điện hạ áp
C41: TCXDVN 305:2004 | D41: Bêtông khối lớn - Quy phạm thi công và nghiệm thu

Sheet tc4
A1: PHẦN TIÊU CHUẨN PHỤC VỤ CHO THI CÔNG CẦU CỐNG
A2: - Quy thi công và nghiệm thu cầu cống (QĐ166)
A3: - Cống tròn BTCT lắp ghép 22 TCN 159 – 86
A4: - Cầu và cống Quy phạm thi công và nghiệm thu 22TCN 266 – 2000.
A5: - Quy phạm kỹ thuật an toàn trong xây dựng: TCVN 5038 –1991
A6: - Kết cấu gạch đá – Quy phạm thi công và nghiệm thu TCVN 4085 – 1985
A7: - KCBT và BTCT toàn khối + Quy phạm thi công và nghiệm thu TCVN 4453 – 1995
A8: - Kết cấu BT và BTCT lắp ghép + Quy trình thi công và nghiệm thu TCVN 4452 – 1987
A9: - Tiêu chuẩn thi công – Nghiệm thu gia công lắp dựng cấu kiện thép TCXD170 – 89
A10: - Quy trình thi công và nghiệm thu dầm cầu bê tông cốt thép dự ứng lực: 22TCN247 – 98
A11: - Lan can an toàn. Điều kiện kỹ thuật: TCVN 4431 – 1987
A12: - Tiêu chuẩn thi công và nghiệm thu đóng và ép cọc: TCXDVN 326 – 2003
... A48: - Cửa kim loại – Cửa đi, cửa sổ – Yêu cầu kỹ thuật TCVN 192 – 1996
A49: =A14 -> - Sơn cầu thép và kết cấu cầu thép TC và NT: 22TCN 253– 98

Sheet PhieuBT
A1: Công trình: Thủy điện Trung Sơn | E1: Công trình: Thủy điện Trung Sơn
A2: Hạng mục: Bồi thường, hỗ trợ và tái định cư | E2: Hạng mục: Bồi thường, hỗ trợ và tái định cư
A3: Gói thầu: W-RE-01 “Xây dựng khu TĐC số 01” | E3: Gói thầu: W-RE-01 “Xây dựng khu TĐC số 01”
A4: Địa điểm xây dựng: Xã Trung Sơn, Huyện Quan Hoá, Tỉnh Thanh Hoá | E4: Địa điểm xây dựng: Xã Trung Sơn, Huyện Quan Hoá, Tỉnh Thanh Hoá
A6: PHIẾU LẤY MẪU BÊ TÔNG | E6: PHIẾU LẤY MẪU BÊ TÔNG
A8: Đối tượng lấy mẫu | E8: Đối tượng lấy mẫu
A9: Vị trí lấy mẫu | E9: Vị trí lấy mẫu
A10: Số tổ mẫu …….. Tổ | B10: Ký hiệu mẫu :………………………………………………….. | E10: Số tổ mẫu …….. Tổ | F10: Ký hiệu mẫu :…………………………………………………..
A11: Mác bê tông thiết kế | E11: Mác bê tông thiết kế
A12: Ngày đúc mẫu | B12: …….. / …….. / 2014 | E12: Ngày đúc mẫu | F12: …….. / …….. / 2014
A13: Ngày nén mẫu R7 : …….. / …….. / 2014 ; Ngày nén mẫu R28 : …….. / …….. / 2014 | E13: Ngày nén mẫu R7 : …….. / …….. / 2014 ; Ngày nén mẫu R28 : …….. / …….. / 2014
A15: KIỂM TRA CỦA CHỦ ĐẦU TƯ | B15: TƯ VẤN GIÁM SÁT | E15: KIỂM TRA CỦA CHỦ ĐẦU TƯ | F15: TƯ VẤN GIÁM SÁT
A20: ĐƠN VỊ THI CÔNG | B20: ĐƠN VỊ THÍ NGHIỆM | E20: ĐƠN VỊ THI CÔNG | F20: ĐƠN VỊ THÍ NGHIỆM
A27: Công trình: Thủy điện Trung Sơn | E27: Công trình: Thủy điện Trung Sơn
A28: Hạng mục: Bồi thường, hỗ trợ và tái định cư | E28: Hạng mục: Bồi thường, hỗ trợ và tái định cư
A29: Gói thầu: W-RE-01 “Xây dựng khu TĐC số 01” | E29: Gói thầu: W-RE-01 “Xây dựng khu TĐC số 01”
A30: Địa điểm xây dựng: Xã Trung Sơn, Huyện Quan Hoá, Tỉnh Thanh Hoá | E30: Địa điểm xây dựng: Xã Trung Sơn, Huyện Quan Hoá, Tỉnh Thanh Hoá
A32: PHIẾU LẤY MẪU BÊ TÔNG | E32: PHIẾU LẤY MẪU BÊ TÔNG
A34: Đối tượng lấy mẫu | E34: Đối tượng lấy mẫu
A35: Vị trí lấy mẫu | E35: Vị trí lấy mẫu
A36: Số tổ mẫu …….. Tổ | B36: Ký hiệu mẫu :………………………………………………….. | E36: Số tổ mẫu …….. Tổ | F36: Ký hiệu mẫu :…………………………………………………..
A37: Mác bê tông thiết kế | E37: Mác bê tông thiết kế
A38: Ngày đúc mẫu | B38: …….. / …….. / 2014 | E38: Ngày đúc mẫu | F38: …….. / …….. / 2014
A39: Ngày nén mẫu R7 : …….. / …….. / 2014 ; Ngày nén mẫu R28 : …….. / …….. / 2014 | E39: Ngày nén mẫu R7 : …….. / …….. / 2014 ; Ngày nén mẫu R28 : …….. / …….. / 2014
A41: KIỂM TRA CỦA CHỦ ĐẦU TƯ | B41: TƯ VẤN GIÁM SÁT | E41: KIỂM TRA CỦA CHỦ ĐẦU TƯ | F41: TƯ VẤN GIÁM SÁT
A46: ĐƠN VỊ THI CÔNG | B46: ĐƠN VỊ THÍ NGHIỆM | E46: ĐƠN VỊ THI CÔNG | F46: ĐƠN VỊ THÍ NGHIỆM
A53: Công trình: Thủy điện Trung Sơn | E53: Công trình: Thủy điện Trung Sơn
A54: Hạng mục: Bồi thường, hỗ trợ và tái định cư | E54: Hạng mục: Bồi thường, hỗ trợ và tái định cư
A55: Gói thầu: W-RE-01 “Xây dựng khu TĐC số 01” | E55: Gói thầu: W-RE-01 “Xây dựng khu TĐC số 01”
A56: Địa điểm xây dựng: Xã Trung Sơn, Huyện Quan Hoá, Tỉnh Thanh Hoá | E56: Địa điểm xây dựng: Xã Trung Sơn, Huyện Quan Hoá, Tỉnh Thanh Hoá
A58: PHIẾU LẤY MẪU BÊ TÔNG | E58: PHIẾU LẤY MẪU BÊ TÔNG
A60: Đối tượng lấy mẫu | E60: Đối tượng lấy mẫu
A61: Vị trí lấy mẫu | E61: Vị trí lấy mẫu
A62: Số tổ mẫu …….. Tổ | B62: Ký hiệu mẫu :………………………………………………….. | E62: Số tổ mẫu …….. Tổ | F62: Ký hiệu mẫu :…………………………………………………..
A63: Mác bê tông thiết kế | E63: Mác bê tông thiết kế
A64: Ngày đúc mẫu | B64: …….. / …….. / 2014 | E64: Ngày đúc mẫu | F64: …….. / …….. / 2014
A65: Ngày nén mẫu R7 : …….. / …….. / 2014 ; Ngày nén mẫu R28 : …….. / …….. / 2014 | E65: Ngày nén mẫu R7 : …….. / …….. / 2014 ; Ngày nén mẫu R28 : …….. / …….. / 2014
A67: KIỂM TRA CỦA CHỦ ĐẦU TƯ | B67: TƯ VẤN GIÁM SÁT | E67: KIỂM TRA CỦA CHỦ ĐẦU TƯ | F67: TƯ VẤN GIÁM SÁT
A72: ĐƠN VỊ THI CÔNG | B72: ĐƠN VỊ THÍ NGHIỆM | E72: ĐƠN VỊ THI CÔNG | F72: ĐƠN VỊ THÍ NGHIỆM

Sheet PhieuVUA
A1: Công trình: Thủy điện Trung Sơn | E1: Công trình: Thủy điện Trung Sơn
A2: Hạng mục: Bồi thường, hỗ trợ và tái định cư | E2: Hạng mục: Bồi thường, hỗ trợ và tái định cư
A3: Gói thầu: W-RE-01 “Xây dựng khu TĐC số 01” | E3: Gói thầu: W-RE-01 “Xây dựng khu TĐC số 01”
A4: Địa điểm xây dựng: Xã Trung Sơn, Huyện Quan Hoá, Tỉnh Thanh Hoá | E4: Địa điểm xây dựng: Xã Trung Sơn, Huyện Quan Hoá, Tỉnh Thanh Hoá
A6: PHIẾU LẤY MẪU VỮA | E6: PHIẾU LẤY MẪU VỮA
A8: Đối tượng lấy mẫu | E8: Đối tượng lấy mẫu
A9: Vị trí lấy mẫu | E9: Vị trí lấy mẫu
A10: Số tổ mẫu …….. Tổ | B10: Ký hiệu mẫu :………………………………………………….. | E10: Số tổ mẫu …….. Tổ | F10: Ký hiệu mẫu :…………………………………………………..
A11: Mác vữa thiết kế | E11: Mác vữa thiết kế
A12: Ngày đúc mẫu | B12: …….. / …….. / 2014 | E12: Ngày đúc mẫu | F12: …….. / …….. / 2014
A13: Ngày nén mẫu R7 : …….. / …….. / 2014 ; Ngày nén mẫu R28 : …….. / …….. / 2014 | E13: Ngày nén mẫu R7 : …….. / …….. / 2014 ; Ngày nén mẫu R28 : …….. / …….. / 2014
A15: KIỂM TRA CỦA CHỦ ĐẦU TƯ | B15: TƯ VẤN GIÁM SÁT | E15: KIỂM TRA CỦA CHỦ ĐẦU TƯ | F15: TƯ VẤN GIÁM SÁT
A20: ĐƠN VỊ THI CÔNG | B20: ĐƠN VỊ THÍ NGHIỆM | E20: ĐƠN VỊ THI CÔNG | F20: ĐƠN VỊ THÍ NGHIỆM
A27: PHIẾU LẤY MẪU VỮA | E27: PHIẾU LẤY MẪU VỮA
A29: Đối tượng lấy mẫu | E29: Đối tượng lấy mẫu
A30: Vị trí lấy mẫu | E30: Vị trí lấy mẫu
A31: Số tổ mẫu …….. Tổ | B31: Ký hiệu mẫu :………………………………………………….. | E31: Số tổ mẫu …….. Tổ | F31: Ký hiệu mẫu :…………………………………………………..
A32: Mác vữa thiết kế | E32: Mác vữa thiết kế
A33: Ngày đúc mẫu | B33: …….. / …….. / 2014 | E33: Ngày đúc mẫu | F33: …….. / …….. / 2014
A34: Ngày nén mẫu R7 : …….. / …….. / 2014 ; Ngày nén mẫu R28 : …….. / …….. / 2014 | E34: Ngày nén mẫu R7 : …….. / …….. / 2014 ; Ngày nén mẫu R28 : …….. / …….. / 2014
A36: KIỂM TRA CỦA CHỦ ĐẦU TƯ | B36: TƯ VẤN GIÁM SÁT | E36: KIỂM TRA CỦA CHỦ ĐẦU TƯ | F36: TƯ VẤN GIÁM SÁT
A41: ĐƠN VỊ THI CÔNG | B41: ĐƠN VỊ THÍ NGHIỆM | E41: ĐƠN VỊ THI CÔNG | F41: ĐƠN VỊ THÍ NGHIỆM
A47: PHIẾU LẤY MẪU VỮA | E47: PHIẾU LẤY MẪU VỮA
A49: Đối tượng lấy mẫu | E49: Đối tượng lấy mẫu
A50: Vị trí lấy mẫu | E50: Vị trí lấy mẫu
A51: Số tổ mẫu …….. Tổ | B51: Ký hiệu mẫu :………………………………………………….. | E51: Số tổ mẫu …….. Tổ | F51: Ký hiệu mẫu :…………………………………………………..
A52: Mác vữa thiết kế | E52: Mác vữa thiết kế
A53: Ngày đúc mẫu | B53: …….. / …….. / 2014 | E53: Ngày đúc mẫu | F53: …….. / …….. / 2014
A54: Ngày nén mẫu R7 : …….. / …….. / 2014 ; Ngày nén mẫu R28 : …….. / …….. / 2014 | E54: Ngày nén mẫu R7 : …….. / …….. / 2014 ; Ngày nén mẫu R28 : …….. / …….. / 2014
A56: KIỂM TRA CỦA CHỦ ĐẦU TƯ | B56: TƯ VẤN GIÁM SÁT | E56: KIỂM TRA CỦA CHỦ ĐẦU TƯ | F56: TƯ VẤN GIÁM SÁT
A61: ĐƠN VỊ THI CÔNG | B61: ĐƠN VỊ THÍ NGHIỆM | E61: ĐƠN VỊ THI CÔNG | F61: ĐƠN VỊ THÍ NGHIỆM
A67: PHIẾU LẤY MẪU VỮA | E67: PHIẾU LẤY MẪU VỮA
A69: Đối tượng lấy mẫu | E69: Đối tượng lấy mẫu
A70: Vị trí lấy mẫu | E70: Vị trí lấy mẫu
A71: Số tổ mẫu …….. Tổ | B71: Ký hiệu mẫu :………………………………………………….. | E71: Số tổ mẫu …….. Tổ | F71: Ký hiệu mẫu :…………………………………………………..
A72: Mác vữa thiết kế | E72: Mác vữa thiết kế
A73: Ngày đúc mẫu | B73: …….. / …….. / 2014 | E73: Ngày đúc mẫu | F73: …….. / …….. / 2014
A74: Ngày nén mẫu R7 : …….. / …….. / 2014 ; Ngày nén mẫu R28 : …….. / …….. / 2014 | E74: Ngày nén mẫu R7 : …….. / …….. / 2014 ; Ngày nén mẫu R28 : …….. / …….. / 2014
A76: KIỂM TRA CỦA CHỦ ĐẦU TƯ | B76: TƯ VẤN GIÁM SÁT | E76: KIỂM TRA CỦA CHỦ ĐẦU TƯ | F76: TƯ VẤN GIÁM SÁT
A81: ĐƠN VỊ THI CÔNG | B81: ĐƠN VỊ THÍ NGHIỆM | E81: ĐƠN VỊ THI CÔNG | F81: ĐƠN VỊ THÍ NGHIỆM

Sheet DATA
B1: NHẬP DỮ LIỆU CHO MỤC ĐỔ BÊ TÔNG
B2: *MH | C2: XI MĂNG | D2: CÁT | E2: ĐÁ | F2: THÉP | G2: KL BT TK | H2: MÁC BT | I2: KL THÉP | J2: ĐỘ C | K2: MẪU 1 | L2: MẪU 2 | M2: MẪU 3 | N2: MÃ NHÀ | P2: NỘI DUNG
B3: 1 | C3: The Vissai PCB30 | D3: vàng bê tông | E3: Đá 4x6cm | F3: Shengly | G3: 8.63 | H3: Bê tông mác 100# | I3: 0 | J3: 29 độ C | K3: 1 | L3: =K3+1 -> 2 | M3: =L3+1 -> 3 | N3: TH3PC | P3: =VLOOKUP($B3,VLDV,4,0) -> Vật liệu trước khi đổ bê tông lót móng
B4: 2 | C4: The Vissai PCB30 | D4: vàng bê tông | E4: Đá 1x2cm | F4: Shengly | G4: 2.05 | H4: Bê tông mác 200# | I4: =(170.35+26.97) -> 197.32 | J4: 29 độ C | K4: =M3+1 -> 4 | L4: =K4+1 -> 5 | M4: =L4+1 -> 6 | N4: =N3 -> TH3PC | P4: =VLOOKUP($B4,VLDV,4,0) -> Vật liệu trước khi đổ bê tông giằng móng
B5: 3 | C5: The Vissai PCB30 | D5: vàng bê tông | E5: Đá 1x2cm | F5: Shengly | G5: 0.78 | H5: Bê tông mác 200# | I5: =0.06*1000 -> 60 | J5: 28 độ C | K5: =M4+1 -> 7 | L5: =K5+1 -> 8 | M5: =L5+1 -> 9 | N5: =N4 -> TH3PC | P5: =VLOOKUP($B5,VLDV,4,0) -> Vật liệu trước khi đổ bê tông lanh tô cửa sổ và cửa đi
B6: 4 | C6: The Vissai PCB30 | D6: vàng bê tông | E6: Đá 1x2cm | F6: Shengly | G6: 23.98 | H6: Bê tông mác 200# | I6: =2.09*1000 -> 2090 | J6: 29 độ C | K6: =M5+1 -> 10 | L6: =K6+1 -> 11 | M6: =L6+1 -> 12 | N6: =N5 -> TH3PC | P6: =VLOOKUP($B6,VLDV,4,0) -> Vật liệu trước khi đổ bê tông dầm D1, D2, D3, D4, D4A, D4B, bê tông sàn, sê nô thu nước
B7: 5 | C7: The Vissai PCB30 | D7: vàng bê tông | E7: Đá 1x2cm | F7: Shengly | G7: 1.11 | H7: Bê tông mác 200# | I7: =0.08*1000 -> 80 | J7: 29 độ C | K7: =M6+1 -> 13 | L7: =K7+1 -> 14 | M7: =L7+1 -> 15 | N7: =N6 -> TH3PC | P7: =VLOOKUP($B7,VLDV,4,0) -> Vật liệu trước khi đổ bê tông giằng tường thu hồi
B8: 6 | C8: The Vissai PCB30 | D8: vàng bê tông | E8: Đá 1x2cm | F8: Shengly | G8: 0.68 | H8: Bê tông mác 200# | I8: =0.12*1000 -> 120 | J8: 28 độ C | K8: =M7+1 -> 16 | L8: =K8+1 -> 17 | M8: =L8+1 -> 18 | N8: =N7 -> TH3PC | P8: =VLOOKUP($B8,VLDV,4,0) -> Vật liệu trước khi đổ bê tông Lam trang trí
B9: 7 | P9: =VLOOKUP($B9,VLDV,4,0) -> #N/A
B10: 8 | P10: =VLOOKUP($B10,VLDV,4,0) -> #N/A
B11: 9 | P11: =VLOOKUP($B11,VLDV,4,0) -> #N/A
B12: 10 | P12: =VLOOKUP($B12,VLDV,4,0) -> #N/A
B13: 11 | P13: =VLOOKUP($B13,VLDV,4,0) -> #N/A
B14: 12 | P14: =VLOOKUP($B14,VLDV,4,0) -> #N/A
B15: 13 | P15: =VLOOKUP($B15,VLDV,4,0) -> #N/A
B16: 14 | P16: =VLOOKUP($B16,VLDV,4,0) -> #N/A
B17: 15 | P17: =VLOOKUP($B17,VLDV,4,0) -> #N/A
B18: NHẬP DỮ LIỆU CHO MỤC XÂY
B19: *MH | C19: MÁC VỮA | D19: KL XÂY TT | E19: KL VỮA ĐM | F19: ĐM VẬT LIỆU | G19: MẪU V1 | H19: MẪU V2 | I19: MẪU V3 | J19: Loại VL
B20: 1 | C20: Mác 75 | D20: 44.63 | E20: 0.42 | F20: 1.2 | G20: 1 | H20: 2 | I20: 3 | J20: Đá hộc | P20: =VLOOKUP($B20,VLXAY,4,0) -> Vật liệu trước khi xây móng đá hộc
B21: 2 | C21: Mác 50 | D21: 27.25 | E21: 0.29 | F21: 550 | G21: =I20+1 -> 4 | H21: =G21+1 -> 5 | I21: =H21+1 -> 6 | J21: Gạch | P21: =VLOOKUP($B21,VLXAY,4,0) -> Vật liệu trước khi xây tường, xây cột (từ cốt 0.00 đến cốt lanh tô)
B22: 3 | C22: Mác 50 | D22: 19.37 | E22: 0.29 | F22: 550 | G22: =I21+1 -> 7 | H22: =G22+1 -> 8 | I22: =H22+1 -> 9 | J22: Gạch | P22: =VLOOKUP($B22,VLXAY,4,0) -> Vật liệu trước khi xây tường, xây cột (từ cốt lanh tô đến cốt +3.60)
B23: 4 | C23: Mác 75 | D23: 11.2 | E23: 0.29 | F23: 550 | G23: =I22+1 -> 10 | H23: =G23+1 -> 11 | I23: =H23+1 -> 12 | J23: Gạch | P23: =VLOOKUP($B23,VLXAY,4,0) -> Vật liệu trước khi xây tường thu hồi, tường chắn mái
B24: 5 | P24: =VLOOKUP($B24,VLXAY,4,0) -> #N/A
B25: 6 | P25: =VLOOKUP($B25,VLXAY,4,0) -> #N/A
B26: 7 | P26: =VLOOKUP($B26,VLXAY,4,0) -> #N/A
B27: 8 | P27: =VLOOKUP($B27,VLXAY,4,0) -> #N/A
B28: 9 | P28: =VLOOKUP($B28,VLXAY,4,0) -> #N/A
B29: 10 | P29: =VLOOKUP($B29,VLXAY,4,0) -> #N/A
B31: THÀNH PHẦN
B32: *MH | C32: CĐT | E32: TVGS | G32: ĐVTC | I32: ĐVTN
B33: Tên | C33: .......................................... | E33: .......................................... | G33: Lê Văn Thái | I33: Giáp Văn Định
B38: CHỨC VỤ
C39: CĐT | E39: TVGS | G39: ĐVTC | I39: DVTN
B40: CV | C40: ................................. | E40: ................................. | G40: Cán bộ kỹ thuật | I40: Thí nghiệm viên

Sheet 2.VL
A1: LIST | B1: SHBB | C1: MH | D1: Nội dung công việc | E1: Vị trí | F1: Điểm TĐC | G1: Số hiệu PYC | H1: Số hiệu NTCV | I1: DATE PYC | J1: MONTH PYC | K1: Ngày PYC | L1: H-START | M1: H-END | N1: DATE NTCV | O1: MONTH NTCV | P1: Ngày NTCV | Q1: CĐT | R1: ĐVTC | S1: XI MĂNG | T1: CÁT | U1: ĐÁ | V1: THÉP | W1: KL BÊ TÔNG TK | X1: KL BÊ TÔNG NT | Y1: MÁC BT | Z1: XI ĐM(kg) | AA1: CÁT ĐM(m3) | AB1: ĐÁ ĐM(m3) | AC1: NƯỚC ĐM(lít) | AE1: XI NT | AF1: CÁT NT | AG1: ĐÁ NT | AH1: NƯỚC NT | AI1: THÉP NT | AJ1: XI TT | AK1: CÁT TT | AL1: ĐÁ TT | AM1: NƯỚC TT | AN1: THÉP TT | AP1: VXM M50# | AQ1: Gạch vỡ | AR1: >>>> | AS1: VXM-TT | AT1: Gạch vỡ-TT | AU1: Cấp phối VXM50 | AV1: Xi_CP | AW1: Cát_CP | AX1: Nước_CP | AY1: Xi_GV_TT | AZ1: Cát_GV_TT | BA1: Gạch_GV_TT | BB1: Nước_GV_TT | BC1: Xi_GV_NT | BD1: Cát_GV_NT | BE1: Gạch_GV_NT | BF1: Nước_GV_NT
A2: 1 | C2: VLBT1 | D2: =VLOOKUP($C2,TUANBV,2,0) -> Vật liệu trước khi đổ bê tông lót móng | E2: =VLOOKUP($C2,TUANBV,3,0) -> Nhà tiểu học 3 phòng | F2: =VLOOKUP($C2,TUANBV,4,0) -> Điểm TĐC Pom Chốn | G2: =VLOOKUP($C2,TUANBV,5,0) -> 2/VLTH3PC | H2: =VLOOKUP($C2,TUANBV,6,0) -> 2/VLTH3PC | I2: =VLOOKUP($C2,TUANBV,7,0) -> 18 | J2: =VLOOKUP($C2,TUANBV,8,0) -> 08 | K2: =VLOOKUP($C2,TUANBV,9,0) -> 41869 | L2: =VLOOKUP($C2,TUANBV,10,0) -> 08 giờ 00 | M2: =VLOOKUP($C2,TUANBV,11,0) -> 09 giờ 00 | N2: =VLOOKUP($C2,TUANBV,12,0) -> 19 | O2: =VLOOKUP($C2,TUANBV,13,0) -> 08 | P2: =VLOOKUP($C2,TUANBV,14,0) -> 41870 | Q2: =VLOOKUP($C2,TUANBV,15,0) -> Nguyễn Xuân Quỳnh | R2: =VLOOKUP($C2,TUANBV,16,0) -> Lê Văn Thái | S2: =VLOOKUP($A2,BANGBT,2,0) -> The Vissai PCB30 | T2: =VLOOKUP($A2,BANGBT,3,0) -> vàng bê tông | U2: =VLOOKUP($A2,BANGBT,4,0) -> Đá 4x6cm | V2: =VLOOKUP($A2,BANGBT,5,0) -> Shengly | W2: =VLOOKUP($A2,BANGBT,6,0) -> 8.63 | X2: 8,17 | Y2: =VLOOKUP($A2,BANGBT,7,0) -> Bê tông mác 100# | Z2: =VLOOKUP($Y2,CPBT,2,0) -> 187 | AA2: =VLOOKUP($Y2,CPBT,3,0) -> 0.502 | AB2: =VLOOKUP($Y2,CPBT,4,0) -> 0.898 | AC2: =VLOOKUP($Y2,CPBT,5,0) -> 175 | AE2: 1.527,79 | AF2: 4,1 | AG2: 7,34 | AH2: 1.429,75 | AI2: 0 | AJ2: =ROUND($W2*Z2,2) -> 1613.81 | AK2: =ROUND($W2*AA2,2) -> 4.33 | AL2: =ROUND($W2*AB2,2) -> 7.75 | AM2: =ROUND($W2*AC2,2) -> 1510.25 | AN2: =VLOOKUP($A2,BANGBT,8,0) -> 0
A3: 2 | C3: VLBT2 | D3: =VLOOKUP($C3,TUANBV,2,0) -> Vật liệu trước khi đổ bê tông giằng móng | E3: =VLOOKUP($C3,TUANBV,3,0) -> Nhà tiểu học 3 phòng | F3: =VLOOKUP($C3,TUANBV,4,0) -> Điểm TĐC Pom Chốn | G3: =VLOOKUP($C3,TUANBV,5,0) -> 4/VLTH3PC | H3: =VLOOKUP($C3,TUANBV,6,0) -> 4/VLTH3PC | I3: =VLOOKUP($C3,TUANBV,7,0) -> 26 | J3: =VLOOKUP($C3,TUANBV,8,0) -> 08 | K3: =VLOOKUP($C3,TUANBV,9,0) -> 41877 | L3: =VLOOKUP($C3,TUANBV,10,0) -> 08 giờ 00 | M3: =VLOOKUP($C3,TUANBV,11,0) -> 09 giờ 00 | N3: =VLOOKUP($C3,TUANBV,12,0) -> 27 | O3: =VLOOKUP($C3,TUANBV,13,0) -> 08 | P3: =VLOOKUP($C3,TUANBV,14,0) -> 41878 | Q3: =VLOOKUP($C3,TUANBV,15,0) -> Nguyễn Xuân Quỳnh | R3: =VLOOKUP($C3,TUANBV,16,0) -> Lê Văn Thái | S3: =VLOOKUP($A3,BANGBT,2,0) -> The Vissai PCB30 | T3: =VLOOKUP($A3,BANGBT,3,0) -> vàng bê tông | U3: =VLOOKUP($A3,BANGBT,4,0) -> Đá 1x2cm | V3: =VLOOKUP($A3,BANGBT,5,0) -> Shengly | W3: =VLOOKUP($A3,BANGBT,6,0) -> 2.05 | X3: 0,72 | Y3: =VLOOKUP($A3,BANGBT,7,0) -> Bê tông mác 200# | Z3: =VLOOKUP($Y3,CPBT,2,0) -> 341 | AA3: =VLOOKUP($Y3,CPBT,3,0) -> 0.45 | AB3: =VLOOKUP($Y3,CPBT,4,0) -> 0.866 | AC3: =VLOOKUP($Y3,CPBT,5,0) -> 195 | AE3: 245,52 | AF3: 0,32 | AG3: 0,62 | AH3: 140,40 | AI3: 122,08 | AJ3: =ROUND($W3*Z3,2) -> 699.05 | AK3: =ROUND($W3*AA3,2) -> 0.92 | AL3: =ROUND($W3*AB3,2) -> 1.78 | AM3: =ROUND($W3*AC3,2) -> 399.75 | AN3: =VLOOKUP($A3,BANGBT,8,0) -> 197.32
A4: 3 | C4: VLBT3 | D4: =VLOOKUP($C4,TUANBV,2,0) -> Vật liệu trước khi đổ bê tông lanh tô cửa sổ và cửa đi | E4: =VLOOKUP($C4,TUANBV,3,0) -> Nhà tiểu học 3 phòng | F4: =VLOOKUP($C4,TUANBV,4,0) -> Điểm TĐC Pom Chốn | G4: =VLOOKUP($C4,TUANBV,5,0) -> 6/VLTH3PC | H4: =VLOOKUP($C4,TUANBV,6,0) -> 6/VLTH3PC | I4: =VLOOKUP($C4,TUANBV,7,0) -> ….. | J4: =VLOOKUP($C4,TUANBV,8,0) -> ….. | K4: =VLOOKUP($C4,TUANBV,9,0) -> -1 | L4: =VLOOKUP($C4,TUANBV,10,0) -> …..giờ….. | M4: =VLOOKUP($C4,TUANBV,11,0) -> …..giờ….. | N4: =VLOOKUP($C4,TUANBV,12,0) -> ….. | O4: =VLOOKUP($C4,TUANBV,13,0) -> ….. | P4: =VLOOKUP($C4,TUANBV,14,0) -> 0 | Q4: =VLOOKUP($C4,TUANBV,15,0) -> Nguyễn Xuân Quỳnh | R4: =VLOOKUP($C4,TUANBV,16,0) -> Lê Văn Thái | S4: =VLOOKUP($A4,BANGBT,2,0) -> The Vissai PCB30 | T4: =VLOOKUP($A4,BANGBT,3,0) -> vàng bê tông | U4: =VLOOKUP($A4,BANGBT,4,0) -> Đá 1x2cm | V4: =VLOOKUP($A4,BANGBT,5,0) -> Shengly | W4: =VLOOKUP($A4,BANGBT,6,0) -> 0.78 | X4: 1,09 | Y4: =VLOOKUP($A4,BANGBT,7,0) -> Bê tông mác 200# | Z4: =VLOOKUP($Y4,CPBT,2,0) -> 341 | AA4: =VLOOKUP($Y4,CPBT,3,0) -> 0.45 | AB4: =VLOOKUP($Y4,CPBT,4,0) -> 0.866 | AC4: =VLOOKUP($Y4,CPBT,5,0) -> 195 | AE4: 371,69 | AF4: 0,49 | AG4: 0,94 | AH4: 212,55 | AI4: 142,56 | AJ4: =ROUND($W4*Z4,2) -> 265.98 | AK4: =ROUND($W4*AA4,2) -> 0.35 | AL4: =ROUND($W4*AB4,2) -> 0.68 | AM4: =ROUND($W4*AC4,2) -> 152.1 | AN4: =VLOOKUP($A4,BANGBT,8,0) -> 60
A5: 4 | C5: VLBT4 | D5: =VLOOKUP($C5,TUANBV,2,0) -> Vật liệu trước khi đổ bê tông dầm D1, D2, D3, D4, D4A, D4B, bê tông sàn, sê nô thu nước | E5: =VLOOKUP($C5,TUANBV,3,0) -> Nhà tiểu học 3 phòng | F5: =VLOOKUP($C5,TUANBV,4,0) -> Điểm TĐC Pom Chốn | G5: =VLOOKUP($C5,TUANBV,5,0) -> 8/VLTH3PC | H5: =VLOOKUP($C5,TUANBV,6,0) -> 8/VLTH3PC | I5: =VLOOKUP($C5,TUANBV,7,0) -> ….. | J5: =VLOOKUP($C5,TUANBV,8,0) -> ….. | K5: =VLOOKUP($C5,TUANBV,9,0) -> -1 | L5: =VLOOKUP($C5,TUANBV,10,0) -> …..giờ….. | M5: =VLOOKUP($C5,TUANBV,11,0) -> …..giờ….. | N5: =VLOOKUP($C5,TUANBV,12,0) -> ….. | O5: =VLOOKUP($C5,TUANBV,13,0) -> ….. | P5: =VLOOKUP($C5,TUANBV,14,0) -> 0 | Q5: =VLOOKUP($C5,TUANBV,15,0) -> Nguyễn Xuân Quỳnh | R5: =VLOOKUP($C5,TUANBV,16,0) -> Lê Văn Thái | S5: =VLOOKUP($A5,BANGBT,2,0) -> The Vissai PCB30 | T5: =VLOOKUP($A5,BANGBT,3,0) -> vàng bê tông | U5: =VLOOKUP($A5,BANGBT,4,0) -> Đá 1x2cm | V5: =VLOOKUP($A5,BANGBT,5,0) -> Shengly | W5: =VLOOKUP($A5,BANGBT,6,0) -> 23.98 | X5: 2,01 | Y5: =VLOOKUP($A5,BANGBT,7,0) -> Bê tông mác 200# | Z5: =VLOOKUP($Y5,CPBT,2,0) -> 341 | AA5: =VLOOKUP($Y5,CPBT,3,0) -> 0.45 | AB5: =VLOOKUP($Y5,CPBT,4,0) -> 0.866 | AC5: =VLOOKUP($Y5,CPBT,5,0) -> 195 | AE5: 685,41 | AF5: 0,9 | AG5: 1,74 | AH5: 391,95 | AI5: 225,09 | AJ5: =ROUND($W5*Z5,2) -> 8177.18 | AK5: =ROUND($W5*AA5,2) -> 10.79 | AL5: =ROUND($W5*AB5,2) -> 20.77 | AM5: =ROUND($W5*AC5,2) -> 4676.1 | AN5: =VLOOKUP($A5,BANGBT,8,0) -> 2090 | AP5: 0.538 | AQ5: 0.893 | AS5: =W5*AP5 -> 12.90124 | AT5: =W5*AQ5 -> 21.41414 | AV5: 230.02 | AW5: 1.12 | AX5: 260 | AY5: =ROUND(AS5*AV5,2) -> 2967.54 | AZ5: =ROUND(AS5*AW5,2) -> 14.45 | BA5: =ROUND(AT5,2) -> 21.41 | BB5: =ROUND(AX5*AS5,2) -> 3354.32 | BC5: 1.206,57 | BD5: 5,87 | BE5: 8,71 | BF5: 1.363,83
A6: 5 | C6: VLBT5 | D6: =VLOOKUP($C6,TUANBV,2,0) -> Vật liệu trước khi đổ bê tông giằng tường thu hồi | E6: =VLOOKUP($C6,TUANBV,3,0) -> Nhà tiểu học 3 phòng | F6: =VLOOKUP($C6,TUANBV,4,0) -> Điểm TĐC Pom Chốn | G6: =VLOOKUP($C6,TUANBV,5,0) -> 10/VLTH3PC | H6: =VLOOKUP($C6,TUANBV,6,0) -> 10/VLTH3PC | I6: =VLOOKUP($C6,TUANBV,7,0) -> ….. | J6: =VLOOKUP($C6,TUANBV,8,0) -> ….. | K6: =VLOOKUP($C6,TUANBV,9,0) -> -1 | L6: =VLOOKUP($C6,TUANBV,10,0) -> …..giờ….. | M6: =VLOOKUP($C6,TUANBV,11,0) -> …..giờ….. | N6: =VLOOKUP($C6,TUANBV,12,0) -> ….. | O6: =VLOOKUP($C6,TUANBV,13,0) -> ….. | P6: =VLOOKUP($C6,TUANBV,14,0) -> 0 | Q6: =VLOOKUP($C6,TUANBV,15,0) -> .......................................... | R6: =VLOOKUP($C6,TUANBV,16,0) -> Lê Văn Thái | S6: =VLOOKUP($A6,BANGBT,2,0) -> The Vissai PCB30 | T6: =VLOOKUP($A6,BANGBT,3,0) -> vàng bê tông | U6: =VLOOKUP($A6,BANGBT,4,0) -> Đá 1x2cm | V6: =VLOOKUP($A6,BANGBT,5,0) -> Shengly | W6: =VLOOKUP($A6,BANGBT,6,0) -> 1.11 | X6: 0,66 | Y6: =VLOOKUP($A6,BANGBT,7,0) -> Bê tông mác 200# | Z6: =VLOOKUP($Y6,CPBT,2,0) -> 341 | AA6: =VLOOKUP($Y6,CPBT,3,0) -> 0.45 | AB6: =VLOOKUP($Y6,CPBT,4,0) -> 0.866 | AC6: =VLOOKUP($Y6,CPBT,5,0) -> 195 | AE6: 225,06 | AF6: 0,3 | AG6: 0,57 | AH6: 128,7 | AI6: 45,68 | AJ6: =ROUND($W6*Z6,2) -> 378.51 | AK6: =ROUND($W6*AA6,2) -> 0.5 | AL6: =ROUND($W6*AB6,2) -> 0.96 | AM6: =ROUND($W6*AC6,2) -> 216.45 | AN6: =VLOOKUP($A6,BANGBT,8,0) -> 80
A7: 6 | C7: VLBT6 | D7: =VLOOKUP($C7,TUANBV,2,0) -> Vật liệu trước khi đổ bê tông Lam trang trí | E7: =VLOOKUP($C7,TUANBV,3,0) -> Nhà tiểu học 3 phòng | F7: =VLOOKUP($C7,TUANBV,4,0) -> Điểm TĐC Pom Chốn | G7: =VLOOKUP($C7,TUANBV,5,0) -> 11/VLTH3PC | H7: =VLOOKUP($C7,TUANBV,6,0) -> 11/VLTH3PC | I7: =VLOOKUP($C7,TUANBV,7,0) -> ….. | J7: =VLOOKUP($C7,TUANBV,8,0) -> ….. | K7: =VLOOKUP($C7,TUANBV,9,0) -> -1 | L7: =VLOOKUP($C7,TUANBV,10,0) -> …..giờ….. | M7: =VLOOKUP($C7,TUANBV,11,0) -> …..giờ….. | N7: =VLOOKUP($C7,TUANBV,12,0) -> ….. | O7: =VLOOKUP($C7,TUANBV,13,0) -> ….. | P7: =VLOOKUP($C7,TUANBV,14,0) -> 0 | Q7: =VLOOKUP($C7,TUANBV,15,0) -> .......................................... | R7: =VLOOKUP($C7,TUANBV,16,0) -> Lê Văn Thái | S7: =VLOOKUP($A7,BANGBT,2,0) -> The Vissai PCB30 | T7: =VLOOKUP($A7,BANGBT,3,0) -> vàng bê tông | U7: =VLOOKUP($A7,BANGBT,4,0) -> Đá 1x2cm | V7: =VLOOKUP($A7,BANGBT,5,0) -> Shengly | W7: =VLOOKUP($A7,BANGBT,6,0) -> 0.68 | X7: 0,93 | Y7: =VLOOKUP($A7,BANGBT,7,0) -> Bê tông mác 200# | Z7: =VLOOKUP($Y7,CPBT,2,0) -> 341 | AA7: =VLOOKUP($Y7,CPBT,3,0) -> 0.45 | AB7: =VLOOKUP($Y7,CPBT,4,0) -> 0.866 | AC7: =VLOOKUP($Y7,CPBT,5,0) -> 195 | AE7: 317,13 | AF7: 0,42 | AG7: 0,81 | AH7: 181,35 | AI7: 99,83 | AJ7: =ROUND($W7*Z7,2) -> 231.88 | AK7: =ROUND($W7*AA7,2) -> 0.31 | AL7: =ROUND($W7*AB7,2) -> 0.59 | AM7: =ROUND($W7*AC7,2) -> 132.6 | AN7: =VLOOKUP($A7,BANGBT,8,0) -> 120
A8: 7 | C8: VLBT7 | D8: =VLOOKUP($C8,TUANBV,2,0) -> #N/A | E8: =VLOOKUP($C8,TUANBV,3,0) -> #N/A | F8: =VLOOKUP($C8,TUANBV,4,0) -> #N/A | G8: =VLOOKUP($C8,TUANBV,5,0) -> #N/A | H8: =VLOOKUP($C8,TUANBV,6,0) -> #N/A | I8: =VLOOKUP($C8,TUANBV,7,0) -> #N/A | J8: =VLOOKUP($C8,TUANBV,8,0) -> #N/A | K8: =VLOOKUP($C8,TUANBV,9,0) -> #N/A | L8: =VLOOKUP($C8,TUANBV,10,0) -> #N/A | M8: =VLOOKUP($C8,TUANBV,11,0) -> #N/A | N8: =VLOOKUP($C8,TUANBV,12,0) -> #N/A | O8: =VLOOKUP($C8,TUANBV,13,0) -> #N/A | P8: =VLOOKUP($C8,TUANBV,14,0) -> #N/A | Q8: =VLOOKUP($C8,TUANBV,15,0) -> #N/A | R8: =VLOOKUP($C8,TUANBV,16,0) -> #N/A | S8: =VLOOKUP($A8,BANGBT,2,0) -> 0 | T8: =VLOOKUP($A8,BANGBT,3,0) -> 0 | U8: =VLOOKUP($A8,BANGBT,4,0) -> 0 | V8: =VLOOKUP($A8,BANGBT,5,0) -> 0 | W8: =VLOOKUP($A8,BANGBT,6,0) -> 0 | X8: 13,48 | Y8: =VLOOKUP($A8,BANGBT,7,0) -> 0 | Z8: =VLOOKUP($Y8,CPBT,2,0) -> #N/A | AA8: =VLOOKUP($Y8,CPBT,3,0) -> #N/A | AB8: =VLOOKUP($Y8,CPBT,4,0) -> #N/A | AC8: =VLOOKUP($Y8,CPBT,5,0) -> #N/A | AE8: 4.596,68 | AF8: 6,07 | AG8: 11,67 | AH8: 2.628,6 | AI8: 1.128,65 | AJ8: =ROUND($W8*Z8,2) -> #N/A | AK8: =ROUND($W8*AA8,2) -> #N/A | AL8: =ROUND($W8*AB8,2) -> #N/A | AM8: =ROUND($W8*AC8,2) -> #N/A | AN8: =VLOOKUP($A8,BANGBT,8,0) -> 0
A9: 8 | C9: VLBT8 | D9: =VLOOKUP($C9,TUANBV,2,0) -> #N/A | E9: =VLOOKUP($C9,TUANBV,3,0) -> #N/A | F9: =VLOOKUP($C9,TUANBV,4,0) -> #N/A | G9: =VLOOKUP($C9,TUANBV,5,0) -> #N/A | H9: =VLOOKUP($C9,TUANBV,6,0) -> #N/A | I9: =VLOOKUP($C9,TUANBV,7,0) -> #N/A | J9: =VLOOKUP($C9,TUANBV,8,0) -> #N/A | K9: =VLOOKUP($C9,TUANBV,9,0) -> #N/A | L9: =VLOOKUP($C9,TUANBV,10,0) -> #N/A | M9: =VLOOKUP($C9,TUANBV,11,0) -> #N/A | N9: =VLOOKUP($C9,TUANBV,12,0) -> #N/A | O9: =VLOOKUP($C9,TUANBV,13,0) -> #N/A | P9: =VLOOKUP($C9,TUANBV,14,0) -> #N/A | Q9: =VLOOKUP($C9,TUANBV,15,0) -> #N/A | R9: =VLOOKUP($C9,TUANBV,16,0) -> #N/A | S9: =VLOOKUP($A9,BANGBT,2,0) -> 0 | T9: =VLOOKUP($A9,BANGBT,3,0) -> 0 | U9: =VLOOKUP($A9,BANGBT,4,0) -> 0 | V9: =VLOOKUP($A9,BANGBT,5,0) -> 0 | W9: =VLOOKUP($A9,BANGBT,6,0) -> 0 | X9: 0,39 | Y9: =VLOOKUP($A9,BANGBT,7,0) -> 0 | Z9: =VLOOKUP($Y9,CPBT,2,0) -> #N/A | AA9: =VLOOKUP($Y9,CPBT,3,0) -> #N/A | AB9: =VLOOKUP($Y9,CPBT,4,0) -> #N/A | AC9: =VLOOKUP($Y9,CPBT,5,0) -> #N/A | AE9: 132,99 | AF9: 0,18 | AG9: 0,34 | AH9: 76,05 | AI9: 36,73 | AJ9: =ROUND($W9*Z9,2) -> #N/A | AK9: =ROUND($W9*AA9,2) -> #N/A | AL9: =ROUND($W9*AB9,2) -> #N/A | AM9: =ROUND($W9*AC9,2) -> #N/A | AN9: =VLOOKUP($A9,BANGBT,8,0) -> 0
A10: 9 | C10: VLBT9 | D10: =VLOOKUP($C10,TUANBV,2,0) -> #N/A | E10: =VLOOKUP($C10,TUANBV,3,0) -> #N/A | F10: =VLOOKUP($C10,TUANBV,4,0) -> #N/A | G10: =VLOOKUP($C10,TUANBV,5,0) -> #N/A | H10: =VLOOKUP($C10,TUANBV,6,0) -> #N/A | I10: =VLOOKUP($C10,TUANBV,7,0) -> #N/A | J10: =VLOOKUP($C10,TUANBV,8,0) -> #N/A | K10: =VLOOKUP($C10,TUANBV,9,0) -> #N/A | L10: =VLOOKUP($C10,TUANBV,10,0) -> #N/A | M10: =VLOOKUP($C10,TUANBV,11,0) -> #N/A | N10: =VLOOKUP($C10,TUANBV,12,0) -> #N/A | O10: =VLOOKUP($C10,TUANBV,13,0) -> #N/A | P10: =VLOOKUP($C10,TUANBV,14,0) -> #N/A | Q10: =VLOOKUP($C10,TUANBV,15,0) -> #N/A | R10: =VLOOKUP($C10,TUANBV,16,0) -> #N/A | S10: =VLOOKUP($A10,BANGBT,2,0) -> 0 | T10: =VLOOKUP($A10,BANGBT,3,0) -> 0 | U10: =VLOOKUP($A10,BANGBT,4,0) -> 0 | V10: =VLOOKUP($A10,BANGBT,5,0) -> 0 | W10: =VLOOKUP($A10,BANGBT,6,0) -> 0 | X10: 0,39 | Y10: =VLOOKUP($A10,BANGBT,7,0) -> 0 | Z10: =VLOOKUP($Y10,CPBT,2,0) -> #N/A | AA10: =VLOOKUP($Y10,CPBT,3,0) -> #N/A | AB10: =VLOOKUP($Y10,CPBT,4,0) -> #N/A | AC10: =VLOOKUP($Y10,CPBT,5,0) -> #N/A | AJ10: =ROUND($W10*Z10,2) -> #N/A | AK10: =ROUND($W10*AA10,2) -> #N/A | AL10: =ROUND($W10*AB10,2) -> #N/A | AM10: =ROUND($W10*AC10,2) -> #N/A | AN10: =VLOOKUP($A10,BANGBT,8,0) -> 0
A11: 10 | C11: VLBT10 | D11: =VLOOKUP($C11,TUANBV,2,0) -> #N/A | E11: =VLOOKUP($C11,TUANBV,3,0) -> #N/A | F11: =VLOOKUP($C11,TUANBV,4,0) -> #N/A | G11: =VLOOKUP($C11,TUANBV,5,0) -> #N/A | H11: =VLOOKUP($C11,TUANBV,6,0) -> #N/A | I11: =VLOOKUP($C11,TUANBV,7,0) -> #N/A | J11: =VLOOKUP($C11,TUANBV,8,0) -> #N/A | K11: =VLOOKUP($C11,TUANBV,9,0) -> #N/A | L11: =VLOOKUP($C11,TUANBV,10,0) -> #N/A | M11: =VLOOKUP($C11,TUANBV,11,0) -> #N/A | N11: =VLOOKUP($C11,TUANBV,12,0) -> #N/A | O11: =VLOOKUP($C11,TUANBV,13,0) -> #N/A | P11: =VLOOKUP($C11,TUANBV,14,0) -> #N/A | Q11: =VLOOKUP($C11,TUANBV,15,0) -> #N/A | R11: =VLOOKUP($C11,TUANBV,16,0) -> #N/A | S11: =VLOOKUP($A11,BANGBT,2,0) -> 0 | T11: =VLOOKUP($A11,BANGBT,3,0) -> 0 | U11: =VLOOKUP($A11,BANGBT,4,0) -> 0 | V11: =VLOOKUP($A11,BANGBT,5,0) -> 0 | W11: =VLOOKUP($A11,BANGBT,6,0) -> 0 | X11: 0,39 | Y11: =VLOOKUP($A11,BANGBT,7,0) -> 0 | Z11: =VLOOKUP($Y11,CPBT,2,0) -> #N/A | AA11: =VLOOKUP($Y11,CPBT,3,0) -> #N/A | AB11: =VLOOKUP($Y11,CPBT,4,0) -> #N/A | AC11: =VLOOKUP($Y11,CPBT,5,0) -> #N/A | AJ11: =ROUND($W11*Z11,2) -> #N/A | AK11: =ROUND($W11*AA11,2) -> #N/A | AL11: =ROUND($W11*AB11,2) -> #N/A | AM11: =ROUND($W11*AC11,2) -> #N/A | AN11: =VLOOKUP($A11,BANGBT,8,0) -> 0 | AV11: 1M3 VỮA | AW11: 230.02 | AX11: 1.12 | AY11: 260
A12: 11 | C12: VLBT11 | D12: =VLOOKUP($C12,TUANBV,2,0) -> #N/A | E12: =VLOOKUP($C12,TUANBV,3,0) -> #N/A | F12: =VLOOKUP($C12,TUANBV,4,0) -> #N/A | G12: =VLOOKUP($C12,TUANBV,5,0) -> #N/A | H12: =VLOOKUP($C12,TUANBV,6,0) -> #N/A | I12: =VLOOKUP($C12,TUANBV,7,0) -> #N/A | J12: =VLOOKUP($C12,TUANBV,8,0) -> #N/A | K12: =VLOOKUP($C12,TUANBV,9,0) -> #N/A | L12: =VLOOKUP($C12,TUANBV,10,0) -> #N/A | M12: =VLOOKUP($C12,TUANBV,11,0) -> #N/A | N12: =VLOOKUP($C12,TUANBV,12,0) -> #N/A | O12: =VLOOKUP($C12,TUANBV,13,0) -> #N/A | P12: =VLOOKUP($C12,TUANBV,14,0) -> #N/A | Q12: =VLOOKUP($C12,TUANBV,15,0) -> #N/A | R12: =VLOOKUP($C12,TUANBV,16,0) -> #N/A | S12: =VLOOKUP($A12,BANGBT,2,0) -> 0 | T12: =VLOOKUP($A12,BANGBT,3,0) -> 0 | U12: =VLOOKUP($A12,BANGBT,4,0) -> 0 | V12: =VLOOKUP($A12,BANGBT,5,0) -> 0 | W12: =VLOOKUP($A12,BANGBT,6,0) -> 0 | X12: 0,39 | Y12: =VLOOKUP($A12,BANGBT,7,0) -> 0 | Z12: =VLOOKUP($Y12,CPBT,2,0) -> #N/A | AA12: =VLOOKUP($Y12,CPBT,3,0) -> #N/A | AB12: =VLOOKUP($Y12,CPBT,4,0) -> #N/A | AC12: =VLOOKUP($Y12,CPBT,5,0) -> #N/A | AJ12: =ROUND($W12*Z12,2) -> #N/A | AK12: =ROUND($W12*AA12,2) -> #N/A | AL12: =ROUND($W12*AB12,2) -> #N/A | AM12: =ROUND($W12*AC12,2) -> #N/A | AN12: =VLOOKUP($A12,BANGBT,8,0) -> 0 | AV12: 0.538 | AW12: =ROUND(AW11*$AV$12,2) -> 123.75 | AX12: =ROUND(AX11*$AV$12,2) -> 0.6 | AY12: =ROUND(AY11*$AV$12,2) -> 139.88
A13: 12 | C13: VLBT12 | D13: =VLOOKUP($C13,TUANBV,2,0) -> #N/A | E13: =VLOOKUP($C13,TUANBV,3,0) -> #N/A | F13: =VLOOKUP($C13,TUANBV,4,0) -> #N/A | G13: =VLOOKUP($C13,TUANBV,5,0) -> #N/A | H13: =VLOOKUP($C13,TUANBV,6,0) -> #N/A | I13: =VLOOKUP($C13,TUANBV,7,0) -> #N/A | J13: =VLOOKUP($C13,TUANBV,8,0) -> #N/A | K13: =VLOOKUP($C13,TUANBV,9,0) -> #N/A | L13: =VLOOKUP($C13,TUANBV,10,0) -> #N/A | M13: =VLOOKUP($C13,TUANBV,11,0) -> #N/A | N13: =VLOOKUP($C13,TUANBV,12,0) -> #N/A | O13: =VLOOKUP($C13,TUANBV,13,0) -> #N/A | P13: =VLOOKUP($C13,TUANBV,14,0) -> #N/A | Q13: =VLOOKUP($C13,TUANBV,15,0) -> #N/A | R13: =VLOOKUP($C13,TUANBV,16,0) -> #N/A | S13: =VLOOKUP($A13,BANGBT,2,0) -> 0 | T13: =VLOOKUP($A13,BANGBT,3,0) -> 0 | U13: =VLOOKUP($A13,BANGBT,4,0) -> 0 | V13: =VLOOKUP($A13,BANGBT,5,0) -> 0 | W13: =VLOOKUP($A13,BANGBT,6,0) -> 0 | X13: 0,39 | Y13: =VLOOKUP($A13,BANGBT,7,0) -> 0 | Z13: =VLOOKUP($Y13,CPBT,2,0) -> #N/A | AA13: =VLOOKUP($Y13,CPBT,3,0) -> #N/A | AB13: =VLOOKUP($Y13,CPBT,4,0) -> #N/A | AC13: =VLOOKUP($Y13,CPBT,5,0) -> #N/A | AD13: 30 | AE13: 31 | AF13: 32 | AG13: 33 | AH13: 34 | AI13: 35 | AJ13: =ROUND($W13*Z13,2) -> #N/A | AK13: =ROUND($W13*AA13,2) -> #N/A | AL13: =ROUND($W13*AB13,2) -> #N/A | AM13: =ROUND($W13*AC13,2) -> #N/A | AN13: =VLOOKUP($A13,BANGBT,8,0) -> 0
A14: 13 | C14: VLBT13 | D14: =VLOOKUP($C14,TUANBV,2,0) -> #N/A | E14: =VLOOKUP($C14,TUANBV,3,0) -> #N/A | F14: =VLOOKUP($C14,TUANBV,4,0) -> #N/A | G14: =VLOOKUP($C14,TUANBV,5,0) -> #N/A | H14: =VLOOKUP($C14,TUANBV,6,0) -> #N/A | I14: =VLOOKUP($C14,TUANBV,7,0) -> #N/A | J14: =VLOOKUP($C14,TUANBV,8,0) -> #N/A | K14: =VLOOKUP($C14,TUANBV,9,0) -> #N/A | L14: =VLOOKUP($C14,TUANBV,10,0) -> #N/A | M14: =VLOOKUP($C14,TUANBV,11,0) -> #N/A | N14: =VLOOKUP($C14,TUANBV,12,0) -> #N/A | O14: =VLOOKUP($C14,TUANBV,13,0) -> #N/A | P14: =VLOOKUP($C14,TUANBV,14,0) -> #N/A | Q14: =VLOOKUP($C14,TUANBV,15,0) -> #N/A | R14: =VLOOKUP($C14,TUANBV,16,0) -> #N/A | S14: =VLOOKUP($A14,BANGBT,2,0) -> 0 | T14: =VLOOKUP($A14,BANGBT,3,0) -> 0 | U14: =VLOOKUP($A14,BANGBT,4,0) -> 0 | V14: =VLOOKUP($A14,BANGBT,5,0) -> 0 | W14: =VLOOKUP($A14,BANGBT,6,0) -> 0 | X14: 0,39 | Y14: =VLOOKUP($A14,BANGBT,7,0) -> 0 | Z14: =VLOOKUP($Y14,CPBT,2,0) -> #N/A | AA14: =VLOOKUP($Y14,CPBT,3,0) -> #N/A | AB14: =VLOOKUP($Y14,CPBT,4,0) -> #N/A | AC14: =VLOOKUP($Y14,CPBT,5,0) -> #N/A | AJ14: =ROUND($W14*Z14,2) -> #N/A | AK14: =ROUND($W14*AA14,2) -> #N/A | AL14: =ROUND($W14*AB14,2) -> #N/A | AM14: =ROUND($W14*AC14,2) -> #N/A | AN14: =VLOOKUP($A14,BANGBT,8,0) -> 0
A15: 14 | C15: VLBT14 | D15: =VLOOKUP($C15,TUANBV,2,0) -> #N/A | E15: =VLOOKUP($C15,TUANBV,3,0) -> #N/A | F15: =VLOOKUP($C15,TUANBV,4,0) -> #N/A | G15: =VLOOKUP($C15,TUANBV,5,0) -> #N/A | H15: =VLOOKUP($C15,TUANBV,6,0) -> #N/A | I15: =VLOOKUP($C15,TUANBV,7,0) -> #N/A | J15: =VLOOKUP($C15,TUANBV,8,0) -> #N/A | K15: =VLOOKUP($C15,TUANBV,9,0) -> #N/A | L15: =VLOOKUP($C15,TUANBV,10,0) -> #N/A | M15: =VLOOKUP($C15,TUANBV,11,0) -> #N/A | N15: =VLOOKUP($C15,TUANBV,12,0) -> #N/A | O15: =VLOOKUP($C15,TUANBV,13,0) -> #N/A | P15: =VLOOKUP($C15,TUANBV,14,0) -> #N/A | Q15: =VLOOKUP($C15,TUANBV,15,0) -> #N/A | R15: =VLOOKUP($C15,TUANBV,16,0) -> #N/A | S15: =VLOOKUP($A15,BANGBT,2,0) -> 0 | T15: =VLOOKUP($A15,BANGBT,3,0) -> 0 | U15: =VLOOKUP($A15,BANGBT,4,0) -> 0 | V15: =VLOOKUP($A15,BANGBT,5,0) -> 0 | W15: =VLOOKUP($A15,BANGBT,6,0) -> 0 | X15: 0,39 | Y15: =VLOOKUP($A15,BANGBT,7,0) -> 0 | Z15: =VLOOKUP($Y15,CPBT,2,0) -> #N/A | AA15: =VLOOKUP($Y15,CPBT,3,0) -> #N/A | AB15: =VLOOKUP($Y15,CPBT,4,0) -> #N/A | AC15: =VLOOKUP($Y15,CPBT,5,0) -> #N/A | AJ15: =ROUND($W15*Z15,2) -> #N/A | AK15: =ROUND($W15*AA15,2) -> #N/A | AL15: =ROUND($W15*AB15,2) -> #N/A | AM15: =ROUND($W15*AC15,2) -> #N/A | AN15: =VLOOKUP($A15,BANGBT,8,0) -> 0
A16: 15 | C16: VLBT15 | D16: =VLOOKUP($C16,TUANBV,2,0) -> #N/A | E16: =VLOOKUP($C16,TUANBV,3,0) -> #N/A | F16: =VLOOKUP($C16,TUANBV,4,0) -> #N/A | G16: =VLOOKUP($C16,TUANBV,5,0) -> #N/A | H16: =VLOOKUP($C16,TUANBV,6,0) -> #N/A | I16: =VLOOKUP($C16,TUANBV,7,0) -> #N/A | J16: =VLOOKUP($C16,TUANBV,8,0) -> #N/A | K16: =VLOOKUP($C16,TUANBV,9,0) -> #N/A | L16: =VLOOKUP($C16,TUANBV,10,0) -> #N/A | M16: =VLOOKUP($C16,TUANBV,11,0) -> #N/A | N16: =VLOOKUP($C16,TUANBV,12,0) -> #N/A | O16: =VLOOKUP($C16,TUANBV,13,0) -> #N/A | P16: =VLOOKUP($C16,TUANBV,14,0) -> #N/A | Q16: =VLOOKUP($C16,TUANBV,15,0) -> #N/A | R16: =VLOOKUP($C16,TUANBV,16,0) -> #N/A | S16: =VLOOKUP($A16,BANGBT,2,0) -> 0 | T16: =VLOOKUP($A16,BANGBT,3,0) -> 0 | U16: =VLOOKUP($A16,BANGBT,4,0) -> 0 | V16: =VLOOKUP($A16,BANGBT,5,0) -> 0 | W16: =VLOOKUP($A16,BANGBT,6,0) -> 0 | X16: 0,39 | Y16: =VLOOKUP($A16,BANGBT,7,0) -> 0 | Z16: =VLOOKUP($Y16,CPBT,2,0) -> #N/A | AA16: =VLOOKUP($Y16,CPBT,3,0) -> #N/A | AB16: =VLOOKUP($Y16,CPBT,4,0) -> #N/A | AC16: =VLOOKUP($Y16,CPBT,5,0) -> #N/A | AJ16: =ROUND($W16*Z16,2) -> #N/A | AK16: =ROUND($W16*AA16,2) -> #N/A | AL16: =ROUND($W16*AB16,2) -> #N/A | AM16: =ROUND($W16*AC16,2) -> #N/A | AN16: =VLOOKUP($A16,BANGBT,8,0) -> 0
A17: 16 | C17: VLBT16 | D17: =VLOOKUP($C17,TUANBV,2,0) -> #N/A | E17: =VLOOKUP($C17,TUANBV,3,0) -> #N/A | F17: =VLOOKUP($C17,TUANBV,4,0) -> #N/A | G17: =VLOOKUP($C17,TUANBV,5,0) -> #N/A | H17: =VLOOKUP($C17,TUANBV,6,0) -> #N/A | I17: =VLOOKUP($C17,TUANBV,7,0) -> #N/A | J17: =VLOOKUP($C17,TUANBV,8,0) -> #N/A | K17: =VLOOKUP($C17,TUANBV,9,0) -> #N/A | L17: =VLOOKUP($C17,TUANBV,10,0) -> #N/A | M17: =VLOOKUP($C17,TUANBV,11,0) -> #N/A | N17: =VLOOKUP($C17,TUANBV,12,0) -> #N/A | O17: =VLOOKUP($C17,TUANBV,13,0) -> #N/A | P17: =VLOOKUP($C17,TUANBV,14,0) -> #N/A | Q17: =VLOOKUP($C17,TUANBV,15,0) -> #N/A | R17: =VLOOKUP($C17,TUANBV,16,0) -> #N/A | S17: =VLOOKUP($A17,BANGBT,2,0) -> #N/A | T17: =VLOOKUP($A17,BANGBT,3,0) -> #N/A | U17: =VLOOKUP($A17,BANGBT,4,0) -> #N/A | V17: =VLOOKUP($A17,BANGBT,5,0) -> #N/A | W17: =VLOOKUP($A17,BANGBT,6,0) -> #N/A | X17: 0,39 | Y17: =VLOOKUP($A17,BANGBT,7,0) -> #N/A | Z17: =VLOOKUP($Y17,CPBT,2,0) -> #N/A | AA17: =VLOOKUP($Y17,CPBT,3,0) -> #N/A | AB17: =VLOOKUP($Y17,CPBT,4,0) -> #N/A | AC17: =VLOOKUP($Y17,CPBT,5,0) -> #N/A | AJ17: =ROUND($W17*Z17,2) -> #N/A | AK17: =ROUND($W17*AA17,2) -> #N/A | AL17: =ROUND($W17*AB17,2) -> #N/A | AM17: =ROUND($W17*AC17,2) -> #N/A | AN17: =VLOOKUP($A17,BANGBT,8,0) -> #N/A
A18: 17 | C18: VLBT17 | D18: =VLOOKUP($C18,TUANBV,2,0) -> #N/A | E18: =VLOOKUP($C18,TUANBV,3,0) -> #N/A | F18: =VLOOKUP($C18,TUANBV,4,0) -> #N/A | G18: =VLOOKUP($C18,TUANBV,5,0) -> #N/A | H18: =VLOOKUP($C18,TUANBV,6,0) -> #N/A | I18: =VLOOKUP($C18,TUANBV,7,0) -> #N/A | J18: =VLOOKUP($C18,TUANBV,8,0) -> #N/A | K18: =VLOOKUP($C18,TUANBV,9,0) -> #N/A | L18: =VLOOKUP($C18,TUANBV,10,0) -> #N/A | M18: =VLOOKUP($C18,TUANBV,11,0) -> #N/A | N18: =VLOOKUP($C18,TUANBV,12,0) -> #N/A | O18: =VLOOKUP($C18,TUANBV,13,0) -> #N/A | P18: =VLOOKUP($C18,TUANBV,14,0) -> #N/A | Q18: =VLOOKUP($C18,TUANBV,15,0) -> #N/A | R18: =VLOOKUP($C18,TUANBV,16,0) -> #N/A | S18: =VLOOKUP($A18,BANGBT,2,0) -> #N/A | T18: =VLOOKUP($A18,BANGBT,3,0) -> #N/A | U18: =VLOOKUP($A18,BANGBT,4,0) -> #N/A | V18: =VLOOKUP($A18,BANGBT,5,0) -> #N/A | W18: =VLOOKUP($A18,BANGBT,6,0) -> #N/A | X18: 0,39 | Y18: =VLOOKUP($A18,BANGBT,7,0) -> #N/A | Z18: =VLOOKUP($Y18,CPBT,2,0) -> #N/A | AA18: =VLOOKUP($Y18,CPBT,3,0) -> #N/A | AB18: =VLOOKUP($Y18,CPBT,4,0) -> #N/A | AC18: =VLOOKUP($Y18,CPBT,5,0) -> #N/A | AJ18: =ROUND($W18*Z18,2) -> #N/A | AK18: =ROUND($W18*AA18,2) -> #N/A | AL18: =ROUND($W18*AB18,2) -> #N/A | AM18: =ROUND($W18*AC18,2) -> #N/A | AN18: =VLOOKUP($A18,BANGBT,8,0) -> #N/A
A19: 18 | C19: VLBT18 | D19: =VLOOKUP($C19,TUANBV,2,0) -> #N/A | E19: =VLOOKUP($C19,TUANBV,3,0) -> #N/A | F19: =VLOOKUP($C19,TUANBV,4,0) -> #N/A | G19: =VLOOKUP($C19,TUANBV,5,0) -> #N/A | H19: =VLOOKUP($C19,TUANBV,6,0) -> #N/A | I19: =VLOOKUP($C19,TUANBV,7,0) -> #N/A | J19: =VLOOKUP($C19,TUANBV,8,0) -> #N/A | K19: =VLOOKUP($C19,TUANBV,9,0) -> #N/A | L19: =VLOOKUP($C19,TUANBV,10,0) -> #N/A | M19: =VLOOKUP($C19,TUANBV,11,0) -> #N/A | N19: =VLOOKUP($C19,TUANBV,12,0) -> #N/A | O19: =VLOOKUP($C19,TUANBV,13,0) -> #N/A | P19: =VLOOKUP($C19,TUANBV,14,0) -> #N/A | Q19: =VLOOKUP($C19,TUANBV,15,0) -> #N/A | R19: =VLOOKUP($C19,TUANBV,16,0) -> #N/A | S19: =VLOOKUP($A19,BANGBT,2,0) -> #N/A | T19: =VLOOKUP($A19,BANGBT,3,0) -> #N/A | U19: =VLOOKUP($A19,BANGBT,4,0) -> #N/A | V19: =VLOOKUP($A19,BANGBT,5,0) -> #N/A | W19: =VLOOKUP($A19,BANGBT,6,0) -> #N/A | X19: 0,39 | Y19: =VLOOKUP($A19,BANGBT,7,0) -> #N/A | Z19: =VLOOKUP($Y19,CPBT,2,0) -> #N/A | AA19: =VLOOKUP($Y19,CPBT,3,0) -> #N/A | AB19: =VLOOKUP($Y19,CPBT,4,0) -> #N/A | AC19: =VLOOKUP($Y19,CPBT,5,0) -> #N/A | AJ19: =ROUND($W19*Z19,2) -> #N/A | AK19: =ROUND($W19*AA19,2) -> #N/A | AL19: =ROUND($W19*AB19,2) -> #N/A | AM19: =ROUND($W19*AC19,2) -> #N/A | AN19: =VLOOKUP($A19,BANGBT,8,0) -> #N/A
A20: 19 | C20: VLBT19 | D20: =VLOOKUP($C20,TUANBV,2,0) -> #N/A | E20: =VLOOKUP($C20,TUANBV,3,0) -> #N/A | F20: =VLOOKUP($C20,TUANBV,4,0) -> #N/A | G20: =VLOOKUP($C20,TUANBV,5,0) -> #N/A | H20: =VLOOKUP($C20,TUANBV,6,0) -> #N/A | I20: =VLOOKUP($C20,TUANBV,7,0) -> #N/A | J20: =VLOOKUP($C20,TUANBV,8,0) -> #N/A | K20: =VLOOKUP($C20,TUANBV,9,0) -> #N/A | L20: =VLOOKUP($C20,TUANBV,10,0) -> #N/A | M20: =VLOOKUP($C20,TUANBV,11,0) -> #N/A | N20: =VLOOKUP($C20,TUANBV,12,0) -> #N/A | O20: =VLOOKUP($C20,TUANBV,13,0) -> #N/A | P20: =VLOOKUP($C20,TUANBV,14,0) -> #N/A | Q20: =VLOOKUP($C20,TUANBV,15,0) -> #N/A | R20: =VLOOKUP($C20,TUANBV,16,0) -> #N/A | S20: =VLOOKUP($A20,BANGBT,2,0) -> #N/A | T20: =VLOOKUP($A20,BANGBT,3,0) -> #N/A | U20: =VLOOKUP($A20,BANGBT,4,0) -> #N/A | V20: =VLOOKUP($A20,BANGBT,5,0) -> #N/A | W20: =VLOOKUP($A20,BANGBT,6,0) -> #N/A | X20: 0,39 | Y20: =VLOOKUP($A20,BANGBT,7,0) -> #N/A | Z20: =VLOOKUP($Y20,CPBT,2,0) -> #N/A | AA20: =VLOOKUP($Y20,CPBT,3,0) -> #N/A | AB20: =VLOOKUP($Y20,CPBT,4,0) -> #N/A | AC20: =VLOOKUP($Y20,CPBT,5,0) -> #N/A | AJ20: =ROUND($W20*Z20,2) -> #N/A | AK20: =ROUND($W20*AA20,2) -> #N/A | AL20: =ROUND($W20*AB20,2) -> #N/A | AM20: =ROUND($W20*AC20,2) -> #N/A | AN20: =VLOOKUP($A20,BANGBT,8,0) -> #N/A

Sheet 3.CT
A1: LIST | B1: SHBB | C1: MH | D1: Nội dung công việc | E1: Vị trí | F1: Điểm TĐC | G1: Số hiệu PYC | H1: Số hiệu NTCV | I1: DATE PYC | J1: MONTH PYC | K1: Ngày PYC | L1: H-START | M1: H-END | N1: DATE NTCV | O1: MONTH NTCV | P1: Ngày NTCV | Q1: CĐT | R1: ĐVTC
A2: 1 | C2: CTBT1 | D2: =VLOOKUP($C2,TUANBV,2,0) -> #N/A | E2: =VLOOKUP($C2,TUANBV,3,0) -> #N/A | F2: =VLOOKUP($C2,TUANBV,4,0) -> #N/A | G2: =VLOOKUP($C2,TUANBV,5,0) -> #N/A | H2: =VLOOKUP($C2,TUANBV,6,0) -> #N/A | I2: =VLOOKUP($C2,TUANBV,7,0) -> #N/A | J2: =VLOOKUP($C2,TUANBV,8,0) -> #N/A | K2: =VLOOKUP($C2,TUANBV,9,0) -> #N/A | L2: =VLOOKUP($C2,TUANBV,10,0) -> #N/A | M2: =VLOOKUP($C2,TUANBV,11,0) -> #N/A | N2: =VLOOKUP($C2,TUANBV,12,0) -> #N/A | O2: =VLOOKUP($C2,TUANBV,13,0) -> #N/A | P2: =VLOOKUP($C2,TUANBV,14,0) -> #N/A | Q2: =VLOOKUP($C2,TUANBV,15,0) -> #N/A | R2: =VLOOKUP($C2,TUANBV,16,0) -> #N/A
A3: 2 | C3: CTBT2 | D3: =VLOOKUP($C3,TUANBV,2,0) -> Nghiệm thu cốt thép giằng móng | E3: =VLOOKUP($C3,TUANBV,3,0) -> Nhà tiểu học 3 phòng | F3: =VLOOKUP($C3,TUANBV,4,0) -> Điểm TĐC Pom Chốn | G3: =VLOOKUP($C3,TUANBV,5,0) -> 4/CTTH3PC | H3: =VLOOKUP($C3,TUANBV,6,0) -> 4/CTTH3PC | I3: =VLOOKUP($C3,TUANBV,7,0) -> 26 | J3: =VLOOKUP($C3,TUANBV,8,0) -> 08 | K3: =VLOOKUP($C3,TUANBV,9,0) -> 41877 | L3: =VLOOKUP($C3,TUANBV,10,0) -> 09 giờ 00 | M3: =VLOOKUP($C3,TUANBV,11,0) -> 10 giờ 00 | N3: =VLOOKUP($C3,TUANBV,12,0) -> 27 | O3: =VLOOKUP($C3,TUANBV,13,0) -> 08 | P3: =VLOOKUP($C3,TUANBV,14,0) -> 41878 | Q3: =VLOOKUP($C3,TUANBV,15,0) -> Nguyễn Xuân Quỳnh | R3: =VLOOKUP($C3,TUANBV,16,0) -> Lê Văn Thái
A4: 3 | C4: CTBT3 | D4: =VLOOKUP($C4,TUANBV,2,0) -> Nghiệm thu công tác lắp dựng cốt thép lanh tô cửa sổ và cửa đi | E4: =VLOOKUP($C4,TUANBV,3,0) -> Nhà tiểu học 3 phòng | F4: =VLOOKUP($C4,TUANBV,4,0) -> Điểm TĐC Pom Chốn | G4: =VLOOKUP($C4,TUANBV,5,0) -> 6/CTTH3PC | H4: =VLOOKUP($C4,TUANBV,6,0) -> 6/CTTH3PC | I4: =VLOOKUP($C4,TUANBV,7,0) -> ….. | J4: =VLOOKUP($C4,TUANBV,8,0) -> ….. | K4: =VLOOKUP($C4,TUANBV,9,0) -> -1 | L4: =VLOOKUP($C4,TUANBV,10,0) -> …..giờ….. | M4: =VLOOKUP($C4,TUANBV,11,0) -> …..giờ….. | N4: =VLOOKUP($C4,TUANBV,12,0) -> ….. | O4: =VLOOKUP($C4,TUANBV,13,0) -> ….. | P4: =VLOOKUP($C4,TUANBV,14,0) -> 0 | Q4: =VLOOKUP($C4,TUANBV,15,0) -> Nguyễn Xuân Quỳnh | R4: =VLOOKUP($C4,TUANBV,16,0) -> Lê Văn Thái
A5: 4 | C5: CTBT4 | D5: =VLOOKUP($C5,TUANBV,2,0) -> Nghiệm thu cốt thép dầm D1, D2, D3, D4, D4A, D4B, bê tông sàn, sê nô thu nước | E5: =VLOOKUP($C5,TUANBV,3,0) -> Nhà tiểu học 3 phòng | F5: =VLOOKUP($C5,TUANBV,4,0) -> Điểm TĐC Pom Chốn | G5: =VLOOKUP($C5,TUANBV,5,0) -> 8/CTTH3PC | H5: =VLOOKUP($C5,TUANBV,6,0) -> 8/CTTH3PC | I5: =VLOOKUP($C5,TUANBV,7,0) -> ….. | J5: =VLOOKUP($C5,TUANBV,8,0) -> ….. | K5: =VLOOKUP($C5,TUANBV,9,0) -> -1 | L5: =VLOOKUP($C5,TUANBV,10,0) -> …..giờ….. | M5: =VLOOKUP($C5,TUANBV,11,0) -> …..giờ….. | N5: =VLOOKUP($C5,TUANBV,12,0) -> ….. | O5: =VLOOKUP($C5,TUANBV,13,0) -> ….. | P5: =VLOOKUP($C5,TUANBV,14,0) -> 0 | Q5: =VLOOKUP($C5,TUANBV,15,0) -> .......................................... | R5: =VLOOKUP($C5,TUANBV,16,0) -> Lê Văn Thái
A6: 5 | C6: CTBT5 | D6: =VLOOKUP($C6,TUANBV,2,0) -> Nghiệm thu cốt thép giằng tường thu hồi | E6: =VLOOKUP($C6,TUANBV,3,0) -> Nhà tiểu học 3 phòng | F6: =VLOOKUP($C6,TUANBV,4,0) -> Điểm TĐC Pom Chốn | G6: =VLOOKUP($C6,TUANBV,5,0) -> 10/CTTH3PC | H6: =VLOOKUP($C6,TUANBV,6,0) -> 10/CTTH3PC | I6: =VLOOKUP($C6,TUANBV,7,0) -> ….. | J6: =VLOOKUP($C6,TUANBV,8,0) -> ….. | K6: =VLOOKUP($C6,TUANBV,9,0) -> -1 | L6: =VLOOKUP($C6,TUANBV,10,0) -> …..giờ….. | M6: =VLOOKUP($C6,TUANBV,11,0) -> …..giờ….. | N6: =VLOOKUP($C6,TUANBV,12,0) -> ….. | O6: =VLOOKUP($C6,TUANBV,13,0) -> ….. | P6: =VLOOKUP($C6,TUANBV,14,0) -> 0 | Q6: =VLOOKUP($C6,TUANBV,15,0) -> .......................................... | R6: =VLOOKUP($C6,TUANBV,16,0) -> Lê Văn Thái
A7: 6 | C7: CTBT6 | D7: =VLOOKUP($C7,TUANBV,2,0) -> Nghiệm thu cốt thép Lam trang trí | E7: =VLOOKUP($C7,TUANBV,3,0) -> Nhà tiểu học 3 phòng | F7: =VLOOKUP($C7,TUANBV,4,0) -> Điểm TĐC Pom Chốn | G7: =VLOOKUP($C7,TUANBV,5,0) -> 11/CTTH3PC | H7: =VLOOKUP($C7,TUANBV,6,0) -> 11/CTTH3PC | I7: =VLOOKUP($C7,TUANBV,7,0) -> ….. | J7: =VLOOKUP($C7,TUANBV,8,0) -> ….. | K7: =VLOOKUP($C7,TUANBV,9,0) -> -1 | L7: =VLOOKUP($C7,TUANBV,10,0) -> …..giờ….. | M7: =VLOOKUP($C7,TUANBV,11,0) -> …..giờ….. | N7: =VLOOKUP($C7,TUANBV,12,0) -> ….. | O7: =VLOOKUP($C7,TUANBV,13,0) -> ….. | P7: =VLOOKUP($C7,TUANBV,14,0) -> 0 | Q7: =VLOOKUP($C7,TUANBV,15,0) -> .......................................... | R7: =VLOOKUP($C7,TUANBV,16,0) -> Lê Văn Thái
A8: 7 | C8: CTBT7 | D8: =VLOOKUP($C8,TUANBV,2,0) -> #N/A | E8: =VLOOKUP($C8,TUANBV,3,0) -> #N/A | F8: =VLOOKUP($C8,TUANBV,4,0) -> #N/A | G8: =VLOOKUP($C8,TUANBV,5,0) -> #N/A | H8: =VLOOKUP($C8,TUANBV,6,0) -> #N/A | I8: =VLOOKUP($C8,TUANBV,7,0) -> #N/A | J8: =VLOOKUP($C8,TUANBV,8,0) -> #N/A | K8: =VLOOKUP($C8,TUANBV,9,0) -> #N/A | L8: =VLOOKUP($C8,TUANBV,10,0) -> #N/A | M8: =VLOOKUP($C8,TUANBV,11,0) -> #N/A | N8: =VLOOKUP($C8,TUANBV,12,0) -> #N/A | O8: =VLOOKUP($C8,TUANBV,13,0) -> #N/A | P8: =VLOOKUP($C8,TUANBV,14,0) -> #N/A | Q8: =VLOOKUP($C8,TUANBV,15,0) -> #N/A | R8: =VLOOKUP($C8,TUANBV,16,0) -> #N/A
A9: 8 | C9: CTBT8 | D9: =VLOOKUP($C9,TUANBV,2,0) -> #N/A | E9: =VLOOKUP($C9,TUANBV,3,0) -> #N/A | F9: =VLOOKUP($C9,TUANBV,4,0) -> #N/A | G9: =VLOOKUP($C9,TUANBV,5,0) -> #N/A | H9: =VLOOKUP($C9,TUANBV,6,0) -> #N/A | I9: =VLOOKUP($C9,TUANBV,7,0) -> #N/A | J9: =VLOOKUP($C9,TUANBV,8,0) -> #N/A | K9: =VLOOKUP($C9,TUANBV,9,0) -> #N/A | L9: =VLOOKUP($C9,TUANBV,10,0) -> #N/A | M9: =VLOOKUP($C9,TUANBV,11,0) -> #N/A | N9: =VLOOKUP($C9,TUANBV,12,0) -> #N/A | O9: =VLOOKUP($C9,TUANBV,13,0) -> #N/A | P9: =VLOOKUP($C9,TUANBV,14,0) -> #N/A | Q9: =VLOOKUP($C9,TUANBV,15,0) -> #N/A | R9: =VLOOKUP($C9,TUANBV,16,0) -> #N/A
A10: 9 | C10: CTBT9 | D10: =VLOOKUP($C10,TUANBV,2,0) -> #N/A | E10: =VLOOKUP($C10,TUANBV,3,0) -> #N/A | F10: =VLOOKUP($C10,TUANBV,4,0) -> #N/A | G10: =VLOOKUP($C10,TUANBV,5,0) -> #N/A | H10: =VLOOKUP($C10,TUANBV,6,0) -> #N/A | I10: =VLOOKUP($C10,TUANBV,7,0) -> #N/A | J10: =VLOOKUP($C10,TUANBV,8,0) -> #N/A | K10: =VLOOKUP($C10,TUANBV,9,0) -> #N/A | L10: =VLOOKUP($C10,TUANBV,10,0) -> #N/A | M10: =VLOOKUP($C10,TUANBV,11,0) -> #N/A | N10: =VLOOKUP($C10,TUANBV,12,0) -> #N/A | O10: =VLOOKUP($C10,TUANBV,13,0) -> #N/A | P10: =VLOOKUP($C10,TUANBV,14,0) -> #N/A | Q10: =VLOOKUP($C10,TUANBV,15,0) -> #N/A | R10: =VLOOKUP($C10,TUANBV,16,0) -> #N/A
A11: 10 | C11: CTBT10 | D11: =VLOOKUP($C11,TUANBV,2,0) -> #N/A | E11: =VLOOKUP($C11,TUANBV,3,0) -> #N/A | F11: =VLOOKUP($C11,TUANBV,4,0) -> #N/A | G11: =VLOOKUP($C11,TUANBV,5,0) -> #N/A | H11: =VLOOKUP($C11,TUANBV,6,0) -> #N/A | I11: =VLOOKUP($C11,TUANBV,7,0) -> #N/A | J11: =VLOOKUP($C11,TUANBV,8,0) -> #N/A | K11: =VLOOKUP($C11,TUANBV,9,0) -> #N/A | L11: =VLOOKUP($C11,TUANBV,10,0) -> #N/A | M11: =VLOOKUP($C11,TUANBV,11,0) -> #N/A | N11: =VLOOKUP($C11,TUANBV,12,0) -> #N/A | O11: =VLOOKUP($C11,TUANBV,13,0) -> #N/A | P11: =VLOOKUP($C11,TUANBV,14,0) -> #N/A | Q11: =VLOOKUP($C11,TUANBV,15,0) -> #N/A | R11: =VLOOKUP($C11,TUANBV,16,0) -> #N/A
A12: 11 | C12: CTBT11 | D12: =VLOOKUP($C12,TUANBV,2,0) -> #N/A | E12: =VLOOKUP($C12,TUANBV,3,0) -> #N/A | F12: =VLOOKUP($C12,TUANBV,4,0) -> #N/A | G12: =VLOOKUP($C12,TUANBV,5,0) -> #N/A | H12: =VLOOKUP($C12,TUANBV,6,0) -> #N/A | I12: =VLOOKUP($C12,TUANBV,7,0) -> #N/A | J12: =VLOOKUP($C12,TUANBV,8,0) -> #N/A | K12: =VLOOKUP($C12,TUANBV,9,0) -> #N/A | L12: =VLOOKUP($C12,TUANBV,10,0) -> #N/A | M12: =VLOOKUP($C12,TUANBV,11,0) -> #N/A | N12: =VLOOKUP($C12,TUANBV,12,0) -> #N/A | O12: =VLOOKUP($C12,TUANBV,13,0) -> #N/A | P12: =VLOOKUP($C12,TUANBV,14,0) -> #N/A | Q12: =VLOOKUP($C12,TUANBV,15,0) -> #N/A | R12: =VLOOKUP($C12,TUANBV,16,0) -> #N/A
A13: 12 | C13: CTBT12 | D13: =VLOOKUP($C13,TUANBV,2,0) -> #N/A | E13: =VLOOKUP($C13,TUANBV,3,0) -> #N/A | F13: =VLOOKUP($C13,TUANBV,4,0) -> #N/A | G13: =VLOOKUP($C13,TUANBV,5,0) -> #N/A | H13: =VLOOKUP($C13,TUANBV,6,0) -> #N/A | I13: =VLOOKUP($C13,TUANBV,7,0) -> #N/A | J13: =VLOOKUP($C13,TUANBV,8,0) -> #N/A | K13: =VLOOKUP($C13,TUANBV,9,0) -> #N/A | L13: =VLOOKUP($C13,TUANBV,10,0) -> #N/A | M13: =VLOOKUP($C13,TUANBV,11,0) -> #N/A | N13: =VLOOKUP($C13,TUANBV,12,0) -> #N/A | O13: =VLOOKUP($C13,TUANBV,13,0) -> #N/A | P13: =VLOOKUP($C13,TUANBV,14,0) -> #N/A | Q13: =VLOOKUP($C13,TUANBV,15,0) -> #N/A | R13: =VLOOKUP($C13,TUANBV,16,0) -> #N/A
... A20: 19 | C20: CTBT19 | D20: =VLOOKUP($C20,TUANBV,2,0) -> #N/A | E20: =VLOOKUP($C20,TUANBV,3,0) -> #N/A | F20: =VLOOKUP($C20,TUANBV,4,0) -> #N/A | G20: =VLOOKUP($C20,TUANBV,5,0) -> #N/A | H20: =VLOOKUP($C20,TUANBV,6,0) -> #N/A | I20: =VLOOKUP($C20,TUANBV,7,0) -> #N/A | J20: =VLOOKUP($C20,TUANBV,8,0) -> #N/A | K20: =VLOOKUP($C20,TUANBV,9,0) -> #N/A | L20: =VLOOKUP($C20,TUANBV,10,0) -> #N/A | M20: =VLOOKUP($C20,TUANBV,11,0) -> #N/A | N20: =VLOOKUP($C20,TUANBV,12,0) -> #N/A | O20: =VLOOKUP($C20,TUANBV,13,0) -> #N/A | P20: =VLOOKUP($C20,TUANBV,14,0) -> #N/A | Q20: =VLOOKUP($C20,TUANBV,15,0) -> #N/A | R20: =VLOOKUP($C20,TUANBV,16,0) -> #N/A

Sheet 4.VK
A1: LIST | B1: SHBB | C1: MH | D1: Nội dung công việc | E1: Vị trí | F1: Điểm TĐC | G1: Số hiệu PYC | H1: Số hiệu NTCV | I1: DATE PYC | J1: MONTH PYC | K1: Ngày PYC | L1: H-START | M1: H-END | N1: DATE NTCV | O1: MONTH NTCV | P1: Ngày NTCV | Q1: CĐT | R1: ĐVTC
A2: 1 | C2: VKBT1 | D2: =VLOOKUP($C2,TUANBV,2,0) -> Nghiệm thu công tác lắp dựng ván khuôn bê tông lót móng | E2: =VLOOKUP($C2,TUANBV,3,0) -> Nhà tiểu học 3 phòng | F2: =VLOOKUP($C2,TUANBV,4,0) -> Điểm TĐC Pom Chốn | G2: =VLOOKUP($C2,TUANBV,5,0) -> 2/VKTH3PC | H2: =VLOOKUP($C2,TUANBV,6,0) -> 2/VKTH3PC | I2: =VLOOKUP($C2,TUANBV,7,0) -> 18 | J2: =VLOOKUP($C2,TUANBV,8,0) -> 08 | K2: =VLOOKUP($C2,TUANBV,9,0) -> 41869 | L2: =VLOOKUP($C2,TUANBV,10,0) -> 09 giờ 00 | M2: =VLOOKUP($C2,TUANBV,11,0) -> 10 giờ 00 | N2: =VLOOKUP($C2,TUANBV,12,0) -> 19 | O2: =VLOOKUP($C2,TUANBV,13,0) -> 08 | P2: =VLOOKUP($C2,TUANBV,14,0) -> 41870 | Q2: =VLOOKUP($C2,TUANBV,15,0) -> Nguyễn Xuân Quỳnh | R2: =VLOOKUP($C2,TUANBV,16,0) -> Lê Văn Thái
A3: 2 | C3: VKBT2 | D3: =VLOOKUP($C3,TUANBV,2,0) -> Nghiệm thu ván khuôn bê tông giằng móng | E3: =VLOOKUP($C3,TUANBV,3,0) -> Nhà tiểu học 3 phòng | F3: =VLOOKUP($C3,TUANBV,4,0) -> Điểm TĐC Pom Chốn | G3: =VLOOKUP($C3,TUANBV,5,0) -> 4/VKTH3PC | H3: =VLOOKUP($C3,TUANBV,6,0) -> 4/VKTH3PC | I3: =VLOOKUP($C3,TUANBV,7,0) -> 26 | J3: =VLOOKUP($C3,TUANBV,8,0) -> 08 | K3: =VLOOKUP($C3,TUANBV,9,0) -> 41877 | L3: =VLOOKUP($C3,TUANBV,10,0) -> 08 giờ 00 | M3: =VLOOKUP($C3,TUANBV,11,0) -> 09 giờ 00 | N3: =VLOOKUP($C3,TUANBV,12,0) -> 27 | O3: =VLOOKUP($C3,TUANBV,13,0) -> 08 | P3: =VLOOKUP($C3,TUANBV,14,0) -> 41878 | Q3: =VLOOKUP($C3,TUANBV,15,0) -> Nguyễn Xuân Quỳnh | R3: =VLOOKUP($C3,TUANBV,16,0) -> Lê Văn Thái
A4: 3 | C4: VKBT3 | D4: =VLOOKUP($C4,TUANBV,2,0) -> Nghiệm thu công tác lắp dựng ván khuôn lanh tô cửa sổ và cửa đi | E4: =VLOOKUP($C4,TUANBV,3,0) -> Nhà tiểu học 3 phòng | F4: =VLOOKUP($C4,TUANBV,4,0) -> Điểm TĐC Pom Chốn | G4: =VLOOKUP($C4,TUANBV,5,0) -> 6/VKTH3PC | H4: =VLOOKUP($C4,TUANBV,6,0) -> 6/VKTH3PC | I4: =VLOOKUP($C4,TUANBV,7,0) -> ….. | J4: =VLOOKUP($C4,TUANBV,8,0) -> ….. | K4: =VLOOKUP($C4,TUANBV,9,0) -> -1 | L4: =VLOOKUP($C4,TUANBV,10,0) -> …..giờ….. | M4: =VLOOKUP($C4,TUANBV,11,0) -> …..giờ….. | N4: =VLOOKUP($C4,TUANBV,12,0) -> ….. | O4: =VLOOKUP($C4,TUANBV,13,0) -> ….. | P4: =VLOOKUP($C4,TUANBV,14,0) -> 0 | Q4: =VLOOKUP($C4,TUANBV,15,0) -> Nguyễn Xuân Quỳnh | R4: =VLOOKUP($C4,TUANBV,16,0) -> Lê Văn Thái
A5: 4 | C5: VKBT4 | D5: =VLOOKUP($C5,TUANBV,2,0) -> Nghiệm thu ván khuôn bê tông dầm D1, D2, D3, D4, D4A, D4B, bê tông sàn, sê nô thu nước | E5: =VLOOKUP($C5,TUANBV,3,0) -> Nhà tiểu học 3 phòng | F5: =VLOOKUP($C5,TUANBV,4,0) -> Điểm TĐC Pom Chốn | G5: =VLOOKUP($C5,TUANBV,5,0) -> 8/VKTH3PC | H5: =VLOOKUP($C5,TUANBV,6,0) -> 8/VKTH3PC | I5: =VLOOKUP($C5,TUANBV,7,0) -> ….. | J5: =VLOOKUP($C5,TUANBV,8,0) -> ….. | K5: =VLOOKUP($C5,TUANBV,9,0) -> -1 | L5: =VLOOKUP($C5,TUANBV,10,0) -> …..giờ….. | M5: =VLOOKUP($C5,TUANBV,11,0) -> …..giờ….. | N5: =VLOOKUP($C5,TUANBV,12,0) -> ….. | O5: =VLOOKUP($C5,TUANBV,13,0) -> ….. | P5: =VLOOKUP($C5,TUANBV,14,0) -> 0 | Q5: =VLOOKUP($C5,TUANBV,15,0) -> Nguyễn Xuân Quỳnh | R5: =VLOOKUP($C5,TUANBV,16,0) -> Lê Văn Thái
A6: 5 | C6: VKBT5 | D6: =VLOOKUP($C6,TUANBV,2,0) -> Nghiệm thu ván khuôn bê tông giằng tường thu hồi | E6: =VLOOKUP($C6,TUANBV,3,0) -> Nhà tiểu học 3 phòng | F6: =VLOOKUP($C6,TUANBV,4,0) -> Điểm TĐC Pom Chốn | G6: =VLOOKUP($C6,TUANBV,5,0) -> 10/VKTH3PC | H6: =VLOOKUP($C6,TUANBV,6,0) -> 10/VKTH3PC | I6: =VLOOKUP($C6,TUANBV,7,0) -> ….. | J6: =VLOOKUP($C6,TUANBV,8,0) -> ….. | K6: =VLOOKUP($C6,TUANBV,9,0) -> -1 | L6: =VLOOKUP($C6,TUANBV,10,0) -> …..giờ….. | M6: =VLOOKUP($C6,TUANBV,11,0) -> …..giờ….. | N6: =VLOOKUP($C6,TUANBV,12,0) -> ….. | O6: =VLOOKUP($C6,TUANBV,13,0) -> ….. | P6: =VLOOKUP($C6,TUANBV,14,0) -> 0 | Q6: =VLOOKUP($C6,TUANBV,15,0) -> .......................................... | R6: =VLOOKUP($C6,TUANBV,16,0) -> Lê Văn Thái
A7: 6 | C7: VKBT6 | D7: =VLOOKUP($C7,TUANBV,2,0) -> Nghiệm thu ván khuôn bê tông Lam trang trí | E7: =VLOOKUP($C7,TUANBV,3,0) -> Nhà tiểu học 3 phòng | F7: =VLOOKUP($C7,TUANBV,4,0) -> Điểm TĐC Pom Chốn | G7: =VLOOKUP($C7,TUANBV,5,0) -> 11/VKTH3PC | H7: =VLOOKUP($C7,TUANBV,6,0) -> 11/VKTH3PC | I7: =VLOOKUP($C7,TUANBV,7,0) -> ….. | J7: =VLOOKUP($C7,TUANBV,8,0) -> ….. | K7: =VLOOKUP($C7,TUANBV,9,0) -> -1 | L7: =VLOOKUP($C7,TUANBV,10,0) -> …..giờ….. | M7: =VLOOKUP($C7,TUANBV,11,0) -> …..giờ….. | N7: =VLOOKUP($C7,TUANBV,12,0) -> ….. | O7: =VLOOKUP($C7,TUANBV,13,0) -> ….. | P7: =VLOOKUP($C7,TUANBV,14,0) -> 0 | Q7: =VLOOKUP($C7,TUANBV,15,0) -> .......................................... | R7: =VLOOKUP($C7,TUANBV,16,0) -> Lê Văn Thái
A8: 7 | C8: VKBT7 | D8: =VLOOKUP($C8,TUANBV,2,0) -> #N/A | E8: =VLOOKUP($C8,TUANBV,3,0) -> #N/A | F8: =VLOOKUP($C8,TUANBV,4,0) -> #N/A | G8: =VLOOKUP($C8,TUANBV,5,0) -> #N/A | H8: =VLOOKUP($C8,TUANBV,6,0) -> #N/A | I8: =VLOOKUP($C8,TUANBV,7,0) -> #N/A | J8: =VLOOKUP($C8,TUANBV,8,0) -> #N/A | K8: =VLOOKUP($C8,TUANBV,9,0) -> #N/A | L8: =VLOOKUP($C8,TUANBV,10,0) -> #N/A | M8: =VLOOKUP($C8,TUANBV,11,0) -> #N/A | N8: =VLOOKUP($C8,TUANBV,12,0) -> #N/A | O8: =VLOOKUP($C8,TUANBV,13,0) -> #N/A | P8: =VLOOKUP($C8,TUANBV,14,0) -> #N/A | Q8: =VLOOKUP($C8,TUANBV,15,0) -> #N/A | R8: =VLOOKUP($C8,TUANBV,16,0) -> #N/A
A9: 8 | C9: VKBT8 | D9: =VLOOKUP($C9,TUANBV,2,0) -> #N/A | E9: =VLOOKUP($C9,TUANBV,3,0) -> #N/A | F9: =VLOOKUP($C9,TUANBV,4,0) -> #N/A | G9: =VLOOKUP($C9,TUANBV,5,0) -> #N/A | H9: =VLOOKUP($C9,TUANBV,6,0) -> #N/A | I9: =VLOOKUP($C9,TUANBV,7,0) -> #N/A | J9: =VLOOKUP($C9,TUANBV,8,0) -> #N/A | K9: =VLOOKUP($C9,TUANBV,9,0) -> #N/A | L9: =VLOOKUP($C9,TUANBV,10,0) -> #N/A | M9: =VLOOKUP($C9,TUANBV,11,0) -> #N/A | N9: =VLOOKUP($C9,TUANBV,12,0) -> #N/A | O9: =VLOOKUP($C9,TUANBV,13,0) -> #N/A | P9: =VLOOKUP($C9,TUANBV,14,0) -> #N/A | Q9: =VLOOKUP($C9,TUANBV,15,0) -> #N/A | R9: =VLOOKUP($C9,TUANBV,16,0) -> #N/A
A10: 9 | C10: VKBT9 | D10: =VLOOKUP($C10,TUANBV,2,0) -> #N/A | E10: =VLOOKUP($C10,TUANBV,3,0) -> #N/A | F10: =VLOOKUP($C10,TUANBV,4,0) -> #N/A | G10: =VLOOKUP($C10,TUANBV,5,0) -> #N/A | H10: =VLOOKUP($C10,TUANBV,6,0) -> #N/A | I10: =VLOOKUP($C10,TUANBV,7,0) -> #N/A | J10: =VLOOKUP($C10,TUANBV,8,0) -> #N/A | K10: =VLOOKUP($C10,TUANBV,9,0) -> #N/A | L10: =VLOOKUP($C10,TUANBV,10,0) -> #N/A | M10: =VLOOKUP($C10,TUANBV,11,0) -> #N/A | N10: =VLOOKUP($C10,TUANBV,12,0) -> #N/A | O10: =VLOOKUP($C10,TUANBV,13,0) -> #N/A | P10: =VLOOKUP($C10,TUANBV,14,0) -> #N/A | Q10: =VLOOKUP($C10,TUANBV,15,0) -> #N/A | R10: =VLOOKUP($C10,TUANBV,16,0) -> #N/A
A11: 10 | C11: VKBT10 | D11: =VLOOKUP($C11,TUANBV,2,0) -> #N/A | E11: =VLOOKUP($C11,TUANBV,3,0) -> #N/A | F11: =VLOOKUP($C11,TUANBV,4,0) -> #N/A | G11: =VLOOKUP($C11,TUANBV,5,0) -> #N/A | H11: =VLOOKUP($C11,TUANBV,6,0) -> #N/A | I11: =VLOOKUP($C11,TUANBV,7,0) -> #N/A | J11: =VLOOKUP($C11,TUANBV,8,0) -> #N/A | K11: =VLOOKUP($C11,TUANBV,9,0) -> #N/A | L11: =VLOOKUP($C11,TUANBV,10,0) -> #N/A | M11: =VLOOKUP($C11,TUANBV,11,0) -> #N/A | N11: =VLOOKUP($C11,TUANBV,12,0) -> #N/A | O11: =VLOOKUP($C11,TUANBV,13,0) -> #N/A | P11: =VLOOKUP($C11,TUANBV,14,0) -> #N/A | Q11: =VLOOKUP($C11,TUANBV,15,0) -> #N/A | R11: =VLOOKUP($C11,TUANBV,16,0) -> #N/A
A12: 11 | C12: VKBT11 | D12: =VLOOKUP($C12,TUANBV,2,0) -> #N/A | E12: =VLOOKUP($C12,TUANBV,3,0) -> #N/A | F12: =VLOOKUP($C12,TUANBV,4,0) -> #N/A | G12: =VLOOKUP($C12,TUANBV,5,0) -> #N/A | H12: =VLOOKUP($C12,TUANBV,6,0) -> #N/A | I12: =VLOOKUP($C12,TUANBV,7,0) -> #N/A | J12: =VLOOKUP($C12,TUANBV,8,0) -> #N/A | K12: =VLOOKUP($C12,TUANBV,9,0) -> #N/A | L12: =VLOOKUP($C12,TUANBV,10,0) -> #N/A | M12: =VLOOKUP($C12,TUANBV,11,0) -> #N/A | N12: =VLOOKUP($C12,TUANBV,12,0) -> #N/A | O12: =VLOOKUP($C12,TUANBV,13,0) -> #N/A | P12: =VLOOKUP($C12,TUANBV,14,0) -> #N/A | Q12: =VLOOKUP($C12,TUANBV,15,0) -> #N/A | R12: =VLOOKUP($C12,TUANBV,16,0) -> #N/A
A13: 12 | C13: VKBT12 | D13: =VLOOKUP($C13,TUANBV,2,0) -> #N/A | E13: =VLOOKUP($C13,TUANBV,3,0) -> #N/A | F13: =VLOOKUP($C13,TUANBV,4,0) -> #N/A | G13: =VLOOKUP($C13,TUANBV,5,0) -> #N/A | H13: =VLOOKUP($C13,TUANBV,6,0) -> #N/A | I13: =VLOOKUP($C13,TUANBV,7,0) -> #N/A | J13: =VLOOKUP($C13,TUANBV,8,0) -> #N/A | K13: =VLOOKUP($C13,TUANBV,9,0) -> #N/A | L13: =VLOOKUP($C13,TUANBV,10,0) -> #N/A | M13: =VLOOKUP($C13,TUANBV,11,0) -> #N/A | N13: =VLOOKUP($C13,TUANBV,12,0) -> #N/A | O13: =VLOOKUP($C13,TUANBV,13,0) -> #N/A | P13: =VLOOKUP($C13,TUANBV,14,0) -> #N/A | Q13: =VLOOKUP($C13,TUANBV,15,0) -> #N/A | R13: =VLOOKUP($C13,TUANBV,16,0) -> #N/A
... A20: 19 | C20: VKBT19 | D20: =VLOOKUP($C20,TUANBV,2,0) -> #N/A | E20: =VLOOKUP($C20,TUANBV,3,0) -> #N/A | F20: =VLOOKUP($C20,TUANBV,4,0) -> #N/A | G20: =VLOOKUP($C20,TUANBV,5,0) -> #N/A | H20: =VLOOKUP($C20,TUANBV,6,0) -> #N/A | I20: =VLOOKUP($C20,TUANBV,7,0) -> #N/A | J20: =VLOOKUP($C20,TUANBV,8,0) -> #N/A | K20: =VLOOKUP($C20,TUANBV,9,0) -> #N/A | L20: =VLOOKUP($C20,TUANBV,10,0) -> #N/A | M20: =VLOOKUP($C20,TUANBV,11,0) -> #N/A | N20: =VLOOKUP($C20,TUANBV,12,0) -> #N/A | O20: =VLOOKUP($C20,TUANBV,13,0) -> #N/A | P20: =VLOOKUP($C20,TUANBV,14,0) -> #N/A | Q20: =VLOOKUP($C20,TUANBV,15,0) -> #N/A | R20: =VLOOKUP($C20,TUANBV,16,0) -> #N/A

Sheet 5.CBBT
A1: LIST | B1: SHBB | C1: MH | D1: Nội dung công việc | E1: Vị trí | F1: Điểm TĐC | G1: Số hiệu PYC | H1: Số hiệu NTCV | I1: DATE PYC | J1: MONTH PYC | K1: Ngày PYC | L1: H-START | M1: H-END | N1: DATE NTCV | O1: MONTH NTCV | P1: Ngày NTCV | Q1: CĐT | R1: ĐVTC | T1: MÁC BT | U1: XI | V1: CÁT | W1: ĐÁ | Y1: XI NT | Z1: CÁT NT | AA1: ĐÁ NT | AB1: NƯỚC NT | AC1: THÉP NT
A2: 1 | C2: CBBT1 | D2: =VLOOKUP($C2,TUANBV,2,0) -> Kiểm tra công tác chuẩn bị đổ bê tông lót móng | E2: =VLOOKUP($C2,TUANBV,3,0) -> Nhà tiểu học 3 phòng | F2: =VLOOKUP($C2,TUANBV,4,0) -> Điểm TĐC Pom Chốn | G2: =VLOOKUP($C2,TUANBV,5,0) -> 2/CBTH3PC | H2: =VLOOKUP($C2,TUANBV,6,0) -> 2/CBTH3PC | I2: =VLOOKUP($C2,TUANBV,7,0) -> 18 | J2: =VLOOKUP($C2,TUANBV,8,0) -> 08 | K2: =VLOOKUP($C2,TUANBV,9,0) -> 41869 | L2: =VLOOKUP($C2,TUANBV,10,0) -> 10 giờ 00 | M2: =VLOOKUP($C2,TUANBV,11,0) -> 11 giờ 00 | N2: =VLOOKUP($C2,TUANBV,12,0) -> 19 | O2: =VLOOKUP($C2,TUANBV,13,0) -> 08 | P2: =VLOOKUP($C2,TUANBV,14,0) -> 41870 | Q2: =VLOOKUP($C2,TUANBV,15,0) -> Nguyễn Xuân Quỳnh | R2: =VLOOKUP($C2,TUANBV,16,0) -> Lê Văn Thái | T2: ="Mác "&RIGHT('2.VL'!Y2,4) -> Mác 100# | U2: ='2.VL'!S2 -> The Vissai PCB30 | V2: vàng | W2: ='2.VL'!U2 -> Đá 4x6cm | Y2: ='2.VL'!AJ2 -> 1613.81 | Z2: ='2.VL'!AK2 -> 4.33 | AA2: ='2.VL'!AL2 -> 7.75 | AB2: ='2.VL'!AM2 -> 1510.25 | AC2: ='2.VL'!AN2 -> 0
A3: 2 | C3: CBBT2 | D3: =VLOOKUP($C3,TUANBV,2,0) -> Kiểm tra công tác chuẩn bị đổ bê tông giằng móng | E3: =VLOOKUP($C3,TUANBV,3,0) -> Nhà tiểu học 3 phòng | F3: =VLOOKUP($C3,TUANBV,4,0) -> Điểm TĐC Pom Chốn | G3: =VLOOKUP($C3,TUANBV,5,0) -> 4/CBTH3PC | H3: =VLOOKUP($C3,TUANBV,6,0) -> 4/CBTH3PC | I3: =VLOOKUP($C3,TUANBV,7,0) -> 26 | J3: =VLOOKUP($C3,TUANBV,8,0) -> 08 | K3: =VLOOKUP($C3,TUANBV,9,0) -> 41877 | L3: =VLOOKUP($C3,TUANBV,10,0) -> 10 giờ 00 | M3: =VLOOKUP($C3,TUANBV,11,0) -> 11 giờ 00 | N3: =VLOOKUP($C3,TUANBV,12,0) -> 27 | O3: =VLOOKUP($C3,TUANBV,13,0) -> 08 | P3: =VLOOKUP($C3,TUANBV,14,0) -> 41878 | Q3: =VLOOKUP($C3,TUANBV,15,0) -> Nguyễn Xuân Quỳnh | R3: =VLOOKUP($C3,TUANBV,16,0) -> Lê Văn Thái | T3: ="Mác "&RIGHT('2.VL'!Y3,4) -> Mác 200# | U3: ='2.VL'!S3 -> The Vissai PCB30 | V3: vàng | W3: ='2.VL'!U3 -> Đá 1x2cm | Y3: ='2.VL'!AJ3 -> 699.05 | Z3: ='2.VL'!AK3 -> 0.92 | AA3: ='2.VL'!AL3 -> 1.78 | AB3: ='2.VL'!AM3 -> 399.75 | AC3: ='2.VL'!AN3 -> 197.32
A4: 3 | C4: CBBT3 | D4: =VLOOKUP($C4,TUANBV,2,0) -> Kiểm tra công tác chuẩn bị trước khi đổ bê tông lanh tô cửa sổ và cửa đi | E4: =VLOOKUP($C4,TUANBV,3,0) -> Nhà tiểu học 3 phòng | F4: =VLOOKUP($C4,TUANBV,4,0) -> Điểm TĐC Pom Chốn | G4: =VLOOKUP($C4,TUANBV,5,0) -> 6/CBTH3PC | H4: =VLOOKUP($C4,TUANBV,6,0) -> 6/CBTH3PC | I4: =VLOOKUP($C4,TUANBV,7,0) -> ….. | J4: =VLOOKUP($C4,TUANBV,8,0) -> ….. | K4: =VLOOKUP($C4,TUANBV,9,0) -> -1 | L4: =VLOOKUP($C4,TUANBV,10,0) -> …..giờ….. | M4: =VLOOKUP($C4,TUANBV,11,0) -> …..giờ….. | N4: =VLOOKUP($C4,TUANBV,12,0) -> ….. | O4: =VLOOKUP($C4,TUANBV,13,0) -> ….. | P4: =VLOOKUP($C4,TUANBV,14,0) -> 0 | Q4: =VLOOKUP($C4,TUANBV,15,0) -> Nguyễn Xuân Quỳnh | R4: =VLOOKUP($C4,TUANBV,16,0) -> Lê Văn Thái | T4: ="Mác "&RIGHT('2.VL'!Y4,4) -> Mác 200# | U4: ='2.VL'!S4 -> The Vissai PCB30 | V4: vàng | W4: ='2.VL'!U4 -> Đá 1x2cm | Y4: ='2.VL'!AJ4 -> 265.98 | Z4: ='2.VL'!AK4 -> 0.35 | AA4: ='2.VL'!AL4 -> 0.68 | AB4: ='2.VL'!AM4 -> 152.1 | AC4: ='2.VL'!AN4 -> 60
A5: 4 | C5: CBBT4 | D5: =VLOOKUP($C5,TUANBV,2,0) -> Kiểm tra công tác chuẩn bị đổ bê tông dầm D1, D2, D3, D4, D4A, D4B, bê tông sàn, sê nô thu nước | E5: =VLOOKUP($C5,TUANBV,3,0) -> Nhà tiểu học 3 phòng | F5: =VLOOKUP($C5,TUANBV,4,0) -> Điểm TĐC Pom Chốn | G5: =VLOOKUP($C5,TUANBV,5,0) -> 8/CBTH3PC | H5: =VLOOKUP($C5,TUANBV,6,0) -> 8/CBTH3PC | I5: =VLOOKUP($C5,TUANBV,7,0) -> ….. | J5: =VLOOKUP($C5,TUANBV,8,0) -> ….. | K5: =VLOOKUP($C5,TUANBV,9,0) -> -1 | L5: =VLOOKUP($C5,TUANBV,10,0) -> …..giờ….. | M5: =VLOOKUP($C5,TUANBV,11,0) -> …..giờ….. | N5: =VLOOKUP($C5,TUANBV,12,0) -> ….. | O5: =VLOOKUP($C5,TUANBV,13,0) -> ….. | P5: =VLOOKUP($C5,TUANBV,14,0) -> 0 | Q5: =VLOOKUP($C5,TUANBV,15,0) -> .......................................... | R5: =VLOOKUP($C5,TUANBV,16,0) -> Lê Văn Thái | T5: ="Mác "&RIGHT('2.VL'!Y5,4) -> Mác 200# | U5: ='2.VL'!S5 -> The Vissai PCB30 | V5: vàng | W5: ='2.VL'!U5 -> Đá 1x2cm | Y5: ='2.VL'!AJ5 -> 8177.18 | Z5: ='2.VL'!AK5 -> 10.79 | AA5: ='2.VL'!AL5 -> 20.77 | AB5: ='2.VL'!AM5 -> 4676.1 | AC5: ='2.VL'!AN5 -> 2090
A6: 5 | C6: CBBT5 | D6: =VLOOKUP($C6,TUANBV,2,0) -> Kiểm tra công tác chuẩn bị đổ bê tông giằng tường thu hồi | E6: =VLOOKUP($C6,TUANBV,3,0) -> Nhà tiểu học 3 phòng | F6: =VLOOKUP($C6,TUANBV,4,0) -> Điểm TĐC Pom Chốn | G6: =VLOOKUP($C6,TUANBV,5,0) -> 10/CBTH3PC | H6: =VLOOKUP($C6,TUANBV,6,0) -> 10/CBTH3PC | I6: =VLOOKUP($C6,TUANBV,7,0) -> ….. | J6: =VLOOKUP($C6,TUANBV,8,0) -> ….. | K6: =VLOOKUP($C6,TUANBV,9,0) -> -1 | L6: =VLOOKUP($C6,TUANBV,10,0) -> …..giờ….. | M6: =VLOOKUP($C6,TUANBV,11,0) -> …..giờ….. | N6: =VLOOKUP($C6,TUANBV,12,0) -> ….. | O6: =VLOOKUP($C6,TUANBV,13,0) -> ….. | P6: =VLOOKUP($C6,TUANBV,14,0) -> 0 | Q6: =VLOOKUP($C6,TUANBV,15,0) -> .......................................... | R6: =VLOOKUP($C6,TUANBV,16,0) -> Lê Văn Thái | T6: ="Mác "&RIGHT('2.VL'!Y6,4) -> Mác 200# | U6: ='2.VL'!S6 -> The Vissai PCB30 | V6: vàng | W6: ='2.VL'!U6 -> Đá 1x2cm | Y6: ='2.VL'!AJ6 -> 378.51 | Z6: ='2.VL'!AK6 -> 0.5 | AA6: ='2.VL'!AL6 -> 0.96 | AB6: ='2.VL'!AM6 -> 216.45 | AC6: ='2.VL'!AN6 -> 80
A7: 6 | C7: CBBT6 | D7: =VLOOKUP($C7,TUANBV,2,0) -> Kiểm tra công tác chuẩn bị đổ bê tông Lam trang trí | E7: =VLOOKUP($C7,TUANBV,3,0) -> Nhà tiểu học 3 phòng | F7: =VLOOKUP($C7,TUANBV,4,0) -> Điểm TĐC Pom Chốn | G7: =VLOOKUP($C7,TUANBV,5,0) -> 11/CBTH3PC | H7: =VLOOKUP($C7,TUANBV,6,0) -> 11/CBTH3PC | I7: =VLOOKUP($C7,TUANBV,7,0) -> ….. | J7: =VLOOKUP($C7,TUANBV,8,0) -> ….. | K7: =VLOOKUP($C7,TUANBV,9,0) -> -1 | L7: =VLOOKUP($C7,TUANBV,10,0) -> …..giờ….. | M7: =VLOOKUP($C7,TUANBV,11,0) -> …..giờ….. | N7: =VLOOKUP($C7,TUANBV,12,0) -> ….. | O7: =VLOOKUP($C7,TUANBV,13,0) -> ….. | P7: =VLOOKUP($C7,TUANBV,14,0) -> 0 | Q7: =VLOOKUP($C7,TUANBV,15,0) -> .......................................... | R7: =VLOOKUP($C7,TUANBV,16,0) -> Lê Văn Thái | T7: ="Mác "&RIGHT('2.VL'!Y7,4) -> Mác 200# | U7: ='2.VL'!S7 -> The Vissai PCB30 | V7: vàng | W7: ='2.VL'!U7 -> Đá 1x2cm | Y7: ='2.VL'!AJ7 -> 231.88 | Z7: ='2.VL'!AK7 -> 0.31 | AA7: ='2.VL'!AL7 -> 0.59 | AB7: ='2.VL'!AM7 -> 132.6 | AC7: ='2.VL'!AN7 -> 120
A8: 7 | C8: CBBT7 | D8: =VLOOKUP($C8,TUANBV,2,0) -> #N/A | E8: =VLOOKUP($C8,TUANBV,3,0) -> #N/A | F8: =VLOOKUP($C8,TUANBV,4,0) -> #N/A | G8: =VLOOKUP($C8,TUANBV,5,0) -> #N/A | H8: =VLOOKUP($C8,TUANBV,6,0) -> #N/A | I8: =VLOOKUP($C8,TUANBV,7,0) -> #N/A | J8: =VLOOKUP($C8,TUANBV,8,0) -> #N/A | K8: =VLOOKUP($C8,TUANBV,9,0) -> #N/A | L8: =VLOOKUP($C8,TUANBV,10,0) -> #N/A | M8: =VLOOKUP($C8,TUANBV,11,0) -> #N/A | N8: =VLOOKUP($C8,TUANBV,12,0) -> #N/A | O8: =VLOOKUP($C8,TUANBV,13,0) -> #N/A | P8: =VLOOKUP($C8,TUANBV,14,0) -> #N/A | Q8: =VLOOKUP($C8,TUANBV,15,0) -> #N/A | R8: =VLOOKUP($C8,TUANBV,16,0) -> #N/A | T8: ="Mác "&RIGHT('2.VL'!Y8,4) -> Mác 0 | U8: ='2.VL'!S8 -> 0 | V8: vàng | W8: ='2.VL'!U8 -> 0 | Y8: ='2.VL'!AJ8 -> #N/A | Z8: ='2.VL'!AK8 -> #N/A | AA8: ='2.VL'!AL8 -> #N/A | AB8: ='2.VL'!AM8 -> #N/A | AC8: ='2.VL'!AN8 -> 0
A9: 8 | C9: CBBT8 | D9: =VLOOKUP($C9,TUANBV,2,0) -> #N/A | E9: =VLOOKUP($C9,TUANBV,3,0) -> #N/A | F9: =VLOOKUP($C9,TUANBV,4,0) -> #N/A | G9: =VLOOKUP($C9,TUANBV,5,0) -> #N/A | H9: =VLOOKUP($C9,TUANBV,6,0) -> #N/A | I9: =VLOOKUP($C9,TUANBV,7,0) -> #N/A | J9: =VLOOKUP($C9,TUANBV,8,0) -> #N/A | K9: =VLOOKUP($C9,TUANBV,9,0) -> #N/A | L9: =VLOOKUP($C9,TUANBV,10,0) -> #N/A | M9: =VLOOKUP($C9,TUANBV,11,0) -> #N/A | N9: =VLOOKUP($C9,TUANBV,12,0) -> #N/A | O9: =VLOOKUP($C9,TUANBV,13,0) -> #N/A | P9: =VLOOKUP($C9,TUANBV,14,0) -> #N/A | Q9: =VLOOKUP($C9,TUANBV,15,0) -> #N/A | R9: =VLOOKUP($C9,TUANBV,16,0) -> #N/A | T9: ="Mác "&RIGHT('2.VL'!Y9,4) -> Mác 0 | U9: ='2.VL'!S9 -> 0 | V9: vàng | W9: ='2.VL'!U9 -> 0 | Y9: ='2.VL'!AJ9 -> #N/A | Z9: ='2.VL'!AK9 -> #N/A | AA9: ='2.VL'!AL9 -> #N/A | AB9: ='2.VL'!AM9 -> #N/A | AC9: ='2.VL'!AN9 -> 0
A10: 9 | C10: CBBT9 | D10: =VLOOKUP($C10,TUANBV,2,0) -> #N/A | E10: =VLOOKUP($C10,TUANBV,3,0) -> #N/A | F10: =VLOOKUP($C10,TUANBV,4,0) -> #N/A | G10: =VLOOKUP($C10,TUANBV,5,0) -> #N/A | H10: =VLOOKUP($C10,TUANBV,6,0) -> #N/A | I10: =VLOOKUP($C10,TUANBV,7,0) -> #N/A | J10: =VLOOKUP($C10,TUANBV,8,0) -> #N/A | K10: =VLOOKUP($C10,TUANBV,9,0) -> #N/A | L10: =VLOOKUP($C10,TUANBV,10,0) -> #N/A | M10: =VLOOKUP($C10,TUANBV,11,0) -> #N/A | N10: =VLOOKUP($C10,TUANBV,12,0) -> #N/A | O10: =VLOOKUP($C10,TUANBV,13,0) -> #N/A | P10: =VLOOKUP($C10,TUANBV,14,0) -> #N/A | Q10: =VLOOKUP($C10,TUANBV,15,0) -> #N/A | R10: =VLOOKUP($C10,TUANBV,16,0) -> #N/A | T10: ="Mác "&RIGHT('2.VL'!Y10,4) -> Mác 0 | U10: ='2.VL'!S10 -> 0 | V10: vàng | W10: ='2.VL'!U10 -> 0 | Y10: ='2.VL'!AJ10 -> #N/A | Z10: ='2.VL'!AK10 -> #N/A | AA10: ='2.VL'!AL10 -> #N/A | AB10: ='2.VL'!AM10 -> #N/A | AC10: ='2.VL'!AN10 -> 0
A11: 10 | C11: CBBT10 | D11: =VLOOKUP($C11,TUANBV,2,0) -> #N/A | E11: =VLOOKUP($C11,TUANBV,3,0) -> #N/A | F11: =VLOOKUP($C11,TUANBV,4,0) -> #N/A | G11: =VLOOKUP($C11,TUANBV,5,0) -> #N/A | H11: =VLOOKUP($C11,TUANBV,6,0) -> #N/A | I11: =VLOOKUP($C11,TUANBV,7,0) -> #N/A | J11: =VLOOKUP($C11,TUANBV,8,0) -> #N/A | K11: =VLOOKUP($C11,TUANBV,9,0) -> #N/A | L11: =VLOOKUP($C11,TUANBV,10,0) -> #N/A | M11: =VLOOKUP($C11,TUANBV,11,0) -> #N/A | N11: =VLOOKUP($C11,TUANBV,12,0) -> #N/A | O11: =VLOOKUP($C11,TUANBV,13,0) -> #N/A | P11: =VLOOKUP($C11,TUANBV,14,0) -> #N/A | Q11: =VLOOKUP($C11,TUANBV,15,0) -> #N/A | R11: =VLOOKUP($C11,TUANBV,16,0) -> #N/A | T11: ="Mác "&RIGHT('2.VL'!Y11,4) -> Mác 0 | U11: ='2.VL'!S11 -> 0 | V11: vàng | W11: ='2.VL'!U11 -> 0 | Y11: ='2.VL'!AJ11 -> #N/A | Z11: ='2.VL'!AK11 -> #N/A | AA11: ='2.VL'!AL11 -> #N/A | AB11: ='2.VL'!AM11 -> #N/A | AC11: ='2.VL'!AN11 -> 0
A12: 11 | C12: CBBT11 | D12: =VLOOKUP($C12,TUANBV,2,0) -> #N/A | E12: =VLOOKUP($C12,TUANBV,3,0) -> #N/A | F12: =VLOOKUP($C12,TUANBV,4,0) -> #N/A | G12: =VLOOKUP($C12,TUANBV,5,0) -> #N/A | H12: =VLOOKUP($C12,TUANBV,6,0) -> #N/A | I12: =VLOOKUP($C12,TUANBV,7,0) -> #N/A | J12: =VLOOKUP($C12,TUANBV,8,0) -> #N/A | K12: =VLOOKUP($C12,TUANBV,9,0) -> #N/A | L12: =VLOOKUP($C12,TUANBV,10,0) -> #N/A | M12: =VLOOKUP($C12,TUANBV,11,0) -> #N/A | N12: =VLOOKUP($C12,TUANBV,12,0) -> #N/A | O12: =VLOOKUP($C12,TUANBV,13,0) -> #N/A | P12: =VLOOKUP($C12,TUANBV,14,0) -> #N/A | Q12: =VLOOKUP($C12,TUANBV,15,0) -> #N/A | R12: =VLOOKUP($C12,TUANBV,16,0) -> #N/A | T12: ="Mác "&RIGHT('2.VL'!Y12,4) -> Mác 0 | U12: ='2.VL'!S12 -> 0 | V12: vàng | W12: ='2.VL'!U12 -> 0 | Y12: ='2.VL'!AJ12 -> #N/A | Z12: ='2.VL'!AK12 -> #N/A | AA12: ='2.VL'!AL12 -> #N/A | AB12: ='2.VL'!AM12 -> #N/A | AC12: ='2.VL'!AN12 -> 0
A13: 12 | C13: CBBT12 | D13: =VLOOKUP($C13,TUANBV,2,0) -> #N/A | E13: =VLOOKUP($C13,TUANBV,3,0) -> #N/A | F13: =VLOOKUP($C13,TUANBV,4,0) -> #N/A | G13: =VLOOKUP($C13,TUANBV,5,0) -> #N/A | H13: =VLOOKUP($C13,TUANBV,6,0) -> #N/A | I13: =VLOOKUP($C13,TUANBV,7,0) -> #N/A | J13: =VLOOKUP($C13,TUANBV,8,0) -> #N/A | K13: =VLOOKUP($C13,TUANBV,9,0) -> #N/A | L13: =VLOOKUP($C13,TUANBV,10,0) -> #N/A | M13: =VLOOKUP($C13,TUANBV,11,0) -> #N/A | N13: =VLOOKUP($C13,TUANBV,12,0) -> #N/A | O13: =VLOOKUP($C13,TUANBV,13,0) -> #N/A | P13: =VLOOKUP($C13,TUANBV,14,0) -> #N/A | Q13: =VLOOKUP($C13,TUANBV,15,0) -> #N/A | R13: =VLOOKUP($C13,TUANBV,16,0) -> #N/A | T13: ="Mác "&RIGHT('2.VL'!Y13,4) -> Mác 0 | U13: ='2.VL'!S13 -> 0 | V13: vàng | W13: ='2.VL'!U13 -> 0 | Y13: ='2.VL'!AJ13 -> #N/A | Z13: ='2.VL'!AK13 -> #N/A | AA13: ='2.VL'!AL13 -> #N/A | AB13: ='2.VL'!AM13 -> #N/A | AC13: ='2.VL'!AN13 -> 0
... A20: 19 | C20: CBBT19 | D20: =VLOOKUP($C20,TUANBV,2,0) -> #N/A | E20: =VLOOKUP($C20,TUANBV,3,0) -> #N/A | F20: =VLOOKUP($C20,TUANBV,4,0) -> #N/A | G20: =VLOOKUP($C20,TUANBV,5,0) -> #N/A | H20: =VLOOKUP($C20,TUANBV,6,0) -> #N/A | I20: =VLOOKUP($C20,TUANBV,7,0) -> #N/A | J20: =VLOOKUP($C20,TUANBV,8,0) -> #N/A | K20: =VLOOKUP($C20,TUANBV,9,0) -> #N/A | L20: =VLOOKUP($C20,TUANBV,10,0) -> #N/A | M20: =VLOOKUP($C20,TUANBV,11,0) -> #N/A | N20: =VLOOKUP($C20,TUANBV,12,0) -> #N/A | O20: =VLOOKUP($C20,TUANBV,13,0) -> #N/A | P20: =VLOOKUP($C20,TUANBV,14,0) -> #N/A | Q20: =VLOOKUP($C20,TUANBV,15,0) -> #N/A | R20: =VLOOKUP($C20,TUANBV,16,0) -> #N/A | T20: ="Mác "&RIGHT('2.VL'!Y20,4) -> #N/A | U20: ='2.VL'!S20 -> #N/A | V20: vàng | W20: ='2.VL'!U20 -> #N/A | Y20: ='2.VL'!AJ20 -> #N/A | Z20: ='2.VL'!AK20 -> #N/A | AA20: ='2.VL'!AL20 -> #N/A | AB20: ='2.VL'!AM20 -> #N/A | AC20: ='2.VL'!AN20 -> #N/A

Sheet 6.GSBT
A1: LIST | B1: SHBB | C1: MH | D1: Nội dung công việc | E1: Vị trí | F1: Điểm TĐC | G1: Số hiệu PYC | H1: Số hiệu NTCV | I1: DATE PYC | J1: MONTH PYC | K1: Ngày PYC | L1: H-START | M1: H-END | N1: DATE NTCV | O1: MONTH NTCV | P1: Ngày NTCV | Q1: CĐT | R1: ĐVTC | T1: MÁC BT | U1: BT_TK_NT | V1: BT_TT_NT | W1: BT TK | X1: BT TT | Z1: XI | AA1: CÁT | AB1: ĐÁ | AC1: NƯỚC | AD1: ĐỘ C
A2: 1 | C2: GSBT1 | D2: =VLOOKUP($C2,TUANBV,2,0) -> Giám sát quá trình đổ bê tông lót móng | E2: =VLOOKUP($C2,TUANBV,3,0) -> Nhà tiểu học 3 phòng | F2: =VLOOKUP($C2,TUANBV,4,0) -> Điểm TĐC Pom Chốn | G2: =VLOOKUP($C2,TUANBV,5,0) -> 2/GSTH3PC | H2: =VLOOKUP($C2,TUANBV,6,0) -> 2/GSTH3PC | I2: =VLOOKUP($C2,TUANBV,7,0) -> 18 | J2: =VLOOKUP($C2,TUANBV,8,0) -> 08 | K2: =VLOOKUP($C2,TUANBV,9,0) -> 41869 | L2: =VLOOKUP($C2,TUANBV,10,0) -> 14 giờ 00 | M2: =VLOOKUP($C2,TUANBV,11,0) -> 16 giờ 00 | N2: =VLOOKUP($C2,TUANBV,12,0) -> 19 | O2: =VLOOKUP($C2,TUANBV,13,0) -> 08 | P2: =VLOOKUP($C2,TUANBV,14,0) -> 41870 | Q2: =VLOOKUP($C2,TUANBV,15,0) -> Nguyễn Xuân Quỳnh | R2: =VLOOKUP($C2,TUANBV,16,0) -> Lê Văn Thái | T2: ='2.VL'!Y2 -> Bê tông mác 100# | U2: 8,17 | V2: 8,99 | W2: ='2.VL'!W2 -> 8.63 | X2: =ROUND(W2*1.1,2) -> 9.49 | Z2: =VLOOKUP($T2,CPBT,2,0)&" (kg)" -> 187 (kg) | AA2: =VLOOKUP($T2,CPBT,3,0)&" (m3)" -> 0.502 (m3) | AB2: =VLOOKUP($T2,CPBT,4,0)&" (m3)" -> 0.898 (m3) | AC2: =VLOOKUP($T2,CPBT,5,0)&" lít" -> 175 lít | AD2: =VLOOKUP($A2,BANGBT,9,0) -> 29 độ C
A3: 2 | C3: GSBT2 | D3: =VLOOKUP($C3,TUANBV,2,0) -> Giám sát quá trình đổ bê tông giằng móng | E3: =VLOOKUP($C3,TUANBV,3,0) -> Nhà tiểu học 3 phòng | F3: =VLOOKUP($C3,TUANBV,4,0) -> Điểm TĐC Pom Chốn | G3: =VLOOKUP($C3,TUANBV,5,0) -> 4/GSTH3PC | H3: =VLOOKUP($C3,TUANBV,6,0) -> 4/GSTH3PC | I3: =VLOOKUP($C3,TUANBV,7,0) -> 26 | J3: =VLOOKUP($C3,TUANBV,8,0) -> 08 | K3: =VLOOKUP($C3,TUANBV,9,0) -> 41877 | L3: =VLOOKUP($C3,TUANBV,10,0) -> 14 giờ 00 | M3: =VLOOKUP($C3,TUANBV,11,0) -> 16 giờ 00 | N3: =VLOOKUP($C3,TUANBV,12,0) -> 27 | O3: =VLOOKUP($C3,TUANBV,13,0) -> 08 | P3: =VLOOKUP($C3,TUANBV,14,0) -> 41878 | Q3: =VLOOKUP($C3,TUANBV,15,0) -> Nguyễn Xuân Quỳnh | R3: =VLOOKUP($C3,TUANBV,16,0) -> Lê Văn Thái | T3: ='2.VL'!Y3 -> Bê tông mác 200# | U3: 0,72 | V3: 0,79 | W3: ='2.VL'!W3 -> 2.05 | X3: =ROUND(W3*1.1,2) -> 2.26 | Z3: =VLOOKUP($T3,CPBT,2,0)&" (kg)" -> 341 (kg) | AA3: =VLOOKUP($T3,CPBT,3,0)&" (m3)" -> 0.45 (m3) | AB3: =VLOOKUP($T3,CPBT,4,0)&" (m3)" -> 0.866 (m3) | AC3: =VLOOKUP($T3,CPBT,5,0)&" lít" -> 195 lít | AD3: =VLOOKUP($A3,BANGBT,9,0) -> 29 độ C
A4: 3 | C4: GSBT3 | D4: =VLOOKUP($C4,TUANBV,2,0) -> Giám sát quá trình đổ bê tông lanh tô cửa sổ và cửa đi | E4: =VLOOKUP($C4,TUANBV,3,0) -> Nhà tiểu học 3 phòng | F4: =VLOOKUP($C4,TUANBV,4,0) -> Điểm TĐC Pom Chốn | G4: =VLOOKUP($C4,TUANBV,5,0) -> 6/GSTH3PC | H4: =VLOOKUP($C4,TUANBV,6,0) -> 6/GSTH3PC | I4: =VLOOKUP($C4,TUANBV,7,0) -> ….. | J4: =VLOOKUP($C4,TUANBV,8,0) -> ….. | K4: =VLOOKUP($C4,TUANBV,9,0) -> -1 | L4: =VLOOKUP($C4,TUANBV,10,0) -> …..giờ….. | M4: =VLOOKUP($C4,TUANBV,11,0) -> …..giờ….. | N4: =VLOOKUP($C4,TUANBV,12,0) -> ….. | O4: =VLOOKUP($C4,TUANBV,13,0) -> ….. | P4: =VLOOKUP($C4,TUANBV,14,0) -> 0 | Q4: =VLOOKUP($C4,TUANBV,15,0) -> Nguyễn Xuân Quỳnh | R4: =VLOOKUP($C4,TUANBV,16,0) -> Lê Văn Thái | T4: ='2.VL'!Y4 -> Bê tông mác 200# | U4: 1,09 | V4: 1,2 | W4: ='2.VL'!W4 -> 0.78 | X4: =ROUND(W4*1.1,2) -> 0.86 | Z4: =VLOOKUP($T4,CPBT,2,0)&" (kg)" -> 341 (kg) | AA4: =VLOOKUP($T4,CPBT,3,0)&" (m3)" -> 0.45 (m3) | AB4: =VLOOKUP($T4,CPBT,4,0)&" (m3)" -> 0.866 (m3) | AC4: =VLOOKUP($T4,CPBT,5,0)&" lít" -> 195 lít | AD4: =VLOOKUP($A4,BANGBT,9,0) -> 28 độ C
A5: 4 | C5: GSBT4 | D5: =VLOOKUP($C5,TUANBV,2,0) -> Giám sát quá trình đổ bê tông dầm D1, D2, D3, D4, D4A, D4B, bê tông sàn, sê nô thu nước | E5: =VLOOKUP($C5,TUANBV,3,0) -> Nhà tiểu học 3 phòng | F5: =VLOOKUP($C5,TUANBV,4,0) -> Điểm TĐC Pom Chốn | G5: =VLOOKUP($C5,TUANBV,5,0) -> 8/GSTH3PC | H5: =VLOOKUP($C5,TUANBV,6,0) -> 8/GSTH3PC | I5: =VLOOKUP($C5,TUANBV,7,0) -> ….. | J5: =VLOOKUP($C5,TUANBV,8,0) -> ….. | K5: =VLOOKUP($C5,TUANBV,9,0) -> -1 | L5: =VLOOKUP($C5,TUANBV,10,0) -> …..giờ….. | M5: =VLOOKUP($C5,TUANBV,11,0) -> …..giờ….. | N5: =VLOOKUP($C5,TUANBV,12,0) -> ….. | O5: =VLOOKUP($C5,TUANBV,13,0) -> ….. | P5: =VLOOKUP($C5,TUANBV,14,0) -> 0 | Q5: =VLOOKUP($C5,TUANBV,15,0) -> .......................................... | R5: =VLOOKUP($C5,TUANBV,16,0) -> Lê Văn Thái | T5: ='2.VL'!Y5 -> Bê tông mác 200# | U5: 2,01 | V5: 2,21 | W5: ='2.VL'!W5 -> 23.98 | X5: =ROUND(W5*1.1,2) -> 26.38 | Z5: =VLOOKUP($T5,CPBT,2,0)&" (kg)" -> 341 (kg) | AA5: =VLOOKUP($T5,CPBT,3,0)&" (m3)" -> 0.45 (m3) | AB5: =VLOOKUP($T5,CPBT,4,0)&" (m3)" -> 0.866 (m3) | AC5: =VLOOKUP($T5,CPBT,5,0)&" lít" -> 195 lít | AD5: =VLOOKUP($A5,BANGBT,9,0) -> 29 độ C
A6: 5 | C6: GSBT5 | D6: =VLOOKUP($C6,TUANBV,2,0) -> Giám sát quá trình đổ bê tông giằng tường thu hồi | E6: =VLOOKUP($C6,TUANBV,3,0) -> Nhà tiểu học 3 phòng | F6: =VLOOKUP($C6,TUANBV,4,0) -> Điểm TĐC Pom Chốn | G6: =VLOOKUP($C6,TUANBV,5,0) -> 10/GSTH3PC | H6: =VLOOKUP($C6,TUANBV,6,0) -> 10/GSTH3PC | I6: =VLOOKUP($C6,TUANBV,7,0) -> ….. | J6: =VLOOKUP($C6,TUANBV,8,0) -> ….. | K6: =VLOOKUP($C6,TUANBV,9,0) -> -1 | L6: =VLOOKUP($C6,TUANBV,10,0) -> …..giờ….. | M6: =VLOOKUP($C6,TUANBV,11,0) -> …..giờ….. | N6: =VLOOKUP($C6,TUANBV,12,0) -> ….. | O6: =VLOOKUP($C6,TUANBV,13,0) -> ….. | P6: =VLOOKUP($C6,TUANBV,14,0) -> 0 | Q6: =VLOOKUP($C6,TUANBV,15,0) -> .......................................... | R6: =VLOOKUP($C6,TUANBV,16,0) -> Lê Văn Thái | T6: ='2.VL'!Y6 -> Bê tông mác 200# | U6: 0,66 | V6: 0,73 | W6: ='2.VL'!W6 -> 1.11 | X6: =ROUND(W6*1.1,2) -> 1.22 | Z6: =VLOOKUP($T6,CPBT,2,0)&" (kg)" -> 341 (kg) | AA6: =VLOOKUP($T6,CPBT,3,0)&" (m3)" -> 0.45 (m3) | AB6: =VLOOKUP($T6,CPBT,4,0)&" (m3)" -> 0.866 (m3) | AC6: =VLOOKUP($T6,CPBT,5,0)&" lít" -> 195 lít | AD6: =VLOOKUP($A6,BANGBT,9,0) -> 29 độ C
A7: 6 | C7: GSBT6 | D7: =VLOOKUP($C7,TUANBV,2,0) -> Giám sát quá trình đổ bê tông Lam trang trí | E7: =VLOOKUP($C7,TUANBV,3,0) -> Nhà tiểu học 3 phòng | F7: =VLOOKUP($C7,TUANBV,4,0) -> Điểm TĐC Pom Chốn | G7: =VLOOKUP($C7,TUANBV,5,0) -> 11/GSTH3PC | H7: =VLOOKUP($C7,TUANBV,6,0) -> 11/GSTH3PC | I7: =VLOOKUP($C7,TUANBV,7,0) -> ….. | J7: =VLOOKUP($C7,TUANBV,8,0) -> ….. | K7: =VLOOKUP($C7,TUANBV,9,0) -> -1 | L7: =VLOOKUP($C7,TUANBV,10,0) -> …..giờ….. | M7: =VLOOKUP($C7,TUANBV,11,0) -> …..giờ….. | N7: =VLOOKUP($C7,TUANBV,12,0) -> ….. | O7: =VLOOKUP($C7,TUANBV,13,0) -> ….. | P7: =VLOOKUP($C7,TUANBV,14,0) -> 0 | Q7: =VLOOKUP($C7,TUANBV,15,0) -> .......................................... | R7: =VLOOKUP($C7,TUANBV,16,0) -> Lê Văn Thái | T7: ='2.VL'!Y7 -> Bê tông mác 200# | U7: 0,93 | V7: 1,02 | W7: ='2.VL'!W7 -> 0.68 | X7: =ROUND(W7*1.1,2) -> 0.75 | Z7: =VLOOKUP($T7,CPBT,2,0)&" (kg)" -> 341 (kg) | AA7: =VLOOKUP($T7,CPBT,3,0)&" (m3)" -> 0.45 (m3) | AB7: =VLOOKUP($T7,CPBT,4,0)&" (m3)" -> 0.866 (m3) | AC7: =VLOOKUP($T7,CPBT,5,0)&" lít" -> 195 lít | AD7: =VLOOKUP($A7,BANGBT,9,0) -> 28 độ C
A8: 7 | C8: GSBT7 | D8: =VLOOKUP($C8,TUANBV,2,0) -> #N/A | E8: =VLOOKUP($C8,TUANBV,3,0) -> #N/A | F8: =VLOOKUP($C8,TUANBV,4,0) -> #N/A | G8: =VLOOKUP($C8,TUANBV,5,0) -> #N/A | H8: =VLOOKUP($C8,TUANBV,6,0) -> #N/A | I8: =VLOOKUP($C8,TUANBV,7,0) -> #N/A | J8: =VLOOKUP($C8,TUANBV,8,0) -> #N/A | K8: =VLOOKUP($C8,TUANBV,9,0) -> #N/A | L8: =VLOOKUP($C8,TUANBV,10,0) -> #N/A | M8: =VLOOKUP($C8,TUANBV,11,0) -> #N/A | N8: =VLOOKUP($C8,TUANBV,12,0) -> #N/A | O8: =VLOOKUP($C8,TUANBV,13,0) -> #N/A | P8: =VLOOKUP($C8,TUANBV,14,0) -> #N/A | Q8: =VLOOKUP($C8,TUANBV,15,0) -> #N/A | R8: =VLOOKUP($C8,TUANBV,16,0) -> #N/A | T8: ='2.VL'!Y8 -> 0 | U8: 13,48 | V8: 14,83 | W8: ='2.VL'!W8 -> 0 | X8: =ROUND(W8*1.1,2) -> 0 | Z8: =VLOOKUP($T8,CPBT,2,0)&" (kg)" -> #N/A | AA8: =VLOOKUP($T8,CPBT,3,0)&" (m3)" -> #N/A | AB8: =VLOOKUP($T8,CPBT,4,0)&" (m3)" -> #N/A | AC8: =VLOOKUP($T8,CPBT,5,0)&" lít" -> #N/A | AD8: =VLOOKUP($A8,BANGBT,9,0) -> 0
A9: 8 | C9: GSBT8 | D9: =VLOOKUP($C9,TUANBV,2,0) -> #N/A | E9: =VLOOKUP($C9,TUANBV,3,0) -> #N/A | F9: =VLOOKUP($C9,TUANBV,4,0) -> #N/A | G9: =VLOOKUP($C9,TUANBV,5,0) -> #N/A | H9: =VLOOKUP($C9,TUANBV,6,0) -> #N/A | I9: =VLOOKUP($C9,TUANBV,7,0) -> #N/A | J9: =VLOOKUP($C9,TUANBV,8,0) -> #N/A | K9: =VLOOKUP($C9,TUANBV,9,0) -> #N/A | L9: =VLOOKUP($C9,TUANBV,10,0) -> #N/A | M9: =VLOOKUP($C9,TUANBV,11,0) -> #N/A | N9: =VLOOKUP($C9,TUANBV,12,0) -> #N/A | O9: =VLOOKUP($C9,TUANBV,13,0) -> #N/A | P9: =VLOOKUP($C9,TUANBV,14,0) -> #N/A | Q9: =VLOOKUP($C9,TUANBV,15,0) -> #N/A | R9: =VLOOKUP($C9,TUANBV,16,0) -> #N/A | T9: ='2.VL'!Y9 -> 0 | U9: 0,39 | V9: 0,43 | W9: ='2.VL'!W9 -> 0 | X9: =ROUND(W9*1.1,2) -> 0 | Z9: =VLOOKUP($T9,CPBT,2,0)&" (kg)" -> #N/A | AA9: =VLOOKUP($T9,CPBT,3,0)&" (m3)" -> #N/A | AB9: =VLOOKUP($T9,CPBT,4,0)&" (m3)" -> #N/A | AC9: =VLOOKUP($T9,CPBT,5,0)&" lít" -> #N/A | AD9: =VLOOKUP($A9,BANGBT,9,0) -> 0
A10: 9 | C10: GSBT9 | D10: =VLOOKUP($C10,TUANBV,2,0) -> #N/A | E10: =VLOOKUP($C10,TUANBV,3,0) -> #N/A | F10: =VLOOKUP($C10,TUANBV,4,0) -> #N/A | G10: =VLOOKUP($C10,TUANBV,5,0) -> #N/A | H10: =VLOOKUP($C10,TUANBV,6,0) -> #N/A | I10: =VLOOKUP($C10,TUANBV,7,0) -> #N/A | J10: =VLOOKUP($C10,TUANBV,8,0) -> #N/A | K10: =VLOOKUP($C10,TUANBV,9,0) -> #N/A | L10: =VLOOKUP($C10,TUANBV,10,0) -> #N/A | M10: =VLOOKUP($C10,TUANBV,11,0) -> #N/A | N10: =VLOOKUP($C10,TUANBV,12,0) -> #N/A | O10: =VLOOKUP($C10,TUANBV,13,0) -> #N/A | P10: =VLOOKUP($C10,TUANBV,14,0) -> #N/A | Q10: =VLOOKUP($C10,TUANBV,15,0) -> #N/A | R10: =VLOOKUP($C10,TUANBV,16,0) -> #N/A | T10: ='2.VL'!Y10 -> 0 | U10: 0,39 | V10: 0,43 | W10: ='2.VL'!W10 -> 0 | X10: =ROUND(W10*1.1,2) -> 0 | Z10: =VLOOKUP($T10,CPBT,2,0)&" (kg)" -> #N/A | AA10: =VLOOKUP($T10,CPBT,3,0)&" (m3)" -> #N/A | AB10: =VLOOKUP($T10,CPBT,4,0)&" (m3)" -> #N/A | AC10: =VLOOKUP($T10,CPBT,5,0)&" lít" -> #N/A | AD10: =VLOOKUP($A10,BANGBT,9,0) -> 0
A11: 10 | C11: GSBT10 | D11: =VLOOKUP($C11,TUANBV,2,0) -> #N/A | E11: =VLOOKUP($C11,TUANBV,3,0) -> #N/A | F11: =VLOOKUP($C11,TUANBV,4,0) -> #N/A | G11: =VLOOKUP($C11,TUANBV,5,0) -> #N/A | H11: =VLOOKUP($C11,TUANBV,6,0) -> #N/A | I11: =VLOOKUP($C11,TUANBV,7,0) -> #N/A | J11: =VLOOKUP($C11,TUANBV,8,0) -> #N/A | K11: =VLOOKUP($C11,TUANBV,9,0) -> #N/A | L11: =VLOOKUP($C11,TUANBV,10,0) -> #N/A | M11: =VLOOKUP($C11,TUANBV,11,0) -> #N/A | N11: =VLOOKUP($C11,TUANBV,12,0) -> #N/A | O11: =VLOOKUP($C11,TUANBV,13,0) -> #N/A | P11: =VLOOKUP($C11,TUANBV,14,0) -> #N/A | Q11: =VLOOKUP($C11,TUANBV,15,0) -> #N/A | R11: =VLOOKUP($C11,TUANBV,16,0) -> #N/A | T11: ='2.VL'!Y11 -> 0 | U11: 0,39 | V11: 0,43 | W11: ='2.VL'!W11 -> 0 | X11: =ROUND(W11*1.1,2) -> 0 | Z11: =VLOOKUP($T11,CPBT,2,0)&" (kg)" -> #N/A | AA11: =VLOOKUP($T11,CPBT,3,0)&" (m3)" -> #N/A | AB11: =VLOOKUP($T11,CPBT,4,0)&" (m3)" -> #N/A | AC11: =VLOOKUP($T11,CPBT,5,0)&" lít" -> #N/A | AD11: =VLOOKUP($A11,BANGBT,9,0) -> 0
A12: 11 | C12: GSBT11 | D12: =VLOOKUP($C12,TUANBV,2,0) -> #N/A | E12: =VLOOKUP($C12,TUANBV,3,0) -> #N/A | F12: =VLOOKUP($C12,TUANBV,4,0) -> #N/A | G12: =VLOOKUP($C12,TUANBV,5,0) -> #N/A | H12: =VLOOKUP($C12,TUANBV,6,0) -> #N/A | I12: =VLOOKUP($C12,TUANBV,7,0) -> #N/A | J12: =VLOOKUP($C12,TUANBV,8,0) -> #N/A | K12: =VLOOKUP($C12,TUANBV,9,0) -> #N/A | L12: =VLOOKUP($C12,TUANBV,10,0) -> #N/A | M12: =VLOOKUP($C12,TUANBV,11,0) -> #N/A | N12: =VLOOKUP($C12,TUANBV,12,0) -> #N/A | O12: =VLOOKUP($C12,TUANBV,13,0) -> #N/A | P12: =VLOOKUP($C12,TUANBV,14,0) -> #N/A | Q12: =VLOOKUP($C12,TUANBV,15,0) -> #N/A | R12: =VLOOKUP($C12,TUANBV,16,0) -> #N/A | T12: ='2.VL'!Y12 -> 0 | U12: 0,39 | V12: 0,43 | W12: ='2.VL'!W12 -> 0 | X12: =ROUND(W12*1.1,2) -> 0 | Z12: =VLOOKUP($T12,CPBT,2,0)&" (kg)" -> #N/A | AA12: =VLOOKUP($T12,CPBT,3,0)&" (m3)" -> #N/A | AB12: =VLOOKUP($T12,CPBT,4,0)&" (m3)" -> #N/A | AC12: =VLOOKUP($T12,CPBT,5,0)&" lít" -> #N/A | AD12: =VLOOKUP($A12,BANGBT,9,0) -> 0
A13: 12 | C13: GSBT12 | D13: =VLOOKUP($C13,TUANBV,2,0) -> #N/A | E13: =VLOOKUP($C13,TUANBV,3,0) -> #N/A | F13: =VLOOKUP($C13,TUANBV,4,0) -> #N/A | G13: =VLOOKUP($C13,TUANBV,5,0) -> #N/A | H13: =VLOOKUP($C13,TUANBV,6,0) -> #N/A | I13: =VLOOKUP($C13,TUANBV,7,0) -> #N/A | J13: =VLOOKUP($C13,TUANBV,8,0) -> #N/A | K13: =VLOOKUP($C13,TUANBV,9,0) -> #N/A | L13: =VLOOKUP($C13,TUANBV,10,0) -> #N/A | M13: =VLOOKUP($C13,TUANBV,11,0) -> #N/A | N13: =VLOOKUP($C13,TUANBV,12,0) -> #N/A | O13: =VLOOKUP($C13,TUANBV,13,0) -> #N/A | P13: =VLOOKUP($C13,TUANBV,14,0) -> #N/A | Q13: =VLOOKUP($C13,TUANBV,15,0) -> #N/A | R13: =VLOOKUP($C13,TUANBV,16,0) -> #N/A | T13: ='2.VL'!Y13 -> 0 | U13: 0,39 | V13: 0,43 | W13: ='2.VL'!W13 -> 0 | X13: =ROUND(W13*1.1,2) -> 0 | Z13: =VLOOKUP($T13,CPBT,2,0)&" (kg)" -> #N/A | AA13: =VLOOKUP($T13,CPBT,3,0)&" (m3)" -> #N/A | AB13: =VLOOKUP($T13,CPBT,4,0)&" (m3)" -> #N/A | AC13: =VLOOKUP($T13,CPBT,5,0)&" lít" -> #N/A | AD13: =VLOOKUP($A13,BANGBT,9,0) -> 0
... A20: 19 | C20: GSBT19 | D20: =VLOOKUP($C20,TUANBV,2,0) -> #N/A | E20: =VLOOKUP($C20,TUANBV,3,0) -> #N/A | F20: =VLOOKUP($C20,TUANBV,4,0) -> #N/A | G20: =VLOOKUP($C20,TUANBV,5,0) -> #N/A | H20: =VLOOKUP($C20,TUANBV,6,0) -> #N/A | I20: =VLOOKUP($C20,TUANBV,7,0) -> #N/A | J20: =VLOOKUP($C20,TUANBV,8,0) -> #N/A | K20: =VLOOKUP($C20,TUANBV,9,0) -> #N/A | L20: =VLOOKUP($C20,TUANBV,10,0) -> #N/A | M20: =VLOOKUP($C20,TUANBV,11,0) -> #N/A | N20: =VLOOKUP($C20,TUANBV,12,0) -> #N/A | O20: =VLOOKUP($C20,TUANBV,13,0) -> #N/A | P20: =VLOOKUP($C20,TUANBV,14,0) -> #N/A | Q20: =VLOOKUP($C20,TUANBV,15,0) -> #N/A | R20: =VLOOKUP($C20,TUANBV,16,0) -> #N/A | T20: ='2.VL'!Y20 -> #N/A | U20: 0,39 | V20: 0,43 | W20: ='2.VL'!W20 -> #N/A | X20: =ROUND(W20*1.1,2) -> #N/A | Z20: =VLOOKUP($T20,CPBT,2,0)&" (kg)" -> #N/A | AA20: =VLOOKUP($T20,CPBT,3,0)&" (m3)" -> #N/A | AB20: =VLOOKUP($T20,CPBT,4,0)&" (m3)" -> #N/A | AC20: =VLOOKUP($T20,CPBT,5,0)&" lít" -> #N/A | AD20: =VLOOKUP($A20,BANGBT,9,0) -> #N/A
D26: 6.4.1. Việc đổ bêtông phải đảm bảo các yêu cầu: a) Không làm sai lệch vị trí cốt thép, vị trí cốt pha và chiều dầy lớp bêtông bảo vệ cốt thép. b) Không dùng dầm dùi để dịch chuyển ngang bêtông trong cốp pha; c) Bêtông phải được đổ hên tục cho tới khi hoàn thành một kết cấu nào đó theo quy định của thiết kế.
D27: 6.4.2. Để tránh sự phân tầng, chiều cao rơi tự do của hỗn hợp bêtông khi đổ không vượt quá l,5m.
D29: 6.4.7. Đổ bê tông cột, tường. - Cột có chiều cao nhỏ hơn 5m và tường có chiều cao nhỏ hơn 3m thì nên đổ liên tục. - Cột có kích thước cạnh nhỏ hơn 40cm, tường có chiều dầy nhỏ hơn 15cm và các cột có tiết diện bất kỳ nhưng có đai cốt thép chồng chéo thì nên đổ bêtông liên tục trong từng giai đoạn có chiều cao 1,5m.
D30: - Cột cao hơn 5m và tường cao hơn 3m nên chia làm nhiều đợt đổ bêtông, nhưng phải bảo dầm vị trí và cấu tạo mạch ngừng thi công hợp lí.

Sheet 7.LMBT
A1: LIST | B1: SHBB | C1: MH | D1: Nội dung công việc | E1: Vị trí | F1: Điểm TĐC | G1: Số hiệu PYC | H1: Số hiệu NTCV | I1: DATE PYC | J1: MONTH PYC | K1: Ngày PYC | L1: H-START | M1: H-END | N1: DATE NTCV | O1: MONTH NTCV | P1: Ngày NTCV | Q1: CĐT | R1: ĐVTC | S1: ĐVTN | U1: MÁC THIẾT KẾ | V1: MẪU 1 | W1: MẪU 2 | X1: MẪU 3
A2: 1 | C2: LMBT1 | D2: =VLOOKUP($C2,TUANBV,2,0) -> Lấy mẫu bê tông lót móng | E2: =VLOOKUP($C2,TUANBV,3,0) -> Nhà tiểu học 3 phòng | F2: =VLOOKUP($C2,TUANBV,4,0) -> Điểm TĐC Pom Chốn | G2: =VLOOKUP($C2,TUANBV,5,0) -> 2/LMTH3PC | H2: =VLOOKUP($C2,TUANBV,6,0) -> 2/LMTH3PC | I2: =VLOOKUP($C2,TUANBV,7,0) -> 18 | J2: =VLOOKUP($C2,TUANBV,8,0) -> 08 | K2: =VLOOKUP($C2,TUANBV,9,0) -> 41869 | L2: =VLOOKUP($C2,TUANBV,10,0) -> 14 giờ 00 | M2: =VLOOKUP($C2,TUANBV,11,0) -> 16 giờ 00 | N2: =VLOOKUP($C2,TUANBV,12,0) -> 19 | O2: =VLOOKUP($C2,TUANBV,13,0) -> 08 | P2: =VLOOKUP($C2,TUANBV,14,0) -> 41870 | Q2: =VLOOKUP($C2,TUANBV,15,0) -> Nguyễn Xuân Quỳnh | R2: =VLOOKUP($C2,TUANBV,16,0) -> Lê Văn Thái | S2: Nguyễn Hàm Hiếu | U2: ="M"&RIGHT('5.CBBT'!T2,4) -> M100# | V2: =Y2&"/"&$AB2&"/"&$AC2 -> 1/TH3PC/M100 | W2: =Z2&"/"&$AB2&"/"&$AC2 -> 2/TH3PC/M100 | X2: =AA2&"/"&$AB2&"/"&$AC2 -> 3/TH3PC/M100 | Y2: =VLOOKUP($A2,BANGBT,10,0) -> 1 | Z2: =VLOOKUP($A2,BANGBT,11,0) -> 2 | AA2: =VLOOKUP($A2,BANGBT,12,0) -> 3 | AB2: =VLOOKUP($A2,BANGBT,13,0) -> TH3PC | AC2: =LEFT(U2,4) -> M100
A3: 2 | C3: LMBT2 | D3: =VLOOKUP($C3,TUANBV,2,0) -> Lấy mẫu bê tông giằng móng | E3: =VLOOKUP($C3,TUANBV,3,0) -> Nhà tiểu học 3 phòng | F3: =VLOOKUP($C3,TUANBV,4,0) -> Điểm TĐC Pom Chốn | G3: =VLOOKUP($C3,TUANBV,5,0) -> 4/LMTH3PC | H3: =VLOOKUP($C3,TUANBV,6,0) -> 4/LMTH3PC | I3: =VLOOKUP($C3,TUANBV,7,0) -> 26 | J3: =VLOOKUP($C3,TUANBV,8,0) -> 08 | K3: =VLOOKUP($C3,TUANBV,9,0) -> 41877 | L3: =VLOOKUP($C3,TUANBV,10,0) -> 14 giờ 00 | M3: =VLOOKUP($C3,TUANBV,11,0) -> 16 giờ 00 | N3: =VLOOKUP($C3,TUANBV,12,0) -> 27 | O3: =VLOOKUP($C3,TUANBV,13,0) -> 08 | P3: =VLOOKUP($C3,TUANBV,14,0) -> 41878 | Q3: =VLOOKUP($C3,TUANBV,15,0) -> Nguyễn Xuân Quỳnh | R3: =VLOOKUP($C3,TUANBV,16,0) -> Lê Văn Thái | S3: Nguyễn Hàm Hiếu | U3: ="M"&RIGHT('5.CBBT'!T3,4) -> M200# | V3: =Y3&"/"&$AB3&"/"&$AC3 -> 4/TH3PC/M200 | W3: =Z3&"/"&$AB3&"/"&$AC3 -> 5/TH3PC/M200 | X3: =AA3&"/"&$AB3&"/"&$AC3 -> 6/TH3PC/M200 | Y3: =VLOOKUP($A3,BANGBT,10,0) -> 4 | Z3: =VLOOKUP($A3,BANGBT,11,0) -> 5 | AA3: =VLOOKUP($A3,BANGBT,12,0) -> 6 | AB3: =VLOOKUP($A3,BANGBT,13,0) -> TH3PC | AC3: =LEFT(U3,4) -> M200
A4: 3 | C4: LMBT3 | D4: =VLOOKUP($C4,TUANBV,2,0) -> Lấy mẫu bê tông lanh tô cửa sổ và cửa đi | E4: =VLOOKUP($C4,TUANBV,3,0) -> Nhà tiểu học 3 phòng | F4: =VLOOKUP($C4,TUANBV,4,0) -> Điểm TĐC Pom Chốn | G4: =VLOOKUP($C4,TUANBV,5,0) -> 6/LMTH3PC | H4: =VLOOKUP($C4,TUANBV,6,0) -> 6/LMTH3PC | I4: =VLOOKUP($C4,TUANBV,7,0) -> ….. | J4: =VLOOKUP($C4,TUANBV,8,0) -> ….. | K4: =VLOOKUP($C4,TUANBV,9,0) -> -1 | L4: =VLOOKUP($C4,TUANBV,10,0) -> …..giờ….. | M4: =VLOOKUP($C4,TUANBV,11,0) -> …..giờ….. | N4: =VLOOKUP($C4,TUANBV,12,0) -> ….. | O4: =VLOOKUP($C4,TUANBV,13,0) -> ….. | P4: =VLOOKUP($C4,TUANBV,14,0) -> 0 | Q4: =VLOOKUP($C4,TUANBV,15,0) -> Nguyễn Xuân Quỳnh | R4: =VLOOKUP($C4,TUANBV,16,0) -> Lê Văn Thái | S4: Nguyễn Hàm Hiếu | U4: ="M"&RIGHT('5.CBBT'!T4,4) -> M200# | V4: =Y4&"/"&$AB4&"/"&$AC4 -> 7/TH3PC/M200 | W4: =Z4&"/"&$AB4&"/"&$AC4 -> 8/TH3PC/M200 | X4: =AA4&"/"&$AB4&"/"&$AC4 -> 9/TH3PC/M200 | Y4: =VLOOKUP($A4,BANGBT,10,0) -> 7 | Z4: =VLOOKUP($A4,BANGBT,11,0) -> 8 | AA4: =VLOOKUP($A4,BANGBT,12,0) -> 9 | AB4: =VLOOKUP($A4,BANGBT,13,0) -> TH3PC | AC4: =LEFT(U4,4) -> M200
A5: 4 | C5: LMBT4 | D5: =VLOOKUP($C5,TUANBV,2,0) -> Lấy mẫu bê tông dầm D1, D2, D3, D4, D4A, D4B, bê tông sàn, sê nô thu nước | E5: =VLOOKUP($C5,TUANBV,3,0) -> Nhà tiểu học 3 phòng | F5: =VLOOKUP($C5,TUANBV,4,0) -> Điểm TĐC Pom Chốn | G5: =VLOOKUP($C5,TUANBV,5,0) -> 8/LMTH3PC | H5: =VLOOKUP($C5,TUANBV,6,0) -> 8/LMTH3PC | I5: =VLOOKUP($C5,TUANBV,7,0) -> ….. | J5: =VLOOKUP($C5,TUANBV,8,0) -> ….. | K5: =VLOOKUP($C5,TUANBV,9,0) -> -1 | L5: =VLOOKUP($C5,TUANBV,10,0) -> …..giờ….. | M5: =VLOOKUP($C5,TUANBV,11,0) -> …..giờ….. | N5: =VLOOKUP($C5,TUANBV,12,0) -> ….. | O5: =VLOOKUP($C5,TUANBV,13,0) -> ….. | P5: =VLOOKUP($C5,TUANBV,14,0) -> 0 | Q5: =VLOOKUP($C5,TUANBV,15,0) -> .......................................... | R5: =VLOOKUP($C5,TUANBV,16,0) -> Lê Văn Thái | S5: Nguyễn Hàm Hiếu | U5: ="M"&RIGHT('5.CBBT'!T5,4) -> M200# | V5: =Y5&"/"&$AB5&"/"&$AC5 -> 10/TH3PC/M200 | W5: =Z5&"/"&$AB5&"/"&$AC5 -> 11/TH3PC/M200 | X5: =AA5&"/"&$AB5&"/"&$AC5 -> 12/TH3PC/M200 | Y5: =VLOOKUP($A5,BANGBT,10,0) -> 10 | Z5: =VLOOKUP($A5,BANGBT,11,0) -> 11 | AA5: =VLOOKUP($A5,BANGBT,12,0) -> 12 | AB5: =VLOOKUP($A5,BANGBT,13,0) -> TH3PC | AC5: =LEFT(U5,4) -> M200
A6: 5 | C6: LMBT5 | D6: =VLOOKUP($C6,TUANBV,2,0) -> Lấy mẫu bê tông giằng tường thu hồi | E6: =VLOOKUP($C6,TUANBV,3,0) -> Nhà tiểu học 3 phòng | F6: =VLOOKUP($C6,TUANBV,4,0) -> Điểm TĐC Pom Chốn | G6: =VLOOKUP($C6,TUANBV,5,0) -> 10/LMTH3PC | H6: =VLOOKUP($C6,TUANBV,6,0) -> 10/LMTH3PC | I6: =VLOOKUP($C6,TUANBV,7,0) -> ….. | J6: =VLOOKUP($C6,TUANBV,8,0) -> ….. | K6: =VLOOKUP($C6,TUANBV,9,0) -> -1 | L6: =VLOOKUP($C6,TUANBV,10,0) -> …..giờ….. | M6: =VLOOKUP($C6,TUANBV,11,0) -> …..giờ….. | N6: =VLOOKUP($C6,TUANBV,12,0) -> ….. | O6: =VLOOKUP($C6,TUANBV,13,0) -> ….. | P6: =VLOOKUP($C6,TUANBV,14,0) -> 0 | Q6: =VLOOKUP($C6,TUANBV,15,0) -> .......................................... | R6: =VLOOKUP($C6,TUANBV,16,0) -> Lê Văn Thái | S6: Nguyễn Hàm Hiếu | U6: ="M"&RIGHT('5.CBBT'!T6,4) -> M200# | V6: =Y6&"/"&$AB6&"/"&$AC6 -> 13/TH3PC/M200 | W6: =Z6&"/"&$AB6&"/"&$AC6 -> 14/TH3PC/M200 | X6: =AA6&"/"&$AB6&"/"&$AC6 -> 15/TH3PC/M200 | Y6: =VLOOKUP($A6,BANGBT,10,0) -> 13 | Z6: =VLOOKUP($A6,BANGBT,11,0) -> 14 | AA6: =VLOOKUP($A6,BANGBT,12,0) -> 15 | AB6: =VLOOKUP($A6,BANGBT,13,0) -> TH3PC | AC6: =LEFT(U6,4) -> M200
A7: 6 | C7: LMBT6 | D7: =VLOOKUP($C7,TUANBV,2,0) -> Lấy mẫu bê tông Lam trang trí | E7: =VLOOKUP($C7,TUANBV,3,0) -> Nhà tiểu học 3 phòng | F7: =VLOOKUP($C7,TUANBV,4,0) -> Điểm TĐC Pom Chốn | G7: =VLOOKUP($C7,TUANBV,5,0) -> 11/LMTH3PC | H7: =VLOOKUP($C7,TUANBV,6,0) -> 11/LMTH3PC | I7: =VLOOKUP($C7,TUANBV,7,0) -> ….. | J7: =VLOOKUP($C7,TUANBV,8,0) -> ….. | K7: =VLOOKUP($C7,TUANBV,9,0) -> -1 | L7: =VLOOKUP($C7,TUANBV,10,0) -> …..giờ….. | M7: =VLOOKUP($C7,TUANBV,11,0) -> …..giờ….. | N7: =VLOOKUP($C7,TUANBV,12,0) -> ….. | O7: =VLOOKUP($C7,TUANBV,13,0) -> ….. | P7: =VLOOKUP($C7,TUANBV,14,0) -> 0 | Q7: =VLOOKUP($C7,TUANBV,15,0) -> .......................................... | R7: =VLOOKUP($C7,TUANBV,16,0) -> Lê Văn Thái | S7: Nguyễn Hàm Hiếu | U7: ="M"&RIGHT('5.CBBT'!T7,4) -> M200# | V7: =Y7&"/"&$AB7&"/"&$AC7 -> 16/TH3PC/M200 | W7: =Z7&"/"&$AB7&"/"&$AC7 -> 17/TH3PC/M200 | X7: =AA7&"/"&$AB7&"/"&$AC7 -> 18/TH3PC/M200 | Y7: =VLOOKUP($A7,BANGBT,10,0) -> 16 | Z7: =VLOOKUP($A7,BANGBT,11,0) -> 17 | AA7: =VLOOKUP($A7,BANGBT,12,0) -> 18 | AB7: =VLOOKUP($A7,BANGBT,13,0) -> TH3PC | AC7: =LEFT(U7,4) -> M200
A8: 7 | C8: LMBT7 | D8: =VLOOKUP($C8,TUANBV,2,0) -> #N/A | E8: =VLOOKUP($C8,TUANBV,3,0) -> #N/A | F8: =VLOOKUP($C8,TUANBV,4,0) -> #N/A | G8: =VLOOKUP($C8,TUANBV,5,0) -> #N/A | H8: =VLOOKUP($C8,TUANBV,6,0) -> #N/A | I8: =VLOOKUP($C8,TUANBV,7,0) -> #N/A | J8: =VLOOKUP($C8,TUANBV,8,0) -> #N/A | K8: =VLOOKUP($C8,TUANBV,9,0) -> #N/A | L8: =VLOOKUP($C8,TUANBV,10,0) -> #N/A | M8: =VLOOKUP($C8,TUANBV,11,0) -> #N/A | N8: =VLOOKUP($C8,TUANBV,12,0) -> #N/A | O8: =VLOOKUP($C8,TUANBV,13,0) -> #N/A | P8: =VLOOKUP($C8,TUANBV,14,0) -> #N/A | Q8: =VLOOKUP($C8,TUANBV,15,0) -> #N/A | R8: =VLOOKUP($C8,TUANBV,16,0) -> #N/A | S8: Nguyễn Hàm Hiếu | U8: ="M"&RIGHT('5.CBBT'!T8,4) -> Mác 0 | V8: =Y8&"/"&$AB8&"/"&$AC8 -> 0/0/Mác | W8: =Z8&"/"&$AB8&"/"&$AC8 -> 0/0/Mác | X8: =AA8&"/"&$AB8&"/"&$AC8 -> 0/0/Mác | Y8: =VLOOKUP($A8,BANGBT,10,0) -> 0 | Z8: =VLOOKUP($A8,BANGBT,11,0) -> 0 | AA8: =VLOOKUP($A8,BANGBT,12,0) -> 0 | AB8: =VLOOKUP($A8,BANGBT,13,0) -> 0 | AC8: =LEFT(U8,4) -> Mác
A9: 8 | C9: LMBT8 | D9: =VLOOKUP($C9,TUANBV,2,0) -> #N/A | E9: =VLOOKUP($C9,TUANBV,3,0) -> #N/A | F9: =VLOOKUP($C9,TUANBV,4,0) -> #N/A | G9: =VLOOKUP($C9,TUANBV,5,0) -> #N/A | H9: =VLOOKUP($C9,TUANBV,6,0) -> #N/A | I9: =VLOOKUP($C9,TUANBV,7,0) -> #N/A | J9: =VLOOKUP($C9,TUANBV,8,0) -> #N/A | K9: =VLOOKUP($C9,TUANBV,9,0) -> #N/A | L9: =VLOOKUP($C9,TUANBV,10,0) -> #N/A | M9: =VLOOKUP($C9,TUANBV,11,0) -> #N/A | N9: =VLOOKUP($C9,TUANBV,12,0) -> #N/A | O9: =VLOOKUP($C9,TUANBV,13,0) -> #N/A | P9: =VLOOKUP($C9,TUANBV,14,0) -> #N/A | Q9: =VLOOKUP($C9,TUANBV,15,0) -> #N/A | R9: =VLOOKUP($C9,TUANBV,16,0) -> #N/A | S9: Nguyễn Hàm Hiếu | U9: ="M"&RIGHT('5.CBBT'!T9,4) -> Mác 0 | V9: =Y9&"/"&$AB9&"/"&$AC9 -> 0/0/Mác | W9: =Z9&"/"&$AB9&"/"&$AC9 -> 0/0/Mác | X9: =AA9&"/"&$AB9&"/"&$AC9 -> 0/0/Mác | Y9: =VLOOKUP($A9,BANGBT,10,0) -> 0 | Z9: =VLOOKUP($A9,BANGBT,11,0) -> 0 | AA9: =VLOOKUP($A9,BANGBT,12,0) -> 0 | AB9: =VLOOKUP($A9,BANGBT,13,0) -> 0 | AC9: =LEFT(U9,4) -> Mác
A10: 9 | C10: LMBT9 | D10: =VLOOKUP($C10,TUANBV,2,0) -> #N/A | E10: =VLOOKUP($C10,TUANBV,3,0) -> #N/A | F10: =VLOOKUP($C10,TUANBV,4,0) -> #N/A | G10: =VLOOKUP($C10,TUANBV,5,0) -> #N/A | H10: =VLOOKUP($C10,TUANBV,6,0) -> #N/A | I10: =VLOOKUP($C10,TUANBV,7,0) -> #N/A | J10: =VLOOKUP($C10,TUANBV,8,0) -> #N/A | K10: =VLOOKUP($C10,TUANBV,9,0) -> #N/A | L10: =VLOOKUP($C10,TUANBV,10,0) -> #N/A | M10: =VLOOKUP($C10,TUANBV,11,0) -> #N/A | N10: =VLOOKUP($C10,TUANBV,12,0) -> #N/A | O10: =VLOOKUP($C10,TUANBV,13,0) -> #N/A | P10: =VLOOKUP($C10,TUANBV,14,0) -> #N/A | Q10: =VLOOKUP($C10,TUANBV,15,0) -> #N/A | R10: =VLOOKUP($C10,TUANBV,16,0) -> #N/A | S10: Nguyễn Hàm Hiếu | U10: ="M"&RIGHT('5.CBBT'!T10,4) -> Mác 0 | V10: =Y10&"/"&$AB10&"/"&$AC10 -> 0/0/Mác | W10: =Z10&"/"&$AB10&"/"&$AC10 -> 0/0/Mác | X10: =AA10&"/"&$AB10&"/"&$AC10 -> 0/0/Mác | Y10: =VLOOKUP($A10,BANGBT,10,0) -> 0 | Z10: =VLOOKUP($A10,BANGBT,11,0) -> 0 | AA10: =VLOOKUP($A10,BANGBT,12,0) -> 0 | AB10: =VLOOKUP($A10,BANGBT,13,0) -> 0 | AC10: =LEFT(U10,4) -> Mác
A11: 10 | C11: LMBT10 | D11: =VLOOKUP($C11,TUANBV,2,0) -> #N/A | E11: =VLOOKUP($C11,TUANBV,3,0) -> #N/A | F11: =VLOOKUP($C11,TUANBV,4,0) -> #N/A | G11: =VLOOKUP($C11,TUANBV,5,0) -> #N/A | H11: =VLOOKUP($C11,TUANBV,6,0) -> #N/A | I11: =VLOOKUP($C11,TUANBV,7,0) -> #N/A | J11: =VLOOKUP($C11,TUANBV,8,0) -> #N/A | K11: =VLOOKUP($C11,TUANBV,9,0) -> #N/A | L11: =VLOOKUP($C11,TUANBV,10,0) -> #N/A | M11: =VLOOKUP($C11,TUANBV,11,0) -> #N/A | N11: =VLOOKUP($C11,TUANBV,12,0) -> #N/A | O11: =VLOOKUP($C11,TUANBV,13,0) -> #N/A | P11: =VLOOKUP($C11,TUANBV,14,0) -> #N/A | Q11: =VLOOKUP($C11,TUANBV,15,0) -> #N/A | R11: =VLOOKUP($C11,TUANBV,16,0) -> #N/A | S11: Nguyễn Hàm Hiếu | U11: ="M"&RIGHT('5.CBBT'!T11,4) -> Mác 0 | V11: =Y11&"/"&$AB11&"/"&$AC11 -> 0/0/Mác | W11: =Z11&"/"&$AB11&"/"&$AC11 -> 0/0/Mác | X11: =AA11&"/"&$AB11&"/"&$AC11 -> 0/0/Mác | Y11: =VLOOKUP($A11,BANGBT,10,0) -> 0 | Z11: =VLOOKUP($A11,BANGBT,11,0) -> 0 | AA11: =VLOOKUP($A11,BANGBT,12,0) -> 0 | AB11: =VLOOKUP($A11,BANGBT,13,0) -> 0 | AC11: =LEFT(U11,4) -> Mác
A12: 11 | C12: LMBT11 | D12: =VLOOKUP($C12,TUANBV,2,0) -> #N/A | E12: =VLOOKUP($C12,TUANBV,3,0) -> #N/A | F12: =VLOOKUP($C12,TUANBV,4,0) -> #N/A | G12: =VLOOKUP($C12,TUANBV,5,0) -> #N/A | H12: =VLOOKUP($C12,TUANBV,6,0) -> #N/A | I12: =VLOOKUP($C12,TUANBV,7,0) -> #N/A | J12: =VLOOKUP($C12,TUANBV,8,0) -> #N/A | K12: =VLOOKUP($C12,TUANBV,9,0) -> #N/A | L12: =VLOOKUP($C12,TUANBV,10,0) -> #N/A | M12: =VLOOKUP($C12,TUANBV,11,0) -> #N/A | N12: =VLOOKUP($C12,TUANBV,12,0) -> #N/A | O12: =VLOOKUP($C12,TUANBV,13,0) -> #N/A | P12: =VLOOKUP($C12,TUANBV,14,0) -> #N/A | Q12: =VLOOKUP($C12,TUANBV,15,0) -> #N/A | R12: =VLOOKUP($C12,TUANBV,16,0) -> #N/A | S12: Nguyễn Hàm Hiếu | U12: ="M"&RIGHT('5.CBBT'!T12,4) -> Mác 0 | V12: =Y12&"/"&$AB12&"/"&$AC12 -> 0/0/Mác | W12: =Z12&"/"&$AB12&"/"&$AC12 -> 0/0/Mác | X12: =AA12&"/"&$AB12&"/"&$AC12 -> 0/0/Mác | Y12: =VLOOKUP($A12,BANGBT,10,0) -> 0 | Z12: =VLOOKUP($A12,BANGBT,11,0) -> 0 | AA12: =VLOOKUP($A12,BANGBT,12,0) -> 0 | AB12: =VLOOKUP($A12,BANGBT,13,0) -> 0 | AC12: =LEFT(U12,4) -> Mác
A13: 12 | C13: LMBT12 | D13: =VLOOKUP($C13,TUANBV,2,0) -> #N/A | E13: =VLOOKUP($C13,TUANBV,3,0) -> #N/A | F13: =VLOOKUP($C13,TUANBV,4,0) -> #N/A | G13: =VLOOKUP($C13,TUANBV,5,0) -> #N/A | H13: =VLOOKUP($C13,TUANBV,6,0) -> #N/A | I13: =VLOOKUP($C13,TUANBV,7,0) -> #N/A | J13: =VLOOKUP($C13,TUANBV,8,0) -> #N/A | K13: =VLOOKUP($C13,TUANBV,9,0) -> #N/A | L13: =VLOOKUP($C13,TUANBV,10,0) -> #N/A | M13: =VLOOKUP($C13,TUANBV,11,0) -> #N/A | N13: =VLOOKUP($C13,TUANBV,12,0) -> #N/A | O13: =VLOOKUP($C13,TUANBV,13,0) -> #N/A | P13: =VLOOKUP($C13,TUANBV,14,0) -> #N/A | Q13: =VLOOKUP($C13,TUANBV,15,0) -> #N/A | R13: =VLOOKUP($C13,TUANBV,16,0) -> #N/A | S13: Nguyễn Hàm Hiếu | U13: ="M"&RIGHT('5.CBBT'!T13,4) -> Mác 0 | V13: =Y13&"/"&$AB13&"/"&$AC13 -> 0/0/Mác | W13: =Z13&"/"&$AB13&"/"&$AC13 -> 0/0/Mác | X13: =AA13&"/"&$AB13&"/"&$AC13 -> 0/0/Mác | Y13: =VLOOKUP($A13,BANGBT,10,0) -> 0 | Z13: =VLOOKUP($A13,BANGBT,11,0) -> 0 | AA13: =VLOOKUP($A13,BANGBT,12,0) -> 0 | AB13: =VLOOKUP($A13,BANGBT,13,0) -> 0 | AC13: =LEFT(U13,4) -> Mác
... A20: 19 | C20: LMBT19 | D20: =VLOOKUP($C20,TUANBV,2,0) -> #N/A | E20: =VLOOKUP($C20,TUANBV,3,0) -> #N/A | F20: =VLOOKUP($C20,TUANBV,4,0) -> #N/A | G20: =VLOOKUP($C20,TUANBV,5,0) -> #N/A | H20: =VLOOKUP($C20,TUANBV,6,0) -> #N/A | I20: =VLOOKUP($C20,TUANBV,7,0) -> #N/A | J20: =VLOOKUP($C20,TUANBV,8,0) -> #N/A | K20: =VLOOKUP($C20,TUANBV,9,0) -> #N/A | L20: =VLOOKUP($C20,TUANBV,10,0) -> #N/A | M20: =VLOOKUP($C20,TUANBV,11,0) -> #N/A | N20: =VLOOKUP($C20,TUANBV,12,0) -> #N/A | O20: =VLOOKUP($C20,TUANBV,13,0) -> #N/A | P20: =VLOOKUP($C20,TUANBV,14,0) -> #N/A | Q20: =VLOOKUP($C20,TUANBV,15,0) -> #N/A | R20: =VLOOKUP($C20,TUANBV,16,0) -> #N/A | S20: Nguyễn Hàm Hiếu | U20: ="M"&RIGHT('5.CBBT'!T20,4) -> #N/A | V20: =Y20&"/"&$AB20&"/"&$AC20 -> #N/A | W20: =Z20&"/"&$AB20&"/"&$AC20 -> #N/A | X20: =AA20&"/"&$AB20&"/"&$AC20 -> #N/A | Y20: =VLOOKUP($A20,BANGBT,10,0) -> #N/A | Z20: =VLOOKUP($A20,BANGBT,11,0) -> #N/A | AA20: =VLOOKUP($A20,BANGBT,12,0) -> #N/A | AB20: =VLOOKUP($A20,BANGBT,13,0) -> #N/A | AC20: =LEFT(U20,4) -> #N/A

Sheet 7.1.TVK
A1: LIST | B1: SHBB | C1: MH | D1: Nội dung công việc | E1: Vị trí | F1: Điểm TĐC | G1: Số hiệu PYC | H1: Số hiệu NTCV | I1: DATE PYC | J1: MONTH PYC | K1: Ngày PYC | L1: H-START | M1: H-END | N1: DATE NTCV | O1: MONTH NTCV | P1: Ngày NTCV | Q1: CĐT | R1: ĐVTC
A2: 1 | C2: TVK1 | D2: =VLOOKUP($C2,TUANBV,2,0) -> Nghiệm thu công tác tháo ván khuôn bê tông lót móng | E2: =VLOOKUP($C2,TUANBV,3,0) -> Nhà tiểu học 3 phòng | F2: =VLOOKUP($C2,TUANBV,4,0) -> Điểm TĐC Pom Chốn | G2: =VLOOKUP($C2,TUANBV,5,0) -> 2/TVKTH3PC | H2: =VLOOKUP($C2,TUANBV,6,0) -> 2/TVKTH3PC | I2: =VLOOKUP($C2,TUANBV,7,0) -> 21 | J2: =VLOOKUP($C2,TUANBV,8,0) -> 08 | K2: =VLOOKUP($C2,TUANBV,9,0) -> 41872 | L2: =VLOOKUP($C2,TUANBV,10,0) -> 08 giờ 00 | M2: =VLOOKUP($C2,TUANBV,11,0) -> 09 giờ 00 | N2: =VLOOKUP($C2,TUANBV,12,0) -> 22 | O2: =VLOOKUP($C2,TUANBV,13,0) -> 08 | P2: =VLOOKUP($C2,TUANBV,14,0) -> 41873 | Q2: =VLOOKUP($C2,TUANBV,15,0) -> Nguyễn Xuân Quỳnh | R2: =VLOOKUP($C2,TUANBV,16,0) -> Lê Văn Thái
A3: 2 | C3: TVK2 | D3: =VLOOKUP($C3,TUANBV,2,0) -> Nghiệm thu bê tông giằng móng sau khi tháo ván khuôn | E3: =VLOOKUP($C3,TUANBV,3,0) -> Nhà tiểu học 3 phòng | F3: =VLOOKUP($C3,TUANBV,4,0) -> Điểm TĐC Pom Chốn | G3: =VLOOKUP($C3,TUANBV,5,0) -> 4/TVKTH3PC | H3: =VLOOKUP($C3,TUANBV,6,0) -> 4/TVKTH3PC | I3: =VLOOKUP($C3,TUANBV,7,0) -> 29 | J3: =VLOOKUP($C3,TUANBV,8,0) -> 08 | K3: =VLOOKUP($C3,TUANBV,9,0) -> 41880 | L3: =VLOOKUP($C3,TUANBV,10,0) -> 08 giờ 00 | M3: =VLOOKUP($C3,TUANBV,11,0) -> 09 giờ 00 | N3: =VLOOKUP($C3,TUANBV,12,0) -> 30 | O3: =VLOOKUP($C3,TUANBV,13,0) -> 08 | P3: =VLOOKUP($C3,TUANBV,14,0) -> 41881 | Q3: =VLOOKUP($C3,TUANBV,15,0) -> Nguyễn Xuân Quỳnh | R3: =VLOOKUP($C3,TUANBV,16,0) -> Lê Văn Thái
A4: 3 | C4: TVK3 | D4: =VLOOKUP($C4,TUANBV,2,0) -> #N/A | E4: =VLOOKUP($C4,TUANBV,3,0) -> #N/A | F4: =VLOOKUP($C4,TUANBV,4,0) -> #N/A | G4: =VLOOKUP($C4,TUANBV,5,0) -> #N/A | H4: =VLOOKUP($C4,TUANBV,6,0) -> #N/A | I4: =VLOOKUP($C4,TUANBV,7,0) -> #N/A | J4: =VLOOKUP($C4,TUANBV,8,0) -> #N/A | K4: =VLOOKUP($C4,TUANBV,9,0) -> #N/A | L4: =VLOOKUP($C4,TUANBV,10,0) -> #N/A | M4: =VLOOKUP($C4,TUANBV,11,0) -> #N/A | N4: =VLOOKUP($C4,TUANBV,12,0) -> #N/A | O4: =VLOOKUP($C4,TUANBV,13,0) -> #N/A | P4: =VLOOKUP($C4,TUANBV,14,0) -> #N/A | Q4: =VLOOKUP($C4,TUANBV,15,0) -> #N/A | R4: =VLOOKUP($C4,TUANBV,16,0) -> #N/A
A5: 4 | C5: TVK4 | D5: =VLOOKUP($C5,TUANBV,2,0) -> Tháo ván khuôn bê tông dầm D1, D2, D3, D4, D4A, D4B, bê tông sàn, sê nô thu nước | E5: =VLOOKUP($C5,TUANBV,3,0) -> Nhà tiểu học 3 phòng | F5: =VLOOKUP($C5,TUANBV,4,0) -> Điểm TĐC Pom Chốn | G5: =VLOOKUP($C5,TUANBV,5,0) -> 8/TVKTH3PC | H5: =VLOOKUP($C5,TUANBV,6,0) -> 8/TVKTH3PC | I5: =VLOOKUP($C5,TUANBV,7,0) -> ….. | J5: =VLOOKUP($C5,TUANBV,8,0) -> ….. | K5: =VLOOKUP($C5,TUANBV,9,0) -> -1 | L5: =VLOOKUP($C5,TUANBV,10,0) -> …..giờ….. | M5: =VLOOKUP($C5,TUANBV,11,0) -> …..giờ….. | N5: =VLOOKUP($C5,TUANBV,12,0) -> ….. | O5: =VLOOKUP($C5,TUANBV,13,0) -> ….. | P5: =VLOOKUP($C5,TUANBV,14,0) -> 0 | Q5: =VLOOKUP($C5,TUANBV,15,0) -> .......................................... | R5: =VLOOKUP($C5,TUANBV,16,0) -> Lê Văn Thái
A6: 5 | C6: TVK5 | D6: =VLOOKUP($C6,TUANBV,2,0) -> Nghiệm thu tháo ván khuôn bê tông giằng tường thu hồi | E6: =VLOOKUP($C6,TUANBV,3,0) -> Nhà tiểu học 3 phòng | F6: =VLOOKUP($C6,TUANBV,4,0) -> Điểm TĐC Pom Chốn | G6: =VLOOKUP($C6,TUANBV,5,0) -> 10/TVKTH3PC | H6: =VLOOKUP($C6,TUANBV,6,0) -> 10/TVKTH3PC | I6: =VLOOKUP($C6,TUANBV,7,0) -> ….. | J6: =VLOOKUP($C6,TUANBV,8,0) -> ….. | K6: =VLOOKUP($C6,TUANBV,9,0) -> -1 | L6: =VLOOKUP($C6,TUANBV,10,0) -> …..giờ….. | M6: =VLOOKUP($C6,TUANBV,11,0) -> …..giờ….. | N6: =VLOOKUP($C6,TUANBV,12,0) -> ….. | O6: =VLOOKUP($C6,TUANBV,13,0) -> ….. | P6: =VLOOKUP($C6,TUANBV,14,0) -> 0 | Q6: =VLOOKUP($C6,TUANBV,15,0) -> .......................................... | R6: =VLOOKUP($C6,TUANBV,16,0) -> Lê Văn Thái
A7: 6 | C7: TVK6 | D7: =VLOOKUP($C7,TUANBV,2,0) -> Nghiệm thu tháo ván khuôn bê tông Lam trang trí | E7: =VLOOKUP($C7,TUANBV,3,0) -> Nhà tiểu học 3 phòng | F7: =VLOOKUP($C7,TUANBV,4,0) -> Điểm TĐC Pom Chốn | G7: =VLOOKUP($C7,TUANBV,5,0) -> 11/TVKTH3PC | H7: =VLOOKUP($C7,TUANBV,6,0) -> 11/TVKTH3PC | I7: =VLOOKUP($C7,TUANBV,7,0) -> ….. | J7: =VLOOKUP($C7,TUANBV,8,0) -> ….. | K7: =VLOOKUP($C7,TUANBV,9,0) -> -1 | L7: =VLOOKUP($C7,TUANBV,10,0) -> …..giờ….. | M7: =VLOOKUP($C7,TUANBV,11,0) -> …..giờ….. | N7: =VLOOKUP($C7,TUANBV,12,0) -> ….. | O7: =VLOOKUP($C7,TUANBV,13,0) -> ….. | P7: =VLOOKUP($C7,TUANBV,14,0) -> 0 | Q7: =VLOOKUP($C7,TUANBV,15,0) -> .......................................... | R7: =VLOOKUP($C7,TUANBV,16,0) -> Lê Văn Thái
A8: 7 | C8: TVK7 | D8: =VLOOKUP($C8,TUANBV,2,0) -> #N/A | E8: =VLOOKUP($C8,TUANBV,3,0) -> #N/A | F8: =VLOOKUP($C8,TUANBV,4,0) -> #N/A | G8: =VLOOKUP($C8,TUANBV,5,0) -> #N/A | H8: =VLOOKUP($C8,TUANBV,6,0) -> #N/A | I8: =VLOOKUP($C8,TUANBV,7,0) -> #N/A | J8: =VLOOKUP($C8,TUANBV,8,0) -> #N/A | K8: =VLOOKUP($C8,TUANBV,9,0) -> #N/A | L8: =VLOOKUP($C8,TUANBV,10,0) -> #N/A | M8: =VLOOKUP($C8,TUANBV,11,0) -> #N/A | N8: =VLOOKUP($C8,TUANBV,12,0) -> #N/A | O8: =VLOOKUP($C8,TUANBV,13,0) -> #N/A | P8: =VLOOKUP($C8,TUANBV,14,0) -> #N/A | Q8: =VLOOKUP($C8,TUANBV,15,0) -> #N/A | R8: =VLOOKUP($C8,TUANBV,16,0) -> #N/A
A9: 8 | C9: TVK8 | D9: =VLOOKUP($C9,TUANBV,2,0) -> #N/A | E9: =VLOOKUP($C9,TUANBV,3,0) -> #N/A | F9: =VLOOKUP($C9,TUANBV,4,0) -> #N/A | G9: =VLOOKUP($C9,TUANBV,5,0) -> #N/A | H9: =VLOOKUP($C9,TUANBV,6,0) -> #N/A | I9: =VLOOKUP($C9,TUANBV,7,0) -> #N/A | J9: =VLOOKUP($C9,TUANBV,8,0) -> #N/A | K9: =VLOOKUP($C9,TUANBV,9,0) -> #N/A | L9: =VLOOKUP($C9,TUANBV,10,0) -> #N/A | M9: =VLOOKUP($C9,TUANBV,11,0) -> #N/A | N9: =VLOOKUP($C9,TUANBV,12,0) -> #N/A | O9: =VLOOKUP($C9,TUANBV,13,0) -> #N/A | P9: =VLOOKUP($C9,TUANBV,14,0) -> #N/A | Q9: =VLOOKUP($C9,TUANBV,15,0) -> #N/A | R9: =VLOOKUP($C9,TUANBV,16,0) -> #N/A
A10: 9 | C10: TVK9 | D10: =VLOOKUP($C10,TUANBV,2,0) -> #N/A | E10: =VLOOKUP($C10,TUANBV,3,0) -> #N/A | F10: =VLOOKUP($C10,TUANBV,4,0) -> #N/A | G10: =VLOOKUP($C10,TUANBV,5,0) -> #N/A | H10: =VLOOKUP($C10,TUANBV,6,0) -> #N/A | I10: =VLOOKUP($C10,TUANBV,7,0) -> #N/A | J10: =VLOOKUP($C10,TUANBV,8,0) -> #N/A | K10: =VLOOKUP($C10,TUANBV,9,0) -> #N/A | L10: =VLOOKUP($C10,TUANBV,10,0) -> #N/A | M10: =VLOOKUP($C10,TUANBV,11,0) -> #N/A | N10: =VLOOKUP($C10,TUANBV,12,0) -> #N/A | O10: =VLOOKUP($C10,TUANBV,13,0) -> #N/A | P10: =VLOOKUP($C10,TUANBV,14,0) -> #N/A | Q10: =VLOOKUP($C10,TUANBV,15,0) -> #N/A | R10: =VLOOKUP($C10,TUANBV,16,0) -> #N/A
A11: 10 | C11: TVK10 | D11: =VLOOKUP($C11,TUANBV,2,0) -> #N/A | E11: =VLOOKUP($C11,TUANBV,3,0) -> #N/A | F11: =VLOOKUP($C11,TUANBV,4,0) -> #N/A | G11: =VLOOKUP($C11,TUANBV,5,0) -> #N/A | H11: =VLOOKUP($C11,TUANBV,6,0) -> #N/A | I11: =VLOOKUP($C11,TUANBV,7,0) -> #N/A | J11: =VLOOKUP($C11,TUANBV,8,0) -> #N/A | K11: =VLOOKUP($C11,TUANBV,9,0) -> #N/A | L11: =VLOOKUP($C11,TUANBV,10,0) -> #N/A | M11: =VLOOKUP($C11,TUANBV,11,0) -> #N/A | N11: =VLOOKUP($C11,TUANBV,12,0) -> #N/A | O11: =VLOOKUP($C11,TUANBV,13,0) -> #N/A | P11: =VLOOKUP($C11,TUANBV,14,0) -> #N/A | Q11: =VLOOKUP($C11,TUANBV,15,0) -> #N/A | R11: =VLOOKUP($C11,TUANBV,16,0) -> #N/A
A12: 11 | C12: TVK11 | D12: =VLOOKUP($C12,TUANBV,2,0) -> #N/A | E12: =VLOOKUP($C12,TUANBV,3,0) -> #N/A | F12: =VLOOKUP($C12,TUANBV,4,0) -> #N/A | G12: =VLOOKUP($C12,TUANBV,5,0) -> #N/A | H12: =VLOOKUP($C12,TUANBV,6,0) -> #N/A | I12: =VLOOKUP($C12,TUANBV,7,0) -> #N/A | J12: =VLOOKUP($C12,TUANBV,8,0) -> #N/A | K12: =VLOOKUP($C12,TUANBV,9,0) -> #N/A | L12: =VLOOKUP($C12,TUANBV,10,0) -> #N/A | M12: =VLOOKUP($C12,TUANBV,11,0) -> #N/A | N12: =VLOOKUP($C12,TUANBV,12,0) -> #N/A | O12: =VLOOKUP($C12,TUANBV,13,0) -> #N/A | P12: =VLOOKUP($C12,TUANBV,14,0) -> #N/A | Q12: =VLOOKUP($C12,TUANBV,15,0) -> #N/A | R12: =VLOOKUP($C12,TUANBV,16,0) -> #N/A
A13: 12 | C13: TVK12 | D13: =VLOOKUP($C13,TUANBV,2,0) -> #N/A | E13: =VLOOKUP($C13,TUANBV,3,0) -> #N/A | F13: =VLOOKUP($C13,TUANBV,4,0) -> #N/A | G13: =VLOOKUP($C13,TUANBV,5,0) -> #N/A | H13: =VLOOKUP($C13,TUANBV,6,0) -> #N/A | I13: =VLOOKUP($C13,TUANBV,7,0) -> #N/A | J13: =VLOOKUP($C13,TUANBV,8,0) -> #N/A | K13: =VLOOKUP($C13,TUANBV,9,0) -> #N/A | L13: =VLOOKUP($C13,TUANBV,10,0) -> #N/A | M13: =VLOOKUP($C13,TUANBV,11,0) -> #N/A | N13: =VLOOKUP($C13,TUANBV,12,0) -> #N/A | O13: =VLOOKUP($C13,TUANBV,13,0) -> #N/A | P13: =VLOOKUP($C13,TUANBV,14,0) -> #N/A | Q13: =VLOOKUP($C13,TUANBV,15,0) -> #N/A | R13: =VLOOKUP($C13,TUANBV,16,0) -> #N/A
... A20: 19 | C20: TVK19 | D20: =VLOOKUP($C20,TUANBV,2,0) -> #N/A | E20: =VLOOKUP($C20,TUANBV,3,0) -> #N/A | F20: =VLOOKUP($C20,TUANBV,4,0) -> #N/A | G20: =VLOOKUP($C20,TUANBV,5,0) -> #N/A | H20: =VLOOKUP($C20,TUANBV,6,0) -> #N/A | I20: =VLOOKUP($C20,TUANBV,7,0) -> #N/A | J20: =VLOOKUP($C20,TUANBV,8,0) -> #N/A | K20: =VLOOKUP($C20,TUANBV,9,0) -> #N/A | L20: =VLOOKUP($C20,TUANBV,10,0) -> #N/A | M20: =VLOOKUP($C20,TUANBV,11,0) -> #N/A | N20: =VLOOKUP($C20,TUANBV,12,0) -> #N/A | O20: =VLOOKUP($C20,TUANBV,13,0) -> #N/A | P20: =VLOOKUP($C20,TUANBV,14,0) -> #N/A | Q20: =VLOOKUP($C20,TUANBV,15,0) -> #N/A | R20: =VLOOKUP($C20,TUANBV,16,0) -> #N/A
D23: 3.6.1. Cốt pha đà giáo chỉ được tháo dỡ khi bê tông đạt cường độ cần thiết để kết cấu chịu được trọng lượng bản thân và các tải trọng tác động khác trong giai đoạn thi công sau. Khi tháo dỡ cốt pha, đà giáo, cần trách không gây ứng suất đột ngột hoặc va trạm mạnh làm hư hại đến kết cấu bê tông.
D24: 3.6.2. Các bộ phận cốt pha đà giáo không còn chịu lực sau khi bê tông đã đòng rắn (như cốt pha thành bên của dầm, cột, tường) có thể được tháo dỡ khi bê tông đạt cường độ 50 daN/cm2...
D25: 3.6.3. Đối với cốt pha đà giáo chịu lực của các kết cấu (đáy dầm, sàn, cột chống), nếu không có các chỉ dẫn đặc biệt của thiết kế thì được tháo dỡ khi bê tông đạt các giá trị cường độ ghi trong bảng 3.
D26: 3.6.4. Các kêt cấu ô văng, công -xôn, sêno chỉ được tháo cột chống và cốt pha đáy khi cường độ bê tông đạt đủ mác thiết kế và đã có đối trọng chống lật.

Sheet 8.NTBT
A1: LIST | B1: SHBB | C1: MH | D1: Nội dung công việc | E1: Vị trí | F1: Điểm TĐC | G1: Số hiệu PYC | H1: Số hiệu NTCV | I1: DATE PYC | J1: MONTH PYC | K1: Ngày PYC | L1: H-START | M1: H-END | N1: DATE NTCV | O1: MONTH NTCV | P1: Ngày NTCV | Q1: CĐT | R1: ĐVTC
A2: 1 | C2: NTBT1 | D2: =VLOOKUP($C2,TUANBV,2,0) -> Nghiệm thu bê tông lót móng | E2: =VLOOKUP($C2,TUANBV,3,0) -> Nhà tiểu học 3 phòng | F2: =VLOOKUP($C2,TUANBV,4,0) -> Điểm TĐC Pom Chốn | G2: =VLOOKUP($C2,TUANBV,5,0) -> 2/BTTH3PC | H2: =VLOOKUP($C2,TUANBV,6,0) -> 2/BTTH3PC | I2: =VLOOKUP($C2,TUANBV,7,0) -> 15 | J2: =VLOOKUP($C2,TUANBV,8,0) -> 09 | K2: =VLOOKUP($C2,TUANBV,9,0) -> 41897 | L2: =VLOOKUP($C2,TUANBV,10,0) -> 08 giờ 00 | M2: =VLOOKUP($C2,TUANBV,11,0) -> 09 giờ 00 | N2: =VLOOKUP($C2,TUANBV,12,0) -> 16 | O2: =VLOOKUP($C2,TUANBV,13,0) -> 09 | P2: =VLOOKUP($C2,TUANBV,14,0) -> 41898 | Q2: =VLOOKUP($C2,TUANBV,15,0) -> Nguyễn Xuân Quỳnh | R2: =VLOOKUP($C2,TUANBV,16,0) -> Lê Văn Thái
A3: 2 | C3: NTBT2 | D3: =VLOOKUP($C3,TUANBV,2,0) -> Nghiệm thu bê tông giằng móng | E3: =VLOOKUP($C3,TUANBV,3,0) -> Nhà tiểu học 3 phòng | F3: =VLOOKUP($C3,TUANBV,4,0) -> Điểm TĐC Pom Chốn | G3: =VLOOKUP($C3,TUANBV,5,0) -> 4/BTTH3PC | H3: =VLOOKUP($C3,TUANBV,6,0) -> 4/BTTH3PC | I3: =VLOOKUP($C3,TUANBV,7,0) -> 23 | J3: =VLOOKUP($C3,TUANBV,8,0) -> 09 | K3: =VLOOKUP($C3,TUANBV,9,0) -> 41905 | L3: =VLOOKUP($C3,TUANBV,10,0) -> 08 giờ 00 | M3: =VLOOKUP($C3,TUANBV,11,0) -> 09 giờ 00 | N3: =VLOOKUP($C3,TUANBV,12,0) -> 24 | O3: =VLOOKUP($C3,TUANBV,13,0) -> 09 | P3: =VLOOKUP($C3,TUANBV,14,0) -> 41906 | Q3: =VLOOKUP($C3,TUANBV,15,0) -> Nguyễn Xuân Quỳnh | R3: =VLOOKUP($C3,TUANBV,16,0) -> Lê Văn Thái
A4: 3 | C4: NTBT3 | D4: =VLOOKUP($C4,TUANBV,2,0) -> Nghiệm thu bê tông lanh tô cửa sổ và cửa đi | E4: =VLOOKUP($C4,TUANBV,3,0) -> Nhà tiểu học 3 phòng | F4: =VLOOKUP($C4,TUANBV,4,0) -> Điểm TĐC Pom Chốn | G4: =VLOOKUP($C4,TUANBV,5,0) -> 6/BTTH3PC | H4: =VLOOKUP($C4,TUANBV,6,0) -> 6/BTTH3PC | I4: =VLOOKUP($C4,TUANBV,7,0) -> ….. | J4: =VLOOKUP($C4,TUANBV,8,0) -> ….. | K4: =VLOOKUP($C4,TUANBV,9,0) -> -1 | L4: =VLOOKUP($C4,TUANBV,10,0) -> …..giờ….. | M4: =VLOOKUP($C4,TUANBV,11,0) -> …..giờ….. | N4: =VLOOKUP($C4,TUANBV,12,0) -> ….. | O4: =VLOOKUP($C4,TUANBV,13,0) -> ….. | P4: =VLOOKUP($C4,TUANBV,14,0) -> 0 | Q4: =VLOOKUP($C4,TUANBV,15,0) -> Nguyễn Xuân Quỳnh | R4: =VLOOKUP($C4,TUANBV,16,0) -> Lê Văn Thái
A5: 4 | C5: NTBT4 | D5: =VLOOKUP($C5,TUANBV,2,0) -> Nghiệm thu bê tông dầm D1, D2, D3, D4, D4A, D4B, bê tông sàn, sê nô thu nước | E5: =VLOOKUP($C5,TUANBV,3,0) -> Nhà tiểu học 3 phòng | F5: =VLOOKUP($C5,TUANBV,4,0) -> Điểm TĐC Pom Chốn | G5: =VLOOKUP($C5,TUANBV,5,0) -> 8/BTTH3PC | H5: =VLOOKUP($C5,TUANBV,6,0) -> 8/BTTH3PC | I5: =VLOOKUP($C5,TUANBV,7,0) -> ….. | J5: =VLOOKUP($C5,TUANBV,8,0) -> ….. | K5: =VLOOKUP($C5,TUANBV,9,0) -> -1 | L5: =VLOOKUP($C5,TUANBV,10,0) -> …..giờ….. | M5: =VLOOKUP($C5,TUANBV,11,0) -> …..giờ….. | N5: =VLOOKUP($C5,TUANBV,12,0) -> ….. | O5: =VLOOKUP($C5,TUANBV,13,0) -> ….. | P5: =VLOOKUP($C5,TUANBV,14,0) -> 0 | Q5: =VLOOKUP($C5,TUANBV,15,0) -> .......................................... | R5: =VLOOKUP($C5,TUANBV,16,0) -> Lê Văn Thái
A6: 5 | C6: NTBT5 | D6: =VLOOKUP($C6,TUANBV,2,0) -> Nghiệm thu bê tông giằng tường thu hồi | E6: =VLOOKUP($C6,TUANBV,3,0) -> Nhà tiểu học 3 phòng | F6: =VLOOKUP($C6,TUANBV,4,0) -> Điểm TĐC Pom Chốn | G6: =VLOOKUP($C6,TUANBV,5,0) -> 10/BTTH3PC | H6: =VLOOKUP($C6,TUANBV,6,0) -> 10/BTTH3PC | I6: =VLOOKUP($C6,TUANBV,7,0) -> ….. | J6: =VLOOKUP($C6,TUANBV,8,0) -> ….. | K6: =VLOOKUP($C6,TUANBV,9,0) -> -1 | L6: =VLOOKUP($C6,TUANBV,10,0) -> …..giờ….. | M6: =VLOOKUP($C6,TUANBV,11,0) -> …..giờ….. | N6: =VLOOKUP($C6,TUANBV,12,0) -> ….. | O6: =VLOOKUP($C6,TUANBV,13,0) -> ….. | P6: =VLOOKUP($C6,TUANBV,14,0) -> 0 | Q6: =VLOOKUP($C6,TUANBV,15,0) -> .......................................... | R6: =VLOOKUP($C6,TUANBV,16,0) -> Lê Văn Thái
A7: 6 | C7: NTBT6 | D7: =VLOOKUP($C7,TUANBV,2,0) -> Nghiệm thu bê tông Lam trang trí | E7: =VLOOKUP($C7,TUANBV,3,0) -> Nhà tiểu học 3 phòng | F7: =VLOOKUP($C7,TUANBV,4,0) -> Điểm TĐC Pom Chốn | G7: =VLOOKUP($C7,TUANBV,5,0) -> 11/BTTH3PC | H7: =VLOOKUP($C7,TUANBV,6,0) -> 11/BTTH3PC | I7: =VLOOKUP($C7,TUANBV,7,0) -> ….. | J7: =VLOOKUP($C7,TUANBV,8,0) -> ….. | K7: =VLOOKUP($C7,TUANBV,9,0) -> -1 | L7: =VLOOKUP($C7,TUANBV,10,0) -> …..giờ….. | M7: =VLOOKUP($C7,TUANBV,11,0) -> …..giờ….. | N7: =VLOOKUP($C7,TUANBV,12,0) -> ….. | O7: =VLOOKUP($C7,TUANBV,13,0) -> ….. | P7: =VLOOKUP($C7,TUANBV,14,0) -> 0 | Q7: =VLOOKUP($C7,TUANBV,15,0) -> .......................................... | R7: =VLOOKUP($C7,TUANBV,16,0) -> Lê Văn Thái
A8: 7 | C8: NTBT7 | D8: =VLOOKUP($C8,TUANBV,2,0) -> #N/A | E8: =VLOOKUP($C8,TUANBV,3,0) -> #N/A | F8: =VLOOKUP($C8,TUANBV,4,0) -> #N/A | G8: =VLOOKUP($C8,TUANBV,5,0) -> #N/A | H8: =VLOOKUP($C8,TUANBV,6,0) -> #N/A | I8: =VLOOKUP($C8,TUANBV,7,0) -> #N/A | J8: =VLOOKUP($C8,TUANBV,8,0) -> #N/A | K8: =VLOOKUP($C8,TUANBV,9,0) -> #N/A | L8: =VLOOKUP($C8,TUANBV,10,0) -> #N/A | M8: =VLOOKUP($C8,TUANBV,11,0) -> #N/A | N8: =VLOOKUP($C8,TUANBV,12,0) -> #N/A | O8: =VLOOKUP($C8,TUANBV,13,0) -> #N/A | P8: =VLOOKUP($C8,TUANBV,14,0) -> #N/A | Q8: =VLOOKUP($C8,TUANBV,15,0) -> #N/A | R8: =VLOOKUP($C8,TUANBV,16,0) -> #N/A
A9: 8 | C9: NTBT8 | D9: =VLOOKUP($C9,TUANBV,2,0) -> #N/A | E9: =VLOOKUP($C9,TUANBV,3,0) -> #N/A | F9: =VLOOKUP($C9,TUANBV,4,0) -> #N/A | G9: =VLOOKUP($C9,TUANBV,5,0) -> #N/A | H9: =VLOOKUP($C9,TUANBV,6,0) -> #N/A | I9: =VLOOKUP($C9,TUANBV,7,0) -> #N/A | J9: =VLOOKUP($C9,TUANBV,8,0) -> #N/A | K9: =VLOOKUP($C9,TUANBV,9,0) -> #N/A | L9: =VLOOKUP($C9,TUANBV,10,0) -> #N/A | M9: =VLOOKUP($C9,TUANBV,11,0) -> #N/A | N9: =VLOOKUP($C9,TUANBV,12,0) -> #N/A | O9: =VLOOKUP($C9,TUANBV,13,0) -> #N/A | P9: =VLOOKUP($C9,TUANBV,14,0) -> #N/A | Q9: =VLOOKUP($C9,TUANBV,15,0) -> #N/A | R9: =VLOOKUP($C9,TUANBV,16,0) -> #N/A
A10: 9 | C10: NTBT9 | D10: =VLOOKUP($C10,TUANBV,2,0) -> #N/A | E10: =VLOOKUP($C10,TUANBV,3,0) -> #N/A | F10: =VLOOKUP($C10,TUANBV,4,0) -> #N/A | G10: =VLOOKUP($C10,TUANBV,5,0) -> #N/A | H10: =VLOOKUP($C10,TUANBV,6,0) -> #N/A | I10: =VLOOKUP($C10,TUANBV,7,0) -> #N/A | J10: =VLOOKUP($C10,TUANBV,8,0) -> #N/A | K10: =VLOOKUP($C10,TUANBV,9,0) -> #N/A | L10: =VLOOKUP($C10,TUANBV,10,0) -> #N/A | M10: =VLOOKUP($C10,TUANBV,11,0) -> #N/A | N10: =VLOOKUP($C10,TUANBV,12,0) -> #N/A | O10: =VLOOKUP($C10,TUANBV,13,0) -> #N/A | P10: =VLOOKUP($C10,TUANBV,14,0) -> #N/A | Q10: =VLOOKUP($C10,TUANBV,15,0) -> #N/A | R10: =VLOOKUP($C10,TUANBV,16,0) -> #N/A
A11: 10 | C11: NTBT10 | D11: =VLOOKUP($C11,TUANBV,2,0) -> #N/A | E11: =VLOOKUP($C11,TUANBV,3,0) -> #N/A | F11: =VLOOKUP($C11,TUANBV,4,0) -> #N/A | G11: =VLOOKUP($C11,TUANBV,5,0) -> #N/A | H11: =VLOOKUP($C11,TUANBV,6,0) -> #N/A | I11: =VLOOKUP($C11,TUANBV,7,0) -> #N/A | J11: =VLOOKUP($C11,TUANBV,8,0) -> #N/A | K11: =VLOOKUP($C11,TUANBV,9,0) -> #N/A | L11: =VLOOKUP($C11,TUANBV,10,0) -> #N/A | M11: =VLOOKUP($C11,TUANBV,11,0) -> #N/A | N11: =VLOOKUP($C11,TUANBV,12,0) -> #N/A | O11: =VLOOKUP($C11,TUANBV,13,0) -> #N/A | P11: =VLOOKUP($C11,TUANBV,14,0) -> #N/A | Q11: =VLOOKUP($C11,TUANBV,15,0) -> #N/A | R11: =VLOOKUP($C11,TUANBV,16,0) -> #N/A
A12: 11 | C12: NTBT11 | D12: =VLOOKUP($C12,TUANBV,2,0) -> #N/A | E12: =VLOOKUP($C12,TUANBV,3,0) -> #N/A | F12: =VLOOKUP($C12,TUANBV,4,0) -> #N/A | G12: =VLOOKUP($C12,TUANBV,5,0) -> #N/A | H12: =VLOOKUP($C12,TUANBV,6,0) -> #N/A | I12: =VLOOKUP($C12,TUANBV,7,0) -> #N/A | J12: =VLOOKUP($C12,TUANBV,8,0) -> #N/A | K12: =VLOOKUP($C12,TUANBV,9,0) -> #N/A | L12: =VLOOKUP($C12,TUANBV,10,0) -> #N/A | M12: =VLOOKUP($C12,TUANBV,11,0) -> #N/A | N12: =VLOOKUP($C12,TUANBV,12,0) -> #N/A | O12: =VLOOKUP($C12,TUANBV,13,0) -> #N/A | P12: =VLOOKUP($C12,TUANBV,14,0) -> #N/A | Q12: =VLOOKUP($C12,TUANBV,15,0) -> #N/A | R12: =VLOOKUP($C12,TUANBV,16,0) -> #N/A
A13: 12 | C13: NTBT12 | D13: =VLOOKUP($C13,TUANBV,2,0) -> #N/A | E13: =VLOOKUP($C13,TUANBV,3,0) -> #N/A | F13: =VLOOKUP($C13,TUANBV,4,0) -> #N/A | G13: =VLOOKUP($C13,TUANBV,5,0) -> #N/A | H13: =VLOOKUP($C13,TUANBV,6,0) -> #N/A | I13: =VLOOKUP($C13,TUANBV,7,0) -> #N/A | J13: =VLOOKUP($C13,TUANBV,8,0) -> #N/A | K13: =VLOOKUP($C13,TUANBV,9,0) -> #N/A | L13: =VLOOKUP($C13,TUANBV,10,0) -> #N/A | M13: =VLOOKUP($C13,TUANBV,11,0) -> #N/A | N13: =VLOOKUP($C13,TUANBV,12,0) -> #N/A | O13: =VLOOKUP($C13,TUANBV,13,0) -> #N/A | P13: =VLOOKUP($C13,TUANBV,14,0) -> #N/A | Q13: =VLOOKUP($C13,TUANBV,15,0) -> #N/A | R13: =VLOOKUP($C13,TUANBV,16,0) -> #N/A
... A20: 19 | C20: NTBT19 | D20: =VLOOKUP($C20,TUANBV,2,0) -> #N/A | E20: =VLOOKUP($C20,TUANBV,3,0) -> #N/A | F20: =VLOOKUP($C20,TUANBV,4,0) -> #N/A | G20: =VLOOKUP($C20,TUANBV,5,0) -> #N/A | H20: =VLOOKUP($C20,TUANBV,6,0) -> #N/A | I20: =VLOOKUP($C20,TUANBV,7,0) -> #N/A | J20: =VLOOKUP($C20,TUANBV,8,0) -> #N/A | K20: =VLOOKUP($C20,TUANBV,9,0) -> #N/A | L20: =VLOOKUP($C20,TUANBV,10,0) -> #N/A | M20: =VLOOKUP($C20,TUANBV,11,0) -> #N/A | N20: =VLOOKUP($C20,TUANBV,12,0) -> #N/A | O20: =VLOOKUP($C20,TUANBV,13,0) -> #N/A | P20: =VLOOKUP($C20,TUANBV,14,0) -> #N/A | Q20: =VLOOKUP($C20,TUANBV,15,0) -> #N/A | R20: =VLOOKUP($C20,TUANBV,16,0) -> #N/A
A22: 1 | C22: 3 | D22: 4 | E22: 5 | F22: 6 | G22: 7 | H22: 8 | I22: 9 | J22: 10 | K22: 11 | L22: 12 | M22: 13 | N22: 14 | O22: 15 | P22: 16 | Q22: 17 | R22: 18

Sheet 8.CGĐ
A1: LIST | B1: SHBB | C1: MH | D1: Nội dung công việc | E1: Vị trí | F1: Điểm TĐC | G1: Số hiệu PYC | H1: Số hiệu NTCV | I1: DATE PYC | J1: MONTH PYC | K1: Ngày PYC | L1: H-START | M1: H-END | N1: DATE NTCV | O1: MONTH NTCV | P1: Ngày NTCV | Q1: CĐT | R1: ĐVTC
A2: 1 | C2: NTHT1 | D2: =VLOOKUP($C2,TUANBV,2,0) -> Nghiệm thu hoàn thành phần móng | E2: =VLOOKUP($C2,TUANBV,3,0) -> Nhà tiểu học 3 phòng | F2: =VLOOKUP($C2,TUANBV,4,0) -> Điểm TĐC Pom Chốn | G2: =VLOOKUP($C2,TUANBV,5,0) -> 1/HTMONG | H2: =VLOOKUP($C2,TUANBV,6,0) -> 1/HTMONG | I2: =VLOOKUP($C2,TUANBV,7,0) -> 23 | J2: =VLOOKUP($C2,TUANBV,8,0) -> 09 | K2: =VLOOKUP($C2,TUANBV,9,0) -> 41905 | L2: =VLOOKUP($C2,TUANBV,10,0) -> 10 giờ 00 | M2: =VLOOKUP($C2,TUANBV,11,0) -> 11 giờ 00 | N2: =VLOOKUP($C2,TUANBV,12,0) -> 24 | O2: =VLOOKUP($C2,TUANBV,13,0) -> 09 | P2: =VLOOKUP($C2,TUANBV,14,0) -> 41906 | Q2: =VLOOKUP($C2,TUANBV,15,0) -> Nguyễn Xuân Quỳnh | R2: =VLOOKUP($C2,TUANBV,16,0) -> Lê Văn Thái
A3: 2 | C3: NTHT2 | D3: =VLOOKUP($C3,TUANBV,2,0) -> #N/A | E3: =VLOOKUP($C3,TUANBV,3,0) -> #N/A | F3: =VLOOKUP($C3,TUANBV,4,0) -> #N/A | G3: =VLOOKUP($C3,TUANBV,5,0) -> #N/A | H3: =VLOOKUP($C3,TUANBV,6,0) -> #N/A | I3: =VLOOKUP($C3,TUANBV,7,0) -> #N/A | J3: =VLOOKUP($C3,TUANBV,8,0) -> #N/A | K3: =VLOOKUP($C3,TUANBV,9,0) -> #N/A | L3: =VLOOKUP($C3,TUANBV,10,0) -> #N/A | M3: =VLOOKUP($C3,TUANBV,11,0) -> #N/A | N3: =VLOOKUP($C3,TUANBV,12,0) -> #N/A | O3: =VLOOKUP($C3,TUANBV,13,0) -> #N/A | P3: =VLOOKUP($C3,TUANBV,14,0) -> #N/A | Q3: =VLOOKUP($C3,TUANBV,15,0) -> #N/A | R3: =VLOOKUP($C3,TUANBV,16,0) -> #N/A
A4: 3 | C4: NTHT3 | D4: =VLOOKUP($C4,TUANBV,2,0) -> #N/A | E4: =VLOOKUP($C4,TUANBV,3,0) -> #N/A | F4: =VLOOKUP($C4,TUANBV,4,0) -> #N/A | G4: =VLOOKUP($C4,TUANBV,5,0) -> #N/A | H4: =VLOOKUP($C4,TUANBV,6,0) -> #N/A | I4: =VLOOKUP($C4,TUANBV,7,0) -> #N/A | J4: =VLOOKUP($C4,TUANBV,8,0) -> #N/A | K4: =VLOOKUP($C4,TUANBV,9,0) -> #N/A | L4: =VLOOKUP($C4,TUANBV,10,0) -> #N/A | M4: =VLOOKUP($C4,TUANBV,11,0) -> #N/A | N4: =VLOOKUP($C4,TUANBV,12,0) -> #N/A | O4: =VLOOKUP($C4,TUANBV,13,0) -> #N/A | P4: =VLOOKUP($C4,TUANBV,14,0) -> #N/A | Q4: =VLOOKUP($C4,TUANBV,15,0) -> #N/A | R4: =VLOOKUP($C4,TUANBV,16,0) -> #N/A
A5: 4 | C5: NTHT4 | D5: =VLOOKUP($C5,TUANBV,2,0) -> #N/A | E5: =VLOOKUP($C5,TUANBV,3,0) -> #N/A | F5: =VLOOKUP($C5,TUANBV,4,0) -> #N/A | G5: =VLOOKUP($C5,TUANBV,5,0) -> #N/A | H5: =VLOOKUP($C5,TUANBV,6,0) -> #N/A | I5: =VLOOKUP($C5,TUANBV,7,0) -> #N/A | J5: =VLOOKUP($C5,TUANBV,8,0) -> #N/A | K5: =VLOOKUP($C5,TUANBV,9,0) -> #N/A | L5: =VLOOKUP($C5,TUANBV,10,0) -> #N/A | M5: =VLOOKUP($C5,TUANBV,11,0) -> #N/A | N5: =VLOOKUP($C5,TUANBV,12,0) -> #N/A | O5: =VLOOKUP($C5,TUANBV,13,0) -> #N/A | P5: =VLOOKUP($C5,TUANBV,14,0) -> #N/A | Q5: =VLOOKUP($C5,TUANBV,15,0) -> #N/A | R5: =VLOOKUP($C5,TUANBV,16,0) -> #N/A
A6: 5 | C6: NTHT5 | D6: =VLOOKUP($C6,TUANBV,2,0) -> #N/A | E6: =VLOOKUP($C6,TUANBV,3,0) -> #N/A | F6: =VLOOKUP($C6,TUANBV,4,0) -> #N/A | G6: =VLOOKUP($C6,TUANBV,5,0) -> #N/A | H6: =VLOOKUP($C6,TUANBV,6,0) -> #N/A | I6: =VLOOKUP($C6,TUANBV,7,0) -> #N/A | J6: =VLOOKUP($C6,TUANBV,8,0) -> #N/A | K6: =VLOOKUP($C6,TUANBV,9,0) -> #N/A | L6: =VLOOKUP($C6,TUANBV,10,0) -> #N/A | M6: =VLOOKUP($C6,TUANBV,11,0) -> #N/A | N6: =VLOOKUP($C6,TUANBV,12,0) -> #N/A | O6: =VLOOKUP($C6,TUANBV,13,0) -> #N/A | P6: =VLOOKUP($C6,TUANBV,14,0) -> #N/A | Q6: =VLOOKUP($C6,TUANBV,15,0) -> #N/A | R6: =VLOOKUP($C6,TUANBV,16,0) -> #N/A
A7: 6 | C7: NTHT6 | D7: =VLOOKUP($C7,TUANBV,2,0) -> #N/A | E7: =VLOOKUP($C7,TUANBV,3,0) -> #N/A | F7: =VLOOKUP($C7,TUANBV,4,0) -> #N/A | G7: =VLOOKUP($C7,TUANBV,5,0) -> #N/A | H7: =VLOOKUP($C7,TUANBV,6,0) -> #N/A | I7: =VLOOKUP($C7,TUANBV,7,0) -> #N/A | J7: =VLOOKUP($C7,TUANBV,8,0) -> #N/A | K7: =VLOOKUP($C7,TUANBV,9,0) -> #N/A | L7: =VLOOKUP($C7,TUANBV,10,0) -> #N/A | M7: =VLOOKUP($C7,TUANBV,11,0) -> #N/A | N7: =VLOOKUP($C7,TUANBV,12,0) -> #N/A | O7: =VLOOKUP($C7,TUANBV,13,0) -> #N/A | P7: =VLOOKUP($C7,TUANBV,14,0) -> #N/A | Q7: =VLOOKUP($C7,TUANBV,15,0) -> #N/A | R7: =VLOOKUP($C7,TUANBV,16,0) -> #N/A
A8: 7 | C8: NTHT7 | D8: =VLOOKUP($C8,TUANBV,2,0) -> #N/A | E8: =VLOOKUP($C8,TUANBV,3,0) -> #N/A | F8: =VLOOKUP($C8,TUANBV,4,0) -> #N/A | G8: =VLOOKUP($C8,TUANBV,5,0) -> #N/A | H8: =VLOOKUP($C8,TUANBV,6,0) -> #N/A | I8: =VLOOKUP($C8,TUANBV,7,0) -> #N/A | J8: =VLOOKUP($C8,TUANBV,8,0) -> #N/A | K8: =VLOOKUP($C8,TUANBV,9,0) -> #N/A | L8: =VLOOKUP($C8,TUANBV,10,0) -> #N/A | M8: =VLOOKUP($C8,TUANBV,11,0) -> #N/A | N8: =VLOOKUP($C8,TUANBV,12,0) -> #N/A | O8: =VLOOKUP($C8,TUANBV,13,0) -> #N/A | P8: =VLOOKUP($C8,TUANBV,14,0) -> #N/A | Q8: =VLOOKUP($C8,TUANBV,15,0) -> #N/A | R8: =VLOOKUP($C8,TUANBV,16,0) -> #N/A
A9: 8 | C9: NTHT8 | D9: =VLOOKUP($C9,TUANBV,2,0) -> #N/A | E9: =VLOOKUP($C9,TUANBV,3,0) -> #N/A | F9: =VLOOKUP($C9,TUANBV,4,0) -> #N/A | G9: =VLOOKUP($C9,TUANBV,5,0) -> #N/A | H9: =VLOOKUP($C9,TUANBV,6,0) -> #N/A | I9: =VLOOKUP($C9,TUANBV,7,0) -> #N/A | J9: =VLOOKUP($C9,TUANBV,8,0) -> #N/A | K9: =VLOOKUP($C9,TUANBV,9,0) -> #N/A | L9: =VLOOKUP($C9,TUANBV,10,0) -> #N/A | M9: =VLOOKUP($C9,TUANBV,11,0) -> #N/A | N9: =VLOOKUP($C9,TUANBV,12,0) -> #N/A | O9: =VLOOKUP($C9,TUANBV,13,0) -> #N/A | P9: =VLOOKUP($C9,TUANBV,14,0) -> #N/A | Q9: =VLOOKUP($C9,TUANBV,15,0) -> #N/A | R9: =VLOOKUP($C9,TUANBV,16,0) -> #N/A
A10: 9 | C10: NTHT9 | D10: =VLOOKUP($C10,TUANBV,2,0) -> #N/A | E10: =VLOOKUP($C10,TUANBV,3,0) -> #N/A | F10: =VLOOKUP($C10,TUANBV,4,0) -> #N/A | G10: =VLOOKUP($C10,TUANBV,5,0) -> #N/A | H10: =VLOOKUP($C10,TUANBV,6,0) -> #N/A | I10: =VLOOKUP($C10,TUANBV,7,0) -> #N/A | J10: =VLOOKUP($C10,TUANBV,8,0) -> #N/A | K10: =VLOOKUP($C10,TUANBV,9,0) -> #N/A | L10: =VLOOKUP($C10,TUANBV,10,0) -> #N/A | M10: =VLOOKUP($C10,TUANBV,11,0) -> #N/A | N10: =VLOOKUP($C10,TUANBV,12,0) -> #N/A | O10: =VLOOKUP($C10,TUANBV,13,0) -> #N/A | P10: =VLOOKUP($C10,TUANBV,14,0) -> #N/A | Q10: =VLOOKUP($C10,TUANBV,15,0) -> #N/A | R10: =VLOOKUP($C10,TUANBV,16,0) -> #N/A
A11: 10 | C11: NTHT10 | D11: =VLOOKUP($C11,TUANBV,2,0) -> #N/A | E11: =VLOOKUP($C11,TUANBV,3,0) -> #N/A | F11: =VLOOKUP($C11,TUANBV,4,0) -> #N/A | G11: =VLOOKUP($C11,TUANBV,5,0) -> #N/A | H11: =VLOOKUP($C11,TUANBV,6,0) -> #N/A | I11: =VLOOKUP($C11,TUANBV,7,0) -> #N/A | J11: =VLOOKUP($C11,TUANBV,8,0) -> #N/A | K11: =VLOOKUP($C11,TUANBV,9,0) -> #N/A | L11: =VLOOKUP($C11,TUANBV,10,0) -> #N/A | M11: =VLOOKUP($C11,TUANBV,11,0) -> #N/A | N11: =VLOOKUP($C11,TUANBV,12,0) -> #N/A | O11: =VLOOKUP($C11,TUANBV,13,0) -> #N/A | P11: =VLOOKUP($C11,TUANBV,14,0) -> #N/A | Q11: =VLOOKUP($C11,TUANBV,15,0) -> #N/A | R11: =VLOOKUP($C11,TUANBV,16,0) -> #N/A
A12: 11 | C12: NTHT11 | D12: =VLOOKUP($C12,TUANBV,2,0) -> #N/A | E12: =VLOOKUP($C12,TUANBV,3,0) -> #N/A | F12: =VLOOKUP($C12,TUANBV,4,0) -> #N/A | G12: =VLOOKUP($C12,TUANBV,5,0) -> #N/A | H12: =VLOOKUP($C12,TUANBV,6,0) -> #N/A | I12: =VLOOKUP($C12,TUANBV,7,0) -> #N/A | J12: =VLOOKUP($C12,TUANBV,8,0) -> #N/A | K12: =VLOOKUP($C12,TUANBV,9,0) -> #N/A | L12: =VLOOKUP($C12,TUANBV,10,0) -> #N/A | M12: =VLOOKUP($C12,TUANBV,11,0) -> #N/A | N12: =VLOOKUP($C12,TUANBV,12,0) -> #N/A | O12: =VLOOKUP($C12,TUANBV,13,0) -> #N/A | P12: =VLOOKUP($C12,TUANBV,14,0) -> #N/A | Q12: =VLOOKUP($C12,TUANBV,15,0) -> #N/A | R12: =VLOOKUP($C12,TUANBV,16,0) -> #N/A
A13: 12 | C13: NTHT12 | D13: =VLOOKUP($C13,TUANBV,2,0) -> #N/A | E13: =VLOOKUP($C13,TUANBV,3,0) -> #N/A | F13: =VLOOKUP($C13,TUANBV,4,0) -> #N/A | G13: =VLOOKUP($C13,TUANBV,5,0) -> #N/A | H13: =VLOOKUP($C13,TUANBV,6,0) -> #N/A | I13: =VLOOKUP($C13,TUANBV,7,0) -> #N/A | J13: =VLOOKUP($C13,TUANBV,8,0) -> #N/A | K13: =VLOOKUP($C13,TUANBV,9,0) -> #N/A | L13: =VLOOKUP($C13,TUANBV,10,0) -> #N/A | M13: =VLOOKUP($C13,TUANBV,11,0) -> #N/A | N13: =VLOOKUP($C13,TUANBV,12,0) -> #N/A | O13: =VLOOKUP($C13,TUANBV,13,0) -> #N/A | P13: =VLOOKUP($C13,TUANBV,14,0) -> #N/A | Q13: =VLOOKUP($C13,TUANBV,15,0) -> #N/A | R13: =VLOOKUP($C13,TUANBV,16,0) -> #N/A
... A15: 14 | C15: NTHT14 | D15: =VLOOKUP($C15,TUANBV,2,0) -> #N/A | E15: =VLOOKUP($C15,TUANBV,3,0) -> #N/A | F15: =VLOOKUP($C15,TUANBV,4,0) -> #N/A | G15: =VLOOKUP($C15,TUANBV,5,0) -> #N/A | H15: =VLOOKUP($C15,TUANBV,6,0) -> #N/A | I15: =VLOOKUP($C15,TUANBV,7,0) -> #N/A | J15: =VLOOKUP($C15,TUANBV,8,0) -> #N/A | K15: =VLOOKUP($C15,TUANBV,9,0) -> #N/A | L15: =VLOOKUP($C15,TUANBV,10,0) -> #N/A | M15: =VLOOKUP($C15,TUANBV,11,0) -> #N/A | N15: =VLOOKUP($C15,TUANBV,12,0) -> #N/A | O15: =VLOOKUP($C15,TUANBV,13,0) -> #N/A | P15: =VLOOKUP($C15,TUANBV,14,0) -> #N/A | Q15: =VLOOKUP($C15,TUANBV,15,0) -> #N/A | R15: =VLOOKUP($C15,TUANBV,16,0) -> #N/A
A22: 1 | C22: 3 | D22: 4 | E22: 5 | F22: 6 | G22: 7 | H22: 8 | I22: 9 | J22: 10 | K22: 11 | L22: 12 | M22: 13 | N22: 14 | O22: 15 | P22: 16 | Q22: 17 | R22: 18

Sheet 9.VL XAY
A1: LIST | B1: SHBB | C1: MH | D1: Nội dung công việc | E1: Vị trí | F1: Điểm TĐC | G1: Số hiệu PYC | H1: Số hiệu NTCV | I1: DATE PYC | J1: MONTH PYC | K1: Ngày PYC | L1: H-START | M1: H-END | N1: DATE NTCV | O1: MONTH NTCV | P1: Ngày NTCV | Q1: CĐT | R1: ĐVTC | T1: KL XÂY NT | U1: KL XÂY TT | W1: KL VỮA ĐM | X1: KL VỮA TT | Y1: XI (C.PHỐI) | Z1: CÁT (C.PHỐI) | AA1: GẠCH *ĐM | AC1: XI TT | AD1: CÁT TT | AE1: GẠCH TT | AG1: XI NT | AH1: CÁT NT | AI1: GẠCH NT | AK1: MÁC | AL1: XI | AM1: CÁT | AN1: NƯỚC | AP1: KL ĐỊNH MỨC
A2: 1 | B2: =VLOOKUP($A2,BANGXAY,2,0) -> Mác 75 | C2: VLXAY1 | D2: =VLOOKUP($C2,TUANBV,2,0) -> Vật liệu trước khi xây móng đá hộc | E2: =VLOOKUP($C2,TUANBV,3,0) -> Nhà tiểu học 3 phòng | F2: =VLOOKUP($C2,TUANBV,4,0) -> Điểm TĐC Pom Chốn | G2: =VLOOKUP($C2,TUANBV,5,0) -> 3/VLTH3PC | H2: =VLOOKUP($C2,TUANBV,6,0) -> 3/VLTH3PC | I2: =VLOOKUP($C2,TUANBV,7,0) -> 22 | J2: =VLOOKUP($C2,TUANBV,8,0) -> 08 | K2: =VLOOKUP($C2,TUANBV,9,0) -> 41873 | L2: =VLOOKUP($C2,TUANBV,10,0) -> 08 giờ 00 | M2: =VLOOKUP($C2,TUANBV,11,0) -> 09 giờ 00 | N2: =VLOOKUP($C2,TUANBV,12,0) -> 23 | O2: =VLOOKUP($C2,TUANBV,13,0) -> 08 | P2: =VLOOKUP($C2,TUANBV,14,0) -> 41874 | Q2: =VLOOKUP($C2,TUANBV,15,0) -> Nguyễn Xuân Quỳnh | R2: =VLOOKUP($C2,TUANBV,16,0) -> Lê Văn Thái | T2: 56,58 | U2: =VLOOKUP($A2,BANGXAY,3,0) -> 44.63 | W2: =VLOOKUP($A2,BANGXAY,4,0) -> 0.42 | X2: =U2*W2 -> 18.7446 | Y2: =VLOOKUP($B2,$AK$3:$AN$5,2,0) -> 296.03 | Z2: =VLOOKUP($B2,$AK$3:$AN$5,3,0) -> 1.12 | AA2: =VLOOKUP($A2,BANGXAY,5,0) -> 1.2 | AC2: =ROUND($X2*Y2,2) -> 5548.96 | AD2: =ROUND($X2*Z2,2) -> 20.99 | AE2: =ROUND($U2*AA2,2) -> 53.56 | AG2: 0 | AH2: 0 | AI2: 0 | AL2: (kg) | AM2: (m3) | AN2: (lít) | AQ2: Chiều dày <= 11cm | AR2: Chiều dày <= 33cm
A3: 2 | B3: =VLOOKUP($A3,BANGXAY,2,0) -> Mác 50 | C3: VLXAY2 | D3: =VLOOKUP($C3,TUANBV,2,0) -> Vật liệu trước khi xây tường, xây cột (từ cốt 0.00 đến cốt lanh tô) | E3: =VLOOKUP($C3,TUANBV,3,0) -> Nhà tiểu học 3 phòng | F3: =VLOOKUP($C3,TUANBV,4,0) -> Điểm TĐC Pom Chốn | G3: =VLOOKUP($C3,TUANBV,5,0) -> 5/VLTH3PC | H3: =VLOOKUP($C3,TUANBV,6,0) -> 5/VLTH3PC | I3: =VLOOKUP($C3,TUANBV,7,0) -> ….. | J3: =VLOOKUP($C3,TUANBV,8,0) -> ….. | K3: =VLOOKUP($C3,TUANBV,9,0) -> -1 | L3: =VLOOKUP($C3,TUANBV,10,0) -> …..giờ….. | M3: =VLOOKUP($C3,TUANBV,11,0) -> …..giờ….. | N3: =VLOOKUP($C3,TUANBV,12,0) -> ….. | O3: =VLOOKUP($C3,TUANBV,13,0) -> ….. | P3: =VLOOKUP($C3,TUANBV,14,0) -> 0 | Q3: =VLOOKUP($C3,TUANBV,15,0) -> Nguyễn Xuân Quỳnh | R3: =VLOOKUP($C3,TUANBV,16,0) -> Lê Văn Thái | T3: 1,91 | U3: =VLOOKUP($A3,BANGXAY,3,0) -> 27.25 | W3: =VLOOKUP($A3,BANGXAY,4,0) -> 0.29 | X3: =U3*W3 -> 7.9025 | Y3: =VLOOKUP($B3,$AK$3:$AN$5,2,0) -> 230.02 | Z3: =VLOOKUP($B3,$AK$3:$AN$5,3,0) -> 1.12 | AA3: =VLOOKUP($A3,BANGXAY,5,0) -> 550 | AC3: =ROUND($X3*Y3,2) -> 1817.73 | AD3: =ROUND($X3*Z3,2) -> 8.85 | AE3: =ROUND($U3*AA3,2) -> 14987.5 | AG3: 0 | AH3: 0 | AI3: 0 | AK3: Mác 50 | AL3: 230.02 | AM3: 1.12 | AN3: 260 | AP3: Gạch | AQ3: 643 | AR3: 550
A4: 3 | B4: =VLOOKUP($A4,BANGXAY,2,0) -> Mác 50 | C4: VLXAY3 | D4: =VLOOKUP($C4,TUANBV,2,0) -> Vật liệu trước khi xây tường, xây cột (từ cốt lanh tô đến cốt +3.60) | E4: =VLOOKUP($C4,TUANBV,3,0) -> Nhà tiểu học 3 phòng | F4: =VLOOKUP($C4,TUANBV,4,0) -> Điểm TĐC Pom Chốn | G4: =VLOOKUP($C4,TUANBV,5,0) -> 7/VLTH3PC | H4: =VLOOKUP($C4,TUANBV,6,0) -> 7/VLTH3PC | I4: =VLOOKUP($C4,TUANBV,7,0) -> ….. | J4: =VLOOKUP($C4,TUANBV,8,0) -> ….. | K4: =VLOOKUP($C4,TUANBV,9,0) -> -1 | L4: =VLOOKUP($C4,TUANBV,10,0) -> …..giờ….. | M4: =VLOOKUP($C4,TUANBV,11,0) -> …..giờ….. | N4: =VLOOKUP($C4,TUANBV,12,0) -> ….. | O4: =VLOOKUP($C4,TUANBV,13,0) -> ….. | P4: =VLOOKUP($C4,TUANBV,14,0) -> 0 | Q4: =VLOOKUP($C4,TUANBV,15,0) -> Nguyễn Xuân Quỳnh | R4: =VLOOKUP($C4,TUANBV,16,0) -> Lê Văn Thái | T4: 33,19 | U4: =VLOOKUP($A4,BANGXAY,3,0) -> 19.37 | W4: =VLOOKUP($A4,BANGXAY,4,0) -> 0.29 | X4: =U4*W4 -> 5.6173 | Y4: =VLOOKUP($B4,$AK$3:$AN$5,2,0) -> 230.02 | Z4: =VLOOKUP($B4,$AK$3:$AN$5,3,0) -> 1.12 | AA4: =VLOOKUP($A4,BANGXAY,5,0) -> 550 | AC4: =ROUND($X4*Y4,2) -> 1292.09 | AD4: =ROUND($X4*Z4,2) -> 6.29 | AE4: =ROUND($U4*AA4,2) -> 10653.5 | AG4: 0 | AH4: 0 | AI4: 0 | AK4: Mác 75 | AL4: 296.03 | AM4: 1.12 | AN4: 260 | AP4: Vữa 1 | AQ4: 0.23 | AR4: 0.29
